Workbook
Name Calendar_Start_Year: #REF!
Name Calendar_Start_Year: #REF!
Name Calendar_Start_Year: #REF!
Name Calendar_Start_Year: #REF!
Name Calendar_Start_Year: #REF!
Name Calendar_Start_Year: #REF!
Name Calendar_Start_Year: #REF!
Name Calendar_Start_Year: #REF!
Name Calendar_Type: #REF!
Name Calendar_Type: #REF!
Name Calendar_Type: #REF!
Name Calendar_Type: #REF!
Name Calendar_Type: #REF!
Name Calendar_Type: #REF!
Name Calendar_Type: #REF!
Name Calendar_Type: #REF!
Name Calendar_Type_53: #REF!
Name Calendar_Type_53: #REF!
Name Calendar_Type_53: #REF!
Name Calendar_Type_53: #REF!
Name Calendar_Type_53: #REF!
Name Calendar_Type_53: #REF!
Name Calendar_Type_53: #REF!
Name Calendar_Type_53: #REF!
Name Calendar_Types: #REF!
Name Calendar_Types: #REF!
Name Calendar_Types: #REF!
Name Calendar_Types: #REF!
Name Calendar_Types: #REF!
Name Calendar_Types: #REF!
Name Calendar_Types: #REF!
Name Calendar_Types: #REF!
Name CF_NonGAAPMeasures_T_EBITDA: 'Non-GAAP Measures'!$A$7:$J$22
Name CF_PressRelease_T_BalanceSheet: 'Press Release BalSht'!$B$5:$H$49
Name CFY: #REF!
Name CFY: #REF!
Name CFY: #REF!
Name CFY: #REF!
Name CFY: #REF!
Name CFY: #REF!
Name CFY: #REF!
Name CFY: #REF!
Name CP_LongDate: #REF!
Name Current_Quarter: #REF!
Name Current_Quarter: #REF!
Name Current_Quarter: #REF!
Name Current_Quarter: #REF!
Name Current_Quarter: #REF!
Name Current_Quarter: #REF!
Name Current_Quarter: #REF!
Name Current_Quarter: #REF!
Name CY: #REF!
Name CY: #REF!
Name CY: #REF!
Name CY: #REF!
Name CY: #REF!
Name CY: #REF!
Name CY: #REF!
Name CY: #REF!
Name CY_CP_LongDate: #REF!

Sheet summary Q4 24
A1: Summary of Results | E1: Updated: | F1: 45735
B3: Twelve Months Ended
B4: 2024 | C4: 2023 | D4: % change
A5: Net product sales | B5: =' Income Statement '!H10 -> 147103 | C5: =' Income Statement '!J10 -> 69205 | D5: =(B5-C5)/C5 -> 1.1256123
A6: License fee | B6: =' Income Statement '!H11 -> 0 | C6: =' Income Statement '!J11 -> 0 | D6: =IFERROR((B6-C6)/C6,0) -> 0
A7: Gross profit - products | B7: =ROUND(3367941/1000,0) -> 3368 | C7: 2393 | D7: =(B7-C7)/C7 -> 0.40743836
A8: Gross profit % - products | B8: =B7/B5 -> 0.022895522 | C8: =C7/C5 -> 0.034578426 | D8: =B8-C8 -> -0.011682904
A9: Gross profit | B9: =' Income Statement '!H14 -> 2884 | C9: =' Income Statement '!J14 -> 2393 | D9: =(B9-C9)/C9 -> 0.20518178
A10: Gross profit % | B10: =B9/(B5+B6) -> 0.019605311 | C10: =C9/(C5+C6) -> 0.034578426 | D10: =B10-C10 -> -0.014973116
A11: Operating expenses - products | B11: =' Income Statement '!H19-B12 -> 58112 | C11: =' Income Statement '!J19-C12 -> 64150 | D11: =(B11-C11)/C11 -> -0.094123149
A12: Operating expenses - license | B12: 0 | C12: 0 | D12: =IFERROR((B12-C12)/C12,0) -> 0
A13: Net income (loss) | B13: =' Income Statement '!H27 -> -53865 | C13: =' Income Statement '!J27 -> -60398 | D13: =(B13-C13)/C13 -> -0.10816583
A14: Net income (loss) per share | B14: =' Income Statement '!H30 -> -0.2072496 | C14: =' Income Statement '!J30 -> -0.24741314
A15: Stock Compensation | B15: =' Income Statement '!H42 -> 4436 | C15: =' Income Statement '!J42 -> 4337
B17: Quarter-To-Date
B18: Q4 2024 | C18: Q4 2023 | D18: % change
A19: =A5 -> Net product sales | B19: =' Income Statement '!D10 -> 34275 | C19: =' Income Statement '!F10 -> 33433 | D19: =(B19-C19)/C19 -> 0.025184698
A20: License fee | B20: =' Income Statement '!D11 -> 0 | C20: =' Income Statement '!F11 -> 0 | D20: =IFERROR((B20-C20)/C20,0) -> 0
A21: =A7 -> Gross profit - products | B21: =ROUND(480378/1000,0) -> 480 | C21: 1154 | D21: =(B21-C21)/C21 -> -0.58405546
A22: =A8 -> Gross profit % - products | B22: =B21/B19 -> 0.014004376 | C22: =C21/C19 -> 0.034516795 | D22: =B22-C22 -> -0.020512418
A23: =A9 -> Gross profit | B23: =' Income Statement '!D14 -> 254 | C23: =' Income Statement '!F14 -> 1154 | D23: =(B23-C23)/C23 -> -0.77989601
A24: =A10 -> Gross profit % | B24: =B23/(B19+B20) -> 0.0074106492 | C24: =C23/(C19+C20) -> 0.034516795 | D24: =B24-C24 -> -0.027106146
A25: =A11 -> Operating expenses - products | B25: =' Income Statement '!D19-B26 -> 13369 | C25: =' Income Statement '!F19-C26 -> 14903 | D25: =(B25-C25)/C25 -> -0.1029323
A26: =A12 -> Operating expenses - license | B26: 0 | C26: 0 | D26: =IFERROR((B26-C26)/C26,0) -> 0
A27: =A13 -> Net income (loss) | B27: =' Income Statement '!D27 -> -12714 | C27: =' Income Statement '!F27 -> -13243 | D27: =(B27-C27)/C27 -> -0.039945632
A28: Net income (loss) per share | B28: =' Income Statement '!D30 -> -0.047073372 | C28: =' Income Statement '!F30 -> -0.052230947
A29: Stock Compensation | B29: =' Income Statement '!D42 -> 804 | C29: =' Income Statement '!F42 -> 919
B31: Quarter-To-Date
B32: =B18 -> Q4 2024 | C32: Q3 2024 | D32: % change
A33: =A19 -> Net product sales | B33: =' Income Statement '!D10 -> 34275 | C33: 40186 | D33: =(B33-C33)/C33 -> -0.14709103
A34: License fee | B34: =' Income Statement '!D11 -> 0 | C34: 0 | D34: =IFERROR((B34-C34)/C34,0) -> 0
A35: =A21 -> Gross profit - products | B35: =B21 -> 480 | C35: 742 | D35: =(B35-C35)/C35 -> -0.35309973
A36: =A22 -> Gross profit % - products | B36: =B35/B33 -> 0.014004376 | C36: =C35/C33 -> 0.018464142 | D36: =B36-C36 -> -0.0044597654
A37: =A23 -> Gross profit | B37: =' Income Statement '!D14 -> 254 | C37: 1142 | D37: =(B37-C37)/C37 -> -0.77758319
A38: =A24 -> Gross profit % | B38: =B37/(B33+B34) -> 0.0074106492 | C38: =C37/(C33+C34) -> 0.028417857 | D38: =B38-C38 -> -0.021007208
A39: =A25 -> Operating expenses - products | B39: =' Income Statement '!D19-B40 -> 13369 | C39: 10797 | D39: =(B39-C39)/C39 -> 0.23821432
A40: =A12 -> Operating expenses - license | B40: =B26 -> 0 | C40: 0 | D40: =(B40-C40)/C40 -> #DIV/0!
A41: =A27 -> Net income (loss) | B41: =' Income Statement '!D27 -> -12714 | C41: -9405 | D41: =(B41-C41)/C41 -> 0.35183413
B43: =B18 -> Q4 2024 | C43: Q3 2024 | D43: Q2 2024 | E43: Q1 2024 | F43: Q4 2023 | G43: Q3 2023 | H43: Q2 2023 | I43: Q1 2023 | J43: Q4 2022 | K43: Q3 2022 | L43: Q2 2022 | M43: Q1 2022
A44: Cash, Cash equiv & Rest. cash | B44: ='Press Release BalSht'!E11+'Press Release BalSht'!E12 -> 34607 | C44: 29763 | D44: 36406 | E44: 41136 | F44: 52845 | G44: 50576 | H44: 31448 | I44: 36570 | J44: 43611 | K44: 43442 | L44: 60565 | M44: 58330
...

Sheet Press Release BalSht
B1: NETLIST, INC. AND SUBSIDIARIES | M1: Updated: | O1: 45735
B2: CONDENSED CONSOLIDATED BALANCE SHEETS
B3: (In thousands) (Unaudited)
D7: December 28, | G7: December 30,
D8: 2024 | G8: 2023
B9: ASSETS
B10: Current assets:
B11: Cash and cash equivalents | D11: $ | E11: 22507 | G11: $ | H11: 40445
B12: Restricted cash | E12: 12100 | H12: 12400
B13: Investment in marketable securities
B14: Accounts receivable, net | E14: 1671 | H14: 4562
B15: Inventories | E15: 2744 | H15: 12031
B16: Prepaid expenses and other current assets | E16: 733 | H16: 441
B17: Total current assets | E17: =SUM(E11:E16) -> 39755 | H17: =SUM(H11:H16) -> 69879
B19: Property and equipment, net | E19: 517 | H19: 770
B20: Long-term investments in marketable securities
B21: Operating lease right-of-use assets | E21: 1101 | H21: 1590
B22: Other assets | E22: 466 | H22: 560
B23: Total assets | D23: $ | E23: =E17+E19+E21+E22 -> 41839 | G23: $ | H23: =H17+H19+H21+H22 -> 72799 | N23: =E17-E34 -> -7305
B25: LIABILITIES AND STOCKHOLDERS' EQUITY (DEFICIT)
B26: Current liabilities:
B27: Accounts payable | D27: $ | E27: 42307 | G27: $ | H27: 39831
B28: Revolving line of credit | E28: 1230 | H28: 3844
B29: Accrued payroll and related liabilities | E29: 808 | H29: 1346
B30: Convertible promissory note and accrued interest, net of debt discounts | E30: 0 | H30: 0
B31: Deferred revenue | E31: 40 | H31: 0
B32: Other current liabilities | E32: 2675 | H32: 2569
B33: Long-term debt due within one year | E33: 0 | H33: 0
B34: Total current liabilities | E34: =SUM(E27:E33) -> 47060 | H34: =SUM(H27:H33) -> 47590 | N34: =+E33 -> 0
B35: Long-term debt | E35: 0 | H35: 0
B36: Operating lease liabilities | E36: 641 | H36: 1213
B37: Other liabilities | E37: 186 | H37: 237
B38: Total liabilities | E38: =E34+E35+E36+E37 -> 47887 | H38: =H34+H35+H36+H37 -> 49040
B40: Commitments and contingencies
B42: Stockholders' equity (deficit):
B43: Preferred stock | E43: 0 | H43: 0
B44: Common stock | E44: 273 | H44: 254
B45: Additional paid-in capital | E45: 331367 | H45: 307328
B46: Accumulated deficit | E46: -337688 | H46: -283823
B47: Accumulated other comprehensive loss | E47: 0 | H47: 0
...

Sheet  Income Statement 
B1: NETLIST, INC. AND SUBSIDIARIES
B2: CONDENSED CONSOLIDATED STATEMENTS OF OPERATIONS
B3: (In thousands, except per share amounts) (Unaudited)
E6: Three Months Ended | I6: Year Ended | N6: Nine Months Ended
D7: ='Press Release BalSht'!D7:E7 -> December 28, | F7: December 30, | H7: =D7 -> December 28, | J7: =F7 -> December 30, | M7: September 29, | O7: September 30,
D8: 2024 | F8: 2023 | H8: =D8 -> 2024 | J8: =F8 -> 2023 | M8: 2024 | O8: 2023
B10: Net product sales | D10: =H10-M10 -> 34275 | F10: =J10-O10 -> 33433 | H10: 147103 | J10: 69205 | M10: 112828 | O10: 35772
B11: License fee | D11: =H11-M11 -> 0 | F11: =J11-O11 -> 0 | M11: 0 | O11: 0
B12: Net sales | D12: =SUM(D10:D11) -> 34275 | F12: =SUM(F10:F11) -> 33433 | H12: =SUM(H10:H11) -> 147103 | J12: =SUM(J10:J11) -> 69205 | M12: =SUM(M10:M11) -> 112828 | O12: =SUM(O10:O11) -> 35772
B13: Cost of sales(1) | D13: =H13-M13 -> 34021 | F13: =J13-O13 -> 32279 | H13: 144219 | J13: 66812 | M13: 110198 | O13: 34533
B14: Gross profit | D14: =D12-D13 -> 254 | F14: =F12-F13 -> 1154 | H14: =H12-H13 -> 2884 | J14: =J12-J13 -> 2393 | M14: =M12-M13 -> 2630 | O14: =O12-O13 -> 1239
B15: Operating expenses:
B16: Research and development(1) | D16: =H16-M16 -> 1077 | F16: =J16-O16 -> 2340 | H16: 8064 | J16: 9164 | M16: 6987 | O16: 6824
B17: Intellectual property legal fees | D17: =H17-M17 -> 9555 | F17: =J17-O17 -> 9664 | H17: 37958 | J17: 42572 | M17: 28403 | O17: 32908 | R17: =H17 -> 37958 | S17: =R17/R19 -> 0.65318695
B18: Selling, general and administrative(1) | D18: =H18-M18 -> 2737 | F18: =J18-O18 -> 2899 | H18: 12090 | J18: 12414 | M18: 9353 | O18: 9515 | R18: =H18 -> 12090
B19: Total operating expenses | D19: =SUM(D16:D18) -> 13369 | F19: =SUM(F16:F18) -> 14903 | H19: =SUM(H16:H18) -> 58112 | J19: =SUM(J16:J18) -> 64150 | M19: =SUM(M16:M18) -> 44743 | O19: =SUM(O16:O18) -> 49247 | R19: =H19 -> 58112
B20: Operating loss | D20: =D14-D19 -> -13115 | F20: =F14-F19 -> -13749 | H20: =H14-H19 -> -55228 | J20: =J14-J19 -> -61757 | M20: =M14-M19 -> -42113 | O20: =O14-O19 -> -48008
B21: Other income, net:
B22: Interest income, net | D22: =H22-M22 -> 252 | F22: =J22-O22 -> 460 | H22: 1048 | J22: 1300 | M22: 796 | O22: 840
B23: Other income, net | D23: =H23-M23 -> 149 | F23: =J23-O23 -> 46 | H23: 316 | J23: 60 | M23: 167 | O23: 14
B24: Total other income, net | D24: =D22+D23 -> 401 | F24: =F22+F23 -> 506 | H24: =H22+H23 -> 1364 | J24: =J22+J23 -> 1360 | M24: =SUM(M22:M23) -> 963 | O24: =SUM(O22:O23) -> 854
B25: Loss before provision for income taxes | D25: =D20+D24 -> -12714 | F25: =F20+F24 -> -13243 | H25: =H20+H24 -> -53864 | J25: =J20+J24 -> -60397 | M25: =M20+M24 -> -41150 | O25: =O20+O24 -> -47154
B26: Provision for income taxes | D26: =H26-M26 -> 0 | F26: =J26-O26 -> 0 | H26: 1 | J26: 1 | M26: 1 | O26: 1
B27: Net loss | D27: =D25-D26 -> -12714 | F27: =F25-F26 -> -13243 | H27: =H25-H26 -> -53865 | J27: =J25-J26 -> -60398 | M27: =M25-M26 -> -41151 | O27: =O25-O26 -> -47155
B29: Loss per common share:
B30: Basic and diluted | D30: =D27/D33 -> -0.047073372 | F30: =F27/F33 -> -0.052230947 | H30: =H27/H33 -> -0.2072496 | J30: =J27/J33 -> -0.24741314 | M30: =M27/M33 -> -0.16042712 | O30: =O27/O33 -> -0.19568501
B31: Diluted | D31: =D27/D34 -> #DIV/0! | F31: =F27/F34 -> #DIV/0! | H31: =H27/H34 -> #DIV/0! | J31: =J27/J34 -> #DIV/0! | M31: =M27/M34 -> #DIV/0! | O31: =O27/O34 -> #DIV/0!
B32: Weighted-average common shares outstanding:
B33: Basic and diluted | D33: 270089 | F33: 253547 | H33: 259904 | J33: 244118 | M33: 256509 | O33: 240974
B34: Diluted | M34: 0 | O34: 0
B37: (1) Amounts include stock-based compensation expense as follows:
B39: Cost of sales | D39: =H39-M39 -> 17 | F39: =J39-O39 -> 20 | H39: 99 | J39: 110 | M39: 82 | O39: 90
B40: Research and development | D40: =H40-M40 -> 110 | F40: =J40-O40 -> 184 | H40: 908 | J40: 875 | M40: 798 | O40: 691
B41: Selling, general and administrative | D41: =H41-M41 -> 677 | F41: =J41-O41 -> 715 | H41: 3429 | J41: 3352 | M41: 2752 | O41: 2637
B42: Total stock-based compensation | D42: =SUM(D39:D41) -> 804 | F42: =SUM(F39:F41) -> 919 | H42: =SUM(H39:H41) -> 4436 | J42: =SUM(J39:J41) -> 4337 | M42: =SUM(M39:M41) -> 3632 | O42: =SUM(O39:O41) -> 3418
B47: Gross profit % | D47: =D14/D12 -> 0.0074106492 | F47: =F14/F12 -> 0.034516795 | H47: =H14/H12 -> 0.019605311 | J47: =J14/J12 -> 0.034578426 | M47: =M14/M12 -> 0.023309817 | O47: =O14/O12 -> 0.034636028
B49: Updated: | D49: 45735 | F49: 45620 | H49: 45735 | J49: 45620 | M49: 45620 | O49: 45620

Sheet Non-GAAP Measures
A1: NETLIST, INC. AND SUBSIDIARIES
A2: Reconciliation of GAAP Net Loss to
A3: Non-GAAP EBITDA and Adjusted EBITDA (Unaudited)
A4: (in thousands)
D7: =' Income Statement '!E6 -> Three Months Ended | H7: =' Income Statement '!I6 -> Year Ended | K7: =' Income Statement '!N6 -> Nine Months Ended
C8: =' Income Statement '!D7 -> December 28, | E8: =' Income Statement '!F7 -> December 30, | G8: =C8 -> December 28, | I8: =E8 -> December 30, | K8: =' Income Statement '!M7 -> September 29, | M8: =' Income Statement '!O7 -> September 30,
C9: =' Income Statement '!D8 -> 2024 | E9: =' Income Statement '!F8 -> 2023 | G9: =C9 -> 2024 | I9: =E9 -> 2023 | K9: 2024 | M9: 2023
A11: GAAP net (loss) income | C11: =' Income Statement '!D27 -> -12714 | E11: =' Income Statement '!F27 -> -13243 | G11: =' Income Statement '!H27 -> -53865 | I11: =' Income Statement '!J27 -> -60398 | K11: -41151 | M11: -47155
A13: Interest expense, net | C13: =-' Income Statement '!D22 -> -252 | E13: =-' Income Statement '!F22 -> -460 | G13: =-' Income Statement '!H22 -> -1048 | I13: =-' Income Statement '!J22 -> -1300 | K13: -796 | M13: -840
A14: =' Income Statement '!B26 -> Provision for income taxes | C14: =' Income Statement '!D26 -> 0 | E14: =' Income Statement '!F26 -> 0 | G14: =' Income Statement '!H26 -> 1 | I14: =' Income Statement '!J26 -> 1 | K14: 1 | M14: 1
A15: Depreciation and amortization | C15: =G15-K15 -> 108 | E15: =I15-M15 -> 76 | G15: 345 | I15: 368 | K15: 237 | M15: 292
A17: EBITDA (loss) | C17: =SUM(C11:C15) -> -12858 | E17: =SUM(E11:E15) -> -13627 | G17: =SUM(G11:G15) -> -54567 | I17: =SUM(I11:I15) -> -61329 | K17: =SUM(K11:K15) -> -41709 | M17: =SUM(M11:M15) -> -47702
A19: Stock-based compensation | C19: =' Income Statement '!D42 -> 804 | E19: =' Income Statement '!F42 -> 919 | G19: =' Income Statement '!H42 -> 4436 | I19: =' Income Statement '!J42 -> 4337 | K19: 3632 | M19: 3418
A20: =' Income Statement '!B23 -> Other income, net | C20: =-' Income Statement '!D23 -> -149 | E20: =-' Income Statement '!F23 -> -46 | G20: =-' Income Statement '!H23 -> -316 | I20: =-' Income Statement '!J23 -> -60 | K20: -167 | M20: -14
A22: Adjusted EBITDA (loss) | C22: =C17+C19+C20 -> -12203 | E22: =E17+E19+E20 -> -12754 | G22: =G17+G19+G20 -> -50447 | I22: =I17+I19+I20 -> -57052 | K22: =K17+K19+K20 -> -38244 | M22: =M17+M19+M20 -> -44298
A25: Updated: | C25: 45735 | E25: 45620 | G25: 45735 | I25: 45620 | K25: 45620 | M25: 45620

Sheet summary Q3 24
A1: Summary of Results | E1: Updated: | F1: 45583
B3: Nine Months Ended
B4: 2024 | C4: 2023 | D4: % change
A5: Net product sales | B5: 112828 | C5: 35772 | D5: 2.154087
A6: License fee | B6: 0 | C6: 0 | D6: 0
A7: Gross profit - products | B7: 2888 | C7: 1238 | D7: 1.3327948
A8: Gross profit % - products | B8: 0.025596483 | C8: 0.034608073 | D8: -0.0090115902
A9: Gross profit | B9: 2630 | C9: 1239 | D9: 1.1226796
A10: Gross profit % | B10: 0.023309817 | C10: 0.034636028 | D10: -0.011326211
A11: Operating expenses - products | B11: 44743 | C11: 49247 | D11: -0.091457348
A12: Operating expenses - license | B12: 0 | C12: 0 | D12: 0
A13: Net income (loss) | B13: -41151 | C13: -47155 | D13: -0.12732478
A14: Net income (loss) per share | B14: -0.16042712 | C14: -0.19568501
A15: Stock Compensation | B15: 3632 | C15: 3418
B17: Quarter-To-Date
B18: Q3 2024 | C18: Q3 2023 | D18: % change
A19: Net product sales | B19: 40186 | C19: 16725 | D19: 1.4027504
A20: License fee | B20: 0 | C20: 0 | D20: 0
A21: Gross profit - products | B21: 742 | C21: 440 | D21: 0.68636364
A22: Gross profit % - products | B22: 0.018464142 | C22: 0.026307922 | D22: -0.0078437805
A23: Gross profit | B23: 1142 | C23: 440 | D23: 1.5954545
A24: Gross profit % | B24: 0.028417857 | C24: 0.026307922 | D24: 0.0021099347
A25: Operating expenses - products | B25: 10797 | C25: 18319 | D25: -0.41061193
A26: Operating expenses - license | B26: 0 | C26: 0 | D26: 0
A27: Net income (loss) | B27: -9405 | C27: -17339 | D27: -0.45758118
A28: Net income (loss) per share | B28: -0.036449956 | C28: -0.070079218
A29: Stock Compensation | B29: 1130 | C29: 1145
B31: Quarter-To-Date
B32: Q3 2024 | C32: Q2 2024 | D32: % change
A33: Net product sales | B33: 40186 | C33: 36835 | D33: 0.090973259
A34: License fee | B34: 0 | C34: 0 | D34: 0
A35: Gross profit - products | B35: 742 | C35: 949 | D35: -0.21812434
A36: Gross profit % - products | B36: 0.018464142 | C36: 0.02576354 | D36: -0.0072993984
A37: Gross profit | B37: 1142 | C37: 773 | D37: 0.47736093
A38: Gross profit % | B38: 0.028417857 | C38: 0.020985476 | D38: 0.0074323812
A39: Operating expenses - products | B39: 10797 | C39: 15849 | D39: -0.31875828
A40: Operating expenses - license | B40: 0 | C40: 0 | D40: #DIV/0!
A41: Net income (loss) | B41: -9405 | C41: -14778 | D41: -0.363581
B43: Q3 2024 | C43: Q2 2024 | D43: Q1 2024 | E43: Q4 2023 | F43: Q3 2023 | G43: Q2 2023 | H43: Q1 2023 | I43: Q4 2022 | J43: Q3 2022 | K43: Q2 2022 | L43: Q1 2022
A44: Cash, Cash equiv & Rest. cash | B44: 29763 | C44: 36406 | D44: 41136 | E44: 52845 | F44: 50576 | G44: 31448 | H44: 36570 | I44: 43611 | J44: 43442 | K44: 60565 | L44: 58330
...

Sheet summary Q2 24
A1: Summary of Results | E1: Updated: | F1: 45490
B3: Six Months Ended
B4: 2024 | C4: 2023 | D4: % change
A5: Net product sales | B5: 72642 | C5: 19047 | D5: 2.8138289
A6: License fee | B6: 0 | C6: 0 | D6: 0
A7: Gross profit - products | B7: 2146 | C7: 799 | D7: 1.6858573
A8: Gross profit % - products | B8: 0.029542138 | C8: 0.041948863 | D8: -0.012406725
A9: Gross profit | B9: 1488 | C9: 799 | D9: 0.86232791
A10: Gross profit % | B10: 0.020484018 | C10: 0.041948863 | D10: -0.021464846
A11: Operating expenses - products | B11: 33946 | C11: 30928 | D11: 0.09758148
A12: Operating expenses - license | B12: 0 | C12: 0 | D12: 0
A13: Net income (loss) | B13: -31746 | C13: -29816 | D13: 0.064730346
A14: Net income (loss) per share | B14: -0.12412855 | C14: -0.12540799
A15: Stock Compensation | B15: 2502 | C15: 2273
B17: Quarter-To-Date
B18: Q2 2024 | C18: Q2 2023 | D18: % change
A19: Net product sales | B19: 36835 | C19: 10026 | D19: 2.6739477
A20: License fee | B20: 0 | C20: 0 | D20: 0
A21: Gross profit - products | B21: 949 | C21: 239 | D21: 2.9707113
A22: Gross profit % - products | B22: 0.02576354 | C22: 0.023838021 | D22: 0.001925519
A23: Gross profit | B23: 773 | C23: 239 | D23: 2.2343096
A24: Gross profit % | B24: 0.020985476 | C24: 0.023838021 | D24: -0.0028525454
A25: Operating expenses - products | B25: 15849 | C25: 14527 | D25: 0.09100296
A26: Operating expenses - license | B26: 0 | C26: 0 | D26: 0
A27: Net income (loss) | B27: -14778 | C27: -14028 | D27: 0.0534645
A28: Net income (loss) per share | B28: -0.057598092 | C28: -0.058357115
A29: Stock Compensation | B29: 1128 | C29: 1196
B31: Quarter-To-Date
B32: Q2 2024 | C32: Q1 2024 | D32: % change
A33: Net product sales | B33: 36835 | C33: 35807 | D33: 0.02870947
A34: License fee | B34: 0 | C34: 0 | D34: 0
A35: Gross profit - products | B35: 949 | C35: 1197 | D35: -0.20718463
A36: Gross profit % - products | B36: 0.02576354 | C36: 0.033429218 | D36: -0.0076656776
A37: Gross profit | B37: 773 | C37: 715 | D37: 0.081118881
A38: Gross profit % | B38: 0.020985476 | C38: 0.019968163 | D38: 0.0010173131
A39: Operating expenses - products | B39: 15849 | C39: 18097 | D39: -0.12421948
A40: Operating expenses - license | B40: 0 | C40: 0 | D40: #DIV/0!
A41: Net income (loss) | B41: -14778 | C41: -16968 | D41: -0.12906648
B43: Q2 2024 | C43: Q1 2024 | D43: Q4 2023 | E43: Q3 2023 | F43: Q2 2023 | G43: Q1 2023 | H43: Q4 2022 | I43: Q3 2022 | J43: Q2 2022 | K43: Q1 2022
A44: Cash, Cash equiv & Rest. cash | B44: 36406 | C44: 41136 | D44: 52845 | E44: 50576 | F44: 31448 | G44: 36570 | H44: 43611 | I44: 43442 | J44: 60565 | K44: 58330
...

Sheet summary q1 24
A1: Summary of Results | H1: Updated: | I1: 45399
B3: Three Months Ended
B4: 2024 | C4: 2023 | D4: % change
A5: Net product sales | B5: 35807 | C5: 9021 | D5: =(B5-C5)/C5 -> 2.9692939
A6: License fee | B6: 0 | C6: 0 | D6: =IFERROR((B6-C6)/C6,0) -> 0
A7: Gross profit - products | B7: 1197 | C7: 1232 | D7: =(B7-C7)/C7 -> -0.028409091
A8: Gross profit % - products | B8: 0.033429218 | C8: 0.13657023 | D8: =B8-C8 -> -0.10314101
A9: Gross profit | B9: 715 | C9: 560 | D9: =(B9-C9)/C9 -> 0.27678571
A10: Gross profit % | B10: 0.019968163 | C10: 0.062077375 | D10: =B10-C10 -> -0.042109212
A11: Operating expenses - products | B11: 18097 | C11: 16401 | D11: =(B11-C11)/C11 -> 0.10340833
A12: Operating expenses - license | B12: 0 | C12: 0 | D12: =IFERROR((B12-C12)/C12,0) -> 0
A13: Net income (loss) | B13: -16968 | C13: -15788 | D13: =(B13-C13)/C13 -> 0.074740309
A14: Net income (loss) per share | B14: -0.066559187 | C14: -0.067148404
A15: Stock Compensation | B15: 1374 | C15: 1077
B17: Quarter-To-Date
B18: Q1 2024 | C18: Q1 2023 | D18: % change
A19: =A5 -> Net product sales | B19: 35807 | C19: 9021 | D19: =(B19-C19)/C19 -> 2.9692939
A20: License fee | B20: 0 | C20: 0 | D20: =IFERROR((B20-C20)/C20,0) -> 0
A21: =A7 -> Gross profit - products | B21: 1197 | C21: 1232 | D21: =(B21-C21)/C21 -> -0.028409091
A22: =A8 -> Gross profit % - products | B22: 0.033429218 | C22: 0.13657023 | D22: =B22-C22 -> -0.10314101
A23: =A9 -> Gross profit | B23: 715 | C23: 560 | D23: =(B23-C23)/C23 -> 0.27678571
A24: =A10 -> Gross profit % | B24: 0.019968163 | C24: 0.062077375 | D24: =B24-C24 -> -0.042109212
A25: =A11 -> Operating expenses - products | B25: 18097 | C25: 16401 | D25: =(B25-C25)/C25 -> 0.10340833
A26: =A12 -> Operating expenses - license | B26: 0 | C26: 0 | D26: =IFERROR((B26-C26)/C26,0) -> 0
A27: =A13 -> Net income (loss) | B27: -16968 | C27: -15788 | D27: =(B27-C27)/C27 -> 0.074740309
A28: Net income (loss) per share | B28: -0.066559187 | C28: -0.067148404
A29: Stock Compensation | B29: 1374 | C29: 1077
B31: Quarter-To-Date
B32: =B18 -> Q1 2024 | C32: Q4 2023 | D32: % change
A33: =A19 -> Net product sales | B33: 35807 | C33: 33433 | D33: =(B33-C33)/C33 -> 0.071007687
A34: License fee | B34: 0 | C34: 0 | D34: =IFERROR((B34-C34)/C34,0) -> 0
A35: =A21 -> Gross profit - products | B35: 1197 | C35: 1154 | D35: =(B35-C35)/C35 -> 0.037261698
A36: =A22 -> Gross profit % - products | B36: 0.033429218 | C36: 0.034516795 | D36: =B36-C36 -> -0.001087577
A37: =A23 -> Gross profit | B37: 715 | C37: 1154 | D37: =(B37-C37)/C37 -> -0.38041594
A38: =A24 -> Gross profit % | B38: 0.019968163 | C38: 0.034516795 | D38: =B38-C38 -> -0.014548632
A39: =A25 -> Operating expenses - products | B39: 18097 | C39: 14903 | D39: =(B39-C39)/C39 -> 0.21431926
A40: =A12 -> Operating expenses - license | B40: 0 | C40: 0 | D40: =(B40-C40)/C40 -> #DIV/0!
A41: =A27 -> Net income (loss) | B41: -16968 | C41: -13243 | D41: =(B41-C41)/C41 -> 0.28128068
B43: =B18 -> Q1 2024 | C43: Q4 2023 | D43: Q3 2023 | E43: Q2 2023 | F43: Q1 2023 | G43: Q4 2022 | H43: Q3 2022 | I43: Q2 2022 | J43: Q1 2022
A44: Cash, Cash equiv & Rest. cash | B44: 41136 | C44: 52845 | D44: 50576 | E44: 31448 | F44: 36570 | G44: 43611 | H44: 43442 | I44: 60565 | J44: 58330
...

Sheet summary q4 23
A1: Summary of Results | H1: Updated: | I1: 45326
B3: Twelve Months Ended
B4: 2023 | C4: 2022 | D4: % change
A5: Net product sales | B5: 69205 | C5: 161637 | D5: =(B5-C5)/C5 -> -0.57184927
A6: License fee | B6: 0 | C6: 0 | D6: =IFERROR((B6-C6)/C6,0) -> 0
A7: Gross profit - products | B7: 2393 | C7: 11892 | D7: =(B7-C7)/C7 -> -0.79877228
A8: Gross profit % - products | B8: 0.034578426 | C8: 0.073572264 | D8: =B8-C8 -> -0.038993837
A9: Gross profit | B9: 2393 | C9: 11892 | D9: =(B9-C9)/C9 -> -0.79877228
A10: Gross profit % | B10: 0.034578426 | C10: 0.073572264 | D10: =B10-C10 -> -0.038993837
A11: Operating expenses - products | B11: 64150 | C11: 45392 | D11: =(B11-C11)/C11 -> 0.41324462
A12: Operating expenses - license | B12: 0 | C12: 0 | D12: =IFERROR((B12-C12)/C12,0) -> 0
A13: Net income (loss) | B13: -60398 | C13: -33370 | D13: =(B13-C13)/C13 -> 0.80994906
A14: Net income (loss) per share | B14: -0.24741314 | C14: -0.14415496
A15: Stock Compensation | B15: 4337 | C15: 3214
B17: Quarter-To-Date
B18: Q4 2023 | C18: Q4 2022 | D18: % change
A19: =A5 -> Net product sales | B19: 33433 | C19: 21655 | D19: =(B19-C19)/C19 -> 0.54389287
A20: License fee | B20: 0 | C20: 0 | D20: =IFERROR((B20-C20)/C20,0) -> 0
A21: =A7 -> Gross profit - products | B21: 1154 | C21: 1601 | D21: =(B21-C21)/C21 -> -0.2792005
A22: =A8 -> Gross profit % - products | B22: 0.034516795 | C22: 0.073932117 | D22: =B22-C22 -> -0.039415323
A23: =A9 -> Gross profit | B23: 1154 | C23: 1601 | D23: =(B23-C23)/C23 -> -0.2792005
A24: =A10 -> Gross profit % | B24: 0.034516795 | C24: 0.073932117 | D24: =B24-C24 -> -0.039415323
A25: =A11 -> Operating expenses - products | B25: 14903 | C25: 14568 | D25: =(B25-C25)/C25 -> 0.022995607
A26: =A12 -> Operating expenses - license | B26: 0 | C26: 0 | D26: =IFERROR((B26-C26)/C26,0) -> 0
A27: =A13 -> Net income (loss) | B27: -13243 | C27: -12948 | D27: =(B27-C27)/C27 -> 0.022783441
A28: Net income (loss) per share | B28: -0.052230947 | C28: -0.055722198
A29: Stock Compensation | B29: 919 | C29: 850
B31: Quarter-To-Date
B32: =B18 -> Q4 2023 | C32: Q3 2023 | D32: % change
A33: =A19 -> Net product sales | B33: 33433 | C33: 16725 | D33: =(B33-C33)/C33 -> 0.99898356
A34: License fee | B34: 0 | C34: 0 | D34: =IFERROR((B34-C34)/C34,0) -> 0
A35: =A21 -> Gross profit - products | B35: 1154 | C35: 440 | D35: =(B35-C35)/C35 -> 1.6227273
A36: =A22 -> Gross profit % - products | B36: 0.034516795 | C36: 0.026307922 | D36: =B36-C36 -> 0.0082088725
A37: =A23 -> Gross profit | B37: 1154 | C37: 440 | D37: =(B37-C37)/C37 -> 1.6227273
A38: =A24 -> Gross profit % | B38: 0.034516795 | C38: 0.026307922 | D38: =B38-C38 -> 0.0082088725
A39: =A25 -> Operating expenses - products | B39: 14903 | C39: 18319 | D39: =(B39-C39)/C39 -> -0.18647306
A40: =A12 -> Operating expenses - license | B40: 0 | C40: 0 | D40: =(B40-C40)/C40 -> #DIV/0!
A41: =A27 -> Net income (loss) | B41: -13243 | C41: -17339 | D41: =(B41-C41)/C41 -> -0.23623046
B43: =B18 -> Q4 2023 | C43: Q3 2023 | D43: Q2 2023 | E43: Q1 2023 | F43: Q4 2022 | G43: Q3 2022 | H43: Q2 2022 | I43: Q1 2022
A44: Cash, Cash equiv & Rest. cash | B44: 52845 | C44: 50576 | D44: 31448 | E44: 36570 | F44: 43611 | G44: 43442 | H44: 60565 | I44: 58330
...

Sheet summary q4 22
A1: Summary of Results | I1: Updated: | J1: 44953
B3: Year Ended
B4: 2022 | C4: 2021 | D4: % change
A5: Net product sales | B5: 161637 | C5: 102355 | D5: 0.5791803
A6: License fee | B6: 0 | C6: 40000 | D6: -1
A7: Gross profit - products | B7: 11892 | C7: 10969 | D7: 0.08414623
A8: Gross profit % - products | B8: 0.073572264 | C8: 0.10716624 | D8: -0.033593971
A9: Gross profit | B9: 11892 | C9: 48897 | D9: -0.7567949
A10: Gross profit % | B10: 0.073572264 | C10: 0.34348635 | D10: -0.26991409
A11: Operating expenses - products | B11: 45392 | C11: 35142 | D11: 0.29167378
A12: Operating expenses - license | B12: 0 | C12: 2372 | D12: -1
A13: Net income (loss) | B13: -33370 | C13: 4831 | D13: -7.9074726
A14: Net income (loss) per share | B14: -0.14415496 | C14: 0.022143181
A15: Stock Compensation | B15: 3214 | C15: 1580
B17: Quarter-To-Date
B18: Q4 2022 | C18: Q4 2021 | D18: % change
A19: Net product sales | B19: 21655 | C19: 36346 | D19: -0.40419854
A20: License fee | B20: 0 | C20: 0 | D20: 0
A21: Gross profit - products | B21: 1601 | C21: 2639 | D21: -0.39333081
A22: Gross profit % - products | B22: 0.073932117 | C22: 0.072607715 | D22: 0.0013244026
A23: Gross profit | B23: 1601 | C23: 2023 | D23: -0.20860109
A24: Gross profit % | B24: 0.073932117 | C24: 0.055659495 | D24: 0.018272622
A25: Operating expenses - products | B25: 14568 | C25: 7696 | D25: 0.89293139
A26: Operating expenses - license | B26: 0 | C26: 2372 | D26: -1
A27: Net income (loss) | B27: -12948 | C27: -8220 | D27: 0.57518248
A28: Net income (loss) per share | B28: -0.055722198 | C28: -0.03616732
A29: Stock Compensation | B29: 850 | C29: 418
B31: Quarter-To-Date
B32: Q4 2022 | C32: Q3 2022 | D32: % change
A33: Net product sales | B33: 21655 | C33: 34424 | D33: -0.37093307
A34: License fee | B34: 0 | C34: 0 | D34: 0
A35: Gross profit - products | B35: 1601 | C35: 2180 | D35: -0.26559633
A36: Gross profit % - products | B36: 0.073932117 | C36: 0.063327911 | D36: 0.010604207
A37: Gross profit | B37: 1601 | C37: 2180 | D37: -0.26559633
A38: Gross profit % | B38: 0.073932117 | C38: 0.063327911 | D38: 0.010604207
A39: Operating expenses - products | B39: 14568 | C39: 11894 | D39: 0.22481924
A40: Operating expenses - license | B40: 0 | C40: 0 | D40: #DIV/0!
A41: Net income (loss) | B41: -12948 | C41: -9598 | D41: 0.34903105
B43: Q4 2022 | C43: Q3 2022 | D43: Q2 2022 | E43: Q1 2022 | F43: Q4 2021
A44: Cash, Cash equiv & Rest. cash | B44: 43611 | C44: 43442 | D44: 60565 | E44: 58330 | F44: 58479
...

Sheet summary q4 21
A1: Summary of Results | I1: Updated: | J1: 44596
B3: Year Ended
B4: 2021 | C4: 2020 | D4: % change | G4: rev 2021 | H4: rev 2020 | I4: change
A5: Net product sales | B5: 102355 | C5: 47234 | D5: =(B5-C5)/C5 -> 1.1669772 | G5: =B5+B6 -> 142355 | H5: =C5+C6 -> 47234 | I5: =(G5-H5)/H5 -> 2.0138248
A6: License fee | B6: 40000 | C6: 0 | D6: =IFERROR((B6-C6)/C6,0) -> 0
A7: Gross profit - products | B7: =ROUND(10968542/1000,0) -> 10969 | C7: =ROUND(8041559/1000,0) -> 8042 | D7: =(B7-C7)/C7 -> 0.36396419
A8: Gross profit % - products | B8: =B7/B5 -> 0.10716624 | C8: =C7/C5 -> 0.17025871 | D8: =B8-C8 -> -0.063092477
A9: Gross profit | B9: 48897 | C9: 6731 | D9: =(B9-C9)/C9 -> 6.2644481 | G9: =C9*7 -> 47117
A10: Gross profit % | B10: =B9/(B5+B6) -> 0.34348635 | C10: =C9/C5 -> 0.14250328 | D10: =B10-C10 -> 0.20098307
A11: Operating expenses - products | B11: 35142 | C11: 13568 | D11: =(B11-C11)/C11 -> 1.5900649
A12: Operating expenses - license | B12: =ROUND(2371829.38/1000,0) -> 2372 | C12: 0 | D12: =IFERROR((B12-C12)/C12,0) -> 0 | H12: =6.7*8 -> 53.6
A13: Net income (loss) | B13: 4831 | C13: -7268 | D13: =(B13-C13)/C13 -> -1.6646946
A14: Net loss per share | B14: 0.022143181 | C14: -0.03958735
A15: Stock Compensation | B15: 1580 | C15: 763
B17: Quarter-To-Date
B18: Q4 2021 | C18: Q4 2020 | D18: % change
A19: =A5 -> Net product sales | B19: 36346 | C19: 11485 | D19: =(B19-C19)/C19 -> 2.1646495
A20: License fee | B20: 0 | C20: 0 | D20: =IFERROR((B20-C20)/C20,0) -> 0
A21: =A7 -> Gross profit - products | B21: =ROUND(2638552/1000,0) -> 2639 | C21: =ROUND(1741549/1000,0) -> 1742 | D21: =(B21-C21)/C21 -> 0.51492537
A22: =A8 -> Gross profit % - products | B22: =B21/B19 -> 0.072607715 | C22: =C21/C19 -> 0.1516761 | D22: =B22-C22 -> -0.079068385
A23: =A9 -> Gross profit | B23: 2023 | C23: 1459 | D23: =(B23-C23)/C23 -> 0.38656614
A24: =A10 -> Gross profit % | B24: =B23/(B19+B20) -> 0.055659495 | C24: =C23/C19 -> 0.12703526 | D24: =B24-C24 -> -0.071375769
A25: =A11 -> Operating expenses - products | B25: 7696 | C25: 3234 | D25: =(B25-C25)/C25 -> 1.3797155
A26: =A12 -> Operating expenses - license | B26: =ROUND(2371829.38/1000,0) -> 2372 | C26: 0 | D26: =IFERROR((B26-C26)/C26,0) -> 0
A27: =A13 -> Net income (loss) | B27: -8220 | C27: -1766 | D27: =(B27-C27)/C27 -> 3.6545866
A28: Net loss per share | B28: -0.03616732 | C28: -0.0090118593
A29: Stock Compensation | B29: 418 | C29: 181
B31: Quarter-To-Date
B32: =B18 -> Q4 2021 | C32: Q3 2021 | D32: % change
A33: =A19 -> Net product sales | B33: 36346 | C33: 26749 | D33: =(B33-C33)/C33 -> 0.35877977
A34: License fee | B34: 0 | C34: 0 | D34: =IFERROR((B34-C34)/C34,0) -> 0
A35: =A21 -> Gross profit - products | B35: =B21 -> 2639 | C35: 3025 | D35: =(B35-C35)/C35 -> -0.12760331
A36: =A22 -> Gross profit % - products | B36: =B35/B33 -> 0.072607715 | C36: =C35/C33 -> 0.11308834 | D36: =B36-C36 -> -0.040480625
A37: =A23 -> Gross profit | B37: 2023 | C37: 2508 | D37: =(B37-C37)/C37 -> -0.19338118
A38: =A24 -> Gross profit % | B38: =B37/(B33+B34) -> 0.055659495 | C38: =C37/(C33+C34) -> 0.093760514 | D38: =B38-C38 -> -0.03810102
A39: =A25 -> Operating expenses - products | B39: 7696 | C39: 10717 | D39: =(B39-C39)/C39 -> -0.28188859
A40: =A12 -> Operating expenses - license | B40: =B26 -> 2372 | C40: 2372 | D40: =(B40-C40)/C40 -> 0
A41: =A27 -> Net income (loss) | B41: -8220 | C41: -10708 | D41: =(B41-C41)/C41 -> -0.23234965
B43: =B18 -> Q4 2021 | C43: Q3 2021 | D43: Q2 2021 | E43: Q4 2020
A44: Cash, Cash equiv & Rest. cash | B44: 58479 | C44: 73182 | D44: 54444 | E44: 16526
...

Sheet Summary q4 20
A1: Summary of Results
B3: Year Months Ended
B4: 2020 | C4: 2019 | D4: % change
A5: Revenue | B5: 47234 | C5: 26103 | D5: =(B5-C5)/C5 -> 0.80952381
A6: Product gross profit | B6: =ROUND(8041559/1000,0) -> 8042 | C6: =ROUND(4130997/1000,0) -> 4131 | D6: =(B6-C6)/C6 -> 0.94674413
A7: Product gross profit % | B7: =B6/B5 -> 0.17025871 | C7: =C6/C5 -> 0.15825767 | D7: =B7-C7 -> 0.01200104
A8: Gross profit | B8: 6731 | C8: 2570 | D8: =(B8-C8)/C8 -> 1.6190661
A9: Gross profit % | B9: =B8/B5 -> 0.14250328 | C9: =C8/C5 -> 0.098456116 | D9: =B9-C9 -> 0.044047165
A10: Operating expenses | B10: 13568 | C10: 14060 | D10: =(B10-C10)/C10 -> -0.034992888
A11: Net loss | B11: -7268 | C11: -12452 | D11: =(B11-C11)/C11 -> -0.41631866
A12: Net loss per share | B12: -0.03958735 | C12: -0.084060163
A13: Stock Compensation | B13: 763 | C13: 989
I14: Updated: | J14: 44231
B15: Q4 2020 | C15: Q4 2019 | D15: % change
A16: =A5 -> Revenue | B16: 11485 | C16: 9370 | D16: =(B16-C16)/C16 -> 0.22572038
A17: Product gross profit | B17: =ROUND(1741549/1000,0) -> 1742 | C17: =ROUND(1942112/1000,0) -> 1942 | D17: =(B17-C17)/C17 -> -0.10298661
A18: Product gross profit % | B18: =B17/B16 -> 0.1516761 | C18: =C17/C16 -> 0.2072572 | D18: =B18-C18 -> -0.055581105
A19: =A8 -> Gross profit | B19: 1459 | C19: 1437 | D19: =(B19-C19)/C19 -> 0.015309673
A20: =A9 -> Gross profit % | B20: =B19/B16 -> 0.12703526 | C20: =C19/C16 -> 0.15336179 | D20: =B20-C20 -> -0.02632653
A21: =A10 -> Operating expenses | B21: 3234 | C21: 3031 | D21: =(B21-C21)/C21 -> 0.066974596
A22: Net loss | B22: -1766 | C22: -1775 | D22: =(B22-C22)/C22 -> -0.0050704225
A23: Net loss per share | B23: -0.0090118593 | C23: -0.01077992
A24: Stock Compensation | B24: 181 | C24: 207
B26: =B15 -> Q4 2020 | C26: Q3 2020 | D26: % change
A27: =A16 -> Revenue | B27: 11485 | C27: 10212 | D27: =(B27-C27)/C27 -> 0.12465727
A28: =A17 -> Product gross profit | B28: =B17 -> 1742 | C28: 1620
A29: =A18 -> Product gross profit % | B29: =B28/B27 -> 0.1516761 | C29: =C28/C27 -> 0.1586369 | D29: =B29-C29 -> -0.0069607985
A30: =A19 -> Gross profit | B30: 1459 | C30: 1337
A31: =A20 -> Gross profit % | B31: =B30/B27 -> 0.12703526 | C31: =C30/C27 -> 0.1309244 | D31: =B31-C31 -> -0.0038891393
A32: =A21 -> Operating expenses | B32: 3234 | C32: 3331 | D32: =(B32-C32)/C32 -> -0.029120384
A33: =A22 -> Net loss | B33: -1766 | C33: -2130 | D33: =(B33-C33)/C33 -> -0.17089202
B35: =B15 -> Q4 2020 | C35: Q3 2020 | D35: Q4 2019
A36: Cash, Cash equiv & Rest. cash | B36: 16526 | C36: 17487 | D36: 11716
A37: Total Assets | B37: 25272 | C37: 28302 | D37: 22141
A38: Working capital | B38: -2726 | C38: 13559 | D38: 5442
A39: Total debt | B39: 20880 | C39: 20203 | D39: 19195
A40: Stockholders Deficit | B40: -2620 | C40: -1184 | D40: -8363
B42: =B15 -> Q4 2020 | C42: =C15 -> Q4 2019
A43: Adjusted EBITDA (loss) | B43: -1559 | C43: -1347
B49: Fiscal 2017
...

Sheet Summary q4 19
A1: Summary of Results
B3: Years Ended
B4: 2019 | C4: 2018 | D4: % change
A5: Revenue | B5: 26103 | C5: 33529 | D5: =(B5-C5)/C5 -> -0.22147991
A6: Gross profit | B6: 2570 | C6: 2301
A7: Gross profit % | B7: =B6/B5 -> 0.098456116 | C7: =C6/C5 -> 0.068627159 | D7: =B7-C7 -> 0.029828958
A8: Operating expenses | B8: 14060 | C8: 18673 | D8: =(B8-C8)/C8 -> -0.24704118
A9: Net loss | B9: -12452 | C9: -17120 | D9: =(B9-C9)/C9 -> -0.27266355
A10: Net loss per share | B10: -0.084060163 | C10: -0.1598939
A11: Stock Compensation | B11: 989 | C11: 737
I12: updated: | J12: 43858
B13: q4 2019 | C13: q4 2018 | D13: % change
A14: =A5 -> Revenue | B14: 9370 | C14: 9021 | D14: =(B14-C14)/C14 -> 0.038687507
A15: =A6 -> Gross profit | B15: 1437 | C15: 854
A16: =A7 -> Gross profit % | B16: =B15/B14 -> 0.15336179 | C16: =C15/C14 -> 0.094667997 | D16: =B16-C16 -> 0.058693796
A17: =A8 -> Operating expenses | B17: 3031 | C17: 4967 | D17: =(B17-C17)/C17 -> -0.3897725
A18: Net loss | B18: -1775 | C18: -4386 | D18: =(B18-C18)/C18 -> -0.59530324
A19: Net loss per share | B19: -0.01077992 | C19: -0.031613773
A20: Stock Compensation | B20: 207 | C20: 166
B22: =B13 -> q4 2019 | C22: q3 2019 | D22: % change
A23: =A14 -> Revenue | B23: 9370 | C23: 6116 | D23: =(B23-C23)/C23 -> 0.53204709
A24: =A15 -> Gross profit | B24: 1437 | C24: 450
A25: =A16 -> Gross profit % | B25: =B24/B23 -> 0.15336179 | C25: =C24/C23 -> 0.073577502 | D25: =B25-C25 -> 0.079784291
A26: =A17 -> Operating expenses | B26: 3031 | C26: 3309 | D26: =(B26-C26)/C26 -> -0.084013297
A27: =A18 -> Net loss | B27: -1775 | C27: -3108 | D27: =(B27-C27)/C27 -> -0.42889318
B29: =B13 -> q4 2019 | C29: q4 2018
A30: Cash, Cash equiv & Rest. cash | B30: 11716 | C30: 16652
A31: Total Assets | B31: 22141 | C31: 24865
A32: Working capital | B32: 5442 | C32: 10079
A33: Total debt | B33: 19195 | C33: 20015
A34: Stockholders Deficit | B34: -8363 | C34: -5672
B36: =B13 -> q4 2019 | C36: =C13 -> q4 2018
A37: Adjusted EBITDA (loss) | B37: -1265 | C37: -3876
B43: Fiscal 2017
B44: Q4 | C44: Q3 | D44: Q2 | E44: Q1 | F44: Total Pd by TRPG
A45: TRPG ITC1 | B45: 0.9 | C45: 3.3 | D45: 1.8 | E45: 4.2 | F45: =SUM(B45:E45) -> 10.2
B47: Fiscal 2018
B48: Q4 | C48: Q3 | D48: Q2 | E48: Q1 | F48: Total Pd by TRPG
A49: TRPG ITC1 | B49: 0 | C49: 0.2 | D49: 0.2 | E49: =11.5-10.2 -> 1.3 | F49: =SUM(B49:E49) -> 1.7
A51: Total to Date | F51: =F45+F49 -> 11.9

Sheet summary q4 18
A1: Summary of Results
B3: Year ended
B4: 2018 | C4: 2017 | D4: % change
A5: Revenue | B5: 33529 | C5: 38322 | D5: =(B5-C5)/C5 -> -0.12507176
A6: Gross profit | B6: 2301 | C6: 2456
A7: Gross profit % | B7: =B6/B5 -> 0.068627159 | C7: =C6/C5 -> 0.064088513 | D7: =B7-C7 -> 0.0045386455
A8: Operating expenses | B8: 18673 | C8: 15310 | D8: =(B8-C8)/C8 -> 0.21966035
A9: Net loss | B9: -17120 | C9: -13420 | D9: =(B9-C9)/C9 -> 0.2757079
A10: Net loss per share | B10: -0.1598939 | C10: -0.20484484
A11: Stock Compensation | B11: 737 | C11: 1217
I12: updated 1/30/2019 lsm
B13: q4 2018 | C13: q4 2017 | D13: % change
A14: =A5 -> Revenue | B14: 9021 | C14: 8482 | D14: =(B14-C14)/C14 -> 0.063546333
A15: =A6 -> Gross profit | B15: 854 | C15: 407
A16: =A7 -> Gross profit % | B16: =B15/B14 -> 0.094667997 | C16: =C15/C14 -> 0.047983966 | D16: =B16-C16 -> 0.046684031
A17: =A8 -> Operating expenses | B17: 4967 | C17: 3393 | D17: =(B17-C17)/C17 -> 0.46389626
A18: Net loss | B18: -4386 | C18: -3133 | D18: =(B18-C18)/C18 -> 0.39993616
A19: Net loss per share | B19: -0.031613773 | C19: -0.042987295
A20: Stock Compensation | B20: 166 | C20: 277
B22: =B13 -> q4 2018 | C22: q3 2018 | D22: % change
A23: =A14 -> Revenue | B23: 9021 | C23: 7203 | D23: =(B23-C23)/C23 -> 0.25239484
A24: =A15 -> Gross profit | B24: 854 | C24: 586
A25: =A16 -> Gross profit % | B25: =B24/B23 -> 0.094667997 | C25: =C24/C23 -> 0.081354991 | D25: =B25-C25 -> 0.013313006
A26: =A17 -> Operating expenses | B26: 4967 | C26: 5040 | D26: =(B26-C26)/C26 -> -0.014484127
A27: =A18 -> Net loss | B27: -4386 | C27: -4644 | D27: =(B27-C27)/C27 -> -0.055555556
B29: =B13 -> q4 2018 | C29: q4 2017
A30: Cash, Cash equiv & Rest. cash | B30: 16652 | C30: 9520
A31: Total Assets | B31: 24865 | C31: 18790
A32: Working capital | B32: 10079 | C32: 7636
A33: Total debt | B33: 20015 | C33: 16790
A34: Stockholders Deficit | B34: -5672 | C34: -5326
B36: =B13 -> q4 2018 | C36: =C13 -> q4 2017
A37: Adjusted EBITDA (loss) | B37: -3902 | C37: -2643
B43: Fiscal 2017
B44: Q4 | C44: Q3 | D44: Q2 | E44: Q1 | F44: Total Pd by TRPG
A45: TRPG ITC1 | B45: 0.9 | C45: 3.3 | D45: 1.8 | E45: 4.2 | F45: =SUM(B45:E45) -> 10.2
B47: Fiscal 2018
B48: Q4 | C48: Q3 | D48: Q2 | E48: Q1 | F48: Total Pd by TRPG
A49: TRPG ITC1 | B49: 0 | C49: 0.2 | D49: 0.2 | E49: =11.5-10.2 -> 1.3 | F49: =SUM(B49:E49) -> 1.7
A51: Total to Date | F51: =F45+F49 -> 11.9

Sheet summary q4 17 
A1: Summary of Results
B3: YTD
B4: 2017 | C4: 2016 | D4: % change
A5: Revenue | B5: =' Income Statement '!H10 -> 147103 | C5: =' Income Statement '!J12 -> 69205 | D5: =(B5-C5)/C5 -> 1.1256123
A6: GP | B6: =' Income Statement '!H14 -> 2884 | C6: =' Income Statement '!J14 -> 2393
A7: GP % | B7: =B6/B5 -> 0.019605311 | C7: =C6/C5 -> 0.034578426 | D7: =B7-C7 -> -0.014973116
A8: Operating Expenses | B8: =' Income Statement '!H19 -> 58112 | C8: =' Income Statement '!J19 -> 64150 | D8: =(B8-C8)/C8 -> -0.094123149
A9: Net loss | B9: =' Income Statement '!H27 -> -53865 | C9: =' Income Statement '!J27 -> -60398 | D9: =(B9-C9)/C9 -> -0.10816583
A10: Loss per share | B10: =' Income Statement '!H30 -> -0.2072496 | C10: =' Income Statement '!J30 -> -0.24741314
B12: q4 2017 | C12: q4 2016 | D12: % change
A13: Revenue | B13: =' Income Statement '!D12 -> 34275 | C13: =' Income Statement '!F12 -> 33433 | D13: =(B13-C13)/C13 -> 0.025184698
A14: GP | B14: =' Income Statement '!D14 -> 254 | C14: =' Income Statement '!F14 -> 1154 | D14: =(B14-C14)/C14 -> -0.77989601
A15: GP % | B15: =B14/B13 -> 0.0074106492 | C15: =C14/C13 -> 0.034516795 | D15: =B15-C15 -> -0.027106146
A16: Operating Expenses | B16: =' Income Statement '!D19 -> 13369 | C16: =' Income Statement '!F19 -> 14903 | D16: =(B16-C16)/C16 -> -0.1029323
A17: Net loss | B17: =' Income Statement '!D27 -> -12714 | C17: =' Income Statement '!F27 -> -13243 | D17: =(B17-C17)/C17 -> -0.039945632
A18: Loss per share | B18: =' Income Statement '!D30 -> -0.047073372 | C18: =' Income Statement '!F30 -> -0.052230947
B20: q4 2017 | C20: q3 2017 | D20: % change
A21: Revenue | B21: =B13 -> 34275 | C21: 9010 | D21: =(B21-C21)/C21 -> 2.8041065
A22: GP | B22: =B14 -> 254 | C22: 725
A23: GP % | B23: =B15 -> 0.0074106492 | C23: =C22/C21 -> 0.080466149 | D23: =B23-C23 -> -0.0730555
A24: Operating Expenses | B24: =B16 -> 13369 | C24: 3688 | D24: =(B24-C24)/C24 -> 2.625
A25: Net loss | B25: =' Income Statement '!D27 -> -12714 | C25: -3098 | D25: =(B25-C25)/C25 -> 3.103938
A26: Loss per share | B26: =B18 -> -0.047073372 | C26: -0.05
B28: 2017 | C28: 2016
A29: Cash and Cash Equiv | B29: ='Press Release BalSht'!E11+'Press Release BalSht'!E12 -> 34607 | C29: ='Press Release BalSht'!H11+'Press Release BalSht'!H12 -> 52845
A30: Working Capital | B30: ='Press Release BalSht'!E17-'Press Release BalSht'!E34 -> -7305 | C30: ='Press Release BalSht'!H17-'Press Release BalSht'!H34 -> 22289
A31: Total debt | B31: ='Press Release BalSht'!E33+'Press Release BalSht'!#REF!+'Press Release BalSht'!E28 -> #REF! | C31: ='Press Release BalSht'!H33+'Press Release BalSht'!#REF!+'Press Release BalSht'!H28 -> #REF!
B33: Q4 | C33: Q3 | D33: Q2 | E33: Q1 | F33: Total Pd by TRPG
A34: TRPG | B34: 0.9 | C34: 3.3 | D34: =6-E34 -> 1.8 | E34: 4.2 | F34: =D34+E34+C34+B34 -> 10.2

Sheet summary q4 16
A1: Summary of Results
B3: 12 months ended
B4: 2017 | C4: 2016 | D4: % change
A5: Revenue | B5: 19655 | C5: 8012 | D5: =(B5-C5)/C5 -> 1.4531952
A6: GP | B6: 7396 | C6: 2097
A7: GP % | B7: =B6/B5 -> 0.37629102 | C7: =C6/C5 -> 0.2617324 | D7: =B7-C7 -> 0.11455862
A8: Net loss | B8: -11231 | C8: -20527 | D8: =(B8-C8)/C8 -> -0.45286696
B11: q4 2016 | C11: q4 2015 | D11: % change
A12: Revenue | B12: 5538 | C12: 2852 | D12: =(B12-C12)/C12 -> 0.94179523
A13: GP | B13: 275 | C13: 1269
A14: GP % | B14: =B13/B12 -> 0.049656916 | C14: =C13/C12 -> 0.44495091 | D14: =B14-C14 -> -0.395294
A15: Net loss | B15: -3923 | C15: -4345 | D15: =(B15-C15)/C15 -> -0.09712313
B17: q4 2016 | C17: q3 2016 | D17: % change
A18: Revenue | B18: =B12 -> 5538 | C18: 2589 | D18: =(B18-C18)/C18 -> 1.1390498
A19: GP | B19: =B13 -> 275 | C19: 9
A20: GP % | B20: =B19/B18 -> 0.049656916 | C20: =C19/C18 -> 0.0034762457 | D20: =B20-C20 -> 0.04618067
A21: Net loss | B21: =B15 -> -3923 | C21: -4401 | D21: =(B21-C21)/C21 -> -0.10861168
