Workbook
Name Locator: Checklist!$LCB$524304

Sheet Instructions
B1: Overview
B2: The Industrial Control Systems Cybersecurity Assesment Tool can be used to identify cybersecurity risks in small- and medium-sized manufacturing facilities as part of the energy efficiency assessment from one of the U.S. Department of Energy Industrial Assessment Centers (IACs). According to the U.S. Department of Homeland Security (DHS), small businesses may not consider themselves targets for cyberattacks due to their small size or the perception that they don't have anything worth stealing. However, small businesses have valuable information cyber criminals seek, such as employee and customer records, bank account information, the business's finances, and access to larger networks. IACs will use this tool to provide manufacturers with cybersecurity awareness information, identify risk areas, and potential solutions. Based on responses selected in this tool, action items are identified. Additional explanations for the questions and risk assessments shown in this tool can be found in the Industrial Control Systems Cybersecurity Assesment Tool User Guide.
B4: Instructions
B5: - On the "Checklist" tab, select from the drop down menu below each question.
B6: - Upon selecting a response, text will appear to the right providing additional detail pertaining to your response.
B7: - If you are unsure of an answer, select "Unsure" and the text to the right will direct you to someone within your plant.
B8: - Within each People, Process, and Technology section, there will be a single risk rating of low, medium, or high.
B9: - At the bottom of the questionnaire there is a risk rating covering all your reponses.
B10: - If you leave a response as "Please select a response", it will not affect the risk assessment for the section or the checklist as a whole. If a question does not apply, do not select a response.
B12: Last Updated: 5/15/25

Sheet Checklist
A1: Industrial Control Systems Cybersecurity Assesment Tool
A2: People
A3: 1 | B3: Are authorized employees trained to ensure that Federal Contract Information (FCI) and non-public information is not posted? | C3: =VLOOKUP(B4,Key!C4:D8,2,FALSE) -> The posting of FCI data on publicly accessible systems should be controlled and in compliance with laws, regulations, and company policies. | D3: =Key!K7 -> High Risk
B4: No
A5: 2 | B5: Does your plant or facility provide basic cybersecurity awareness training to all employees? | C5: =VLOOKUP(B6,Key!C9:D12,2,FALSE) -> Requiring employees to take regular training would help secure the systems within your facility and improve overall cybersecurity.
B6: No
A7: 3 | B7: Are staff assigned and trained to take appropriate measures during a cybersecurity incident? | C7: =VLOOKUP(B8,Key!C14:D17,2,FALSE) -> If a cybersecurity event were to occur, there could be issues with a safe and damage-free shutdown. Additionally, if roles are not properly articulated and no one knows who to contact regarding potential fixes for the system, the shutdown could be prolonged.
B8: No
A9: 4 | B9: Do your industrial control system (ICS) vendors provide remote support? | C9: =VLOOKUP(B10,Key!C19:D22,2,FALSE) -> Remote access for vendors is a risk factor that can lead to unauthorized penetration and access to industrial controls systems. By allowing a third party remote access to industrial systems, you rely on their commitment to cybersecurity and the training of their staff.
B10: Yes, our vendors have the capability to login and check our equipment remotely
A11: 5 | B11: Do you maintain audit logs of physical access to areas housing sensitive information? | C11: =VLOOKUP(B12,Key!C21:D29,2,FALSE) -> In the event of a breach where physical assets have been tampered with it is important to maintain a reliable log of personnel who have accessed the compromised area.
B12: Yes
A13: 6 | B13: What level of on-site physical security does your facility or plant enforce upon vendors? | C13: =VLOOKUP(B14,Key!C29:D32,2,FALSE) -> Vendors may unknowingly bring malware or cause intrusions in systems in which they work. As a result, confining vendors to a single portion of the facility/plant results in a decreased likelihood that they will connect their hardware or software to unauthorized plant systems.
B14: Vendors are allowed restricted physical access and may only work under supervision within a designated area
A15: 7 | B15: Do third party vendors have proper cybersecurity training? | C15: =VLOOKUP(B16,Key!C34:D37,2,FALSE) -> Vendors represent a potential access point for bad actors to enter your systems so it is important that they be trained in cybersecurity best practices.
B16: Unsure
A17: 8 | B17: Are workers allowed to use personal devices on the manufacturing floor? | C17: =VLOOKUP(B18,Key!C37:D45,2,FALSE) -> It is important to make sure workers cover any personal-use cameras and have their devices in airplane mode and using to a secure network.
B18: Yes
A19: 9 | B19: Do vendors utilize their own equipment, hardware or software during site visits? | C19: =VLOOKUP(B20,Key!C44:D47,2,FALSE) -> Allowing vendors to bring hardware and software into your facility/plant may result in increased risk for viruses or malware to enter your systems. As a result, understanding exactly what vendors bring on-site is key to maintaining a secure perimeter around your facility and ICS.
B20: Yes, vendors bring their own equipment, laptops and storage devices, (e.g., USB sticks, SD cards, etc.), which they use to repair our systems
A21: Process
A22: 10a | B22: Do you use authorization lists to limit access to digital systems based on role and/or identity? | C22: =VLOOKUP(B23,Key!C50:D53,2,FALSE) -> You should limit users to only the information systems, roles, or applications they are permitted to use and are needed for their roles and responsibilities. | D22: =Key!K53 -> Medium Risk
B23: No
A24: 10b | B24: Do you use authorization lists to limit access to physical systems based on role and/or identity? | C24: =VLOOKUP(B25,Key!C55:D58,2,FALSE) -> Enforcing physical access limitations helps to avoid accidental mishandling of information and data systems by individuals who have not undergone training.
B25: No
A26: 10c | B26: Do you authenticate (or verify) the identities of those users, processes or devices as a prerequisite to allowing access to organizational information systems? | C26: =VLOOKUP(B27,Key!C60:D63,2,FALSE) -> Before you provide system access to a person or a device, you need to verify that the user or device is who or what it claims to be.
B27: No
A28: 11 | B28: Have you identified critical equipment in your plant or facility that would cause disruption to your operations if they were compromised? | C28: =VLOOKUP(B29,Key!C65:D68,2,FALSE) -> Your critical equipment are the systems that, if inoperable, would shut down your entire plant. Being able to identify these systems will decrease risk of disruption.
B29: Yes
A30: 12 | B30: Does a plan exist to identify and isolate impacted assets, or shut down equipment as necessary in the event of a cybersecurity incident? | C30: =VLOOKUP(B31,Key!C70:D73,2,FALSE) -> This plan should be updated periodically to reflect changing plant conditions and systems.
B31: Yes
A32: 13 | B32: Does your plant or facility have a cybersecurity incident response procedure? | C32: =VLOOKUP(B33,Key!C75:D78,2,FALSE) -> A cybersecurity incident response procedure helps ensure that a team has the appropriate resources and recognizes critical actions necessary to respond to various incidents, including severe weather and cyberattacks, should they occur.
B33: Yes
A34: 14 | B34: Does a central repository containing equipment schematics, IT infrastructure drawings, and system network layouts exist within the facility? | C34: =VLOOKUP(B35,Key!C80:D83,2,FALSE) -> Without a central repository, a plant outage due to a cyberattack or other event could be prolonged because vendors or IT staff may not be able to effectively remove malware from all systems. At its worst, this could lead to repeated attacks and equipment failures.
B35: No
A36: 15 | B36: Is cybersecurity considered when purchasing supplies or equipment, and is it defined in your contractual obligations with vendors? | C36: =VLOOKUP(B37,Key!C85:D88,2,FALSE) -> In order to protect your facility, you should consider adding cybersecurity clauses to all vendor contracts.
B37: No
A38: 16 | B38: Does plant/facility equipment get regularly or automatically scanned for cybersecurity issues (e.g., malware, etc.)? | C38: =VLOOKUP(B39,Key!C90:D94,2,FALSE) -> By performing scans regularly, your plant or facility is ensuring the integrity of all systems and avoiding security risks.
B39: Yes, equipment is regularly, automatically scanned
A40: 17 | B40: Are periodic scans of information systems and real-time scans of files from external sources performed as files are downloaded, opened or executed? | C40: =VLOOKUP(B41,Key!C96:D99,2,FALSE) -> Real-time scans will look at the system whenever new files are downloaded, opened, and saved. Periodic scans check previously saved files against updated malware information.
...

Sheet Action Items
A1: Industrial Control Systems Cybersecurity Assesment: Results and Action Items
A2: People | D2: =Checklist!D3 -> High Risk
A3: 1 | B3: =VLOOKUP(Checklist!B4,Key!C4:E7,3,FALSE) -> Make sure employees understand the contracted terms of authorized use and sharing of information pertaining to a federal entity.
A4: 2 | B4: =VLOOKUP(Checklist!B6,Key!C9:E12,3,FALSE) -> Develop training procedures for employees that inform them about cybersecurity best practices.
A5: 3 | B5: =VLOOKUP(Checklist!B8,Key!C14:E17,3,FALSE) -> Assign and train staff to respond to a cybersecurity event to help avoid downtime and repair costs that represent the largest expenditures.
A6: 4 | B6: =VLOOKUP(Checklist!B10,Key!C19:E22,3,FALSE) -> Work with your vendor to determine how strong their internal security practices are and whether or not their remote access is a risk for your plant. Consider implementing an enhanced login procedure for vendors to be able to access systems remotely.
A7: 5 | B7: =VLOOKUP(Checklist!B12,Key!C24:E27,3,FALSE) -> Install a security scan-in / scan-out system at your facility which gates sensitive areas of your business's IT infrastructure.
A8: 6 | B8: =VLOOKUP(Checklist!B14,Key!C29:E32,3,FALSE)
A9: 7 | B9: =VLOOKUP(Checklist!B16,Key!C34:E37,3,FALSE) -> Speak with your vendors about their cybersecurity training, practices, and certifications. Consider adding a clause requiring cybersecurity training in future contracts with vendors.
A10: 8 | B10: =VLOOKUP(Checklist!B18,Key!C39:E42,3,FALSE) -> Designate safe zones for unfettered use of personal devices to avoid potential manufacturing information from being leaked.
A11: 9 | B11: =VLOOKUP(Checklist!B20,Key!C44:E47,3,FALSE) -> Develop training procedures for vendors who work on-site that inform them about cybersecurity best practices. You could also develop guidelines on what equipment vendors are allowed to bring into your facility/plant to increase on-site security.
A12: Process | D12: =Checklist!D22 -> Medium Risk
A13: 10a | B13: =VLOOKUP(Checklist!B23,Key!C50:E53,3,FALSE) -> Limit access to applications and data based on the authorized users’ roles and responsibilities. Common types of functions a user can be assigned are create, read, update, and delete.
A14: 10b | B14: =VLOOKUP(Checklist!B25,Key!C55:E58,3,FALSE) -> Install a security scan-in / scan-out system at your facility which gates sensitive areas of your business's IT infrastructure.
A15: 10c | B15: =VLOOKUP(Checklist!B27,Key!C60:E63,3,FALSE) -> The most common way to verify identity is by using a username and a hard-to-guess password.
A16: 11 | B16: =VLOOKUP(Checklist!B29,Key!C65:E68,3,FALSE) -> Critical equipment should be protected with firewalls, secure hardware that does not allow for memory transfer with USBs or other external media devices, and alarms that sound when operating under unusual parameters.
A17: 12 | B17: =VLOOKUP(Checklist!B31,Key!C70:E73,3,FALSE)
A18: 13 | B18: =VLOOKUP(Checklist!B33,Key!C75:E78,3,FALSE)
A19: 14 | B19: =VLOOKUP(Checklist!B35,Key!C80:E83,3,FALSE) -> Work with your plant manager to create a central repository, containing information on all IT systems and ICS. Consider maintaining this resource offline, separate from the plant’s IT system (i.e., on an isolated computer, on a mainframe, or in a physical file), to ensure that information remains accessible when the IT system is shutdown during a cyberattack or system outage.
A20: 15 | B20: =VLOOKUP(Checklist!B37,Key!C85:E88,3,FALSE) -> Consider adding a cybersecurity clause after your next vendor renewal or during your next vendor bidding process.
A21: 16 | B21: =VLOOKUP(Checklist!B39,Key!C90:E94,3,FALSE)
A22: 17 | B22: =VLOOKUP(Checklist!B41,Key!C96:E99,3,FALSE) -> The company should use anti-malware software to scan and identify viruses in their computer systems and have a plan for how often scans are conducted.
A23: 18 | B23: =VLOOKUP(Checklist!B43,Key!C101:E105,3,FALSE) -> Consider disalowing external media devices in your plant/facility.
