BEGIN:VCALENDAR
PRODID:-//Microsoft Corporation//Outlook 16.0 MIMEDIR//EN
VERSION:2.0
METHOD:REQUEST
X-MS-OLK-FORCEINSPECTOROPEN:TRUE
BEGIN:VTIMEZONE
TZID:W. Europe Standard Time
BEGIN:STANDARD
DTSTART:16011028T030000
RRULE:FREQ=YEARLY;BYDAY=-1SU;BYMONTH=10
TZOFFSETFROM:+0200
TZOFFSETTO:+0100
END:STANDARD
BEGIN:DAYLIGHT
DTSTART:16010325T020000
RRULE:FREQ=YEARLY;BYDAY=-1SU;BYMONTH=3
TZOFFSETFROM:+0100
TZOFFSETTO:+0200
END:DAYLIGHT
END:VTIMEZONE
BEGIN:VEVENT
ATTENDEE;CN="Blitz, Sandra";ROLE=OPT-PARTICIPANT;RSVP=TRUE:mailto:Sandra.Bl
	itz@controlware.de
CLASS:PUBLIC
CREATED:20220214T141325Z
DESCRIPTION:Controlware Roadshow "Modern IT – Inspiration Tour 2022"\n\nM
	it unsere Partner Cisco\, F5 Networks\, HashiCorp\, Palo Alto Networks\, A
	ryaka\, Nutanix und Check Point.\n\nDie IT-Abteilungen sind in diesem Jahr
	 erneut stark gefordert: Nicht nur agile IT-Infrastrukturen müssen konzip
	iert und realisiert werden. Gleichzeitig ist es notwendig\, moderne Applik
	ationen und Cloud-Technologien zu entwickeln und bereitzustellen. Aufgrund
	 des Fachkräftemangels ist es zudem immer häufiger erforderlich\, die ei
	genen Mitarbeiter punktuell durch Managed Services zu entlasten\, ohne die
	 Verfügbarkeit der IT-Prozesse und die Sicherheit der Firmendaten zu bein
	trächtigen.\nIm Rahmen unserer „Modern IT – Inspiration Tour 2022“ 
	erhalten Sie einen Überblick über die aktuellen Trends und Entwicklungen
	 sowie über unsere Erfahrungen – immer mit Blick auf die Praxis.\n\nDie
	 Highlights im Überblick:\n\n\n•                  SASE-Architektur – 
	einheitliche\, durchgängige und performante Plattform zur Anbindung von R
	emote-Usern\, weltweiten Niederlassungen\, SaaS-Services\, Cloud-Applikati
	onen und Internet-Inhalten\n\n•                  Hybrid-IT-Konzepte –S
	chulterschluss von Cloud- und Data Center-Ressourcen für eine zeitgemäß
	e Gesamtlösung mit hohem Mehrwert und Kostenersparnis\n\n•             
	     Compliance & Sicherheit & User Experience – moderne Tools bieten ze
	ntrale Überwachung bzw. Analyse und ermöglichen frühzeitige Gegenmaßna
	hmen\n\n•                  Cloud-Trends & Automatisierung – Notwendigk
	eit für hochgradige Automatisierung dargestellt anhand verschiedener Prax
	is-Beispiele\n\n•                  Aktuelle Themen rund um Managed Servi
	ces – Schutz vor Cyber-Gefahren und Managed Cloud Services am Beispiel k
	onkreter Anwendungsfälle\n\nhttps://www.controlware.de/termine.html\n\n
DTEND;TZID="W. Europe Standard Time":20220602T160000
DTSTAMP:20220214T141314Z
DTSTART;TZID="W. Europe Standard Time":20220602T090000
LAST-MODIFIED:20220214T141325Z
LOCATION:Radisson BLU\, Karl-Liebknecht-Str. 3\, 10178 Berlin\, https://www
	.radissonhotels.com/en-us/hotels/radisson-collection-berlin?cid=a:se+b:gmb
	+c:emea+i:local+e:rco+d:cese+h:DEBER1
ORGANIZER;CN=Veranstaltungen:mailto:Veranstaltungen@controlware.de
PRIORITY:5
SEQUENCE:1
SUMMARY;LANGUAGE=de:Controlware Roadshow "Modern IT – Inspiration Tour 20
	22" Berlin
TRANSP:OPAQUE
UID:040000008200E00074C5B7101A82E0080000000090880E9D5B1FD801000000000000000
	01000000092824433C1252141A31E765AA92FE2CA
X-ALT-DESC;FMTTYPE=text/html:<html xmlns:v="urn:schemas-microsoft-com:vml" 
	xmlns:o="urn:schemas-microsoft-com:office:office" xmlns:w="urn:schemas-mic
	rosoft-com:office:word" xmlns:m="http://schemas.microsoft.com/office/2004/
	12/omml" xmlns="http://www.w3.org/TR/REC-html40"><head><meta http-equiv=Co
	ntent-Type content="text/html\; charset=windows-1252"><meta name=Generator
	 content="Microsoft Word 15 (filtered medium)"><style><!--\n/* Font Defini
	tions */\n@font-face\n	{font-family:Wingdings\;\n	panose-1:5 0 0 0 0 0 0 0
	 0 0\;}\n@font-face\n	{font-family:"Cambria Math"\;\n	panose-1:2 4 5 3 5 4
	 6 3 2 4\;}\n@font-face\n	{font-family:Calibri\;\n	panose-1:2 15 5 2 2 2 4
	 3 2 4\;}\n/* Style Definitions */\np.MsoNormal\, li.MsoNormal\, div.MsoNo
	rmal\n	{margin:0cm\;\n	margin-bottom:.0001pt\;\n	font-size:11.0pt\;\n	font
	-family:"Calibri"\,sans-serif\;\n	mso-fareast-language:EN-US\;}\na:link\, 
	span.MsoHyperlink\n	{mso-style-priority:99\;\n	color:#0563C1\;\n	text-deco
	ration:underline\;}\na:visited\, span.MsoHyperlinkFollowed\n	{mso-style-pr
	iority:99\;\n	color:#954F72\;\n	text-decoration:underline\;}\np.MsoListPar
	agraph\, li.MsoListParagraph\, div.MsoListParagraph\n	{mso-style-priority:
	34\;\n	margin-top:0cm\;\n	margin-right:0cm\;\n	margin-bottom:0cm\;\n	margi
	n-left:36.0pt\;\n	margin-bottom:.0001pt\;\n	font-size:11.0pt\;\n	font-fami
	ly:"Calibri"\,sans-serif\;\n	mso-fareast-language:EN-US\;}\np.msonormal0\,
	 li.msonormal0\, div.msonormal0\n	{mso-style-name:msonormal\;\n	mso-margin
	-top-alt:auto\;\n	margin-right:0cm\;\n	mso-margin-bottom-alt:auto\;\n	marg
	in-left:0cm\;\n	font-size:12.0pt\;\n	font-family:"Times New Roman"\,serif\
	;}\nspan.E-MailFormatvorlage19\n	{mso-style-type:personal-compose\;\n	font
	-family:"Arial"\,sans-serif\;\n	color:black\;\n	font-weight:normal\;\n	fon
	t-style:normal\;\n	text-decoration:none none\;}\n.MsoChpDefault\n	{mso-sty
	le-type:export-only\;\n	font-size:10.0pt\;}\n@page WordSection1\n	{size:61
	2.0pt 792.0pt\;\n	margin:70.85pt 70.85pt 2.0cm 70.85pt\;}\ndiv.WordSection
	1\n	{page:WordSection1\;}\n/* List Definitions */\n@list l0\n	{mso-list-id
	:1645086612\;\n	mso-list-type:hybrid\;\n	mso-list-template-ids:-148584946 
	-345238626 67567619 67567621 67567617 67567619 67567621 67567617 67567619 
	67567621\;}\n@list l0:level1\n	{mso-level-start-at:0\;\n	mso-level-number-
	format:bullet\;\n	mso-level-text:•\;\n	mso-level-tab-stop:none\;\n	mso-l
	evel-number-position:left\;\n	margin-left:53.4pt\;\n	text-indent:-35.4pt\;
	\n	font-family:"Arial"\,sans-serif\;\n	mso-fareast-font-family:Calibri\;}\
	n@list l0:level2\n	{mso-level-number-format:bullet\;\n	mso-level-text:o\;\
	n	mso-level-tab-stop:none\;\n	mso-level-number-position:left\;\n	text-inde
	nt:-18.0pt\;\n	font-family:"Courier New"\;}\n@list l0:level3\n	{mso-level-
	number-format:bullet\;\n	mso-level-text:\\F0A7\;\n	mso-level-tab-stop:none
	\;\n	mso-level-number-position:left\;\n	text-indent:-18.0pt\;\n	font-famil
	y:Wingdings\;}\n@list l0:level4\n	{mso-level-number-format:bullet\;\n	mso-
	level-text:\\F0B7\;\n	mso-level-tab-stop:none\;\n	mso-level-number-positio
	n:left\;\n	text-indent:-18.0pt\;\n	font-family:Symbol\;}\n@list l0:level5\
	n	{mso-level-number-format:bullet\;\n	mso-level-text:o\;\n	mso-level-tab-s
	top:none\;\n	mso-level-number-position:left\;\n	text-indent:-18.0pt\;\n	fo
	nt-family:"Courier New"\;}\n@list l0:level6\n	{mso-level-number-format:bul
	let\;\n	mso-level-text:\\F0A7\;\n	mso-level-tab-stop:none\;\n	mso-level-nu
	mber-position:left\;\n	text-indent:-18.0pt\;\n	font-family:Wingdings\;}\n@
	list l0:level7\n	{mso-level-number-format:bullet\;\n	mso-level-text:\\F0B7
	\;\n	mso-level-tab-stop:none\;\n	mso-level-number-position:left\;\n	text-i
	ndent:-18.0pt\;\n	font-family:Symbol\;}\n@list l0:level8\n	{mso-level-numb
	er-format:bullet\;\n	mso-level-text:o\;\n	mso-level-tab-stop:none\;\n	mso-
	level-number-position:left\;\n	text-indent:-18.0pt\;\n	font-family:"Courie
	r New"\;}\n@list l0:level9\n	{mso-level-number-format:bullet\;\n	mso-level
	-text:\\F0A7\;\n	mso-level-tab-stop:none\;\n	mso-level-number-position:lef
	t\;\n	text-indent:-18.0pt\;\n	font-family:Wingdings\;}\nol\n	{margin-botto
	m:0cm\;}\nul\n	{margin-bottom:0cm\;}\n--></style><!--[if gte mso 9]><xml>\
	n<o:shapedefaults v:ext="edit" spidmax="1026" />\n</xml><![endif]--><!--[i
	f gte mso 9]><xml>\n<o:shapelayout v:ext="edit">\n<o:idmap v:ext="edit" da
	ta="1" />\n</o:shapelayout></xml><![endif]--></head><body lang=DE link="#0
	563C1" vlink="#954F72"><div class=WordSection1><p class=MsoNormal><b><span
	 style='font-size:10.0pt\;font-family:"Arial"\,sans-serif\;color:black'>Co
	ntrolware Roadshow &quot\;Modern IT – Inspiration Tour 2022&quot\;<o:p><
	/o:p></span></b></p><p class=MsoNormal><span style='font-size:10.0pt\;font
	-family:"Arial"\,sans-serif\;color:black'><o:p>&nbsp\;</o:p></span></p><p 
	class=MsoNormal><span style='font-size:10.0pt\;font-family:"Arial"\,sans-s
	erif\;color:black'>Mit unsere Partner Cisco\, F5 Networks\, HashiCorp\, Pa
	lo Alto Networks\, Aryaka\, Nutanix und Check Point.<o:p></o:p></span></p>
	<p class=MsoNormal><span style='font-size:10.0pt\;font-family:"Arial"\,san
	s-serif\;color:black'><o:p>&nbsp\;</o:p></span></p><p class=MsoNormal><spa
	n style='font-size:10.0pt\;font-family:"Arial"\,sans-serif\;color:black'>D
	ie IT-Abteilungen sind in diesem Jahr erneut stark gefordert: Nicht nur ag
	ile IT-Infrastrukturen müssen konzipiert und realisiert werden. Gleichzei
	tig ist es notwendig\, moderne Applikationen und Cloud-Technologien zu ent
	wickeln und bereitzustellen. Aufgrund des Fachkräftemangels ist es zudem 
	immer häufiger erforderlich\, die eigenen Mitarbeiter punktuell durch Man
	aged Services zu entlasten\, ohne die Verfügbarkeit der IT-Prozesse und d
	ie Sicherheit der Firmendaten zu beinträchtigen.<o:p></o:p></span></p><p 
	class=MsoNormal><span style='font-size:10.0pt\;font-family:"Arial"\,sans-s
	erif\;color:black'>Im Rahmen unserer „Modern IT – Inspiration Tour 202
	2“ erhalten Sie einen Überblick über die aktuellen Trends und Entwickl
	ungen sowie über unsere Erfahrungen – immer mit Blick auf die Praxis. <
	o:p></o:p></span></p><p class=MsoNormal><span style='font-size:10.0pt\;fon
	t-family:"Arial"\,sans-serif\;color:black'><o:p>&nbsp\;</o:p></span></p><p
	 class=MsoNormal><span style='font-size:10.0pt\;font-family:"Arial"\,sans-
	serif\;color:black'>Die Highlights im Überblick:<o:p></o:p></span></p><p 
	class=MsoNormal><span style='font-size:10.0pt\;font-family:"Arial"\,sans-s
	erif\;color:black'><o:p>&nbsp\;</o:p></span></p><p class=MsoListParagraph 
	style='margin-left:53.4pt\;text-indent:-35.4pt\;mso-list:l0 level1 lfo2'><
	![if !supportLists]><span style='font-size:10.0pt\;font-family:"Arial"\,sa
	ns-serif\;color:black'><span style='mso-list:Ignore'>•<span style='font:
	7.0pt "Times New Roman"'>&nbsp\;&nbsp\;&nbsp\;&nbsp\;&nbsp\;&nbsp\;&nbsp\;
	&nbsp\;&nbsp\;&nbsp\;&nbsp\;&nbsp\;&nbsp\;&nbsp\;&nbsp\;&nbsp\;&nbsp\; </s
	pan></span></span><![endif]><span style='font-size:10.0pt\;font-family:"Ar
	ial"\,sans-serif\;color:black'>SASE-Architektur – einheitliche\, durchg
	ängige und performante Plattform zur Anbindung von Remote-Usern\, weltwei
	ten Niederlassungen\, SaaS-Services\, Cloud-Applikationen und Internet-Inh
	alten<o:p></o:p></span></p><p class=MsoListParagraph style='margin-left:53
	.4pt\;text-indent:-35.4pt\;mso-list:l0 level1 lfo2'><![if !supportLists]><
	span style='font-size:10.0pt\;font-family:"Arial"\,sans-serif\;color:black
	'><span style='mso-list:Ignore'>•<span style='font:7.0pt "Times New Roma
	n"'>&nbsp\;&nbsp\;&nbsp\;&nbsp\;&nbsp\;&nbsp\;&nbsp\;&nbsp\;&nbsp\;&nbsp\;
	&nbsp\;&nbsp\;&nbsp\;&nbsp\;&nbsp\;&nbsp\;&nbsp\; </span></span></span><![
	endif]><span style='font-size:10.0pt\;font-family:"Arial"\,sans-serif\;col
	or:black'>Hybrid-IT-Konzepte –Schulterschluss von Cloud- und Data Center
	-Ressourcen für eine zeitgemäße Gesamtlösung mit hohem Mehrwert und Ko
	stenersparnis<o:p></o:p></span></p><p class=MsoListParagraph style='margin
	-left:53.4pt\;text-indent:-35.4pt\;mso-list:l0 level1 lfo2'><![if !support
	Lists]><span style='font-size:10.0pt\;font-family:"Arial"\,sans-serif\;col
	or:black'><span style='mso-list:Ignore'>•<span style='font:7.0pt "Times 
	New Roman"'>&nbsp\;&nbsp\;&nbsp\;&nbsp\;&nbsp\;&nbsp\;&nbsp\;&nbsp\;&nbsp\
	;&nbsp\;&nbsp\;&nbsp\;&nbsp\;&nbsp\;&nbsp\;&nbsp\;&nbsp\; </span></span></
	span><![endif]><span style='font-size:10.0pt\;font-family:"Arial"\,sans-se
	rif\;color:black'>Compliance &amp\; Sicherheit &amp\; User Experience – 
	moderne Tools bieten zentrale Überwachung bzw. Analyse und ermöglichen f
	rühzeitige Gegenmaßnahmen<o:p></o:p></span></p><p class=MsoListParagraph
	 style='margin-left:53.4pt\;text-indent:-35.4pt\;mso-list:l0 level1 lfo2'>
	<![if !supportLists]><span style='font-size:10.0pt\;font-family:"Arial"\,s
	ans-serif\;color:black'><span style='mso-list:Ignore'>•<span style='font
	:7.0pt "Times New Roman"'>&nbsp\;&nbsp\;&nbsp\;&nbsp\;&nbsp\;&nbsp\;&nbsp\
	;&nbsp\;&nbsp\;&nbsp\;&nbsp\;&nbsp\;&nbsp\;&nbsp\;&nbsp\;&nbsp\;&nbsp\; </
	span></span></span><![endif]><span style='font-size:10.0pt\;font-family:"A
	rial"\,sans-serif\;color:black'>Cloud-Trends &amp\; Automatisierung – No
	twendigkeit für hochgradige Automatisierung dargestellt anhand verschiede
	ner Praxis-Beispiele<o:p></o:p></span></p><p class=MsoListParagraph style=
	'margin-left:53.4pt\;text-indent:-35.4pt\;mso-list:l0 level1 lfo2'><![if !
	supportLists]><span style='font-size:10.0pt\;font-family:"Arial"\,sans-ser
	if\;color:black'><span style='mso-list:Ignore'>•<span style='font:7.0pt 
	"Times New Roman"'>&nbsp\;&nbsp\;&nbsp\;&nbsp\;&nbsp\;&nbsp\;&nbsp\;&nbsp\
	;&nbsp\;&nbsp\;&nbsp\;&nbsp\;&nbsp\;&nbsp\;&nbsp\;&nbsp\;&nbsp\; </span></
	span></span><![endif]><span style='font-size:10.0pt\;font-family:"Arial"\,
	sans-serif\;color:black'>Aktuelle Themen rund um Managed Services – Schu
	tz vor Cyber-Gefahren und Managed Cloud Services am Beispiel konkreter Anw
	endungsfälle<o:p></o:p></span></p><p class=MsoNormal><span style='font-si
	ze:10.0pt\;font-family:"Arial"\,sans-serif\;color:black'><o:p>&nbsp\;</o:p
	></span></p><p class=MsoNormal><span style='font-size:10.0pt\;font-family:
	"Arial"\,sans-serif\;color:black'><a href="https://www.controlware.de/term
	ine.html">https://www.controlware.de/termine.html</a> <o:p></o:p></span></
	p><p class=MsoNormal><span style='font-size:10.0pt\;font-family:"Arial"\,s
	ans-serif\;color:black'><o:p>&nbsp\;</o:p></span></p></div></body></html>
X-MICROSOFT-CDO-BUSYSTATUS:BUSY
X-MICROSOFT-CDO-IMPORTANCE:1
X-MICROSOFT-DISALLOW-COUNTER:FALSE
X-MS-OLK-APPTLASTSEQUENCE:1
X-MS-OLK-APPTSEQTIME:20220214T141314Z
X-MS-OLK-AUTOFILLLOCATION:FALSE
X-MS-OLK-CONFTYPE:0
X-MS-OLK-SENDER;CN="Rudat, Pascale":mailto:Pascale.Rudat@controlware.de
BEGIN:VALARM
TRIGGER:-PT15M
ACTION:DISPLAY
DESCRIPTION:Reminder
END:VALARM
END:VEVENT
END:VCALENDAR
