{"text_format":"1","workbook":"xlsx","n_sheets":55,"sheets":["Instruktion","Vecka 1","Vecka 2","Vecka 3","Vecka 4","Vecka 5","Vecka 6","Vecka 7","Vecka 8","Vecka 9","Vecka 10","Vecka 11","Vecka 12","Vecka 13","Vecka 14","Vecka 15","Vecka 16","Vecka 17","Vecka 18","Vecka 19","Vecka 20","Vecka 21","Vecka 22","Vecka 23","Vecka 24","Vecka 25","Vecka 26","Vecka 27","Vecka 28","Vecka 29","Vecka 30","Vecka 31","Vecka 32","Vecka 33","Vecka 34","Vecka 35","Vecka 36","Vecka 37","Vecka 38","Vecka 39","Vecka 40","Vecka 41","Vecka 42","Vecka 43","Vecka 44","Vecka 45","Vecka 46","Vecka 47","Vecka 48","Vecka 49","Vecka 50","Vecka 51","Vecka 52","Vecka 53","Cognos_Office_Connection_Cache"],"not_rendered":{"charts":0,"images":3,"macros":1,"external_links":0,"defined_names":54,"comments":0,"pivot_tables":53},"unopened":[],"bounds":{"document_bytes":16777216,"sheet_cells":100000,"rows_first":2000,"rows_last":500,"rows_between":2000,"halvings":0,"cell_chars":16384,"cell_head_chars":4096},"cells_cut":0,"cells_raw":0,"read":"whole","date_system":"1900"}

{"sheet":"Instruktion","index":0,"n_rows":27,"n_cols":4,"rows_kept":27,"cut":false,"hidden":false,"merged":[[5,3,5,9],[20,3,20,9]]}
[]
[null,"1. Fyll i starttid när du började arbetsdagen"]
[null,"2. Fyll i slut-tid, vilket bolag du jobbat med och vad du gjort"]
[null,"3. Starttid = sluttid, men kan manuellt justeras vid behov"]
[null,"4. Om fler rader behövs så tryck på den dag du vill lägga till en rad för"]
[null,"5. Tryck på knapp \"Uppdatera Pivot Tabell\". Du får nu totalsumman per dag och per kund/bolag",null,"https://www.youtube.com/channel/UCQR-6DA2UYHgg9hwZ5jPpJA"]
[]
[]
[]
[null,"Att känna till:"]
[null,"Pivottabellen avser rad 2:150"]
[null,"Det finns inget makro att \"nolla\" mallen, ta en kopia efter nedladdning om du vill ha till nästa år"]
[null,"Vid nytt år uppdatera bara cell A2 i flik \"Vecka 1\" till måndagens datum för vecka ett på det året"]
[]
[]
[]
[]
[]
[]
[]
[null,null,null,"https://www.excelmedrickard.com/"]
[]
[]
[]
[]
[null,"Jag har försökt bygga filen så snabb som möjligt, men finns såklart risk att den blir långsammare allt efter som mer data läggs in"]
[null,"Tips är att ta bort de flikar ni redan använt (kopiera filen innan så ni inte tappar något)"]

{"sheet":"Vecka 1","index":1,"n_rows":39,"n_cols":22,"rows_kept":39,"cut":false,"hidden":false,"merged":[[5,21,5,27],[19,21,19,27]]}
["Datum","Dag","Start","Slut","Bolag","Specifikation","Datum + dag","Tid",{"$f":"SUM(H2:H40)","v":0},{"$f":"SUM($K$4:$R$10)","v":0}]
["2021-01-04","Måndag","08:00:00",null,null,null,{"$f":"IF(D2<>\"\",B2&CHAR(10)&TEXT(A2,\"ÅÅÅÅ-MM-DD\"),\"\")","v":""},{"$f":"IF(D2<>\"\",IFERROR((D2-C2)*24,\"\"),\"\")","v":""},null,"Summa av Tid","Datum"]
[{"$f":"A2","v":"2021-01-04"},"Måndag",{"$f":"IF(D2<>\"\",D2,\"\")","v":""},null,null,null,{"$f":"IF(D3<>\"\",B3&CHAR(10)&TEXT(A3,\"ÅÅÅÅ-MM-DD\"),\"\")","v":""},{"$f":"IF(D3<>\"\",IFERROR((D3-C3)*24,\"\"),\"\")","v":""},null,"Bolag",null,"(tom)","Totalsumma"]
[{"$f":"A3","v":"2021-01-04"},"Måndag","",null,null,null,"","",null,"(tom)",0,null,0]
["2021-01-04","Måndag","",null,null,null,"","",null,"Totalsumma",0,null,0]
["2021-01-04","Måndag",{"$f":"IF(D5<>\"\",D5,\"\")","v":""},null,null,null,"","",null,null,null,null,null,null,null,null,null,null,null,null,null,"https://www.youtube.com/channel/UCQR-6DA2UYHgg9hwZ5jPpJA"]
["2021-01-04","Måndag",{"$f":"IF(D6<>\"\",D6,\"\")","v":""},null,null,null,{"$f":"IF(D7<>\"\",B7&CHAR(10)&TEXT(A7,\"ÅÅÅÅ-MM-DD\"),\"\")","v":""},{"$f":"IF(D7<>\"\",IFERROR((D7-C7)*24,\"\"),\"\")","v":""}]
["2021-01-04","Måndag",{"$f":"IF(D7<>\"\",D7,\"\")","v":""},null,null,null,{"$f":"IF(D8<>\"\",B8&CHAR(10)&TEXT(A8,\"ÅÅÅÅ-MM-DD\"),\"\")","v":""},{"$f":"IF(D8<>\"\",IFERROR((D8-C8)*24,\"\"),\"\")","v":""}]
[{"$f":"A2+1","v":"2021-01-05"},"Tisdag","08:00:00",null,null,null,"",""]
["2021-01-05","Tisdag",{"$f":"IF(D9<>\"\",D9,\"\")","v":""},null,null,null,"",""]
["2021-01-05","Tisdag","",null,null,null,"",""]
["2021-01-05","Tisdag","",null,null,null,"",""]
["2021-01-05","Tisdag",{"$f":"IF(D12<>\"\",D12,\"\")","v":""},null,null,null,"",""]
["2021-01-05","Tisdag",{"$f":"IF(D13<>\"\",D13,\"\")","v":""},null,null,null,{"$f":"IF(D14<>\"\",B14&CHAR(10)&TEXT(A14,\"ÅÅÅÅ-MM-DD\"),\"\")","v":""},{"$f":"IF(D14<>\"\",IFERROR((D14-C14)*24,\"\"),\"\")","v":""}]
[{"$f":"A9+1","v":"2021-01-06"},"Onsdag","08:00:00",null,null,null,"",""]
[{"$f":"A10+1","v":"2021-01-06"},"Onsdag",{"$f":"IF(D15<>\"\",D15,\"\")","v":""},null,null,null,"",""]
[{"$f":"A11+1","v":"2021-01-06"},"Onsdag",{"$f":"IF(D16<>\"\",D16,\"\")","v":""},null,null,null,"",""]
[{"$f":"A12+1","v":"2021-01-06"},"Onsdag","",null,null,null,"",""]
[{"$f":"A13+1","v":"2021-01-06"},"Onsdag","",null,null,null,"",""]
[{"$f":"A15+1","v":"2021-01-07"},"Torsdag","08:00:00",null,null,null,"","",null,null,null,null,null,null,null,null,null,null,null,null,null,"https://www.excelmedrickard.com/"]
["2021-01-07","Torsdag",{"$f":"IF(D20<>\"\",D20,\"\")","v":""},null,null,null,"",""]
["2021-01-07","Torsdag","",null,null,null,"",""]
["2021-01-07","Torsdag","",null,null,null,"",""]
["2021-01-07","Torsdag","",null,null,null,"",""]
["2021-01-08","Fredag","08:00:00",null,null,null,"",""]
["2021-01-08","Fredag",{"$f":"IF(D25<>\"\",D25,\"\")","v":""},null,null,null,"",""]
["2021-01-08","Fredag",{"$f":"IF(D26<>\"\",D26,\"\")","v":""},null,null,null,"",""]
["2021-01-08","Fredag","",null,null,null,"",""]
["2021-01-08","Fredag","",null,null,null,"",""]
["2021-01-09","Lördag","08:00:00",null,null,null,"",""]
["2021-01-09","Lördag",{"$f":"IF(D30<>\"\",D30,\"\")","v":""},null,null,null,"",""]
["2021-01-09","Lördag","",null,null,null,"",""]
["2021-01-09","Lördag","",null,null,null,"",""]
["2021-01-09","Lördag","",null,null,null,"",""]
["2021-01-10","Söndag","08:00:00",null,null,null,"",""]
["2021-01-10","Söndag",{"$f":"IF(D35<>\"\",D35,\"\")","v":""},null,null,null,"",""]
["2021-01-10","Söndag",{"$f":"IF(D36<>\"\",D36,\"\")","v":""},null,null,null,"",""]
["2021-01-10","Söndag","",null,null,null,"",""]
["2021-01-10","Söndag","",null,null,null,"",""]

{"sheet":"Vecka 2","index":2,"n_rows":36,"n_cols":22,"rows_kept":36,"cut":false,"hidden":false,"merged":[[5,21,5,27],[22,21,22,27]]}
["Datum","Dag","Start","Slut","Bolag","Specifikation","Datum + dag","Tid",{"$f":"SUM(H2:H37)","v":0},{"$f":"SUM($K$4:$R$11)","v":0}]
[{"$f":"'Vecka 1'!A2+7","v":"2021-01-11"},"Måndag","08:00:00",null,null,null,{"$f":"IF(D2<>\"\",B2&CHAR(10)&TEXT(A2,\"ÅÅÅÅ-MM-DD\"),\"\")","v":""},{"$f":"IF(D2<>\"\",IFERROR((D2-C2)*24,\"\"),\"\")","v":""},null,"Summa av Tid","Datum"]
[{"$f":"A2","v":"2021-01-11"},"Måndag",{"$f":"IF(D2<>\"\",D2,\"\")","v":""},null,null,null,{"$f":"IF(D3<>\"\",B3&CHAR(10)&TEXT(A3,\"ÅÅÅÅ-MM-DD\"),\"\")","v":""},{"$f":"IF(D3<>\"\",IFERROR((D3-C3)*24,\"\"),\"\")","v":""},null,"Bolag",null,"(tom)","Totalsumma"]
[{"$f":"A3","v":"2021-01-11"},"Måndag",{"$f":"IF(D3<>\"\",D3,\"\")","v":""},null,null,null,"","",null,"(tom)",0,null,0]
["2021-01-11","Måndag","",null,null,null,"","",null,"Totalsumma",0,null,0]
["2021-01-11","Måndag",{"$f":"IF(D5<>\"\",D5,\"\")","v":""},null,null,null,"","",null,null,null,null,null,null,null,null,null,null,null,null,null,"https://www.youtube.com/channel/UCQR-6DA2UYHgg9hwZ5jPpJA"]
[{"$f":"A2+1","v":"2021-01-12"},"Tisdag","08:00:00",null,null,null,"",""]
["2021-01-12","Tisdag",{"$f":"IF(D7<>\"\",D7,\"\")","v":""},null,null,null,"",""]
["2021-01-12","Tisdag",{"$f":"IF(D8<>\"\",D8,\"\")","v":""},null,null,null,"",""]
["2021-01-12","Tisdag","",null,null,null,"",""]
["2021-01-12","Tisdag",{"$f":"IF(D10<>\"\",D10,\"\")","v":""},null,null,null,"",""]
["2021-01-13","Onsdag","08:00:00",null,null,null,"",""]
["2021-01-13","Onsdag",{"$f":"IF(D12<>\"\",D12,\"\")","v":""},null,null,null,"",""]
["2021-01-13","Onsdag",{"$f":"IF(D13<>\"\",D13,\"\")","v":""},null,null,null,"",""]
["2021-01-13","Onsdag","",null,null,null,"",""]
["2021-01-13","Onsdag","",null,null,null,"",""]
[{"$f":"A12+1","v":"2021-01-14"},"Torsdag","08:00:00",null,null,null,"",""]
["2021-01-14","Torsdag",{"$f":"IF(D17<>\"\",D17,\"\")","v":""},null,null,null,"",""]
["2021-01-14","Torsdag","",null,null,null,"",""]
["2021-01-14","Torsdag","",null,null,null,"",""]
["2021-01-14","Torsdag","",null,null,null,"",""]
["2021-01-15","Fredag","08:00:00",null,null,null,"",""]
["2021-01-15","Fredag",{"$f":"IF(D22<>\"\",D22,\"\")","v":""},null,null,null,"","",null,null,null,null,null,null,null,null,null,null,null,null,null,"https://www.excelmedrickard.com/"]
["2021-01-15","Fredag",{"$f":"IF(D23<>\"\",D23,\"\")","v":""},null,null,null,"",""]
["2021-01-15","Fredag","",null,null,null,"",""]
["2021-01-15","Fredag","",null,null,null,"",""]
[{"$f":"A22+1","v":"2021-01-16"},"Lördag","08:00:00",null,null,null,"",""]
[{"$f":"A23+1","v":"2021-01-16"},"Lördag",{"$f":"IF(D27<>\"\",D27,\"\")","v":""},null,null,null,"",""]
["2021-01-16","Lördag","",null,null,null,"",""]
["2021-01-16","Lördag","",null,null,null,"",""]
["2021-01-16","Lördag","",null,null,null,"",""]
[{"$f":"A27+1","v":"2021-01-17"},"Söndag","08:00:00",null,null,null,"",""]
[{"$f":"A28+1","v":"2021-01-17"},"Söndag",{"$f":"IF(D32<>\"\",D32,\"\")","v":""},null,null,null,"",""]
["2021-01-17","Söndag",{"$f":"IF(D33<>\"\",D33,\"\")","v":""},null,null,null,"",""]
["2021-01-17","Söndag","",null,null,null,"",""]
["2021-01-17","Söndag","",null,null,null,"",""]

{"sheet":"Vecka 3","index":3,"n_rows":36,"n_cols":22,"rows_kept":36,"cut":false,"hidden":false,"merged":[[5,21,5,27],[22,21,22,27]]}
["Datum","Dag","Start","Slut","Bolag","Specifikation","Datum + dag","Tid",{"$f":"SUM(H2:H37)","v":0},{"$f":"SUM($K$4:$R$11)","v":0}]
[{"$f":"'Vecka 2'!A2+7","v":"2021-01-18"},"Måndag","08:00:00",null,null,null,{"$f":"IF(D2<>\"\",B2&CHAR(10)&TEXT(A2,\"ÅÅÅÅ-MM-DD\"),\"\")","v":""},{"$f":"IF(D2<>\"\",IFERROR((D2-C2)*24,\"\"),\"\")","v":""},null,"Summa av Tid","Datum"]
[{"$f":"A2","v":"2021-01-18"},"Måndag",{"$f":"IF(D2<>\"\",D2,\"\")","v":""},null,null,null,{"$f":"IF(D3<>\"\",B3&CHAR(10)&TEXT(A3,\"ÅÅÅÅ-MM-DD\"),\"\")","v":""},{"$f":"IF(D3<>\"\",IFERROR((D3-C3)*24,\"\"),\"\")","v":""},null,"Bolag",null,"(tom)","Totalsumma"]
[{"$f":"A3","v":"2021-01-18"},"Måndag",{"$f":"IF(D3<>\"\",D3,\"\")","v":""},null,null,null,"","",null,"(tom)",0,null,0]
["2021-01-18","Måndag","",null,null,null,"","",null,"Totalsumma",0,null,0]
["2021-01-18","Måndag",{"$f":"IF(D5<>\"\",D5,\"\")","v":""},null,null,null,"","",null,null,null,null,null,null,null,null,null,null,null,null,null,"https://www.youtube.com/channel/UCQR-6DA2UYHgg9hwZ5jPpJA"]
[{"$f":"A2+1","v":"2021-01-19"},"Tisdag","08:00:00",null,null,null,"",""]
["2021-01-19","Tisdag",{"$f":"IF(D7<>\"\",D7,\"\")","v":""},null,null,null,"",""]
["2021-01-19","Tisdag",{"$f":"IF(D8<>\"\",D8,\"\")","v":""},null,null,null,"",""]
["2021-01-19","Tisdag","",null,null,null,"",""]
["2021-01-19","Tisdag",{"$f":"IF(D10<>\"\",D10,\"\")","v":""},null,null,null,"",""]
["2021-01-20","Onsdag","08:00:00",null,null,null,"",""]
["2021-01-20","Onsdag",{"$f":"IF(D12<>\"\",D12,\"\")","v":""},null,null,null,"",""]
["2021-01-20","Onsdag",{"$f":"IF(D13<>\"\",D13,\"\")","v":""},null,null,null,"",""]
["2021-01-20","Onsdag","",null,null,null,"",""]
["2021-01-20","Onsdag","",null,null,null,"",""]
[{"$f":"A12+1","v":"2021-01-21"},"Torsdag","08:00:00",null,null,null,"",""]
["2021-01-21","Torsdag",{"$f":"IF(D17<>\"\",D17,\"\")","v":""},null,null,null,"",""]
["2021-01-21","Torsdag","",null,null,null,"",""]
["2021-01-21","Torsdag","",null,null,null,"",""]
["2021-01-21","Torsdag","",null,null,null,"",""]
["2021-01-22","Fredag","08:00:00",null,null,null,"",""]
["2021-01-22","Fredag",{"$f":"IF(D22<>\"\",D22,\"\")","v":""},null,null,null,"","",null,null,null,null,null,null,null,null,null,null,null,null,null,"https://www.excelmedrickard.com/"]
["2021-01-22","Fredag",{"$f":"IF(D23<>\"\",D23,\"\")","v":""},null,null,null,"",""]
["2021-01-22","Fredag","",null,null,null,"",""]
["2021-01-22","Fredag","",null,null,null,"",""]
[{"$f":"A22+1","v":"2021-01-23"},"Lördag","08:00:00",null,null,null,"",""]
[{"$f":"A23+1","v":"2021-01-23"},"Lördag",{"$f":"IF(D27<>\"\",D27,\"\")","v":""},null,null,null,"",""]
["2021-01-23","Lördag","",null,null,null,"",""]
["2021-01-23","Lördag","",null,null,null,"",""]
["2021-01-23","Lördag","",null,null,null,"",""]
[{"$f":"A27+1","v":"2021-01-24"},"Söndag","08:00:00",null,null,null,"",""]
[{"$f":"A28+1","v":"2021-01-24"},"Söndag",{"$f":"IF(D32<>\"\",D32,\"\")","v":""},null,null,null,"",""]
["2021-01-24","Söndag",{"$f":"IF(D33<>\"\",D33,\"\")","v":""},null,null,null,"",""]
["2021-01-24","Söndag","",null,null,null,"",""]
["2021-01-24","Söndag","",null,null,null,"",""]

{"sheet":"Vecka 4","index":4,"n_rows":36,"n_cols":22,"rows_kept":36,"cut":false,"hidden":false,"merged":[[5,21,5,27],[22,21,22,27]]}
["Datum","Dag","Start","Slut","Bolag","Specifikation","Datum + dag","Tid",{"$f":"SUM(H2:H37)","v":0},{"$f":"SUM($K$4:$R$11)","v":0}]
[{"$f":"'Vecka 3'!A2+7","v":"2021-01-25"},"Måndag","08:00:00",null,null,null,{"$f":"IF(D2<>\"\",B2&CHAR(10)&TEXT(A2,\"ÅÅÅÅ-MM-DD\"),\"\")","v":""},{"$f":"IF(D2<>\"\",IFERROR((D2-C2)*24,\"\"),\"\")","v":""},null,"Summa av Tid","Datum"]
[{"$f":"A2","v":"2021-01-25"},"Måndag",{"$f":"IF(D2<>\"\",D2,\"\")","v":""},null,null,null,{"$f":"IF(D3<>\"\",B3&CHAR(10)&TEXT(A3,\"ÅÅÅÅ-MM-DD\"),\"\")","v":""},{"$f":"IF(D3<>\"\",IFERROR((D3-C3)*24,\"\"),\"\")","v":""},null,"Bolag",null,"(tom)","Totalsumma"]
[{"$f":"A3","v":"2021-01-25"},"Måndag",{"$f":"IF(D3<>\"\",D3,\"\")","v":""},null,null,null,"","",null,"(tom)",0,null,0]
["2021-01-25","Måndag","",null,null,null,"","",null,"Totalsumma",0,null,0]
["2021-01-25","Måndag",{"$f":"IF(D5<>\"\",D5,\"\")","v":""},null,null,null,"","",null,null,null,null,null,null,null,null,null,null,null,null,null,"https://www.youtube.com/channel/UCQR-6DA2UYHgg9hwZ5jPpJA"]
[{"$f":"A2+1","v":"2021-01-26"},"Tisdag","08:00:00",null,null,null,"",""]
["2021-01-26","Tisdag",{"$f":"IF(D7<>\"\",D7,\"\")","v":""},null,null,null,"",""]
["2021-01-26","Tisdag",{"$f":"IF(D8<>\"\",D8,\"\")","v":""},null,null,null,"",""]
["2021-01-26","Tisdag","",null,null,null,"",""]
["2021-01-26","Tisdag",{"$f":"IF(D10<>\"\",D10,\"\")","v":""},null,null,null,"",""]
["2021-01-27","Onsdag","08:00:00",null,null,null,"",""]
["2021-01-27","Onsdag",{"$f":"IF(D12<>\"\",D12,\"\")","v":""},null,null,null,"",""]
["2021-01-27","Onsdag",{"$f":"IF(D13<>\"\",D13,\"\")","v":""},null,null,null,"",""]
["2021-01-27","Onsdag","",null,null,null,"",""]
["2021-01-27","Onsdag","",null,null,null,"",""]
[{"$f":"A12+1","v":"2021-01-28"},"Torsdag","08:00:00",null,null,null,"",""]
["2021-01-28","Torsdag",{"$f":"IF(D17<>\"\",D17,\"\")","v":""},null,null,null,"",""]
["2021-01-28","Torsdag","",null,null,null,"",""]
["2021-01-28","Torsdag","",null,null,null,"",""]
["2021-01-28","Torsdag","",null,null,null,"",""]
["2021-01-29","Fredag","08:00:00",null,null,null,"",""]
["2021-01-29","Fredag",{"$f":"IF(D22<>\"\",D22,\"\")","v":""},null,null,null,"","",null,null,null,null,null,null,null,null,null,null,null,null,null,"https://www.excelmedrickard.com/"]
["2021-01-29","Fredag",{"$f":"IF(D23<>\"\",D23,\"\")","v":""},null,null,null,"",""]
["2021-01-29","Fredag","",null,null,null,"",""]
["2021-01-29","Fredag","",null,null,null,"",""]
[{"$f":"A22+1","v":"2021-01-30"},"Lördag","08:00:00",null,null,null,"",""]
[{"$f":"A23+1","v":"2021-01-30"},"Lördag",{"$f":"IF(D27<>\"\",D27,\"\")","v":""},null,null,null,"",""]
["2021-01-30","Lördag","",null,null,null,"",""]
["2021-01-30","Lördag","",null,null,null,"",""]
["2021-01-30","Lördag","",null,null,null,"",""]
[{"$f":"A27+1","v":"2021-01-31"},"Söndag","08:00:00",null,null,null,"",""]
[{"$f":"A28+1","v":"2021-01-31"},"Söndag",{"$f":"IF(D32<>\"\",D32,\"\")","v":""},null,null,null,"",""]
["2021-01-31","Söndag",{"$f":"IF(D33<>\"\",D33,\"\")","v":""},null,null,null,"",""]
["2021-01-31","Söndag","",null,null,null,"",""]
["2021-01-31","Söndag","",null,null,null,"",""]

{"sheet":"Vecka 5","index":5,"n_rows":36,"n_cols":22,"rows_kept":36,"cut":false,"hidden":false,"merged":[[5,21,5,27],[22,21,22,27]]}
["Datum","Dag","Start","Slut","Bolag","Specifikation","Datum + dag","Tid",{"$f":"SUM(H2:H37)","v":0},{"$f":"SUM($K$4:$R$11)","v":0}]
[{"$f":"'Vecka 4'!A2+7","v":"2021-02-01"},"Måndag","08:00:00",null,null,null,{"$f":"IF(D2<>\"\",B2&CHAR(10)&TEXT(A2,\"ÅÅÅÅ-MM-DD\"),\"\")","v":""},{"$f":"IF(D2<>\"\",IFERROR((D2-C2)*24,\"\"),\"\")","v":""},null,"Summa av Tid","Datum"]
[{"$f":"A2","v":"2021-02-01"},"Måndag",{"$f":"IF(D2<>\"\",D2,\"\")","v":""},null,null,null,{"$f":"IF(D3<>\"\",B3&CHAR(10)&TEXT(A3,\"ÅÅÅÅ-MM-DD\"),\"\")","v":""},{"$f":"IF(D3<>\"\",IFERROR((D3-C3)*24,\"\"),\"\")","v":""},null,"Bolag",null,"(tom)","Totalsumma"]
[{"$f":"A3","v":"2021-02-01"},"Måndag",{"$f":"IF(D3<>\"\",D3,\"\")","v":""},null,null,null,"","",null,"(tom)",0,null,0]
["2021-02-01","Måndag","",null,null,null,"","",null,"Totalsumma",0,null,0]
["2021-02-01","Måndag",{"$f":"IF(D5<>\"\",D5,\"\")","v":""},null,null,null,"","",null,null,null,null,null,null,null,null,null,null,null,null,null,"https://www.youtube.com/channel/UCQR-6DA2UYHgg9hwZ5jPpJA"]
[{"$f":"A2+1","v":"2021-02-02"},"Tisdag","08:00:00",null,null,null,"",""]
["2021-02-02","Tisdag",{"$f":"IF(D7<>\"\",D7,\"\")","v":""},null,null,null,"",""]
["2021-02-02","Tisdag",{"$f":"IF(D8<>\"\",D8,\"\")","v":""},null,null,null,"",""]
["2021-02-02","Tisdag","",null,null,null,"",""]
["2021-02-02","Tisdag",{"$f":"IF(D10<>\"\",D10,\"\")","v":""},null,null,null,"",""]
["2021-02-03","Onsdag","08:00:00",null,null,null,"",""]
["2021-02-03","Onsdag",{"$f":"IF(D12<>\"\",D12,\"\")","v":""},null,null,null,"",""]
["2021-02-03","Onsdag",{"$f":"IF(D13<>\"\",D13,\"\")","v":""},null,null,null,"",""]
["2021-02-03","Onsdag","",null,null,null,"",""]
["2021-02-03","Onsdag","",null,null,null,"",""]
[{"$f":"A12+1","v":"2021-02-04"},"Torsdag","08:00:00",null,null,null,"",""]
["2021-02-04","Torsdag",{"$f":"IF(D17<>\"\",D17,\"\")","v":""},null,null,null,"",""]
["2021-02-04","Torsdag","",null,null,null,"",""]
["2021-02-04","Torsdag","",null,null,null,"",""]
["2021-02-04","Torsdag","",null,null,null,"",""]
["2021-02-05","Fredag","08:00:00",null,null,null,"",""]
["2021-02-05","Fredag",{"$f":"IF(D22<>\"\",D22,\"\")","v":""},null,null,null,"","",null,null,null,null,null,null,null,null,null,null,null,null,null,"https://www.excelmedrickard.com/"]
["2021-02-05","Fredag",{"$f":"IF(D23<>\"\",D23,\"\")","v":""},null,null,null,"",""]
["2021-02-05","Fredag","",null,null,null,"",""]
["2021-02-05","Fredag","",null,null,null,"",""]
[{"$f":"A22+1","v":"2021-02-06"},"Lördag","08:00:00",null,null,null,"",""]
[{"$f":"A23+1","v":"2021-02-06"},"Lördag",{"$f":"IF(D27<>\"\",D27,\"\")","v":""},null,null,null,"",""]
["2021-02-06","Lördag","",null,null,null,"",""]
["2021-02-06","Lördag","",null,null,null,"",""]
["2021-02-06","Lördag","",null,null,null,"",""]
[{"$f":"A27+1","v":"2021-02-07"},"Söndag","08:00:00",null,null,null,"",""]
[{"$f":"A28+1","v":"2021-02-07"},"Söndag",{"$f":"IF(D32<>\"\",D32,\"\")","v":""},null,null,null,"",""]
["2021-02-07","Söndag",{"$f":"IF(D33<>\"\",D33,\"\")","v":""},null,null,null,"",""]
["2021-02-07","Söndag","",null,null,null,"",""]
["2021-02-07","Söndag","",null,null,null,"",""]

{"sheet":"Vecka 6","index":6,"n_rows":36,"n_cols":22,"rows_kept":36,"cut":false,"hidden":false,"merged":[[5,21,5,27],[22,21,22,27]]}
["Datum","Dag","Start","Slut","Bolag","Specifikation","Datum + dag","Tid",{"$f":"SUM(H2:H37)","v":0},{"$f":"SUM($K$4:$R$11)","v":0}]
[{"$f":"'Vecka 5'!A2+7","v":"2021-02-08"},"Måndag","08:00:00",null,null,null,{"$f":"IF(D2<>\"\",B2&CHAR(10)&TEXT(A2,\"ÅÅÅÅ-MM-DD\"),\"\")","v":""},{"$f":"IF(D2<>\"\",IFERROR((D2-C2)*24,\"\"),\"\")","v":""},null,"Summa av Tid","Datum"]
[{"$f":"A2","v":"2021-02-08"},"Måndag",{"$f":"IF(D2<>\"\",D2,\"\")","v":""},null,null,null,{"$f":"IF(D3<>\"\",B3&CHAR(10)&TEXT(A3,\"ÅÅÅÅ-MM-DD\"),\"\")","v":""},{"$f":"IF(D3<>\"\",IFERROR((D3-C3)*24,\"\"),\"\")","v":""},null,"Bolag",null,"(tom)","Totalsumma"]
[{"$f":"A3","v":"2021-02-08"},"Måndag",{"$f":"IF(D3<>\"\",D3,\"\")","v":""},null,null,null,"","",null,"(tom)",0,null,0]
["2021-02-08","Måndag","",null,null,null,"","",null,"Totalsumma",0,null,0]
["2021-02-08","Måndag",{"$f":"IF(D5<>\"\",D5,\"\")","v":""},null,null,null,"","",null,null,null,null,null,null,null,null,null,null,null,null,null,"https://www.youtube.com/channel/UCQR-6DA2UYHgg9hwZ5jPpJA"]
[{"$f":"A2+1","v":"2021-02-09"},"Tisdag","08:00:00",null,null,null,"",""]
["2021-02-09","Tisdag",{"$f":"IF(D7<>\"\",D7,\"\")","v":""},null,null,null,"",""]
["2021-02-09","Tisdag",{"$f":"IF(D8<>\"\",D8,\"\")","v":""},null,null,null,"",""]
["2021-02-09","Tisdag","",null,null,null,"",""]
["2021-02-09","Tisdag",{"$f":"IF(D10<>\"\",D10,\"\")","v":""},null,null,null,"",""]
["2021-02-10","Onsdag","08:00:00",null,null,null,"",""]
["2021-02-10","Onsdag",{"$f":"IF(D12<>\"\",D12,\"\")","v":""},null,null,null,"",""]
["2021-02-10","Onsdag",{"$f":"IF(D13<>\"\",D13,\"\")","v":""},null,null,null,"",""]
["2021-02-10","Onsdag","",null,null,null,"",""]
["2021-02-10","Onsdag","",null,null,null,"",""]
[{"$f":"A12+1","v":"2021-02-11"},"Torsdag","08:00:00",null,null,null,"",""]
["2021-02-11","Torsdag",{"$f":"IF(D17<>\"\",D17,\"\")","v":""},null,null,null,"",""]
["2021-02-11","Torsdag","",null,null,null,"",""]
["2021-02-11","Torsdag","",null,null,null,"",""]
["2021-02-11","Torsdag","",null,null,null,"",""]
["2021-02-12","Fredag","08:00:00",null,null,null,"",""]
["2021-02-12","Fredag",{"$f":"IF(D22<>\"\",D22,\"\")","v":""},null,null,null,"","",null,null,null,null,null,null,null,null,null,null,null,null,null,"https://www.excelmedrickard.com/"]
["2021-02-12","Fredag",{"$f":"IF(D23<>\"\",D23,\"\")","v":""},null,null,null,"",""]
["2021-02-12","Fredag","",null,null,null,"",""]
["2021-02-12","Fredag","",null,null,null,"",""]
[{"$f":"A22+1","v":"2021-02-13"},"Lördag","08:00:00",null,null,null,"",""]
[{"$f":"A23+1","v":"2021-02-13"},"Lördag",{"$f":"IF(D27<>\"\",D27,\"\")","v":""},null,null,null,"",""]
["2021-02-13","Lördag","",null,null,null,"",""]
["2021-02-13","Lördag","",null,null,null,"",""]
["2021-02-13","Lördag","",null,null,null,"",""]
[{"$f":"A27+1","v":"2021-02-14"},"Söndag","08:00:00",null,null,null,"",""]
[{"$f":"A28+1","v":"2021-02-14"},"Söndag",{"$f":"IF(D32<>\"\",D32,\"\")","v":""},null,null,null,"",""]
["2021-02-14","Söndag",{"$f":"IF(D33<>\"\",D33,\"\")","v":""},null,null,null,"",""]
["2021-02-14","Söndag","",null,null,null,"",""]
["2021-02-14","Söndag","",null,null,null,"",""]

{"sheet":"Vecka 7","index":7,"n_rows":36,"n_cols":22,"rows_kept":36,"cut":false,"hidden":false,"merged":[[5,21,5,27],[22,21,22,27]]}
["Datum","Dag","Start","Slut","Bolag","Specifikation","Datum + dag","Tid",{"$f":"SUM(H2:H37)","v":0},{"$f":"SUM($K$4:$R$11)","v":0}]
[{"$f":"'Vecka 6'!A2+7","v":"2021-02-15"},"Måndag","08:00:00",null,null,null,{"$f":"IF(D2<>\"\",B2&CHAR(10)&TEXT(A2,\"ÅÅÅÅ-MM-DD\"),\"\")","v":""},{"$f":"IF(D2<>\"\",IFERROR((D2-C2)*24,\"\"),\"\")","v":""},null,"Summa av Tid","Datum"]
[{"$f":"A2","v":"2021-02-15"},"Måndag",{"$f":"IF(D2<>\"\",D2,\"\")","v":""},null,null,null,{"$f":"IF(D3<>\"\",B3&CHAR(10)&TEXT(A3,\"ÅÅÅÅ-MM-DD\"),\"\")","v":""},{"$f":"IF(D3<>\"\",IFERROR((D3-C3)*24,\"\"),\"\")","v":""},null,"Bolag",null,"(tom)","Totalsumma"]
[{"$f":"A3","v":"2021-02-15"},"Måndag",{"$f":"IF(D3<>\"\",D3,\"\")","v":""},null,null,null,"","",null,"(tom)",0,null,0]
["2021-02-15","Måndag","",null,null,null,"","",null,"Totalsumma",0,null,0]
["2021-02-15","Måndag",{"$f":"IF(D5<>\"\",D5,\"\")","v":""},null,null,null,"","",null,null,null,null,null,null,null,null,null,null,null,null,null,"https://www.youtube.com/channel/UCQR-6DA2UYHgg9hwZ5jPpJA"]
[{"$f":"A2+1","v":"2021-02-16"},"Tisdag","08:00:00",null,null,null,"",""]
["2021-02-16","Tisdag",{"$f":"IF(D7<>\"\",D7,\"\")","v":""},null,null,null,"",""]
["2021-02-16","Tisdag",{"$f":"IF(D8<>\"\",D8,\"\")","v":""},null,null,null,"",""]
["2021-02-16","Tisdag","",null,null,null,"",""]
["2021-02-16","Tisdag",{"$f":"IF(D10<>\"\",D10,\"\")","v":""},null,null,null,"",""]
["2021-02-17","Onsdag","08:00:00",null,null,null,"",""]
["2021-02-17","Onsdag",{"$f":"IF(D12<>\"\",D12,\"\")","v":""},null,null,null,"",""]
["2021-02-17","Onsdag",{"$f":"IF(D13<>\"\",D13,\"\")","v":""},null,null,null,"",""]
["2021-02-17","Onsdag","",null,null,null,"",""]
["2021-02-17","Onsdag","",null,null,null,"",""]
[{"$f":"A12+1","v":"2021-02-18"},"Torsdag","08:00:00",null,null,null,"",""]
["2021-02-18","Torsdag",{"$f":"IF(D17<>\"\",D17,\"\")","v":""},null,null,null,"",""]
["2021-02-18","Torsdag","",null,null,null,"",""]
["2021-02-18","Torsdag","",null,null,null,"",""]
["2021-02-18","Torsdag","",null,null,null,"",""]
["2021-02-19","Fredag","08:00:00",null,null,null,"",""]
["2021-02-19","Fredag",{"$f":"IF(D22<>\"\",D22,\"\")","v":""},null,null,null,"","",null,null,null,null,null,null,null,null,null,null,null,null,null,"https://www.excelmedrickard.com/"]
["2021-02-19","Fredag",{"$f":"IF(D23<>\"\",D23,\"\")","v":""},null,null,null,"",""]
["2021-02-19","Fredag","",null,null,null,"",""]
["2021-02-19","Fredag","",null,null,null,"",""]
[{"$f":"A22+1","v":"2021-02-20"},"Lördag","08:00:00",null,null,null,"",""]
[{"$f":"A23+1","v":"2021-02-20"},"Lördag",{"$f":"IF(D27<>\"\",D27,\"\")","v":""},null,null,null,"",""]
["2021-02-20","Lördag","",null,null,null,"",""]
["2021-02-20","Lördag","",null,null,null,"",""]
["2021-02-20","Lördag","",null,null,null,"",""]
[{"$f":"A27+1","v":"2021-02-21"},"Söndag","08:00:00",null,null,null,"",""]
[{"$f":"A28+1","v":"2021-02-21"},"Söndag",{"$f":"IF(D32<>\"\",D32,\"\")","v":""},null,null,null,"",""]
["2021-02-21","Söndag",{"$f":"IF(D33<>\"\",D33,\"\")","v":""},null,null,null,"",""]
["2021-02-21","Söndag","",null,null,null,"",""]
["2021-02-21","Söndag","",null,null,null,"",""]

{"sheet":"Vecka 8","index":8,"n_rows":36,"n_cols":22,"rows_kept":36,"cut":false,"hidden":false,"merged":[[5,21,5,27],[22,21,22,27]]}
["Datum","Dag","Start","Slut","Bolag","Specifikation","Datum + dag","Tid",{"$f":"SUM(H2:H37)","v":0},{"$f":"SUM($K$4:$R$11)","v":0}]
[{"$f":"'Vecka 7'!A2+7","v":"2021-02-22"},"Måndag","08:00:00",null,null,null,{"$f":"IF(D2<>\"\",B2&CHAR(10)&TEXT(A2,\"ÅÅÅÅ-MM-DD\"),\"\")","v":""},{"$f":"IF(D2<>\"\",IFERROR((D2-C2)*24,\"\"),\"\")","v":""},null,"Summa av Tid","Datum"]
[{"$f":"A2","v":"2021-02-22"},"Måndag",{"$f":"IF(D2<>\"\",D2,\"\")","v":""},null,null,null,{"$f":"IF(D3<>\"\",B3&CHAR(10)&TEXT(A3,\"ÅÅÅÅ-MM-DD\"),\"\")","v":""},{"$f":"IF(D3<>\"\",IFERROR((D3-C3)*24,\"\"),\"\")","v":""},null,"Bolag",null,"(tom)","Totalsumma"]
[{"$f":"A3","v":"2021-02-22"},"Måndag",{"$f":"IF(D3<>\"\",D3,\"\")","v":""},null,null,null,"","",null,"(tom)",0,null,0]
["2021-02-22","Måndag","",null,null,null,"","",null,"Totalsumma",0,null,0]
["2021-02-22","Måndag",{"$f":"IF(D5<>\"\",D5,\"\")","v":""},null,null,null,"","",null,null,null,null,null,null,null,null,null,null,null,null,null,"https://www.youtube.com/channel/UCQR-6DA2UYHgg9hwZ5jPpJA"]
[{"$f":"A2+1","v":"2021-02-23"},"Tisdag","08:00:00",null,null,null,"",""]
["2021-02-23","Tisdag",{"$f":"IF(D7<>\"\",D7,\"\")","v":""},null,null,null,"",""]
["2021-02-23","Tisdag",{"$f":"IF(D8<>\"\",D8,\"\")","v":""},null,null,null,"",""]
["2021-02-23","Tisdag","",null,null,null,"",""]
["2021-02-23","Tisdag",{"$f":"IF(D10<>\"\",D10,\"\")","v":""},null,null,null,"",""]
["2021-02-24","Onsdag","08:00:00",null,null,null,"",""]
["2021-02-24","Onsdag",{"$f":"IF(D12<>\"\",D12,\"\")","v":""},null,null,null,"",""]
["2021-02-24","Onsdag",{"$f":"IF(D13<>\"\",D13,\"\")","v":""},null,null,null,"",""]
["2021-02-24","Onsdag","",null,null,null,"",""]
["2021-02-24","Onsdag","",null,null,null,"",""]
[{"$f":"A12+1","v":"2021-02-25"},"Torsdag","08:00:00",null,null,null,"",""]
["2021-02-25","Torsdag",{"$f":"IF(D17<>\"\",D17,\"\")","v":""},null,null,null,"",""]
["2021-02-25","Torsdag","",null,null,null,"",""]
["2021-02-25","Torsdag","",null,null,null,"",""]
["2021-02-25","Torsdag","",null,null,null,"",""]
["2021-02-26","Fredag","08:00:00",null,null,null,"",""]
["2021-02-26","Fredag",{"$f":"IF(D22<>\"\",D22,\"\")","v":""},null,null,null,"","",null,null,null,null,null,null,null,null,null,null,null,null,null,"https://www.excelmedrickard.com/"]
["2021-02-26","Fredag",{"$f":"IF(D23<>\"\",D23,\"\")","v":""},null,null,null,"",""]
["2021-02-26","Fredag","",null,null,null,"",""]
["2021-02-26","Fredag","",null,null,null,"",""]
[{"$f":"A22+1","v":"2021-02-27"},"Lördag","08:00:00",null,null,null,"",""]
[{"$f":"A23+1","v":"2021-02-27"},"Lördag",{"$f":"IF(D27<>\"\",D27,\"\")","v":""},null,null,null,"",""]
["2021-02-27","Lördag","",null,null,null,"",""]
["2021-02-27","Lördag","",null,null,null,"",""]
["2021-02-27","Lördag","",null,null,null,"",""]
[{"$f":"A27+1","v":"2021-02-28"},"Söndag","08:00:00",null,null,null,"",""]
[{"$f":"A28+1","v":"2021-02-28"},"Söndag",{"$f":"IF(D32<>\"\",D32,\"\")","v":""},null,null,null,"",""]
["2021-02-28","Söndag",{"$f":"IF(D33<>\"\",D33,\"\")","v":""},null,null,null,"",""]
["2021-02-28","Söndag","",null,null,null,"",""]
["2021-02-28","Söndag","",null,null,null,"",""]

{"sheet":"Vecka 9","index":9,"n_rows":36,"n_cols":22,"rows_kept":36,"cut":false,"hidden":false,"merged":[[5,21,5,27],[22,21,22,27]]}
["Datum","Dag","Start","Slut","Bolag","Specifikation","Datum + dag","Tid",{"$f":"SUM(H2:H37)","v":0},{"$f":"SUM($K$4:$R$11)","v":0}]
[{"$f":"'Vecka 8'!A2+7","v":"2021-03-01"},"Måndag","08:00:00",null,null,null,{"$f":"IF(D2<>\"\",B2&CHAR(10)&TEXT(A2,\"ÅÅÅÅ-MM-DD\"),\"\")","v":""},{"$f":"IF(D2<>\"\",IFERROR((D2-C2)*24,\"\"),\"\")","v":""},null,"Summa av Tid","Datum"]
[{"$f":"A2","v":"2021-03-01"},"Måndag",{"$f":"IF(D2<>\"\",D2,\"\")","v":""},null,null,null,{"$f":"IF(D3<>\"\",B3&CHAR(10)&TEXT(A3,\"ÅÅÅÅ-MM-DD\"),\"\")","v":""},{"$f":"IF(D3<>\"\",IFERROR((D3-C3)*24,\"\"),\"\")","v":""},null,"Bolag",null,"(tom)","Totalsumma"]
[{"$f":"A3","v":"2021-03-01"},"Måndag",{"$f":"IF(D3<>\"\",D3,\"\")","v":""},null,null,null,"","",null,"(tom)",0,null,0]
["2021-03-01","Måndag","",null,null,null,"","",null,"Totalsumma",0,null,0]
["2021-03-01","Måndag",{"$f":"IF(D5<>\"\",D5,\"\")","v":""},null,null,null,"","",null,null,null,null,null,null,null,null,null,null,null,null,null,"https://www.youtube.com/channel/UCQR-6DA2UYHgg9hwZ5jPpJA"]
[{"$f":"A2+1","v":"2021-03-02"},"Tisdag","08:00:00",null,null,null,"",""]
["2021-03-02","Tisdag",{"$f":"IF(D7<>\"\",D7,\"\")","v":""},null,null,null,"",""]
["2021-03-02","Tisdag",{"$f":"IF(D8<>\"\",D8,\"\")","v":""},null,null,null,"",""]
["2021-03-02","Tisdag","",null,null,null,"",""]
["2021-03-02","Tisdag",{"$f":"IF(D10<>\"\",D10,\"\")","v":""},null,null,null,"",""]
["2021-03-03","Onsdag","08:00:00",null,null,null,"",""]
["2021-03-03","Onsdag",{"$f":"IF(D12<>\"\",D12,\"\")","v":""},null,null,null,"",""]
["2021-03-03","Onsdag",{"$f":"IF(D13<>\"\",D13,\"\")","v":""},null,null,null,"",""]
["2021-03-03","Onsdag","",null,null,null,"",""]
["2021-03-03","Onsdag","",null,null,null,"",""]
[{"$f":"A12+1","v":"2021-03-04"},"Torsdag","08:00:00",null,null,null,"",""]
["2021-03-04","Torsdag",{"$f":"IF(D17<>\"\",D17,\"\")","v":""},null,null,null,"",""]
["2021-03-04","Torsdag","",null,null,null,"",""]
["2021-03-04","Torsdag","",null,null,null,"",""]
["2021-03-04","Torsdag","",null,null,null,"",""]
["2021-03-05","Fredag","08:00:00",null,null,null,"",""]
["2021-03-05","Fredag",{"$f":"IF(D22<>\"\",D22,\"\")","v":""},null,null,null,"","",null,null,null,null,null,null,null,null,null,null,null,null,null,"https://www.excelmedrickard.com/"]
["2021-03-05","Fredag",{"$f":"IF(D23<>\"\",D23,\"\")","v":""},null,null,null,"",""]
["2021-03-05","Fredag","",null,null,null,"",""]
["2021-03-05","Fredag","",null,null,null,"",""]
[{"$f":"A22+1","v":"2021-03-06"},"Lördag","08:00:00",null,null,null,"",""]
[{"$f":"A23+1","v":"2021-03-06"},"Lördag",{"$f":"IF(D27<>\"\",D27,\"\")","v":""},null,null,null,"",""]
["2021-03-06","Lördag","",null,null,null,"",""]
["2021-03-06","Lördag","",null,null,null,"",""]
["2021-03-06","Lördag","",null,null,null,"",""]
[{"$f":"A27+1","v":"2021-03-07"},"Söndag","08:00:00",null,null,null,"",""]
[{"$f":"A28+1","v":"2021-03-07"},"Söndag",{"$f":"IF(D32<>\"\",D32,\"\")","v":""},null,null,null,"",""]
["2021-03-07","Söndag",{"$f":"IF(D33<>\"\",D33,\"\")","v":""},null,null,null,"",""]
["2021-03-07","Söndag","",null,null,null,"",""]
["2021-03-07","Söndag","",null,null,null,"",""]

{"sheet":"Vecka 10","index":10,"n_rows":36,"n_cols":22,"rows_kept":36,"cut":false,"hidden":false,"merged":[[5,21,5,27],[22,21,22,27]]}
["Datum","Dag","Start","Slut","Bolag","Specifikation","Datum + dag","Tid",{"$f":"SUM(H2:H37)","v":0},{"$f":"SUM($K$4:$R$11)","v":0}]
[{"$f":"'Vecka 9'!A2+7","v":"2021-03-08"},"Måndag","08:00:00",null,null,null,{"$f":"IF(D2<>\"\",B2&CHAR(10)&TEXT(A2,\"ÅÅÅÅ-MM-DD\"),\"\")","v":""},{"$f":"IF(D2<>\"\",IFERROR((D2-C2)*24,\"\"),\"\")","v":""},null,"Summa av Tid","Datum"]
[{"$f":"A2","v":"2021-03-08"},"Måndag",{"$f":"IF(D2<>\"\",D2,\"\")","v":""},null,null,null,{"$f":"IF(D3<>\"\",B3&CHAR(10)&TEXT(A3,\"ÅÅÅÅ-MM-DD\"),\"\")","v":""},{"$f":"IF(D3<>\"\",IFERROR((D3-C3)*24,\"\"),\"\")","v":""},null,"Bolag",null,"(tom)","Totalsumma"]
[{"$f":"A3","v":"2021-03-08"},"Måndag",{"$f":"IF(D3<>\"\",D3,\"\")","v":""},null,null,null,"","",null,"(tom)",0,null,0]
["2021-03-08","Måndag","",null,null,null,"","",null,"Totalsumma",0,null,0]
["2021-03-08","Måndag",{"$f":"IF(D5<>\"\",D5,\"\")","v":""},null,null,null,"","",null,null,null,null,null,null,null,null,null,null,null,null,null,"https://www.youtube.com/channel/UCQR-6DA2UYHgg9hwZ5jPpJA"]
[{"$f":"A2+1","v":"2021-03-09"},"Tisdag","08:00:00",null,null,null,"",""]
["2021-03-09","Tisdag",{"$f":"IF(D7<>\"\",D7,\"\")","v":""},null,null,null,"",""]
["2021-03-09","Tisdag",{"$f":"IF(D8<>\"\",D8,\"\")","v":""},null,null,null,"",""]
["2021-03-09","Tisdag","",null,null,null,"",""]
["2021-03-09","Tisdag",{"$f":"IF(D10<>\"\",D10,\"\")","v":""},null,null,null,"",""]
["2021-03-10","Onsdag","08:00:00",null,null,null,"",""]
["2021-03-10","Onsdag",{"$f":"IF(D12<>\"\",D12,\"\")","v":""},null,null,null,"",""]
["2021-03-10","Onsdag",{"$f":"IF(D13<>\"\",D13,\"\")","v":""},null,null,null,"",""]
["2021-03-10","Onsdag","",null,null,null,"",""]
["2021-03-10","Onsdag","",null,null,null,"",""]
[{"$f":"A12+1","v":"2021-03-11"},"Torsdag","08:00:00",null,null,null,"",""]
["2021-03-11","Torsdag",{"$f":"IF(D17<>\"\",D17,\"\")","v":""},null,null,null,"",""]
["2021-03-11","Torsdag","",null,null,null,"",""]
["2021-03-11","Torsdag","",null,null,null,"",""]
["2021-03-11","Torsdag","",null,null,null,"",""]
["2021-03-12","Fredag","08:00:00",null,null,null,"",""]
["2021-03-12","Fredag",{"$f":"IF(D22<>\"\",D22,\"\")","v":""},null,null,null,"","",null,null,null,null,null,null,null,null,null,null,null,null,null,"https://www.excelmedrickard.com/"]
["2021-03-12","Fredag",{"$f":"IF(D23<>\"\",D23,\"\")","v":""},null,null,null,"",""]
["2021-03-12","Fredag","",null,null,null,"",""]
["2021-03-12","Fredag","",null,null,null,"",""]
[{"$f":"A22+1","v":"2021-03-13"},"Lördag","08:00:00",null,null,null,"",""]
[{"$f":"A23+1","v":"2021-03-13"},"Lördag",{"$f":"IF(D27<>\"\",D27,\"\")","v":""},null,null,null,"",""]
["2021-03-13","Lördag","",null,null,null,"",""]
["2021-03-13","Lördag","",null,null,null,"",""]
["2021-03-13","Lördag","",null,null,null,"",""]
[{"$f":"A27+1","v":"2021-03-14"},"Söndag","08:00:00",null,null,null,"",""]
[{"$f":"A28+1","v":"2021-03-14"},"Söndag",{"$f":"IF(D32<>\"\",D32,\"\")","v":""},null,null,null,"",""]
["2021-03-14","Söndag",{"$f":"IF(D33<>\"\",D33,\"\")","v":""},null,null,null,"",""]
["2021-03-14","Söndag","",null,null,null,"",""]
["2021-03-14","Söndag","",null,null,null,"",""]

{"sheet":"Vecka 11","index":11,"n_rows":36,"n_cols":22,"rows_kept":36,"cut":false,"hidden":false,"merged":[[5,21,5,27],[22,21,22,27]]}
["Datum","Dag","Start","Slut","Bolag","Specifikation","Datum + dag","Tid",{"$f":"SUM(H2:H37)","v":0},{"$f":"SUM($K$4:$R$11)","v":0}]
[{"$f":"'Vecka 10'!A2+7","v":"2021-03-15"},"Måndag","08:00:00",null,null,null,{"$f":"IF(D2<>\"\",B2&CHAR(10)&TEXT(A2,\"ÅÅÅÅ-MM-DD\"),\"\")","v":""},{"$f":"IF(D2<>\"\",IFERROR((D2-C2)*24,\"\"),\"\")","v":""},null,"Summa av Tid","Datum"]
[{"$f":"A2","v":"2021-03-15"},"Måndag",{"$f":"IF(D2<>\"\",D2,\"\")","v":""},null,null,null,{"$f":"IF(D3<>\"\",B3&CHAR(10)&TEXT(A3,\"ÅÅÅÅ-MM-DD\"),\"\")","v":""},{"$f":"IF(D3<>\"\",IFERROR((D3-C3)*24,\"\"),\"\")","v":""},null,"Bolag",null,"(tom)","Totalsumma"]
[{"$f":"A3","v":"2021-03-15"},"Måndag",{"$f":"IF(D3<>\"\",D3,\"\")","v":""},null,null,null,"","",null,"(tom)",0,null,0]
["2021-03-15","Måndag","",null,null,null,"","",null,"Totalsumma",0,null,0]
["2021-03-15","Måndag",{"$f":"IF(D5<>\"\",D5,\"\")","v":""},null,null,null,"","",null,null,null,null,null,null,null,null,null,null,null,null,null,"https://www.youtube.com/channel/UCQR-6DA2UYHgg9hwZ5jPpJA"]
[{"$f":"A2+1","v":"2021-03-16"},"Tisdag","08:00:00",null,null,null,"",""]
["2021-03-16","Tisdag",{"$f":"IF(D7<>\"\",D7,\"\")","v":""},null,null,null,"",""]
["2021-03-16","Tisdag",{"$f":"IF(D8<>\"\",D8,\"\")","v":""},null,null,null,"",""]
["2021-03-16","Tisdag","",null,null,null,"",""]
["2021-03-16","Tisdag",{"$f":"IF(D10<>\"\",D10,\"\")","v":""},null,null,null,"",""]
["2021-03-17","Onsdag","08:00:00",null,null,null,"",""]
["2021-03-17","Onsdag",{"$f":"IF(D12<>\"\",D12,\"\")","v":""},null,null,null,"",""]
["2021-03-17","Onsdag",{"$f":"IF(D13<>\"\",D13,\"\")","v":""},null,null,null,"",""]
["2021-03-17","Onsdag","",null,null,null,"",""]
["2021-03-17","Onsdag","",null,null,null,"",""]
[{"$f":"A12+1","v":"2021-03-18"},"Torsdag","08:00:00",null,null,null,"",""]
["2021-03-18","Torsdag",{"$f":"IF(D17<>\"\",D17,\"\")","v":""},null,null,null,"",""]
["2021-03-18","Torsdag","",null,null,null,"",""]
["2021-03-18","Torsdag","",null,null,null,"",""]
["2021-03-18","Torsdag","",null,null,null,"",""]
["2021-03-19","Fredag","08:00:00",null,null,null,"",""]
["2021-03-19","Fredag",{"$f":"IF(D22<>\"\",D22,\"\")","v":""},null,null,null,"","",null,null,null,null,null,null,null,null,null,null,null,null,null,"https://www.excelmedrickard.com/"]
["2021-03-19","Fredag",{"$f":"IF(D23<>\"\",D23,\"\")","v":""},null,null,null,"",""]
["2021-03-19","Fredag","",null,null,null,"",""]
["2021-03-19","Fredag","",null,null,null,"",""]
[{"$f":"A22+1","v":"2021-03-20"},"Lördag","08:00:00",null,null,null,"",""]
[{"$f":"A23+1","v":"2021-03-20"},"Lördag",{"$f":"IF(D27<>\"\",D27,\"\")","v":""},null,null,null,"",""]
["2021-03-20","Lördag","",null,null,null,"",""]
["2021-03-20","Lördag","",null,null,null,"",""]
["2021-03-20","Lördag","",null,null,null,"",""]
[{"$f":"A27+1","v":"2021-03-21"},"Söndag","08:00:00",null,null,null,"",""]
[{"$f":"A28+1","v":"2021-03-21"},"Söndag",{"$f":"IF(D32<>\"\",D32,\"\")","v":""},null,null,null,"",""]
["2021-03-21","Söndag",{"$f":"IF(D33<>\"\",D33,\"\")","v":""},null,null,null,"",""]
["2021-03-21","Söndag","",null,null,null,"",""]
["2021-03-21","Söndag","",null,null,null,"",""]

{"sheet":"Vecka 12","index":12,"n_rows":36,"n_cols":22,"rows_kept":36,"cut":false,"hidden":false,"merged":[[5,21,5,27],[22,21,22,27]]}
["Datum","Dag","Start","Slut","Bolag","Specifikation","Datum + dag","Tid",{"$f":"SUM(H2:H37)","v":0},{"$f":"SUM($K$4:$R$11)","v":0}]
[{"$f":"'Vecka 11'!A2+7","v":"2021-03-22"},"Måndag","08:00:00",null,null,null,{"$f":"IF(D2<>\"\",B2&CHAR(10)&TEXT(A2,\"ÅÅÅÅ-MM-DD\"),\"\")","v":""},{"$f":"IF(D2<>\"\",IFERROR((D2-C2)*24,\"\"),\"\")","v":""},null,"Summa av Tid","Datum"]
[{"$f":"A2","v":"2021-03-22"},"Måndag",{"$f":"IF(D2<>\"\",D2,\"\")","v":""},null,null,null,{"$f":"IF(D3<>\"\",B3&CHAR(10)&TEXT(A3,\"ÅÅÅÅ-MM-DD\"),\"\")","v":""},{"$f":"IF(D3<>\"\",IFERROR((D3-C3)*24,\"\"),\"\")","v":""},null,"Bolag",null,"(tom)","Totalsumma"]
[{"$f":"A3","v":"2021-03-22"},"Måndag",{"$f":"IF(D3<>\"\",D3,\"\")","v":""},null,null,null,"","",null,"(tom)",0,null,0]
["2021-03-22","Måndag","",null,null,null,"","",null,"Totalsumma",0,null,0]
["2021-03-22","Måndag",{"$f":"IF(D5<>\"\",D5,\"\")","v":""},null,null,null,"","",null,null,null,null,null,null,null,null,null,null,null,null,null,"https://www.youtube.com/channel/UCQR-6DA2UYHgg9hwZ5jPpJA"]
[{"$f":"A2+1","v":"2021-03-23"},"Tisdag","08:00:00",null,null,null,"",""]
["2021-03-23","Tisdag",{"$f":"IF(D7<>\"\",D7,\"\")","v":""},null,null,null,"",""]
["2021-03-23","Tisdag",{"$f":"IF(D8<>\"\",D8,\"\")","v":""},null,null,null,"",""]
["2021-03-23","Tisdag","",null,null,null,"",""]
["2021-03-23","Tisdag",{"$f":"IF(D10<>\"\",D10,\"\")","v":""},null,null,null,"",""]
["2021-03-24","Onsdag","08:00:00",null,null,null,"",""]
["2021-03-24","Onsdag",{"$f":"IF(D12<>\"\",D12,\"\")","v":""},null,null,null,"",""]
["2021-03-24","Onsdag",{"$f":"IF(D13<>\"\",D13,\"\")","v":""},null,null,null,"",""]
["2021-03-24","Onsdag","",null,null,null,"",""]
["2021-03-24","Onsdag","",null,null,null,"",""]
[{"$f":"A12+1","v":"2021-03-25"},"Torsdag","08:00:00",null,null,null,"",""]
["2021-03-25","Torsdag",{"$f":"IF(D17<>\"\",D17,\"\")","v":""},null,null,null,"",""]
["2021-03-25","Torsdag","",null,null,null,"",""]
["2021-03-25","Torsdag","",null,null,null,"",""]
["2021-03-25","Torsdag","",null,null,null,"",""]
["2021-03-26","Fredag","08:00:00",null,null,null,"",""]
["2021-03-26","Fredag",{"$f":"IF(D22<>\"\",D22,\"\")","v":""},null,null,null,"","",null,null,null,null,null,null,null,null,null,null,null,null,null,"https://www.excelmedrickard.com/"]
["2021-03-26","Fredag",{"$f":"IF(D23<>\"\",D23,\"\")","v":""},null,null,null,"",""]
["2021-03-26","Fredag","",null,null,null,"",""]
["2021-03-26","Fredag","",null,null,null,"",""]
[{"$f":"A22+1","v":"2021-03-27"},"Lördag","08:00:00",null,null,null,"",""]
[{"$f":"A23+1","v":"2021-03-27"},"Lördag",{"$f":"IF(D27<>\"\",D27,\"\")","v":""},null,null,null,"",""]
["2021-03-27","Lördag","",null,null,null,"",""]
["2021-03-27","Lördag","",null,null,null,"",""]
["2021-03-27","Lördag","",null,null,null,"",""]
[{"$f":"A27+1","v":"2021-03-28"},"Söndag","08:00:00",null,null,null,"",""]
[{"$f":"A28+1","v":"2021-03-28"},"Söndag",{"$f":"IF(D32<>\"\",D32,\"\")","v":""},null,null,null,"",""]
["2021-03-28","Söndag",{"$f":"IF(D33<>\"\",D33,\"\")","v":""},null,null,null,"",""]
["2021-03-28","Söndag","",null,null,null,"",""]
["2021-03-28","Söndag","",null,null,null,"",""]

{"sheet":"Vecka 13","index":13,"n_rows":36,"n_cols":22,"rows_kept":36,"cut":false,"hidden":false,"merged":[[5,21,5,27],[22,21,22,27]]}
["Datum","Dag","Start","Slut","Bolag","Specifikation","Datum + dag","Tid",{"$f":"SUM(H2:H37)","v":0},{"$f":"SUM($K$4:$R$11)","v":0}]
[{"$f":"'Vecka 12'!A2+7","v":"2021-03-29"},"Måndag","08:00:00",null,null,null,{"$f":"IF(D2<>\"\",B2&CHAR(10)&TEXT(A2,\"ÅÅÅÅ-MM-DD\"),\"\")","v":""},{"$f":"IF(D2<>\"\",IFERROR((D2-C2)*24,\"\"),\"\")","v":""},null,"Summa av Tid","Datum"]
[{"$f":"A2","v":"2021-03-29"},"Måndag",{"$f":"IF(D2<>\"\",D2,\"\")","v":""},null,null,null,{"$f":"IF(D3<>\"\",B3&CHAR(10)&TEXT(A3,\"ÅÅÅÅ-MM-DD\"),\"\")","v":""},{"$f":"IF(D3<>\"\",IFERROR((D3-C3)*24,\"\"),\"\")","v":""},null,"Bolag",null,"(tom)","Totalsumma"]
[{"$f":"A3","v":"2021-03-29"},"Måndag",{"$f":"IF(D3<>\"\",D3,\"\")","v":""},null,null,null,"","",null,"(tom)",0,null,0]
["2021-03-29","Måndag","",null,null,null,"","",null,"Totalsumma",0,null,0]
["2021-03-29","Måndag",{"$f":"IF(D5<>\"\",D5,\"\")","v":""},null,null,null,"","",null,null,null,null,null,null,null,null,null,null,null,null,null,"https://www.youtube.com/channel/UCQR-6DA2UYHgg9hwZ5jPpJA"]
[{"$f":"A2+1","v":"2021-03-30"},"Tisdag","08:00:00",null,null,null,"",""]
["2021-03-30","Tisdag",{"$f":"IF(D7<>\"\",D7,\"\")","v":""},null,null,null,"",""]
["2021-03-30","Tisdag",{"$f":"IF(D8<>\"\",D8,\"\")","v":""},null,null,null,"",""]
["2021-03-30","Tisdag","",null,null,null,"",""]
["2021-03-30","Tisdag",{"$f":"IF(D10<>\"\",D10,\"\")","v":""},null,null,null,"",""]
["2021-03-31","Onsdag","08:00:00",null,null,null,"",""]
["2021-03-31","Onsdag",{"$f":"IF(D12<>\"\",D12,\"\")","v":""},null,null,null,"",""]
["2021-03-31","Onsdag",{"$f":"IF(D13<>\"\",D13,\"\")","v":""},null,null,null,"",""]
["2021-03-31","Onsdag","",null,null,null,"",""]
["2021-03-31","Onsdag","",null,null,null,"",""]
[{"$f":"A12+1","v":"2021-04-01"},"Torsdag","08:00:00",null,null,null,"",""]
["2021-04-01","Torsdag",{"$f":"IF(D17<>\"\",D17,\"\")","v":""},null,null,null,"",""]
["2021-04-01","Torsdag","",null,null,null,"",""]
["2021-04-01","Torsdag","",null,null,null,"",""]
["2021-04-01","Torsdag","",null,null,null,"",""]
["2021-04-02","Fredag","08:00:00",null,null,null,"",""]
["2021-04-02","Fredag",{"$f":"IF(D22<>\"\",D22,\"\")","v":""},null,null,null,"","",null,null,null,null,null,null,null,null,null,null,null,null,null,"https://www.excelmedrickard.com/"]
["2021-04-02","Fredag",{"$f":"IF(D23<>\"\",D23,\"\")","v":""},null,null,null,"",""]
["2021-04-02","Fredag","",null,null,null,"",""]
["2021-04-02","Fredag","",null,null,null,"",""]
[{"$f":"A22+1","v":"2021-04-03"},"Lördag","08:00:00",null,null,null,"",""]
[{"$f":"A23+1","v":"2021-04-03"},"Lördag",{"$f":"IF(D27<>\"\",D27,\"\")","v":""},null,null,null,"",""]
["2021-04-03","Lördag","",null,null,null,"",""]
["2021-04-03","Lördag","",null,null,null,"",""]
["2021-04-03","Lördag","",null,null,null,"",""]
[{"$f":"A27+1","v":"2021-04-04"},"Söndag","08:00:00",null,null,null,"",""]
[{"$f":"A28+1","v":"2021-04-04"},"Söndag",{"$f":"IF(D32<>\"\",D32,\"\")","v":""},null,null,null,"",""]
["2021-04-04","Söndag",{"$f":"IF(D33<>\"\",D33,\"\")","v":""},null,null,null,"",""]
["2021-04-04","Söndag","",null,null,null,"",""]
["2021-04-04","Söndag","",null,null,null,"",""]

{"sheet":"Vecka 14","index":14,"n_rows":36,"n_cols":22,"rows_kept":36,"cut":false,"hidden":false,"merged":[[5,21,5,27],[22,21,22,27]]}
["Datum","Dag","Start","Slut","Bolag","Specifikation","Datum + dag","Tid",{"$f":"SUM(H2:H37)","v":0},{"$f":"SUM($K$4:$R$11)","v":0}]
[{"$f":"'Vecka 13'!A2+7","v":"2021-04-05"},"Måndag","08:00:00",null,null,null,{"$f":"IF(D2<>\"\",B2&CHAR(10)&TEXT(A2,\"ÅÅÅÅ-MM-DD\"),\"\")","v":""},{"$f":"IF(D2<>\"\",IFERROR((D2-C2)*24,\"\"),\"\")","v":""},null,"Summa av Tid","Datum"]
[{"$f":"A2","v":"2021-04-05"},"Måndag",{"$f":"IF(D2<>\"\",D2,\"\")","v":""},null,null,null,{"$f":"IF(D3<>\"\",B3&CHAR(10)&TEXT(A3,\"ÅÅÅÅ-MM-DD\"),\"\")","v":""},{"$f":"IF(D3<>\"\",IFERROR((D3-C3)*24,\"\"),\"\")","v":""},null,"Bolag",null,"(tom)","Totalsumma"]
[{"$f":"A3","v":"2021-04-05"},"Måndag",{"$f":"IF(D3<>\"\",D3,\"\")","v":""},null,null,null,"","",null,"(tom)",0,null,0]
["2021-04-05","Måndag","",null,null,null,"","",null,"Totalsumma",0,null,0]
["2021-04-05","Måndag",{"$f":"IF(D5<>\"\",D5,\"\")","v":""},null,null,null,"","",null,null,null,null,null,null,null,null,null,null,null,null,null,"https://www.youtube.com/channel/UCQR-6DA2UYHgg9hwZ5jPpJA"]
[{"$f":"A2+1","v":"2021-04-06"},"Tisdag","08:00:00",null,null,null,"",""]
["2021-04-06","Tisdag",{"$f":"IF(D7<>\"\",D7,\"\")","v":""},null,null,null,"",""]
["2021-04-06","Tisdag",{"$f":"IF(D8<>\"\",D8,\"\")","v":""},null,null,null,"",""]
["2021-04-06","Tisdag","",null,null,null,"",""]
["2021-04-06","Tisdag",{"$f":"IF(D10<>\"\",D10,\"\")","v":""},null,null,null,"",""]
["2021-04-07","Onsdag","08:00:00",null,null,null,"",""]
["2021-04-07","Onsdag",{"$f":"IF(D12<>\"\",D12,\"\")","v":""},null,null,null,"",""]
["2021-04-07","Onsdag",{"$f":"IF(D13<>\"\",D13,\"\")","v":""},null,null,null,"",""]
["2021-04-07","Onsdag","",null,null,null,"",""]
["2021-04-07","Onsdag","",null,null,null,"",""]
[{"$f":"A12+1","v":"2021-04-08"},"Torsdag","08:00:00",null,null,null,"",""]
["2021-04-08","Torsdag",{"$f":"IF(D17<>\"\",D17,\"\")","v":""},null,null,null,"",""]
["2021-04-08","Torsdag","",null,null,null,"",""]
["2021-04-08","Torsdag","",null,null,null,"",""]
["2021-04-08","Torsdag","",null,null,null,"",""]
["2021-04-09","Fredag","08:00:00",null,null,null,"",""]
["2021-04-09","Fredag",{"$f":"IF(D22<>\"\",D22,\"\")","v":""},null,null,null,"","",null,null,null,null,null,null,null,null,null,null,null,null,null,"https://www.excelmedrickard.com/"]
["2021-04-09","Fredag",{"$f":"IF(D23<>\"\",D23,\"\")","v":""},null,null,null,"",""]
["2021-04-09","Fredag","",null,null,null,"",""]
["2021-04-09","Fredag","",null,null,null,"",""]
[{"$f":"A22+1","v":"2021-04-10"},"Lördag","08:00:00",null,null,null,"",""]
[{"$f":"A23+1","v":"2021-04-10"},"Lördag",{"$f":"IF(D27<>\"\",D27,\"\")","v":""},null,null,null,"",""]
["2021-04-10","Lördag","",null,null,null,"",""]
["2021-04-10","Lördag","",null,null,null,"",""]
["2021-04-10","Lördag","",null,null,null,"",""]
[{"$f":"A27+1","v":"2021-04-11"},"Söndag","08:00:00",null,null,null,"",""]
[{"$f":"A28+1","v":"2021-04-11"},"Söndag",{"$f":"IF(D32<>\"\",D32,\"\")","v":""},null,null,null,"",""]
["2021-04-11","Söndag",{"$f":"IF(D33<>\"\",D33,\"\")","v":""},null,null,null,"",""]
["2021-04-11","Söndag","",null,null,null,"",""]
["2021-04-11","Söndag","",null,null,null,"",""]

{"sheet":"Vecka 15","index":15,"n_rows":36,"n_cols":22,"rows_kept":36,"cut":false,"hidden":false,"merged":[[5,21,5,27],[22,21,22,27]]}
["Datum","Dag","Start","Slut","Bolag","Specifikation","Datum + dag","Tid",{"$f":"SUM(H2:H37)","v":0},{"$f":"SUM($K$4:$R$11)","v":0}]
[{"$f":"'Vecka 14'!A2+7","v":"2021-04-12"},"Måndag","08:00:00",null,null,null,{"$f":"IF(D2<>\"\",B2&CHAR(10)&TEXT(A2,\"ÅÅÅÅ-MM-DD\"),\"\")","v":""},{"$f":"IF(D2<>\"\",IFERROR((D2-C2)*24,\"\"),\"\")","v":""},null,"Summa av Tid","Datum"]
[{"$f":"A2","v":"2021-04-12"},"Måndag",{"$f":"IF(D2<>\"\",D2,\"\")","v":""},null,null,null,{"$f":"IF(D3<>\"\",B3&CHAR(10)&TEXT(A3,\"ÅÅÅÅ-MM-DD\"),\"\")","v":""},{"$f":"IF(D3<>\"\",IFERROR((D3-C3)*24,\"\"),\"\")","v":""},null,"Bolag",null,"(tom)","Totalsumma"]
[{"$f":"A3","v":"2021-04-12"},"Måndag",{"$f":"IF(D3<>\"\",D3,\"\")","v":""},null,null,null,"","",null,"(tom)",0,null,0]
["2021-04-12","Måndag","",null,null,null,"","",null,"Totalsumma",0,null,0]
["2021-04-12","Måndag",{"$f":"IF(D5<>\"\",D5,\"\")","v":""},null,null,null,"","",null,null,null,null,null,null,null,null,null,null,null,null,null,"https://www.youtube.com/channel/UCQR-6DA2UYHgg9hwZ5jPpJA"]
[{"$f":"A2+1","v":"2021-04-13"},"Tisdag","08:00:00",null,null,null,"",""]
["2021-04-13","Tisdag",{"$f":"IF(D7<>\"\",D7,\"\")","v":""},null,null,null,"",""]
["2021-04-13","Tisdag",{"$f":"IF(D8<>\"\",D8,\"\")","v":""},null,null,null,"",""]
["2021-04-13","Tisdag","",null,null,null,"",""]
["2021-04-13","Tisdag",{"$f":"IF(D10<>\"\",D10,\"\")","v":""},null,null,null,"",""]
["2021-04-14","Onsdag","08:00:00",null,null,null,"",""]
["2021-04-14","Onsdag",{"$f":"IF(D12<>\"\",D12,\"\")","v":""},null,null,null,"",""]
["2021-04-14","Onsdag",{"$f":"IF(D13<>\"\",D13,\"\")","v":""},null,null,null,"",""]
["2021-04-14","Onsdag","",null,null,null,"",""]
["2021-04-14","Onsdag","",null,null,null,"",""]
[{"$f":"A12+1","v":"2021-04-15"},"Torsdag","08:00:00",null,null,null,"",""]
["2021-04-15","Torsdag",{"$f":"IF(D17<>\"\",D17,\"\")","v":""},null,null,null,"",""]
["2021-04-15","Torsdag","",null,null,null,"",""]
["2021-04-15","Torsdag","",null,null,null,"",""]
["2021-04-15","Torsdag","",null,null,null,"",""]
["2021-04-16","Fredag","08:00:00",null,null,null,"",""]
["2021-04-16","Fredag",{"$f":"IF(D22<>\"\",D22,\"\")","v":""},null,null,null,"","",null,null,null,null,null,null,null,null,null,null,null,null,null,"https://www.excelmedrickard.com/"]
["2021-04-16","Fredag",{"$f":"IF(D23<>\"\",D23,\"\")","v":""},null,null,null,"",""]
["2021-04-16","Fredag","",null,null,null,"",""]
["2021-04-16","Fredag","",null,null,null,"",""]
[{"$f":"A22+1","v":"2021-04-17"},"Lördag","08:00:00",null,null,null,"",""]
[{"$f":"A23+1","v":"2021-04-17"},"Lördag",{"$f":"IF(D27<>\"\",D27,\"\")","v":""},null,null,null,"",""]
["2021-04-17","Lördag","",null,null,null,"",""]
["2021-04-17","Lördag","",null,null,null,"",""]
["2021-04-17","Lördag","",null,null,null,"",""]
[{"$f":"A27+1","v":"2021-04-18"},"Söndag","08:00:00",null,null,null,"",""]
[{"$f":"A28+1","v":"2021-04-18"},"Söndag",{"$f":"IF(D32<>\"\",D32,\"\")","v":""},null,null,null,"",""]
["2021-04-18","Söndag",{"$f":"IF(D33<>\"\",D33,\"\")","v":""},null,null,null,"",""]
["2021-04-18","Söndag","",null,null,null,"",""]
["2021-04-18","Söndag","",null,null,null,"",""]

{"sheet":"Vecka 16","index":16,"n_rows":36,"n_cols":22,"rows_kept":36,"cut":false,"hidden":false,"merged":[[5,21,5,27],[22,21,22,27]]}
["Datum","Dag","Start","Slut","Bolag","Specifikation","Datum + dag","Tid",{"$f":"SUM(H2:H37)","v":0},{"$f":"SUM($K$4:$R$11)","v":0}]
[{"$f":"'Vecka 15'!A2+7","v":"2021-04-19"},"Måndag","08:00:00",null,null,null,{"$f":"IF(D2<>\"\",B2&CHAR(10)&TEXT(A2,\"ÅÅÅÅ-MM-DD\"),\"\")","v":""},{"$f":"IF(D2<>\"\",IFERROR((D2-C2)*24,\"\"),\"\")","v":""},null,"Summa av Tid","Datum"]
[{"$f":"A2","v":"2021-04-19"},"Måndag",{"$f":"IF(D2<>\"\",D2,\"\")","v":""},null,null,null,{"$f":"IF(D3<>\"\",B3&CHAR(10)&TEXT(A3,\"ÅÅÅÅ-MM-DD\"),\"\")","v":""},{"$f":"IF(D3<>\"\",IFERROR((D3-C3)*24,\"\"),\"\")","v":""},null,"Bolag",null,"(tom)","Totalsumma"]
[{"$f":"A3","v":"2021-04-19"},"Måndag",{"$f":"IF(D3<>\"\",D3,\"\")","v":""},null,null,null,"","",null,"(tom)",0,null,0]
["2021-04-19","Måndag","",null,null,null,"","",null,"Totalsumma",0,null,0]
["2021-04-19","Måndag",{"$f":"IF(D5<>\"\",D5,\"\")","v":""},null,null,null,"","",null,null,null,null,null,null,null,null,null,null,null,null,null,"https://www.youtube.com/channel/UCQR-6DA2UYHgg9hwZ5jPpJA"]
[{"$f":"A2+1","v":"2021-04-20"},"Tisdag","08:00:00",null,null,null,"",""]
["2021-04-20","Tisdag",{"$f":"IF(D7<>\"\",D7,\"\")","v":""},null,null,null,"",""]
["2021-04-20","Tisdag",{"$f":"IF(D8<>\"\",D8,\"\")","v":""},null,null,null,"",""]
["2021-04-20","Tisdag","",null,null,null,"",""]
["2021-04-20","Tisdag",{"$f":"IF(D10<>\"\",D10,\"\")","v":""},null,null,null,"",""]
["2021-04-21","Onsdag","08:00:00",null,null,null,"",""]
["2021-04-21","Onsdag",{"$f":"IF(D12<>\"\",D12,\"\")","v":""},null,null,null,"",""]
["2021-04-21","Onsdag",{"$f":"IF(D13<>\"\",D13,\"\")","v":""},null,null,null,"",""]
["2021-04-21","Onsdag","",null,null,null,"",""]
["2021-04-21","Onsdag","",null,null,null,"",""]
[{"$f":"A12+1","v":"2021-04-22"},"Torsdag","08:00:00",null,null,null,"",""]
["2021-04-22","Torsdag",{"$f":"IF(D17<>\"\",D17,\"\")","v":""},null,null,null,"",""]
["2021-04-22","Torsdag","",null,null,null,"",""]
["2021-04-22","Torsdag","",null,null,null,"",""]
["2021-04-22","Torsdag","",null,null,null,"",""]
["2021-04-23","Fredag","08:00:00",null,null,null,"",""]
["2021-04-23","Fredag",{"$f":"IF(D22<>\"\",D22,\"\")","v":""},null,null,null,"","",null,null,null,null,null,null,null,null,null,null,null,null,null,"https://www.excelmedrickard.com/"]
["2021-04-23","Fredag",{"$f":"IF(D23<>\"\",D23,\"\")","v":""},null,null,null,"",""]
["2021-04-23","Fredag","",null,null,null,"",""]
["2021-04-23","Fredag","",null,null,null,"",""]
[{"$f":"A22+1","v":"2021-04-24"},"Lördag","08:00:00",null,null,null,"",""]
[{"$f":"A23+1","v":"2021-04-24"},"Lördag",{"$f":"IF(D27<>\"\",D27,\"\")","v":""},null,null,null,"",""]
["2021-04-24","Lördag","",null,null,null,"",""]
["2021-04-24","Lördag","",null,null,null,"",""]
["2021-04-24","Lördag","",null,null,null,"",""]
[{"$f":"A27+1","v":"2021-04-25"},"Söndag","08:00:00",null,null,null,"",""]
[{"$f":"A28+1","v":"2021-04-25"},"Söndag",{"$f":"IF(D32<>\"\",D32,\"\")","v":""},null,null,null,"",""]
["2021-04-25","Söndag",{"$f":"IF(D33<>\"\",D33,\"\")","v":""},null,null,null,"",""]
["2021-04-25","Söndag","",null,null,null,"",""]
["2021-04-25","Söndag","",null,null,null,"",""]

{"sheet":"Vecka 17","index":17,"n_rows":36,"n_cols":22,"rows_kept":36,"cut":false,"hidden":false,"merged":[[5,21,5,27],[22,21,22,27]]}
["Datum","Dag","Start","Slut","Bolag","Specifikation","Datum + dag","Tid",{"$f":"SUM(H2:H37)","v":0},{"$f":"SUM($K$4:$R$11)","v":0}]
[{"$f":"'Vecka 16'!A2+7","v":"2021-04-26"},"Måndag","08:00:00",null,null,null,{"$f":"IF(D2<>\"\",B2&CHAR(10)&TEXT(A2,\"ÅÅÅÅ-MM-DD\"),\"\")","v":""},{"$f":"IF(D2<>\"\",IFERROR((D2-C2)*24,\"\"),\"\")","v":""},null,"Summa av Tid","Datum"]
[{"$f":"A2","v":"2021-04-26"},"Måndag",{"$f":"IF(D2<>\"\",D2,\"\")","v":""},null,null,null,{"$f":"IF(D3<>\"\",B3&CHAR(10)&TEXT(A3,\"ÅÅÅÅ-MM-DD\"),\"\")","v":""},{"$f":"IF(D3<>\"\",IFERROR((D3-C3)*24,\"\"),\"\")","v":""},null,"Bolag",null,"(tom)","Totalsumma"]
[{"$f":"A3","v":"2021-04-26"},"Måndag",{"$f":"IF(D3<>\"\",D3,\"\")","v":""},null,null,null,"","",null,"(tom)",0,null,0]
["2021-04-26","Måndag","",null,null,null,"","",null,"Totalsumma",0,null,0]
["2021-04-26","Måndag",{"$f":"IF(D5<>\"\",D5,\"\")","v":""},null,null,null,"","",null,null,null,null,null,null,null,null,null,null,null,null,null,"https://www.youtube.com/channel/UCQR-6DA2UYHgg9hwZ5jPpJA"]
[{"$f":"A2+1","v":"2021-04-27"},"Tisdag","08:00:00",null,null,null,"",""]
["2021-04-27","Tisdag",{"$f":"IF(D7<>\"\",D7,\"\")","v":""},null,null,null,"",""]
["2021-04-27","Tisdag",{"$f":"IF(D8<>\"\",D8,\"\")","v":""},null,null,null,"",""]
["2021-04-27","Tisdag","",null,null,null,"",""]
["2021-04-27","Tisdag",{"$f":"IF(D10<>\"\",D10,\"\")","v":""},null,null,null,"",""]
["2021-04-28","Onsdag","08:00:00",null,null,null,"",""]
["2021-04-28","Onsdag",{"$f":"IF(D12<>\"\",D12,\"\")","v":""},null,null,null,"",""]
["2021-04-28","Onsdag",{"$f":"IF(D13<>\"\",D13,\"\")","v":""},null,null,null,"",""]
["2021-04-28","Onsdag","",null,null,null,"",""]
["2021-04-28","Onsdag","",null,null,null,"",""]
[{"$f":"A12+1","v":"2021-04-29"},"Torsdag","08:00:00",null,null,null,"",""]
["2021-04-29","Torsdag",{"$f":"IF(D17<>\"\",D17,\"\")","v":""},null,null,null,"",""]
["2021-04-29","Torsdag","",null,null,null,"",""]
["2021-04-29","Torsdag","",null,null,null,"",""]
["2021-04-29","Torsdag","",null,null,null,"",""]
["2021-04-30","Fredag","08:00:00",null,null,null,"",""]
["2021-04-30","Fredag",{"$f":"IF(D22<>\"\",D22,\"\")","v":""},null,null,null,"","",null,null,null,null,null,null,null,null,null,null,null,null,null,"https://www.excelmedrickard.com/"]
["2021-04-30","Fredag",{"$f":"IF(D23<>\"\",D23,\"\")","v":""},null,null,null,"",""]
["2021-04-30","Fredag","",null,null,null,"",""]
["2021-04-30","Fredag","",null,null,null,"",""]
[{"$f":"A22+1","v":"2021-05-01"},"Lördag","08:00:00",null,null,null,"",""]
[{"$f":"A23+1","v":"2021-05-01"},"Lördag",{"$f":"IF(D27<>\"\",D27,\"\")","v":""},null,null,null,"",""]
["2021-05-01","Lördag","",null,null,null,"",""]
["2021-05-01","Lördag","",null,null,null,"",""]
["2021-05-01","Lördag","",null,null,null,"",""]
[{"$f":"A27+1","v":"2021-05-02"},"Söndag","08:00:00",null,null,null,"",""]
[{"$f":"A28+1","v":"2021-05-02"},"Söndag",{"$f":"IF(D32<>\"\",D32,\"\")","v":""},null,null,null,"",""]
["2021-05-02","Söndag",{"$f":"IF(D33<>\"\",D33,\"\")","v":""},null,null,null,"",""]
["2021-05-02","Söndag","",null,null,null,"",""]
["2021-05-02","Söndag","",null,null,null,"",""]

{"sheet":"Vecka 18","index":18,"n_rows":36,"n_cols":22,"rows_kept":36,"cut":false,"hidden":false,"merged":[[5,21,5,27],[22,21,22,27]]}
["Datum","Dag","Start","Slut","Bolag","Specifikation","Datum + dag","Tid",{"$f":"SUM(H2:H37)","v":0},{"$f":"SUM($K$4:$R$11)","v":0}]
[{"$f":"'Vecka 17'!A2+7","v":"2021-05-03"},"Måndag","08:00:00",null,null,null,{"$f":"IF(D2<>\"\",B2&CHAR(10)&TEXT(A2,\"ÅÅÅÅ-MM-DD\"),\"\")","v":""},{"$f":"IF(D2<>\"\",IFERROR((D2-C2)*24,\"\"),\"\")","v":""},null,"Summa av Tid","Datum"]
[{"$f":"A2","v":"2021-05-03"},"Måndag",{"$f":"IF(D2<>\"\",D2,\"\")","v":""},null,null,null,{"$f":"IF(D3<>\"\",B3&CHAR(10)&TEXT(A3,\"ÅÅÅÅ-MM-DD\"),\"\")","v":""},{"$f":"IF(D3<>\"\",IFERROR((D3-C3)*24,\"\"),\"\")","v":""},null,"Bolag",null,"(tom)","Totalsumma"]
[{"$f":"A3","v":"2021-05-03"},"Måndag",{"$f":"IF(D3<>\"\",D3,\"\")","v":""},null,null,null,"","",null,"(tom)",0,null,0]
["2021-05-03","Måndag","",null,null,null,"","",null,"Totalsumma",0,null,0]
["2021-05-03","Måndag",{"$f":"IF(D5<>\"\",D5,\"\")","v":""},null,null,null,"","",null,null,null,null,null,null,null,null,null,null,null,null,null,"https://www.youtube.com/channel/UCQR-6DA2UYHgg9hwZ5jPpJA"]
[{"$f":"A2+1","v":"2021-05-04"},"Tisdag","08:00:00",null,null,null,"",""]
["2021-05-04","Tisdag",{"$f":"IF(D7<>\"\",D7,\"\")","v":""},null,null,null,"",""]
["2021-05-04","Tisdag",{"$f":"IF(D8<>\"\",D8,\"\")","v":""},null,null,null,"",""]
["2021-05-04","Tisdag","",null,null,null,"",""]
["2021-05-04","Tisdag",{"$f":"IF(D10<>\"\",D10,\"\")","v":""},null,null,null,"",""]
["2021-05-05","Onsdag","08:00:00",null,null,null,"",""]
["2021-05-05","Onsdag",{"$f":"IF(D12<>\"\",D12,\"\")","v":""},null,null,null,"",""]
["2021-05-05","Onsdag",{"$f":"IF(D13<>\"\",D13,\"\")","v":""},null,null,null,"",""]
["2021-05-05","Onsdag","",null,null,null,"",""]
["2021-05-05","Onsdag","",null,null,null,"",""]
[{"$f":"A12+1","v":"2021-05-06"},"Torsdag","08:00:00",null,null,null,"",""]
["2021-05-06","Torsdag",{"$f":"IF(D17<>\"\",D17,\"\")","v":""},null,null,null,"",""]
["2021-05-06","Torsdag","",null,null,null,"",""]
["2021-05-06","Torsdag","",null,null,null,"",""]
["2021-05-06","Torsdag","",null,null,null,"",""]
["2021-05-07","Fredag","08:00:00",null,null,null,"",""]
["2021-05-07","Fredag",{"$f":"IF(D22<>\"\",D22,\"\")","v":""},null,null,null,"","",null,null,null,null,null,null,null,null,null,null,null,null,null,"https://www.excelmedrickard.com/"]
["2021-05-07","Fredag",{"$f":"IF(D23<>\"\",D23,\"\")","v":""},null,null,null,"",""]
["2021-05-07","Fredag","",null,null,null,"",""]
["2021-05-07","Fredag","",null,null,null,"",""]
[{"$f":"A22+1","v":"2021-05-08"},"Lördag","08:00:00",null,null,null,"",""]
[{"$f":"A23+1","v":"2021-05-08"},"Lördag",{"$f":"IF(D27<>\"\",D27,\"\")","v":""},null,null,null,"",""]
["2021-05-08","Lördag","",null,null,null,"",""]
["2021-05-08","Lördag","",null,null,null,"",""]
["2021-05-08","Lördag","",null,null,null,"",""]
[{"$f":"A27+1","v":"2021-05-09"},"Söndag","08:00:00",null,null,null,"",""]
[{"$f":"A28+1","v":"2021-05-09"},"Söndag",{"$f":"IF(D32<>\"\",D32,\"\")","v":""},null,null,null,"",""]
["2021-05-09","Söndag",{"$f":"IF(D33<>\"\",D33,\"\")","v":""},null,null,null,"",""]
["2021-05-09","Söndag","",null,null,null,"",""]
["2021-05-09","Söndag","",null,null,null,"",""]

{"sheet":"Vecka 19","index":19,"n_rows":36,"n_cols":22,"rows_kept":36,"cut":false,"hidden":false,"merged":[[5,21,5,27],[22,21,22,27]]}
["Datum","Dag","Start","Slut","Bolag","Specifikation","Datum + dag","Tid",{"$f":"SUM(H2:H37)","v":0},{"$f":"SUM($K$4:$R$11)","v":0}]
[{"$f":"'Vecka 18'!A2+7","v":"2021-05-10"},"Måndag","08:00:00",null,null,null,{"$f":"IF(D2<>\"\",B2&CHAR(10)&TEXT(A2,\"ÅÅÅÅ-MM-DD\"),\"\")","v":""},{"$f":"IF(D2<>\"\",IFERROR((D2-C2)*24,\"\"),\"\")","v":""},null,"Summa av Tid","Datum"]
[{"$f":"A2","v":"2021-05-10"},"Måndag",{"$f":"IF(D2<>\"\",D2,\"\")","v":""},null,null,null,{"$f":"IF(D3<>\"\",B3&CHAR(10)&TEXT(A3,\"ÅÅÅÅ-MM-DD\"),\"\")","v":""},{"$f":"IF(D3<>\"\",IFERROR((D3-C3)*24,\"\"),\"\")","v":""},null,"Bolag",null,"(tom)","Totalsumma"]
[{"$f":"A3","v":"2021-05-10"},"Måndag",{"$f":"IF(D3<>\"\",D3,\"\")","v":""},null,null,null,"","",null,"(tom)",0,null,0]
["2021-05-10","Måndag","",null,null,null,"","",null,"Totalsumma",0,null,0]
["2021-05-10","Måndag",{"$f":"IF(D5<>\"\",D5,\"\")","v":""},null,null,null,"","",null,null,null,null,null,null,null,null,null,null,null,null,null,"https://www.youtube.com/channel/UCQR-6DA2UYHgg9hwZ5jPpJA"]
[{"$f":"A2+1","v":"2021-05-11"},"Tisdag","08:00:00",null,null,null,"",""]
["2021-05-11","Tisdag",{"$f":"IF(D7<>\"\",D7,\"\")","v":""},null,null,null,"",""]
["2021-05-11","Tisdag",{"$f":"IF(D8<>\"\",D8,\"\")","v":""},null,null,null,"",""]
["2021-05-11","Tisdag","",null,null,null,"",""]
["2021-05-11","Tisdag",{"$f":"IF(D10<>\"\",D10,\"\")","v":""},null,null,null,"",""]
["2021-05-12","Onsdag","08:00:00",null,null,null,"",""]
["2021-05-12","Onsdag",{"$f":"IF(D12<>\"\",D12,\"\")","v":""},null,null,null,"",""]
["2021-05-12","Onsdag",{"$f":"IF(D13<>\"\",D13,\"\")","v":""},null,null,null,"",""]
["2021-05-12","Onsdag","",null,null,null,"",""]
["2021-05-12","Onsdag","",null,null,null,"",""]
[{"$f":"A12+1","v":"2021-05-13"},"Torsdag","08:00:00",null,null,null,"",""]
["2021-05-13","Torsdag",{"$f":"IF(D17<>\"\",D17,\"\")","v":""},null,null,null,"",""]
["2021-05-13","Torsdag","",null,null,null,"",""]
["2021-05-13","Torsdag","",null,null,null,"",""]
["2021-05-13","Torsdag","",null,null,null,"",""]
["2021-05-14","Fredag","08:00:00",null,null,null,"",""]
["2021-05-14","Fredag",{"$f":"IF(D22<>\"\",D22,\"\")","v":""},null,null,null,"","",null,null,null,null,null,null,null,null,null,null,null,null,null,"https://www.excelmedrickard.com/"]
["2021-05-14","Fredag",{"$f":"IF(D23<>\"\",D23,\"\")","v":""},null,null,null,"",""]
["2021-05-14","Fredag","",null,null,null,"",""]
["2021-05-14","Fredag","",null,null,null,"",""]
[{"$f":"A22+1","v":"2021-05-15"},"Lördag","08:00:00",null,null,null,"",""]
[{"$f":"A23+1","v":"2021-05-15"},"Lördag",{"$f":"IF(D27<>\"\",D27,\"\")","v":""},null,null,null,"",""]
["2021-05-15","Lördag","",null,null,null,"",""]
["2021-05-15","Lördag","",null,null,null,"",""]
["2021-05-15","Lördag","",null,null,null,"",""]
[{"$f":"A27+1","v":"2021-05-16"},"Söndag","08:00:00",null,null,null,"",""]
[{"$f":"A28+1","v":"2021-05-16"},"Söndag",{"$f":"IF(D32<>\"\",D32,\"\")","v":""},null,null,null,"",""]
["2021-05-16","Söndag",{"$f":"IF(D33<>\"\",D33,\"\")","v":""},null,null,null,"",""]
["2021-05-16","Söndag","",null,null,null,"",""]
["2021-05-16","Söndag","",null,null,null,"",""]

{"sheet":"Vecka 20","index":20,"n_rows":36,"n_cols":22,"rows_kept":36,"cut":false,"hidden":false,"merged":[[5,21,5,27],[22,21,22,27]]}
["Datum","Dag","Start","Slut","Bolag","Specifikation","Datum + dag","Tid",{"$f":"SUM(H2:H37)","v":0},{"$f":"SUM($K$4:$R$11)","v":0}]
[{"$f":"'Vecka 19'!A2+7","v":"2021-05-17"},"Måndag","08:00:00",null,null,null,{"$f":"IF(D2<>\"\",B2&CHAR(10)&TEXT(A2,\"ÅÅÅÅ-MM-DD\"),\"\")","v":""},{"$f":"IF(D2<>\"\",IFERROR((D2-C2)*24,\"\"),\"\")","v":""},null,"Summa av Tid","Datum"]
[{"$f":"A2","v":"2021-05-17"},"Måndag",{"$f":"IF(D2<>\"\",D2,\"\")","v":""},null,null,null,{"$f":"IF(D3<>\"\",B3&CHAR(10)&TEXT(A3,\"ÅÅÅÅ-MM-DD\"),\"\")","v":""},{"$f":"IF(D3<>\"\",IFERROR((D3-C3)*24,\"\"),\"\")","v":""},null,"Bolag",null,"(tom)","Totalsumma"]
[{"$f":"A3","v":"2021-05-17"},"Måndag",{"$f":"IF(D3<>\"\",D3,\"\")","v":""},null,null,null,"","",null,"(tom)",0,null,0]
["2021-05-17","Måndag","",null,null,null,"","",null,"Totalsumma",0,null,0]
["2021-05-17","Måndag",{"$f":"IF(D5<>\"\",D5,\"\")","v":""},null,null,null,"","",null,null,null,null,null,null,null,null,null,null,null,null,null,"https://www.youtube.com/channel/UCQR-6DA2UYHgg9hwZ5jPpJA"]
[{"$f":"A2+1","v":"2021-05-18"},"Tisdag","08:00:00",null,null,null,"",""]
["2021-05-18","Tisdag",{"$f":"IF(D7<>\"\",D7,\"\")","v":""},null,null,null,"",""]
["2021-05-18","Tisdag",{"$f":"IF(D8<>\"\",D8,\"\")","v":""},null,null,null,"",""]
["2021-05-18","Tisdag","",null,null,null,"",""]
["2021-05-18","Tisdag",{"$f":"IF(D10<>\"\",D10,\"\")","v":""},null,null,null,"",""]
["2021-05-19","Onsdag","08:00:00",null,null,null,"",""]
["2021-05-19","Onsdag",{"$f":"IF(D12<>\"\",D12,\"\")","v":""},null,null,null,"",""]
["2021-05-19","Onsdag",{"$f":"IF(D13<>\"\",D13,\"\")","v":""},null,null,null,"",""]
["2021-05-19","Onsdag","",null,null,null,"",""]
["2021-05-19","Onsdag","",null,null,null,"",""]
[{"$f":"A12+1","v":"2021-05-20"},"Torsdag","08:00:00",null,null,null,"",""]
["2021-05-20","Torsdag",{"$f":"IF(D17<>\"\",D17,\"\")","v":""},null,null,null,"",""]
["2021-05-20","Torsdag","",null,null,null,"",""]
["2021-05-20","Torsdag","",null,null,null,"",""]
["2021-05-20","Torsdag","",null,null,null,"",""]
["2021-05-21","Fredag","08:00:00",null,null,null,"",""]
["2021-05-21","Fredag",{"$f":"IF(D22<>\"\",D22,\"\")","v":""},null,null,null,"","",null,null,null,null,null,null,null,null,null,null,null,null,null,"https://www.excelmedrickard.com/"]
["2021-05-21","Fredag",{"$f":"IF(D23<>\"\",D23,\"\")","v":""},null,null,null,"",""]
["2021-05-21","Fredag","",null,null,null,"",""]
["2021-05-21","Fredag","",null,null,null,"",""]
[{"$f":"A22+1","v":"2021-05-22"},"Lördag","08:00:00",null,null,null,"",""]
[{"$f":"A23+1","v":"2021-05-22"},"Lördag",{"$f":"IF(D27<>\"\",D27,\"\")","v":""},null,null,null,"",""]
["2021-05-22","Lördag","",null,null,null,"",""]
["2021-05-22","Lördag","",null,null,null,"",""]
["2021-05-22","Lördag","",null,null,null,"",""]
[{"$f":"A27+1","v":"2021-05-23"},"Söndag","08:00:00",null,null,null,"",""]
[{"$f":"A28+1","v":"2021-05-23"},"Söndag",{"$f":"IF(D32<>\"\",D32,\"\")","v":""},null,null,null,"",""]
["2021-05-23","Söndag",{"$f":"IF(D33<>\"\",D33,\"\")","v":""},null,null,null,"",""]
["2021-05-23","Söndag","",null,null,null,"",""]
["2021-05-23","Söndag","",null,null,null,"",""]

{"sheet":"Vecka 21","index":21,"n_rows":36,"n_cols":22,"rows_kept":36,"cut":false,"hidden":false,"merged":[[5,21,5,27],[22,21,22,27]]}
["Datum","Dag","Start","Slut","Bolag","Specifikation","Datum + dag","Tid",{"$f":"SUM(H2:H37)","v":0},{"$f":"SUM($K$4:$R$11)","v":0}]
[{"$f":"'Vecka 20'!A2+7","v":"2021-05-24"},"Måndag","08:00:00",null,null,null,{"$f":"IF(D2<>\"\",B2&CHAR(10)&TEXT(A2,\"ÅÅÅÅ-MM-DD\"),\"\")","v":""},{"$f":"IF(D2<>\"\",IFERROR((D2-C2)*24,\"\"),\"\")","v":""},null,"Summa av Tid","Datum"]
[{"$f":"A2","v":"2021-05-24"},"Måndag",{"$f":"IF(D2<>\"\",D2,\"\")","v":""},null,null,null,{"$f":"IF(D3<>\"\",B3&CHAR(10)&TEXT(A3,\"ÅÅÅÅ-MM-DD\"),\"\")","v":""},{"$f":"IF(D3<>\"\",IFERROR((D3-C3)*24,\"\"),\"\")","v":""},null,"Bolag",null,"(tom)","Totalsumma"]
[{"$f":"A3","v":"2021-05-24"},"Måndag",{"$f":"IF(D3<>\"\",D3,\"\")","v":""},null,null,null,"","",null,"(tom)",0,null,0]
["2021-05-24","Måndag","",null,null,null,"","",null,"Totalsumma",0,null,0]
["2021-05-24","Måndag",{"$f":"IF(D5<>\"\",D5,\"\")","v":""},null,null,null,"","",null,null,null,null,null,null,null,null,null,null,null,null,null,"https://www.youtube.com/channel/UCQR-6DA2UYHgg9hwZ5jPpJA"]
[{"$f":"A2+1","v":"2021-05-25"},"Tisdag","08:00:00",null,null,null,"",""]
["2021-05-25","Tisdag",{"$f":"IF(D7<>\"\",D7,\"\")","v":""},null,null,null,"",""]
["2021-05-25","Tisdag",{"$f":"IF(D8<>\"\",D8,\"\")","v":""},null,null,null,"",""]
["2021-05-25","Tisdag","",null,null,null,"",""]
["2021-05-25","Tisdag",{"$f":"IF(D10<>\"\",D10,\"\")","v":""},null,null,null,"",""]
["2021-05-26","Onsdag","08:00:00",null,null,null,"",""]
["2021-05-26","Onsdag",{"$f":"IF(D12<>\"\",D12,\"\")","v":""},null,null,null,"",""]
["2021-05-26","Onsdag",{"$f":"IF(D13<>\"\",D13,\"\")","v":""},null,null,null,"",""]
["2021-05-26","Onsdag","",null,null,null,"",""]
["2021-05-26","Onsdag","",null,null,null,"",""]
[{"$f":"A12+1","v":"2021-05-27"},"Torsdag","08:00:00",null,null,null,"",""]
["2021-05-27","Torsdag",{"$f":"IF(D17<>\"\",D17,\"\")","v":""},null,null,null,"",""]
["2021-05-27","Torsdag","",null,null,null,"",""]
["2021-05-27","Torsdag","",null,null,null,"",""]
["2021-05-27","Torsdag","",null,null,null,"",""]
["2021-05-28","Fredag","08:00:00",null,null,null,"",""]
["2021-05-28","Fredag",{"$f":"IF(D22<>\"\",D22,\"\")","v":""},null,null,null,"","",null,null,null,null,null,null,null,null,null,null,null,null,null,"https://www.excelmedrickard.com/"]
["2021-05-28","Fredag",{"$f":"IF(D23<>\"\",D23,\"\")","v":""},null,null,null,"",""]
["2021-05-28","Fredag","",null,null,null,"",""]
["2021-05-28","Fredag","",null,null,null,"",""]
[{"$f":"A22+1","v":"2021-05-29"},"Lördag","08:00:00",null,null,null,"",""]
[{"$f":"A23+1","v":"2021-05-29"},"Lördag",{"$f":"IF(D27<>\"\",D27,\"\")","v":""},null,null,null,"",""]
["2021-05-29","Lördag","",null,null,null,"",""]
["2021-05-29","Lördag","",null,null,null,"",""]
["2021-05-29","Lördag","",null,null,null,"",""]
[{"$f":"A27+1","v":"2021-05-30"},"Söndag","08:00:00",null,null,null,"",""]
[{"$f":"A28+1","v":"2021-05-30"},"Söndag",{"$f":"IF(D32<>\"\",D32,\"\")","v":""},null,null,null,"",""]
["2021-05-30","Söndag",{"$f":"IF(D33<>\"\",D33,\"\")","v":""},null,null,null,"",""]
["2021-05-30","Söndag","",null,null,null,"",""]
["2021-05-30","Söndag","",null,null,null,"",""]

{"sheet":"Vecka 22","index":22,"n_rows":36,"n_cols":22,"rows_kept":36,"cut":false,"hidden":false,"merged":[[5,21,5,27],[22,21,22,27]]}
["Datum","Dag","Start","Slut","Bolag","Specifikation","Datum + dag","Tid",{"$f":"SUM(H2:H37)","v":0},{"$f":"SUM($K$4:$R$11)","v":0}]
[{"$f":"'Vecka 21'!A2+7","v":"2021-05-31"},"Måndag","08:00:00",null,null,null,{"$f":"IF(D2<>\"\",B2&CHAR(10)&TEXT(A2,\"ÅÅÅÅ-MM-DD\"),\"\")","v":""},{"$f":"IF(D2<>\"\",IFERROR((D2-C2)*24,\"\"),\"\")","v":""},null,"Summa av Tid","Datum"]
[{"$f":"A2","v":"2021-05-31"},"Måndag",{"$f":"IF(D2<>\"\",D2,\"\")","v":""},null,null,null,{"$f":"IF(D3<>\"\",B3&CHAR(10)&TEXT(A3,\"ÅÅÅÅ-MM-DD\"),\"\")","v":""},{"$f":"IF(D3<>\"\",IFERROR((D3-C3)*24,\"\"),\"\")","v":""},null,"Bolag",null,"(tom)","Totalsumma"]
[{"$f":"A3","v":"2021-05-31"},"Måndag",{"$f":"IF(D3<>\"\",D3,\"\")","v":""},null,null,null,"","",null,"(tom)",0,null,0]
["2021-05-31","Måndag","",null,null,null,"","",null,"Totalsumma",0,null,0]
["2021-05-31","Måndag",{"$f":"IF(D5<>\"\",D5,\"\")","v":""},null,null,null,"","",null,null,null,null,null,null,null,null,null,null,null,null,null,"https://www.youtube.com/channel/UCQR-6DA2UYHgg9hwZ5jPpJA"]
[{"$f":"A2+1","v":"2021-06-01"},"Tisdag","08:00:00",null,null,null,"",""]
["2021-06-01","Tisdag",{"$f":"IF(D7<>\"\",D7,\"\")","v":""},null,null,null,"",""]
["2021-06-01","Tisdag",{"$f":"IF(D8<>\"\",D8,\"\")","v":""},null,null,null,"",""]
["2021-06-01","Tisdag","",null,null,null,"",""]
["2021-06-01","Tisdag",{"$f":"IF(D10<>\"\",D10,\"\")","v":""},null,null,null,"",""]
["2021-06-02","Onsdag","08:00:00",null,null,null,"",""]
["2021-06-02","Onsdag",{"$f":"IF(D12<>\"\",D12,\"\")","v":""},null,null,null,"",""]
["2021-06-02","Onsdag",{"$f":"IF(D13<>\"\",D13,\"\")","v":""},null,null,null,"",""]
["2021-06-02","Onsdag","",null,null,null,"",""]
["2021-06-02","Onsdag","",null,null,null,"",""]
[{"$f":"A12+1","v":"2021-06-03"},"Torsdag","08:00:00",null,null,null,"",""]
["2021-06-03","Torsdag",{"$f":"IF(D17<>\"\",D17,\"\")","v":""},null,null,null,"",""]
["2021-06-03","Torsdag","",null,null,null,"",""]
["2021-06-03","Torsdag","",null,null,null,"",""]
["2021-06-03","Torsdag","",null,null,null,"",""]
["2021-06-04","Fredag","08:00:00",null,null,null,"",""]
["2021-06-04","Fredag",{"$f":"IF(D22<>\"\",D22,\"\")","v":""},null,null,null,"","",null,null,null,null,null,null,null,null,null,null,null,null,null,"https://www.excelmedrickard.com/"]
["2021-06-04","Fredag",{"$f":"IF(D23<>\"\",D23,\"\")","v":""},null,null,null,"",""]
["2021-06-04","Fredag","",null,null,null,"",""]
["2021-06-04","Fredag","",null,null,null,"",""]
[{"$f":"A22+1","v":"2021-06-05"},"Lördag","08:00:00",null,null,null,"",""]
[{"$f":"A23+1","v":"2021-06-05"},"Lördag",{"$f":"IF(D27<>\"\",D27,\"\")","v":""},null,null,null,"",""]
["2021-06-05","Lördag","",null,null,null,"",""]
["2021-06-05","Lördag","",null,null,null,"",""]
["2021-06-05","Lördag","",null,null,null,"",""]
[{"$f":"A27+1","v":"2021-06-06"},"Söndag","08:00:00",null,null,null,"",""]
[{"$f":"A28+1","v":"2021-06-06"},"Söndag",{"$f":"IF(D32<>\"\",D32,\"\")","v":""},null,null,null,"",""]
["2021-06-06","Söndag",{"$f":"IF(D33<>\"\",D33,\"\")","v":""},null,null,null,"",""]
["2021-06-06","Söndag","",null,null,null,"",""]
["2021-06-06","Söndag","",null,null,null,"",""]

{"sheet":"Vecka 23","index":23,"n_rows":36,"n_cols":22,"rows_kept":36,"cut":false,"hidden":false,"merged":[[5,21,5,27],[22,21,22,27]]}
["Datum","Dag","Start","Slut","Bolag","Specifikation","Datum + dag","Tid",{"$f":"SUM(H2:H37)","v":0},{"$f":"SUM($K$4:$R$11)","v":0}]
[{"$f":"'Vecka 22'!A2+7","v":"2021-06-07"},"Måndag","08:00:00",null,null,null,{"$f":"IF(D2<>\"\",B2&CHAR(10)&TEXT(A2,\"ÅÅÅÅ-MM-DD\"),\"\")","v":""},{"$f":"IF(D2<>\"\",IFERROR((D2-C2)*24,\"\"),\"\")","v":""},null,"Summa av Tid","Datum"]
[{"$f":"A2","v":"2021-06-07"},"Måndag",{"$f":"IF(D2<>\"\",D2,\"\")","v":""},null,null,null,{"$f":"IF(D3<>\"\",B3&CHAR(10)&TEXT(A3,\"ÅÅÅÅ-MM-DD\"),\"\")","v":""},{"$f":"IF(D3<>\"\",IFERROR((D3-C3)*24,\"\"),\"\")","v":""},null,"Bolag",null,"(tom)","Totalsumma"]
[{"$f":"A3","v":"2021-06-07"},"Måndag",{"$f":"IF(D3<>\"\",D3,\"\")","v":""},null,null,null,"","",null,"(tom)",0,null,0]
["2021-06-07","Måndag","",null,null,null,"","",null,"Totalsumma",0,null,0]
["2021-06-07","Måndag",{"$f":"IF(D5<>\"\",D5,\"\")","v":""},null,null,null,"","",null,null,null,null,null,null,null,null,null,null,null,null,null,"https://www.youtube.com/channel/UCQR-6DA2UYHgg9hwZ5jPpJA"]
[{"$f":"A2+1","v":"2021-06-08"},"Tisdag","08:00:00",null,null,null,"",""]
["2021-06-08","Tisdag",{"$f":"IF(D7<>\"\",D7,\"\")","v":""},null,null,null,"",""]
["2021-06-08","Tisdag",{"$f":"IF(D8<>\"\",D8,\"\")","v":""},null,null,null,"",""]
["2021-06-08","Tisdag","",null,null,null,"",""]
["2021-06-08","Tisdag",{"$f":"IF(D10<>\"\",D10,\"\")","v":""},null,null,null,"",""]
["2021-06-09","Onsdag","08:00:00",null,null,null,"",""]
["2021-06-09","Onsdag",{"$f":"IF(D12<>\"\",D12,\"\")","v":""},null,null,null,"",""]
["2021-06-09","Onsdag",{"$f":"IF(D13<>\"\",D13,\"\")","v":""},null,null,null,"",""]
["2021-06-09","Onsdag","",null,null,null,"",""]
["2021-06-09","Onsdag","",null,null,null,"",""]
[{"$f":"A12+1","v":"2021-06-10"},"Torsdag","08:00:00",null,null,null,"",""]
["2021-06-10","Torsdag",{"$f":"IF(D17<>\"\",D17,\"\")","v":""},null,null,null,"",""]
["2021-06-10","Torsdag","",null,null,null,"",""]
["2021-06-10","Torsdag","",null,null,null,"",""]
["2021-06-10","Torsdag","",null,null,null,"",""]
["2021-06-11","Fredag","08:00:00",null,null,null,"",""]
["2021-06-11","Fredag",{"$f":"IF(D22<>\"\",D22,\"\")","v":""},null,null,null,"","",null,null,null,null,null,null,null,null,null,null,null,null,null,"https://www.excelmedrickard.com/"]
["2021-06-11","Fredag",{"$f":"IF(D23<>\"\",D23,\"\")","v":""},null,null,null,"",""]
["2021-06-11","Fredag","",null,null,null,"",""]
["2021-06-11","Fredag","",null,null,null,"",""]
[{"$f":"A22+1","v":"2021-06-12"},"Lördag","08:00:00",null,null,null,"",""]
[{"$f":"A23+1","v":"2021-06-12"},"Lördag",{"$f":"IF(D27<>\"\",D27,\"\")","v":""},null,null,null,"",""]
["2021-06-12","Lördag","",null,null,null,"",""]
["2021-06-12","Lördag","",null,null,null,"",""]
["2021-06-12","Lördag","",null,null,null,"",""]
[{"$f":"A27+1","v":"2021-06-13"},"Söndag","08:00:00",null,null,null,"",""]
[{"$f":"A28+1","v":"2021-06-13"},"Söndag",{"$f":"IF(D32<>\"\",D32,\"\")","v":""},null,null,null,"",""]
["2021-06-13","Söndag",{"$f":"IF(D33<>\"\",D33,\"\")","v":""},null,null,null,"",""]
["2021-06-13","Söndag","",null,null,null,"",""]
["2021-06-13","Söndag","",null,null,null,"",""]

{"sheet":"Vecka 24","index":24,"n_rows":36,"n_cols":22,"rows_kept":36,"cut":false,"hidden":false,"merged":[[5,21,5,27],[22,21,22,27]]}
["Datum","Dag","Start","Slut","Bolag","Specifikation","Datum + dag","Tid",{"$f":"SUM(H2:H37)","v":0},{"$f":"SUM($K$4:$R$11)","v":0}]
[{"$f":"'Vecka 23'!A2+7","v":"2021-06-14"},"Måndag","08:00:00",null,null,null,{"$f":"IF(D2<>\"\",B2&CHAR(10)&TEXT(A2,\"ÅÅÅÅ-MM-DD\"),\"\")","v":""},{"$f":"IF(D2<>\"\",IFERROR((D2-C2)*24,\"\"),\"\")","v":""},null,"Summa av Tid","Datum"]
[{"$f":"A2","v":"2021-06-14"},"Måndag",{"$f":"IF(D2<>\"\",D2,\"\")","v":""},null,null,null,{"$f":"IF(D3<>\"\",B3&CHAR(10)&TEXT(A3,\"ÅÅÅÅ-MM-DD\"),\"\")","v":""},{"$f":"IF(D3<>\"\",IFERROR((D3-C3)*24,\"\"),\"\")","v":""},null,"Bolag",null,"(tom)","Totalsumma"]
[{"$f":"A3","v":"2021-06-14"},"Måndag",{"$f":"IF(D3<>\"\",D3,\"\")","v":""},null,null,null,"","",null,"(tom)",0,null,0]
["2021-06-14","Måndag","",null,null,null,"","",null,"Totalsumma",0,null,0]
["2021-06-14","Måndag",{"$f":"IF(D5<>\"\",D5,\"\")","v":""},null,null,null,"","",null,null,null,null,null,null,null,null,null,null,null,null,null,"https://www.youtube.com/channel/UCQR-6DA2UYHgg9hwZ5jPpJA"]
[{"$f":"A2+1","v":"2021-06-15"},"Tisdag","08:00:00",null,null,null,"",""]
["2021-06-15","Tisdag",{"$f":"IF(D7<>\"\",D7,\"\")","v":""},null,null,null,"",""]
["2021-06-15","Tisdag",{"$f":"IF(D8<>\"\",D8,\"\")","v":""},null,null,null,"",""]
["2021-06-15","Tisdag","",null,null,null,"",""]
["2021-06-15","Tisdag",{"$f":"IF(D10<>\"\",D10,\"\")","v":""},null,null,null,"",""]
["2021-06-16","Onsdag","08:00:00",null,null,null,"",""]
["2021-06-16","Onsdag",{"$f":"IF(D12<>\"\",D12,\"\")","v":""},null,null,null,"",""]
["2021-06-16","Onsdag",{"$f":"IF(D13<>\"\",D13,\"\")","v":""},null,null,null,"",""]
["2021-06-16","Onsdag","",null,null,null,"",""]
["2021-06-16","Onsdag","",null,null,null,"",""]
[{"$f":"A12+1","v":"2021-06-17"},"Torsdag","08:00:00",null,null,null,"",""]
["2021-06-17","Torsdag",{"$f":"IF(D17<>\"\",D17,\"\")","v":""},null,null,null,"",""]
["2021-06-17","Torsdag","",null,null,null,"",""]
["2021-06-17","Torsdag","",null,null,null,"",""]
["2021-06-17","Torsdag","",null,null,null,"",""]
["2021-06-18","Fredag","08:00:00",null,null,null,"",""]
["2021-06-18","Fredag",{"$f":"IF(D22<>\"\",D22,\"\")","v":""},null,null,null,"","",null,null,null,null,null,null,null,null,null,null,null,null,null,"https://www.excelmedrickard.com/"]
["2021-06-18","Fredag",{"$f":"IF(D23<>\"\",D23,\"\")","v":""},null,null,null,"",""]
["2021-06-18","Fredag","",null,null,null,"",""]
["2021-06-18","Fredag","",null,null,null,"",""]
[{"$f":"A22+1","v":"2021-06-19"},"Lördag","08:00:00",null,null,null,"",""]
[{"$f":"A23+1","v":"2021-06-19"},"Lördag",{"$f":"IF(D27<>\"\",D27,\"\")","v":""},null,null,null,"",""]
["2021-06-19","Lördag","",null,null,null,"",""]
["2021-06-19","Lördag","",null,null,null,"",""]
["2021-06-19","Lördag","",null,null,null,"",""]
[{"$f":"A27+1","v":"2021-06-20"},"Söndag","08:00:00",null,null,null,"",""]
[{"$f":"A28+1","v":"2021-06-20"},"Söndag",{"$f":"IF(D32<>\"\",D32,\"\")","v":""},null,null,null,"",""]
["2021-06-20","Söndag",{"$f":"IF(D33<>\"\",D33,\"\")","v":""},null,null,null,"",""]
["2021-06-20","Söndag","",null,null,null,"",""]
["2021-06-20","Söndag","",null,null,null,"",""]

{"sheet":"Vecka 25","index":25,"n_rows":36,"n_cols":22,"rows_kept":36,"cut":false,"hidden":false,"merged":[[5,21,5,27],[22,21,22,27]]}
["Datum","Dag","Start","Slut","Bolag","Specifikation","Datum + dag","Tid",{"$f":"SUM(H2:H37)","v":0},{"$f":"SUM($K$4:$R$11)","v":0}]
[{"$f":"'Vecka 24'!A2+7","v":"2021-06-21"},"Måndag","08:00:00",null,null,null,{"$f":"IF(D2<>\"\",B2&CHAR(10)&TEXT(A2,\"ÅÅÅÅ-MM-DD\"),\"\")","v":""},{"$f":"IF(D2<>\"\",IFERROR((D2-C2)*24,\"\"),\"\")","v":""},null,"Summa av Tid","Datum"]
[{"$f":"A2","v":"2021-06-21"},"Måndag",{"$f":"IF(D2<>\"\",D2,\"\")","v":""},null,null,null,{"$f":"IF(D3<>\"\",B3&CHAR(10)&TEXT(A3,\"ÅÅÅÅ-MM-DD\"),\"\")","v":""},{"$f":"IF(D3<>\"\",IFERROR((D3-C3)*24,\"\"),\"\")","v":""},null,"Bolag",null,"(tom)","Totalsumma"]
[{"$f":"A3","v":"2021-06-21"},"Måndag",{"$f":"IF(D3<>\"\",D3,\"\")","v":""},null,null,null,"","",null,"(tom)",0,null,0]
["2021-06-21","Måndag","",null,null,null,"","",null,"Totalsumma",0,null,0]
["2021-06-21","Måndag",{"$f":"IF(D5<>\"\",D5,\"\")","v":""},null,null,null,"","",null,null,null,null,null,null,null,null,null,null,null,null,null,"https://www.youtube.com/channel/UCQR-6DA2UYHgg9hwZ5jPpJA"]
[{"$f":"A2+1","v":"2021-06-22"},"Tisdag","08:00:00",null,null,null,"",""]
["2021-06-22","Tisdag",{"$f":"IF(D7<>\"\",D7,\"\")","v":""},null,null,null,"",""]
["2021-06-22","Tisdag",{"$f":"IF(D8<>\"\",D8,\"\")","v":""},null,null,null,"",""]
["2021-06-22","Tisdag","",null,null,null,"",""]
["2021-06-22","Tisdag",{"$f":"IF(D10<>\"\",D10,\"\")","v":""},null,null,null,"",""]
["2021-06-23","Onsdag","08:00:00",null,null,null,"",""]
["2021-06-23","Onsdag",{"$f":"IF(D12<>\"\",D12,\"\")","v":""},null,null,null,"",""]
["2021-06-23","Onsdag",{"$f":"IF(D13<>\"\",D13,\"\")","v":""},null,null,null,"",""]
["2021-06-23","Onsdag","",null,null,null,"",""]
["2021-06-23","Onsdag","",null,null,null,"",""]
[{"$f":"A12+1","v":"2021-06-24"},"Torsdag","08:00:00",null,null,null,"",""]
["2021-06-24","Torsdag",{"$f":"IF(D17<>\"\",D17,\"\")","v":""},null,null,null,"",""]
["2021-06-24","Torsdag","",null,null,null,"",""]
["2021-06-24","Torsdag","",null,null,null,"",""]
["2021-06-24","Torsdag","",null,null,null,"",""]
["2021-06-25","Fredag","08:00:00",null,null,null,"",""]
["2021-06-25","Fredag",{"$f":"IF(D22<>\"\",D22,\"\")","v":""},null,null,null,"","",null,null,null,null,null,null,null,null,null,null,null,null,null,"https://www.excelmedrickard.com/"]
["2021-06-25","Fredag",{"$f":"IF(D23<>\"\",D23,\"\")","v":""},null,null,null,"",""]
["2021-06-25","Fredag","",null,null,null,"",""]
["2021-06-25","Fredag","",null,null,null,"",""]
[{"$f":"A22+1","v":"2021-06-26"},"Lördag","08:00:00",null,null,null,"",""]
[{"$f":"A23+1","v":"2021-06-26"},"Lördag",{"$f":"IF(D27<>\"\",D27,\"\")","v":""},null,null,null,"",""]
["2021-06-26","Lördag","",null,null,null,"",""]
["2021-06-26","Lördag","",null,null,null,"",""]
["2021-06-26","Lördag","",null,null,null,"",""]
[{"$f":"A27+1","v":"2021-06-27"},"Söndag","08:00:00",null,null,null,"",""]
[{"$f":"A28+1","v":"2021-06-27"},"Söndag",{"$f":"IF(D32<>\"\",D32,\"\")","v":""},null,null,null,"",""]
["2021-06-27","Söndag",{"$f":"IF(D33<>\"\",D33,\"\")","v":""},null,null,null,"",""]
["2021-06-27","Söndag","",null,null,null,"",""]
["2021-06-27","Söndag","",null,null,null,"",""]

{"sheet":"Vecka 26","index":26,"n_rows":36,"n_cols":22,"rows_kept":36,"cut":false,"hidden":false,"merged":[[5,21,5,27],[22,21,22,27]]}
["Datum","Dag","Start","Slut","Bolag","Specifikation","Datum + dag","Tid",{"$f":"SUM(H2:H37)","v":0},{"$f":"SUM($K$4:$R$11)","v":0}]
[{"$f":"'Vecka 25'!A2+7","v":"2021-06-28"},"Måndag","08:00:00",null,null,null,{"$f":"IF(D2<>\"\",B2&CHAR(10)&TEXT(A2,\"ÅÅÅÅ-MM-DD\"),\"\")","v":""},{"$f":"IF(D2<>\"\",IFERROR((D2-C2)*24,\"\"),\"\")","v":""},null,"Summa av Tid","Datum"]
[{"$f":"A2","v":"2021-06-28"},"Måndag",{"$f":"IF(D2<>\"\",D2,\"\")","v":""},null,null,null,{"$f":"IF(D3<>\"\",B3&CHAR(10)&TEXT(A3,\"ÅÅÅÅ-MM-DD\"),\"\")","v":""},{"$f":"IF(D3<>\"\",IFERROR((D3-C3)*24,\"\"),\"\")","v":""},null,"Bolag",null,"(tom)","Totalsumma"]
[{"$f":"A3","v":"2021-06-28"},"Måndag",{"$f":"IF(D3<>\"\",D3,\"\")","v":""},null,null,null,"","",null,"(tom)",0,null,0]
["2021-06-28","Måndag","",null,null,null,"","",null,"Totalsumma",0,null,0]
["2021-06-28","Måndag",{"$f":"IF(D5<>\"\",D5,\"\")","v":""},null,null,null,"","",null,null,null,null,null,null,null,null,null,null,null,null,null,"https://www.youtube.com/channel/UCQR-6DA2UYHgg9hwZ5jPpJA"]
[{"$f":"A2+1","v":"2021-06-29"},"Tisdag","08:00:00",null,null,null,"",""]
["2021-06-29","Tisdag",{"$f":"IF(D7<>\"\",D7,\"\")","v":""},null,null,null,"",""]
["2021-06-29","Tisdag",{"$f":"IF(D8<>\"\",D8,\"\")","v":""},null,null,null,"",""]
["2021-06-29","Tisdag","",null,null,null,"",""]
["2021-06-29","Tisdag",{"$f":"IF(D10<>\"\",D10,\"\")","v":""},null,null,null,"",""]
["2021-06-30","Onsdag","08:00:00",null,null,null,"",""]
["2021-06-30","Onsdag",{"$f":"IF(D12<>\"\",D12,\"\")","v":""},null,null,null,"",""]
["2021-06-30","Onsdag",{"$f":"IF(D13<>\"\",D13,\"\")","v":""},null,null,null,"",""]
["2021-06-30","Onsdag","",null,null,null,"",""]
["2021-06-30","Onsdag","",null,null,null,"",""]
[{"$f":"A12+1","v":"2021-07-01"},"Torsdag","08:00:00",null,null,null,"",""]
["2021-07-01","Torsdag",{"$f":"IF(D17<>\"\",D17,\"\")","v":""},null,null,null,"",""]
["2021-07-01","Torsdag","",null,null,null,"",""]
["2021-07-01","Torsdag","",null,null,null,"",""]
["2021-07-01","Torsdag","",null,null,null,"",""]
["2021-07-02","Fredag","08:00:00",null,null,null,"",""]
["2021-07-02","Fredag",{"$f":"IF(D22<>\"\",D22,\"\")","v":""},null,null,null,"","",null,null,null,null,null,null,null,null,null,null,null,null,null,"https://www.excelmedrickard.com/"]
["2021-07-02","Fredag",{"$f":"IF(D23<>\"\",D23,\"\")","v":""},null,null,null,"",""]
["2021-07-02","Fredag","",null,null,null,"",""]
["2021-07-02","Fredag","",null,null,null,"",""]
[{"$f":"A22+1","v":"2021-07-03"},"Lördag","08:00:00",null,null,null,"",""]
[{"$f":"A23+1","v":"2021-07-03"},"Lördag",{"$f":"IF(D27<>\"\",D27,\"\")","v":""},null,null,null,"",""]
["2021-07-03","Lördag","",null,null,null,"",""]
["2021-07-03","Lördag","",null,null,null,"",""]
["2021-07-03","Lördag","",null,null,null,"",""]
[{"$f":"A27+1","v":"2021-07-04"},"Söndag","08:00:00",null,null,null,"",""]
[{"$f":"A28+1","v":"2021-07-04"},"Söndag",{"$f":"IF(D32<>\"\",D32,\"\")","v":""},null,null,null,"",""]
["2021-07-04","Söndag",{"$f":"IF(D33<>\"\",D33,\"\")","v":""},null,null,null,"",""]
["2021-07-04","Söndag","",null,null,null,"",""]
["2021-07-04","Söndag","",null,null,null,"",""]

{"sheet":"Vecka 27","index":27,"n_rows":36,"n_cols":22,"rows_kept":36,"cut":false,"hidden":false,"merged":[[5,21,5,27],[22,21,22,27]]}
["Datum","Dag","Start","Slut","Bolag","Specifikation","Datum + dag","Tid",{"$f":"SUM(H2:H37)","v":0},{"$f":"SUM($K$4:$R$11)","v":0}]
[{"$f":"'Vecka 26'!A2+7","v":"2021-07-05"},"Måndag","08:00:00",null,null,null,{"$f":"IF(D2<>\"\",B2&CHAR(10)&TEXT(A2,\"ÅÅÅÅ-MM-DD\"),\"\")","v":""},{"$f":"IF(D2<>\"\",IFERROR((D2-C2)*24,\"\"),\"\")","v":""},null,"Summa av Tid","Datum"]
[{"$f":"A2","v":"2021-07-05"},"Måndag",{"$f":"IF(D2<>\"\",D2,\"\")","v":""},null,null,null,{"$f":"IF(D3<>\"\",B3&CHAR(10)&TEXT(A3,\"ÅÅÅÅ-MM-DD\"),\"\")","v":""},{"$f":"IF(D3<>\"\",IFERROR((D3-C3)*24,\"\"),\"\")","v":""},null,"Bolag",null,"(tom)","Totalsumma"]
[{"$f":"A3","v":"2021-07-05"},"Måndag",{"$f":"IF(D3<>\"\",D3,\"\")","v":""},null,null,null,"","",null,"(tom)",0,null,0]
["2021-07-05","Måndag","",null,null,null,"","",null,"Totalsumma",0,null,0]
["2021-07-05","Måndag",{"$f":"IF(D5<>\"\",D5,\"\")","v":""},null,null,null,"","",null,null,null,null,null,null,null,null,null,null,null,null,null,"https://www.youtube.com/channel/UCQR-6DA2UYHgg9hwZ5jPpJA"]
[{"$f":"A2+1","v":"2021-07-06"},"Tisdag","08:00:00",null,null,null,"",""]
["2021-07-06","Tisdag",{"$f":"IF(D7<>\"\",D7,\"\")","v":""},null,null,null,"",""]
["2021-07-06","Tisdag",{"$f":"IF(D8<>\"\",D8,\"\")","v":""},null,null,null,"",""]
["2021-07-06","Tisdag","",null,null,null,"",""]
["2021-07-06","Tisdag",{"$f":"IF(D10<>\"\",D10,\"\")","v":""},null,null,null,"",""]
["2021-07-07","Onsdag","08:00:00",null,null,null,"",""]
["2021-07-07","Onsdag",{"$f":"IF(D12<>\"\",D12,\"\")","v":""},null,null,null,"",""]
["2021-07-07","Onsdag",{"$f":"IF(D13<>\"\",D13,\"\")","v":""},null,null,null,"",""]
["2021-07-07","Onsdag","",null,null,null,"",""]
["2021-07-07","Onsdag","",null,null,null,"",""]
[{"$f":"A12+1","v":"2021-07-08"},"Torsdag","08:00:00",null,null,null,"",""]
["2021-07-08","Torsdag",{"$f":"IF(D17<>\"\",D17,\"\")","v":""},null,null,null,"",""]
["2021-07-08","Torsdag","",null,null,null,"",""]
["2021-07-08","Torsdag","",null,null,null,"",""]
["2021-07-08","Torsdag","",null,null,null,"",""]
["2021-07-09","Fredag","08:00:00",null,null,null,"",""]
["2021-07-09","Fredag",{"$f":"IF(D22<>\"\",D22,\"\")","v":""},null,null,null,"","",null,null,null,null,null,null,null,null,null,null,null,null,null,"https://www.excelmedrickard.com/"]
["2021-07-09","Fredag",{"$f":"IF(D23<>\"\",D23,\"\")","v":""},null,null,null,"",""]
["2021-07-09","Fredag","",null,null,null,"",""]
["2021-07-09","Fredag","",null,null,null,"",""]
[{"$f":"A22+1","v":"2021-07-10"},"Lördag","08:00:00",null,null,null,"",""]
[{"$f":"A23+1","v":"2021-07-10"},"Lördag",{"$f":"IF(D27<>\"\",D27,\"\")","v":""},null,null,null,"",""]
["2021-07-10","Lördag","",null,null,null,"",""]
["2021-07-10","Lördag","",null,null,null,"",""]
["2021-07-10","Lördag","",null,null,null,"",""]
[{"$f":"A27+1","v":"2021-07-11"},"Söndag","08:00:00",null,null,null,"",""]
[{"$f":"A28+1","v":"2021-07-11"},"Söndag",{"$f":"IF(D32<>\"\",D32,\"\")","v":""},null,null,null,"",""]
["2021-07-11","Söndag",{"$f":"IF(D33<>\"\",D33,\"\")","v":""},null,null,null,"",""]
["2021-07-11","Söndag","",null,null,null,"",""]
["2021-07-11","Söndag","",null,null,null,"",""]

{"sheet":"Vecka 28","index":28,"n_rows":36,"n_cols":22,"rows_kept":36,"cut":false,"hidden":false,"merged":[[5,21,5,27],[22,21,22,27]]}
["Datum","Dag","Start","Slut","Bolag","Specifikation","Datum + dag","Tid",{"$f":"SUM(H2:H37)","v":0},{"$f":"SUM($K$4:$R$11)","v":0}]
[{"$f":"'Vecka 27'!A2+7","v":"2021-07-12"},"Måndag","08:00:00",null,null,null,{"$f":"IF(D2<>\"\",B2&CHAR(10)&TEXT(A2,\"ÅÅÅÅ-MM-DD\"),\"\")","v":""},{"$f":"IF(D2<>\"\",IFERROR((D2-C2)*24,\"\"),\"\")","v":""},null,"Summa av Tid","Datum"]
[{"$f":"A2","v":"2021-07-12"},"Måndag",{"$f":"IF(D2<>\"\",D2,\"\")","v":""},null,null,null,{"$f":"IF(D3<>\"\",B3&CHAR(10)&TEXT(A3,\"ÅÅÅÅ-MM-DD\"),\"\")","v":""},{"$f":"IF(D3<>\"\",IFERROR((D3-C3)*24,\"\"),\"\")","v":""},null,"Bolag",null,"(tom)","Totalsumma"]
[{"$f":"A3","v":"2021-07-12"},"Måndag",{"$f":"IF(D3<>\"\",D3,\"\")","v":""},null,null,null,"","",null,"(tom)",0,null,0]
["2021-07-12","Måndag","",null,null,null,"","",null,"Totalsumma",0,null,0]
["2021-07-12","Måndag",{"$f":"IF(D5<>\"\",D5,\"\")","v":""},null,null,null,"","",null,null,null,null,null,null,null,null,null,null,null,null,null,"https://www.youtube.com/channel/UCQR-6DA2UYHgg9hwZ5jPpJA"]
[{"$f":"A2+1","v":"2021-07-13"},"Tisdag","08:00:00",null,null,null,"",""]
["2021-07-13","Tisdag",{"$f":"IF(D7<>\"\",D7,\"\")","v":""},null,null,null,"",""]
["2021-07-13","Tisdag",{"$f":"IF(D8<>\"\",D8,\"\")","v":""},null,null,null,"",""]
["2021-07-13","Tisdag","",null,null,null,"",""]
["2021-07-13","Tisdag",{"$f":"IF(D10<>\"\",D10,\"\")","v":""},null,null,null,"",""]
["2021-07-14","Onsdag","08:00:00",null,null,null,"",""]
["2021-07-14","Onsdag",{"$f":"IF(D12<>\"\",D12,\"\")","v":""},null,null,null,"",""]
["2021-07-14","Onsdag",{"$f":"IF(D13<>\"\",D13,\"\")","v":""},null,null,null,"",""]
["2021-07-14","Onsdag","",null,null,null,"",""]
["2021-07-14","Onsdag","",null,null,null,"",""]
[{"$f":"A12+1","v":"2021-07-15"},"Torsdag","08:00:00",null,null,null,"",""]
["2021-07-15","Torsdag",{"$f":"IF(D17<>\"\",D17,\"\")","v":""},null,null,null,"",""]
["2021-07-15","Torsdag","",null,null,null,"",""]
["2021-07-15","Torsdag","",null,null,null,"",""]
["2021-07-15","Torsdag","",null,null,null,"",""]
["2021-07-16","Fredag","08:00:00",null,null,null,"",""]
["2021-07-16","Fredag",{"$f":"IF(D22<>\"\",D22,\"\")","v":""},null,null,null,"","",null,null,null,null,null,null,null,null,null,null,null,null,null,"https://www.excelmedrickard.com/"]
["2021-07-16","Fredag",{"$f":"IF(D23<>\"\",D23,\"\")","v":""},null,null,null,"",""]
["2021-07-16","Fredag","",null,null,null,"",""]
["2021-07-16","Fredag","",null,null,null,"",""]
[{"$f":"A22+1","v":"2021-07-17"},"Lördag","08:00:00",null,null,null,"",""]
[{"$f":"A23+1","v":"2021-07-17"},"Lördag",{"$f":"IF(D27<>\"\",D27,\"\")","v":""},null,null,null,"",""]
["2021-07-17","Lördag","",null,null,null,"",""]
["2021-07-17","Lördag","",null,null,null,"",""]
["2021-07-17","Lördag","",null,null,null,"",""]
[{"$f":"A27+1","v":"2021-07-18"},"Söndag","08:00:00",null,null,null,"",""]
[{"$f":"A28+1","v":"2021-07-18"},"Söndag",{"$f":"IF(D32<>\"\",D32,\"\")","v":""},null,null,null,"",""]
["2021-07-18","Söndag",{"$f":"IF(D33<>\"\",D33,\"\")","v":""},null,null,null,"",""]
["2021-07-18","Söndag","",null,null,null,"",""]
["2021-07-18","Söndag","",null,null,null,"",""]

{"sheet":"Vecka 29","index":29,"n_rows":36,"n_cols":22,"rows_kept":36,"cut":false,"hidden":false,"merged":[[5,21,5,27],[22,21,22,27]]}
["Datum","Dag","Start","Slut","Bolag","Specifikation","Datum + dag","Tid",{"$f":"SUM(H2:H37)","v":0},{"$f":"SUM($K$4:$R$11)","v":0}]
[{"$f":"'Vecka 28'!A2+7","v":"2021-07-19"},"Måndag","08:00:00",null,null,null,{"$f":"IF(D2<>\"\",B2&CHAR(10)&TEXT(A2,\"ÅÅÅÅ-MM-DD\"),\"\")","v":""},{"$f":"IF(D2<>\"\",IFERROR((D2-C2)*24,\"\"),\"\")","v":""},null,"Summa av Tid","Datum"]
[{"$f":"A2","v":"2021-07-19"},"Måndag",{"$f":"IF(D2<>\"\",D2,\"\")","v":""},null,null,null,{"$f":"IF(D3<>\"\",B3&CHAR(10)&TEXT(A3,\"ÅÅÅÅ-MM-DD\"),\"\")","v":""},{"$f":"IF(D3<>\"\",IFERROR((D3-C3)*24,\"\"),\"\")","v":""},null,"Bolag",null,"(tom)","Totalsumma"]
[{"$f":"A3","v":"2021-07-19"},"Måndag",{"$f":"IF(D3<>\"\",D3,\"\")","v":""},null,null,null,"","",null,"(tom)",0,null,0]
["2021-07-19","Måndag","",null,null,null,"","",null,"Totalsumma",0,null,0]
["2021-07-19","Måndag",{"$f":"IF(D5<>\"\",D5,\"\")","v":""},null,null,null,"","",null,null,null,null,null,null,null,null,null,null,null,null,null,"https://www.youtube.com/channel/UCQR-6DA2UYHgg9hwZ5jPpJA"]
[{"$f":"A2+1","v":"2021-07-20"},"Tisdag","08:00:00",null,null,null,"",""]
["2021-07-20","Tisdag",{"$f":"IF(D7<>\"\",D7,\"\")","v":""},null,null,null,"",""]
["2021-07-20","Tisdag",{"$f":"IF(D8<>\"\",D8,\"\")","v":""},null,null,null,"",""]
["2021-07-20","Tisdag","",null,null,null,"",""]
["2021-07-20","Tisdag",{"$f":"IF(D10<>\"\",D10,\"\")","v":""},null,null,null,"",""]
["2021-07-21","Onsdag","08:00:00",null,null,null,"",""]
["2021-07-21","Onsdag",{"$f":"IF(D12<>\"\",D12,\"\")","v":""},null,null,null,"",""]
["2021-07-21","Onsdag",{"$f":"IF(D13<>\"\",D13,\"\")","v":""},null,null,null,"",""]
["2021-07-21","Onsdag","",null,null,null,"",""]
["2021-07-21","Onsdag","",null,null,null,"",""]
[{"$f":"A12+1","v":"2021-07-22"},"Torsdag","08:00:00",null,null,null,"",""]
["2021-07-22","Torsdag",{"$f":"IF(D17<>\"\",D17,\"\")","v":""},null,null,null,"",""]
["2021-07-22","Torsdag","",null,null,null,"",""]
["2021-07-22","Torsdag","",null,null,null,"",""]
["2021-07-22","Torsdag","",null,null,null,"",""]
["2021-07-23","Fredag","08:00:00",null,null,null,"",""]
["2021-07-23","Fredag",{"$f":"IF(D22<>\"\",D22,\"\")","v":""},null,null,null,"","",null,null,null,null,null,null,null,null,null,null,null,null,null,"https://www.excelmedrickard.com/"]
["2021-07-23","Fredag",{"$f":"IF(D23<>\"\",D23,\"\")","v":""},null,null,null,"",""]
["2021-07-23","Fredag","",null,null,null,"",""]
["2021-07-23","Fredag","",null,null,null,"",""]
[{"$f":"A22+1","v":"2021-07-24"},"Lördag","08:00:00",null,null,null,"",""]
[{"$f":"A23+1","v":"2021-07-24"},"Lördag",{"$f":"IF(D27<>\"\",D27,\"\")","v":""},null,null,null,"",""]
["2021-07-24","Lördag","",null,null,null,"",""]
["2021-07-24","Lördag","",null,null,null,"",""]
["2021-07-24","Lördag","",null,null,null,"",""]
[{"$f":"A27+1","v":"2021-07-25"},"Söndag","08:00:00",null,null,null,"",""]
[{"$f":"A28+1","v":"2021-07-25"},"Söndag",{"$f":"IF(D32<>\"\",D32,\"\")","v":""},null,null,null,"",""]
["2021-07-25","Söndag",{"$f":"IF(D33<>\"\",D33,\"\")","v":""},null,null,null,"",""]
["2021-07-25","Söndag","",null,null,null,"",""]
["2021-07-25","Söndag","",null,null,null,"",""]

{"sheet":"Vecka 30","index":30,"n_rows":36,"n_cols":22,"rows_kept":36,"cut":false,"hidden":false,"merged":[[5,21,5,27],[22,21,22,27]]}
["Datum","Dag","Start","Slut","Bolag","Specifikation","Datum + dag","Tid",{"$f":"SUM(H2:H37)","v":0},{"$f":"SUM($K$4:$R$11)","v":0}]
[{"$f":"'Vecka 29'!A2+7","v":"2021-07-26"},"Måndag","08:00:00",null,null,null,{"$f":"IF(D2<>\"\",B2&CHAR(10)&TEXT(A2,\"ÅÅÅÅ-MM-DD\"),\"\")","v":""},{"$f":"IF(D2<>\"\",IFERROR((D2-C2)*24,\"\"),\"\")","v":""},null,"Summa av Tid","Datum"]
[{"$f":"A2","v":"2021-07-26"},"Måndag",{"$f":"IF(D2<>\"\",D2,\"\")","v":""},null,null,null,{"$f":"IF(D3<>\"\",B3&CHAR(10)&TEXT(A3,\"ÅÅÅÅ-MM-DD\"),\"\")","v":""},{"$f":"IF(D3<>\"\",IFERROR((D3-C3)*24,\"\"),\"\")","v":""},null,"Bolag",null,"(tom)","Totalsumma"]
[{"$f":"A3","v":"2021-07-26"},"Måndag",{"$f":"IF(D3<>\"\",D3,\"\")","v":""},null,null,null,"","",null,"(tom)",0,null,0]
["2021-07-26","Måndag","",null,null,null,"","",null,"Totalsumma",0,null,0]
["2021-07-26","Måndag",{"$f":"IF(D5<>\"\",D5,\"\")","v":""},null,null,null,"","",null,null,null,null,null,null,null,null,null,null,null,null,null,"https://www.youtube.com/channel/UCQR-6DA2UYHgg9hwZ5jPpJA"]
[{"$f":"A2+1","v":"2021-07-27"},"Tisdag","08:00:00",null,null,null,"",""]
["2021-07-27","Tisdag",{"$f":"IF(D7<>\"\",D7,\"\")","v":""},null,null,null,"",""]
["2021-07-27","Tisdag",{"$f":"IF(D8<>\"\",D8,\"\")","v":""},null,null,null,"",""]
["2021-07-27","Tisdag","",null,null,null,"",""]
["2021-07-27","Tisdag",{"$f":"IF(D10<>\"\",D10,\"\")","v":""},null,null,null,"",""]
["2021-07-28","Onsdag","08:00:00",null,null,null,"",""]
["2021-07-28","Onsdag",{"$f":"IF(D12<>\"\",D12,\"\")","v":""},null,null,null,"",""]
["2021-07-28","Onsdag",{"$f":"IF(D13<>\"\",D13,\"\")","v":""},null,null,null,"",""]
["2021-07-28","Onsdag","",null,null,null,"",""]
["2021-07-28","Onsdag","",null,null,null,"",""]
[{"$f":"A12+1","v":"2021-07-29"},"Torsdag","08:00:00",null,null,null,"",""]
["2021-07-29","Torsdag",{"$f":"IF(D17<>\"\",D17,\"\")","v":""},null,null,null,"",""]
["2021-07-29","Torsdag","",null,null,null,"",""]
["2021-07-29","Torsdag","",null,null,null,"",""]
["2021-07-29","Torsdag","",null,null,null,"",""]
["2021-07-30","Fredag","08:00:00",null,null,null,"",""]
["2021-07-30","Fredag",{"$f":"IF(D22<>\"\",D22,\"\")","v":""},null,null,null,"","",null,null,null,null,null,null,null,null,null,null,null,null,null,"https://www.excelmedrickard.com/"]
["2021-07-30","Fredag",{"$f":"IF(D23<>\"\",D23,\"\")","v":""},null,null,null,"",""]
["2021-07-30","Fredag","",null,null,null,"",""]
["2021-07-30","Fredag","",null,null,null,"",""]
[{"$f":"A22+1","v":"2021-07-31"},"Lördag","08:00:00",null,null,null,"",""]
[{"$f":"A23+1","v":"2021-07-31"},"Lördag",{"$f":"IF(D27<>\"\",D27,\"\")","v":""},null,null,null,"",""]
["2021-07-31","Lördag","",null,null,null,"",""]
["2021-07-31","Lördag","",null,null,null,"",""]
["2021-07-31","Lördag","",null,null,null,"",""]
[{"$f":"A27+1","v":"2021-08-01"},"Söndag","08:00:00",null,null,null,"",""]
[{"$f":"A28+1","v":"2021-08-01"},"Söndag",{"$f":"IF(D32<>\"\",D32,\"\")","v":""},null,null,null,"",""]
["2021-08-01","Söndag",{"$f":"IF(D33<>\"\",D33,\"\")","v":""},null,null,null,"",""]
["2021-08-01","Söndag","",null,null,null,"",""]
["2021-08-01","Söndag","",null,null,null,"",""]

{"sheet":"Vecka 31","index":31,"n_rows":36,"n_cols":22,"rows_kept":36,"cut":false,"hidden":false,"merged":[[5,21,5,27],[22,21,22,27]]}
["Datum","Dag","Start","Slut","Bolag","Specifikation","Datum + dag","Tid",{"$f":"SUM(H2:H37)","v":0},{"$f":"SUM($K$4:$R$11)","v":0}]
[{"$f":"'Vecka 30'!A2+7","v":"2021-08-02"},"Måndag","08:00:00",null,null,null,{"$f":"IF(D2<>\"\",B2&CHAR(10)&TEXT(A2,\"ÅÅÅÅ-MM-DD\"),\"\")","v":""},{"$f":"IF(D2<>\"\",IFERROR((D2-C2)*24,\"\"),\"\")","v":""},null,"Summa av Tid","Datum"]
[{"$f":"A2","v":"2021-08-02"},"Måndag",{"$f":"IF(D2<>\"\",D2,\"\")","v":""},null,null,null,{"$f":"IF(D3<>\"\",B3&CHAR(10)&TEXT(A3,\"ÅÅÅÅ-MM-DD\"),\"\")","v":""},{"$f":"IF(D3<>\"\",IFERROR((D3-C3)*24,\"\"),\"\")","v":""},null,"Bolag",null,"(tom)","Totalsumma"]
[{"$f":"A3","v":"2021-08-02"},"Måndag",{"$f":"IF(D3<>\"\",D3,\"\")","v":""},null,null,null,"","",null,"(tom)",0,null,0]
["2021-08-02","Måndag","",null,null,null,"","",null,"Totalsumma",0,null,0]
["2021-08-02","Måndag",{"$f":"IF(D5<>\"\",D5,\"\")","v":""},null,null,null,"","",null,null,null,null,null,null,null,null,null,null,null,null,null,"https://www.youtube.com/channel/UCQR-6DA2UYHgg9hwZ5jPpJA"]
[{"$f":"A2+1","v":"2021-08-03"},"Tisdag","08:00:00",null,null,null,"",""]
["2021-08-03","Tisdag",{"$f":"IF(D7<>\"\",D7,\"\")","v":""},null,null,null,"",""]
["2021-08-03","Tisdag",{"$f":"IF(D8<>\"\",D8,\"\")","v":""},null,null,null,"",""]
["2021-08-03","Tisdag","",null,null,null,"",""]
["2021-08-03","Tisdag",{"$f":"IF(D10<>\"\",D10,\"\")","v":""},null,null,null,"",""]
["2021-08-04","Onsdag","08:00:00",null,null,null,"",""]
["2021-08-04","Onsdag",{"$f":"IF(D12<>\"\",D12,\"\")","v":""},null,null,null,"",""]
["2021-08-04","Onsdag",{"$f":"IF(D13<>\"\",D13,\"\")","v":""},null,null,null,"",""]
["2021-08-04","Onsdag","",null,null,null,"",""]
["2021-08-04","Onsdag","",null,null,null,"",""]
[{"$f":"A12+1","v":"2021-08-05"},"Torsdag","08:00:00",null,null,null,"",""]
["2021-08-05","Torsdag",{"$f":"IF(D17<>\"\",D17,\"\")","v":""},null,null,null,"",""]
["2021-08-05","Torsdag","",null,null,null,"",""]
["2021-08-05","Torsdag","",null,null,null,"",""]
["2021-08-05","Torsdag","",null,null,null,"",""]
["2021-08-06","Fredag","08:00:00",null,null,null,"",""]
["2021-08-06","Fredag",{"$f":"IF(D22<>\"\",D22,\"\")","v":""},null,null,null,"","",null,null,null,null,null,null,null,null,null,null,null,null,null,"https://www.excelmedrickard.com/"]
["2021-08-06","Fredag",{"$f":"IF(D23<>\"\",D23,\"\")","v":""},null,null,null,"",""]
["2021-08-06","Fredag","",null,null,null,"",""]
["2021-08-06","Fredag","",null,null,null,"",""]
[{"$f":"A22+1","v":"2021-08-07"},"Lördag","08:00:00",null,null,null,"",""]
[{"$f":"A23+1","v":"2021-08-07"},"Lördag",{"$f":"IF(D27<>\"\",D27,\"\")","v":""},null,null,null,"",""]
["2021-08-07","Lördag","",null,null,null,"",""]
["2021-08-07","Lördag","",null,null,null,"",""]
["2021-08-07","Lördag","",null,null,null,"",""]
[{"$f":"A27+1","v":"2021-08-08"},"Söndag","08:00:00",null,null,null,"",""]
[{"$f":"A28+1","v":"2021-08-08"},"Söndag",{"$f":"IF(D32<>\"\",D32,\"\")","v":""},null,null,null,"",""]
["2021-08-08","Söndag",{"$f":"IF(D33<>\"\",D33,\"\")","v":""},null,null,null,"",""]
["2021-08-08","Söndag","",null,null,null,"",""]
["2021-08-08","Söndag","",null,null,null,"",""]

{"sheet":"Vecka 32","index":32,"n_rows":36,"n_cols":22,"rows_kept":36,"cut":false,"hidden":false,"merged":[[5,21,5,27],[22,21,22,27]]}
["Datum","Dag","Start","Slut","Bolag","Specifikation","Datum + dag","Tid",{"$f":"SUM(H2:H37)","v":0},{"$f":"SUM($K$4:$R$11)","v":0}]
[{"$f":"'Vecka 31'!A2+7","v":"2021-08-09"},"Måndag","08:00:00",null,null,null,{"$f":"IF(D2<>\"\",B2&CHAR(10)&TEXT(A2,\"ÅÅÅÅ-MM-DD\"),\"\")","v":""},{"$f":"IF(D2<>\"\",IFERROR((D2-C2)*24,\"\"),\"\")","v":""},null,"Summa av Tid","Datum"]
[{"$f":"A2","v":"2021-08-09"},"Måndag",{"$f":"IF(D2<>\"\",D2,\"\")","v":""},null,null,null,{"$f":"IF(D3<>\"\",B3&CHAR(10)&TEXT(A3,\"ÅÅÅÅ-MM-DD\"),\"\")","v":""},{"$f":"IF(D3<>\"\",IFERROR((D3-C3)*24,\"\"),\"\")","v":""},null,"Bolag",null,"(tom)","Totalsumma"]
[{"$f":"A3","v":"2021-08-09"},"Måndag",{"$f":"IF(D3<>\"\",D3,\"\")","v":""},null,null,null,"","",null,"(tom)",0,null,0]
["2021-08-09","Måndag","",null,null,null,"","",null,"Totalsumma",0,null,0]
["2021-08-09","Måndag",{"$f":"IF(D5<>\"\",D5,\"\")","v":""},null,null,null,"","",null,null,null,null,null,null,null,null,null,null,null,null,null,"https://www.youtube.com/channel/UCQR-6DA2UYHgg9hwZ5jPpJA"]
[{"$f":"A2+1","v":"2021-08-10"},"Tisdag","08:00:00",null,null,null,"",""]
["2021-08-10","Tisdag",{"$f":"IF(D7<>\"\",D7,\"\")","v":""},null,null,null,"",""]
["2021-08-10","Tisdag",{"$f":"IF(D8<>\"\",D8,\"\")","v":""},null,null,null,"",""]
["2021-08-10","Tisdag","",null,null,null,"",""]
["2021-08-10","Tisdag",{"$f":"IF(D10<>\"\",D10,\"\")","v":""},null,null,null,"",""]
["2021-08-11","Onsdag","08:00:00",null,null,null,"",""]
["2021-08-11","Onsdag",{"$f":"IF(D12<>\"\",D12,\"\")","v":""},null,null,null,"",""]
["2021-08-11","Onsdag",{"$f":"IF(D13<>\"\",D13,\"\")","v":""},null,null,null,"",""]
["2021-08-11","Onsdag","",null,null,null,"",""]
["2021-08-11","Onsdag","",null,null,null,"",""]
[{"$f":"A12+1","v":"2021-08-12"},"Torsdag","08:00:00",null,null,null,"",""]
["2021-08-12","Torsdag",{"$f":"IF(D17<>\"\",D17,\"\")","v":""},null,null,null,"",""]
["2021-08-12","Torsdag","",null,null,null,"",""]
["2021-08-12","Torsdag","",null,null,null,"",""]
["2021-08-12","Torsdag","",null,null,null,"",""]
["2021-08-13","Fredag","08:00:00",null,null,null,"",""]
["2021-08-13","Fredag",{"$f":"IF(D22<>\"\",D22,\"\")","v":""},null,null,null,"","",null,null,null,null,null,null,null,null,null,null,null,null,null,"https://www.excelmedrickard.com/"]
["2021-08-13","Fredag",{"$f":"IF(D23<>\"\",D23,\"\")","v":""},null,null,null,"",""]
["2021-08-13","Fredag","",null,null,null,"",""]
["2021-08-13","Fredag","",null,null,null,"",""]
[{"$f":"A22+1","v":"2021-08-14"},"Lördag","08:00:00",null,null,null,"",""]
[{"$f":"A23+1","v":"2021-08-14"},"Lördag",{"$f":"IF(D27<>\"\",D27,\"\")","v":""},null,null,null,"",""]
["2021-08-14","Lördag","",null,null,null,"",""]
["2021-08-14","Lördag","",null,null,null,"",""]
["2021-08-14","Lördag","",null,null,null,"",""]
[{"$f":"A27+1","v":"2021-08-15"},"Söndag","08:00:00",null,null,null,"",""]
[{"$f":"A28+1","v":"2021-08-15"},"Söndag",{"$f":"IF(D32<>\"\",D32,\"\")","v":""},null,null,null,"",""]
["2021-08-15","Söndag",{"$f":"IF(D33<>\"\",D33,\"\")","v":""},null,null,null,"",""]
["2021-08-15","Söndag","",null,null,null,"",""]
["2021-08-15","Söndag","",null,null,null,"",""]

{"sheet":"Vecka 33","index":33,"n_rows":36,"n_cols":22,"rows_kept":36,"cut":false,"hidden":false,"merged":[[5,21,5,27],[22,21,22,27]]}
["Datum","Dag","Start","Slut","Bolag","Specifikation","Datum + dag","Tid",{"$f":"SUM(H2:H37)","v":0},{"$f":"SUM($K$4:$R$11)","v":0}]
[{"$f":"'Vecka 32'!A2+7","v":"2021-08-16"},"Måndag","08:00:00",null,null,null,{"$f":"IF(D2<>\"\",B2&CHAR(10)&TEXT(A2,\"ÅÅÅÅ-MM-DD\"),\"\")","v":""},{"$f":"IF(D2<>\"\",IFERROR((D2-C2)*24,\"\"),\"\")","v":""},null,"Summa av Tid","Datum"]
[{"$f":"A2","v":"2021-08-16"},"Måndag",{"$f":"IF(D2<>\"\",D2,\"\")","v":""},null,null,null,{"$f":"IF(D3<>\"\",B3&CHAR(10)&TEXT(A3,\"ÅÅÅÅ-MM-DD\"),\"\")","v":""},{"$f":"IF(D3<>\"\",IFERROR((D3-C3)*24,\"\"),\"\")","v":""},null,"Bolag",null,"(tom)","Totalsumma"]
[{"$f":"A3","v":"2021-08-16"},"Måndag",{"$f":"IF(D3<>\"\",D3,\"\")","v":""},null,null,null,"","",null,"(tom)",0,null,0]
["2021-08-16","Måndag","",null,null,null,"","",null,"Totalsumma",0,null,0]
["2021-08-16","Måndag",{"$f":"IF(D5<>\"\",D5,\"\")","v":""},null,null,null,"","",null,null,null,null,null,null,null,null,null,null,null,null,null,"https://www.youtube.com/channel/UCQR-6DA2UYHgg9hwZ5jPpJA"]
[{"$f":"A2+1","v":"2021-08-17"},"Tisdag","08:00:00",null,null,null,"",""]
["2021-08-17","Tisdag",{"$f":"IF(D7<>\"\",D7,\"\")","v":""},null,null,null,"",""]
["2021-08-17","Tisdag",{"$f":"IF(D8<>\"\",D8,\"\")","v":""},null,null,null,"",""]
["2021-08-17","Tisdag","",null,null,null,"",""]
["2021-08-17","Tisdag",{"$f":"IF(D10<>\"\",D10,\"\")","v":""},null,null,null,"",""]
["2021-08-18","Onsdag","08:00:00",null,null,null,"",""]
["2021-08-18","Onsdag",{"$f":"IF(D12<>\"\",D12,\"\")","v":""},null,null,null,"",""]
["2021-08-18","Onsdag",{"$f":"IF(D13<>\"\",D13,\"\")","v":""},null,null,null,"",""]
["2021-08-18","Onsdag","",null,null,null,"",""]
["2021-08-18","Onsdag","",null,null,null,"",""]
[{"$f":"A12+1","v":"2021-08-19"},"Torsdag","08:00:00",null,null,null,"",""]
["2021-08-19","Torsdag",{"$f":"IF(D17<>\"\",D17,\"\")","v":""},null,null,null,"",""]
["2021-08-19","Torsdag","",null,null,null,"",""]
["2021-08-19","Torsdag","",null,null,null,"",""]
["2021-08-19","Torsdag","",null,null,null,"",""]
["2021-08-20","Fredag","08:00:00",null,null,null,"",""]
["2021-08-20","Fredag",{"$f":"IF(D22<>\"\",D22,\"\")","v":""},null,null,null,"","",null,null,null,null,null,null,null,null,null,null,null,null,null,"https://www.excelmedrickard.com/"]
["2021-08-20","Fredag",{"$f":"IF(D23<>\"\",D23,\"\")","v":""},null,null,null,"",""]
["2021-08-20","Fredag","",null,null,null,"",""]
["2021-08-20","Fredag","",null,null,null,"",""]
[{"$f":"A22+1","v":"2021-08-21"},"Lördag","08:00:00",null,null,null,"",""]
[{"$f":"A23+1","v":"2021-08-21"},"Lördag",{"$f":"IF(D27<>\"\",D27,\"\")","v":""},null,null,null,"",""]
["2021-08-21","Lördag","",null,null,null,"",""]
["2021-08-21","Lördag","",null,null,null,"",""]
["2021-08-21","Lördag","",null,null,null,"",""]
[{"$f":"A27+1","v":"2021-08-22"},"Söndag","08:00:00",null,null,null,"",""]
[{"$f":"A28+1","v":"2021-08-22"},"Söndag",{"$f":"IF(D32<>\"\",D32,\"\")","v":""},null,null,null,"",""]
["2021-08-22","Söndag",{"$f":"IF(D33<>\"\",D33,\"\")","v":""},null,null,null,"",""]
["2021-08-22","Söndag","",null,null,null,"",""]
["2021-08-22","Söndag","",null,null,null,"",""]

{"sheet":"Vecka 34","index":34,"n_rows":36,"n_cols":22,"rows_kept":36,"cut":false,"hidden":false,"merged":[[5,21,5,27],[22,21,22,27]]}
["Datum","Dag","Start","Slut","Bolag","Specifikation","Datum + dag","Tid",{"$f":"SUM(H2:H37)","v":0},{"$f":"SUM($K$4:$R$11)","v":0}]
[{"$f":"'Vecka 33'!A2+7","v":"2021-08-23"},"Måndag","08:00:00",null,null,null,{"$f":"IF(D2<>\"\",B2&CHAR(10)&TEXT(A2,\"ÅÅÅÅ-MM-DD\"),\"\")","v":""},{"$f":"IF(D2<>\"\",IFERROR((D2-C2)*24,\"\"),\"\")","v":""},null,"Summa av Tid","Datum"]
[{"$f":"A2","v":"2021-08-23"},"Måndag",{"$f":"IF(D2<>\"\",D2,\"\")","v":""},null,null,null,{"$f":"IF(D3<>\"\",B3&CHAR(10)&TEXT(A3,\"ÅÅÅÅ-MM-DD\"),\"\")","v":""},{"$f":"IF(D3<>\"\",IFERROR((D3-C3)*24,\"\"),\"\")","v":""},null,"Bolag",null,"(tom)","Totalsumma"]
[{"$f":"A3","v":"2021-08-23"},"Måndag",{"$f":"IF(D3<>\"\",D3,\"\")","v":""},null,null,null,"","",null,"(tom)",0,null,0]
["2021-08-23","Måndag","",null,null,null,"","",null,"Totalsumma",0,null,0]
["2021-08-23","Måndag",{"$f":"IF(D5<>\"\",D5,\"\")","v":""},null,null,null,"","",null,null,null,null,null,null,null,null,null,null,null,null,null,"https://www.youtube.com/channel/UCQR-6DA2UYHgg9hwZ5jPpJA"]
[{"$f":"A2+1","v":"2021-08-24"},"Tisdag","08:00:00",null,null,null,"",""]
["2021-08-24","Tisdag",{"$f":"IF(D7<>\"\",D7,\"\")","v":""},null,null,null,"",""]
["2021-08-24","Tisdag",{"$f":"IF(D8<>\"\",D8,\"\")","v":""},null,null,null,"",""]
["2021-08-24","Tisdag","",null,null,null,"",""]
["2021-08-24","Tisdag",{"$f":"IF(D10<>\"\",D10,\"\")","v":""},null,null,null,"",""]
["2021-08-25","Onsdag","08:00:00",null,null,null,"",""]
["2021-08-25","Onsdag",{"$f":"IF(D12<>\"\",D12,\"\")","v":""},null,null,null,"",""]
["2021-08-25","Onsdag",{"$f":"IF(D13<>\"\",D13,\"\")","v":""},null,null,null,"",""]
["2021-08-25","Onsdag","",null,null,null,"",""]
["2021-08-25","Onsdag","",null,null,null,"",""]
[{"$f":"A12+1","v":"2021-08-26"},"Torsdag","08:00:00",null,null,null,"",""]
["2021-08-26","Torsdag",{"$f":"IF(D17<>\"\",D17,\"\")","v":""},null,null,null,"",""]
["2021-08-26","Torsdag","",null,null,null,"",""]
["2021-08-26","Torsdag","",null,null,null,"",""]
["2021-08-26","Torsdag","",null,null,null,"",""]
["2021-08-27","Fredag","08:00:00",null,null,null,"",""]
["2021-08-27","Fredag",{"$f":"IF(D22<>\"\",D22,\"\")","v":""},null,null,null,"","",null,null,null,null,null,null,null,null,null,null,null,null,null,"https://www.excelmedrickard.com/"]
["2021-08-27","Fredag",{"$f":"IF(D23<>\"\",D23,\"\")","v":""},null,null,null,"",""]
["2021-08-27","Fredag","",null,null,null,"",""]
["2021-08-27","Fredag","",null,null,null,"",""]
[{"$f":"A22+1","v":"2021-08-28"},"Lördag","08:00:00",null,null,null,"",""]
[{"$f":"A23+1","v":"2021-08-28"},"Lördag",{"$f":"IF(D27<>\"\",D27,\"\")","v":""},null,null,null,"",""]
["2021-08-28","Lördag","",null,null,null,"",""]
["2021-08-28","Lördag","",null,null,null,"",""]
["2021-08-28","Lördag","",null,null,null,"",""]
[{"$f":"A27+1","v":"2021-08-29"},"Söndag","08:00:00",null,null,null,"",""]
[{"$f":"A28+1","v":"2021-08-29"},"Söndag",{"$f":"IF(D32<>\"\",D32,\"\")","v":""},null,null,null,"",""]
["2021-08-29","Söndag",{"$f":"IF(D33<>\"\",D33,\"\")","v":""},null,null,null,"",""]
["2021-08-29","Söndag","",null,null,null,"",""]
["2021-08-29","Söndag","",null,null,null,"",""]

{"sheet":"Vecka 35","index":35,"n_rows":36,"n_cols":22,"rows_kept":36,"cut":false,"hidden":false,"merged":[[5,21,5,27],[22,21,22,27]]}
["Datum","Dag","Start","Slut","Bolag","Specifikation","Datum + dag","Tid",{"$f":"SUM(H2:H37)","v":0},{"$f":"SUM($K$4:$R$11)","v":0}]
[{"$f":"'Vecka 34'!A2+7","v":"2021-08-30"},"Måndag","08:00:00",null,null,null,{"$f":"IF(D2<>\"\",B2&CHAR(10)&TEXT(A2,\"ÅÅÅÅ-MM-DD\"),\"\")","v":""},{"$f":"IF(D2<>\"\",IFERROR((D2-C2)*24,\"\"),\"\")","v":""},null,"Summa av Tid","Datum"]
[{"$f":"A2","v":"2021-08-30"},"Måndag",{"$f":"IF(D2<>\"\",D2,\"\")","v":""},null,null,null,{"$f":"IF(D3<>\"\",B3&CHAR(10)&TEXT(A3,\"ÅÅÅÅ-MM-DD\"),\"\")","v":""},{"$f":"IF(D3<>\"\",IFERROR((D3-C3)*24,\"\"),\"\")","v":""},null,"Bolag",null,"(tom)","Totalsumma"]
[{"$f":"A3","v":"2021-08-30"},"Måndag",{"$f":"IF(D3<>\"\",D3,\"\")","v":""},null,null,null,"","",null,"(tom)",0,null,0]
["2021-08-30","Måndag","",null,null,null,"","",null,"Totalsumma",0,null,0]
["2021-08-30","Måndag",{"$f":"IF(D5<>\"\",D5,\"\")","v":""},null,null,null,"","",null,null,null,null,null,null,null,null,null,null,null,null,null,"https://www.youtube.com/channel/UCQR-6DA2UYHgg9hwZ5jPpJA"]
[{"$f":"A2+1","v":"2021-08-31"},"Tisdag","08:00:00",null,null,null,"",""]
["2021-08-31","Tisdag",{"$f":"IF(D7<>\"\",D7,\"\")","v":""},null,null,null,"",""]
["2021-08-31","Tisdag",{"$f":"IF(D8<>\"\",D8,\"\")","v":""},null,null,null,"",""]
["2021-08-31","Tisdag","",null,null,null,"",""]
["2021-08-31","Tisdag",{"$f":"IF(D10<>\"\",D10,\"\")","v":""},null,null,null,"",""]
["2021-09-01","Onsdag","08:00:00",null,null,null,"",""]
["2021-09-01","Onsdag",{"$f":"IF(D12<>\"\",D12,\"\")","v":""},null,null,null,"",""]
["2021-09-01","Onsdag",{"$f":"IF(D13<>\"\",D13,\"\")","v":""},null,null,null,"",""]
["2021-09-01","Onsdag","",null,null,null,"",""]
["2021-09-01","Onsdag","",null,null,null,"",""]
[{"$f":"A12+1","v":"2021-09-02"},"Torsdag","08:00:00",null,null,null,"",""]
["2021-09-02","Torsdag",{"$f":"IF(D17<>\"\",D17,\"\")","v":""},null,null,null,"",""]
["2021-09-02","Torsdag","",null,null,null,"",""]
["2021-09-02","Torsdag","",null,null,null,"",""]
["2021-09-02","Torsdag","",null,null,null,"",""]
["2021-09-03","Fredag","08:00:00",null,null,null,"",""]
["2021-09-03","Fredag",{"$f":"IF(D22<>\"\",D22,\"\")","v":""},null,null,null,"","",null,null,null,null,null,null,null,null,null,null,null,null,null,"https://www.excelmedrickard.com/"]
["2021-09-03","Fredag",{"$f":"IF(D23<>\"\",D23,\"\")","v":""},null,null,null,"",""]
["2021-09-03","Fredag","",null,null,null,"",""]
["2021-09-03","Fredag","",null,null,null,"",""]
[{"$f":"A22+1","v":"2021-09-04"},"Lördag","08:00:00",null,null,null,"",""]
[{"$f":"A23+1","v":"2021-09-04"},"Lördag",{"$f":"IF(D27<>\"\",D27,\"\")","v":""},null,null,null,"",""]
["2021-09-04","Lördag","",null,null,null,"",""]
["2021-09-04","Lördag","",null,null,null,"",""]
["2021-09-04","Lördag","",null,null,null,"",""]
[{"$f":"A27+1","v":"2021-09-05"},"Söndag","08:00:00",null,null,null,"",""]
[{"$f":"A28+1","v":"2021-09-05"},"Söndag",{"$f":"IF(D32<>\"\",D32,\"\")","v":""},null,null,null,"",""]
["2021-09-05","Söndag",{"$f":"IF(D33<>\"\",D33,\"\")","v":""},null,null,null,"",""]
["2021-09-05","Söndag","",null,null,null,"",""]
["2021-09-05","Söndag","",null,null,null,"",""]

{"sheet":"Vecka 36","index":36,"n_rows":36,"n_cols":22,"rows_kept":36,"cut":false,"hidden":false,"merged":[[5,21,5,27],[22,21,22,27]]}
["Datum","Dag","Start","Slut","Bolag","Specifikation","Datum + dag","Tid",{"$f":"SUM(H2:H37)","v":0},{"$f":"SUM($K$4:$R$11)","v":0}]
[{"$f":"'Vecka 35'!A2+7","v":"2021-09-06"},"Måndag","08:00:00",null,null,null,{"$f":"IF(D2<>\"\",B2&CHAR(10)&TEXT(A2,\"ÅÅÅÅ-MM-DD\"),\"\")","v":""},{"$f":"IF(D2<>\"\",IFERROR((D2-C2)*24,\"\"),\"\")","v":""},null,"Summa av Tid","Datum"]
[{"$f":"A2","v":"2021-09-06"},"Måndag",{"$f":"IF(D2<>\"\",D2,\"\")","v":""},null,null,null,{"$f":"IF(D3<>\"\",B3&CHAR(10)&TEXT(A3,\"ÅÅÅÅ-MM-DD\"),\"\")","v":""},{"$f":"IF(D3<>\"\",IFERROR((D3-C3)*24,\"\"),\"\")","v":""},null,"Bolag",null,"(tom)","Totalsumma"]
[{"$f":"A3","v":"2021-09-06"},"Måndag",{"$f":"IF(D3<>\"\",D3,\"\")","v":""},null,null,null,"","",null,"(tom)",0,null,0]
["2021-09-06","Måndag","",null,null,null,"","",null,"Totalsumma",0,null,0]
["2021-09-06","Måndag",{"$f":"IF(D5<>\"\",D5,\"\")","v":""},null,null,null,"","",null,null,null,null,null,null,null,null,null,null,null,null,null,"https://www.youtube.com/channel/UCQR-6DA2UYHgg9hwZ5jPpJA"]
[{"$f":"A2+1","v":"2021-09-07"},"Tisdag","08:00:00",null,null,null,"",""]
["2021-09-07","Tisdag",{"$f":"IF(D7<>\"\",D7,\"\")","v":""},null,null,null,"",""]
["2021-09-07","Tisdag",{"$f":"IF(D8<>\"\",D8,\"\")","v":""},null,null,null,"",""]
["2021-09-07","Tisdag","",null,null,null,"",""]
["2021-09-07","Tisdag",{"$f":"IF(D10<>\"\",D10,\"\")","v":""},null,null,null,"",""]
["2021-09-08","Onsdag","08:00:00",null,null,null,"",""]
["2021-09-08","Onsdag",{"$f":"IF(D12<>\"\",D12,\"\")","v":""},null,null,null,"",""]
["2021-09-08","Onsdag",{"$f":"IF(D13<>\"\",D13,\"\")","v":""},null,null,null,"",""]
["2021-09-08","Onsdag","",null,null,null,"",""]
["2021-09-08","Onsdag","",null,null,null,"",""]
[{"$f":"A12+1","v":"2021-09-09"},"Torsdag","08:00:00",null,null,null,"",""]
["2021-09-09","Torsdag",{"$f":"IF(D17<>\"\",D17,\"\")","v":""},null,null,null,"",""]
["2021-09-09","Torsdag","",null,null,null,"",""]
["2021-09-09","Torsdag","",null,null,null,"",""]
["2021-09-09","Torsdag","",null,null,null,"",""]
["2021-09-10","Fredag","08:00:00",null,null,null,"",""]
["2021-09-10","Fredag",{"$f":"IF(D22<>\"\",D22,\"\")","v":""},null,null,null,"","",null,null,null,null,null,null,null,null,null,null,null,null,null,"https://www.excelmedrickard.com/"]
["2021-09-10","Fredag",{"$f":"IF(D23<>\"\",D23,\"\")","v":""},null,null,null,"",""]
["2021-09-10","Fredag","",null,null,null,"",""]
["2021-09-10","Fredag","",null,null,null,"",""]
[{"$f":"A22+1","v":"2021-09-11"},"Lördag","08:00:00",null,null,null,"",""]
[{"$f":"A23+1","v":"2021-09-11"},"Lördag",{"$f":"IF(D27<>\"\",D27,\"\")","v":""},null,null,null,"",""]
["2021-09-11","Lördag","",null,null,null,"",""]
["2021-09-11","Lördag","",null,null,null,"",""]
["2021-09-11","Lördag","",null,null,null,"",""]
[{"$f":"A27+1","v":"2021-09-12"},"Söndag","08:00:00",null,null,null,"",""]
[{"$f":"A28+1","v":"2021-09-12"},"Söndag",{"$f":"IF(D32<>\"\",D32,\"\")","v":""},null,null,null,"",""]
["2021-09-12","Söndag",{"$f":"IF(D33<>\"\",D33,\"\")","v":""},null,null,null,"",""]
["2021-09-12","Söndag","",null,null,null,"",""]
["2021-09-12","Söndag","",null,null,null,"",""]

{"sheet":"Vecka 37","index":37,"n_rows":36,"n_cols":22,"rows_kept":36,"cut":false,"hidden":false,"merged":[[5,21,5,27],[22,21,22,27]]}
["Datum","Dag","Start","Slut","Bolag","Specifikation","Datum + dag","Tid",{"$f":"SUM(H2:H37)","v":0},{"$f":"SUM($K$4:$R$11)","v":0}]
[{"$f":"'Vecka 36'!A2+7","v":"2021-09-13"},"Måndag","08:00:00",null,null,null,{"$f":"IF(D2<>\"\",B2&CHAR(10)&TEXT(A2,\"ÅÅÅÅ-MM-DD\"),\"\")","v":""},{"$f":"IF(D2<>\"\",IFERROR((D2-C2)*24,\"\"),\"\")","v":""},null,"Summa av Tid","Datum"]
[{"$f":"A2","v":"2021-09-13"},"Måndag",{"$f":"IF(D2<>\"\",D2,\"\")","v":""},null,null,null,{"$f":"IF(D3<>\"\",B3&CHAR(10)&TEXT(A3,\"ÅÅÅÅ-MM-DD\"),\"\")","v":""},{"$f":"IF(D3<>\"\",IFERROR((D3-C3)*24,\"\"),\"\")","v":""},null,"Bolag",null,"(tom)","Totalsumma"]
[{"$f":"A3","v":"2021-09-13"},"Måndag",{"$f":"IF(D3<>\"\",D3,\"\")","v":""},null,null,null,"","",null,"(tom)",0,null,0]
["2021-09-13","Måndag","",null,null,null,"","",null,"Totalsumma",0,null,0]
["2021-09-13","Måndag",{"$f":"IF(D5<>\"\",D5,\"\")","v":""},null,null,null,"","",null,null,null,null,null,null,null,null,null,null,null,null,null,"https://www.youtube.com/channel/UCQR-6DA2UYHgg9hwZ5jPpJA"]
[{"$f":"A2+1","v":"2021-09-14"},"Tisdag","08:00:00",null,null,null,"",""]
["2021-09-14","Tisdag",{"$f":"IF(D7<>\"\",D7,\"\")","v":""},null,null,null,"",""]
["2021-09-14","Tisdag",{"$f":"IF(D8<>\"\",D8,\"\")","v":""},null,null,null,"",""]
["2021-09-14","Tisdag","",null,null,null,"",""]
["2021-09-14","Tisdag",{"$f":"IF(D10<>\"\",D10,\"\")","v":""},null,null,null,"",""]
["2021-09-15","Onsdag","08:00:00",null,null,null,"",""]
["2021-09-15","Onsdag",{"$f":"IF(D12<>\"\",D12,\"\")","v":""},null,null,null,"",""]
["2021-09-15","Onsdag",{"$f":"IF(D13<>\"\",D13,\"\")","v":""},null,null,null,"",""]
["2021-09-15","Onsdag","",null,null,null,"",""]
["2021-09-15","Onsdag","",null,null,null,"",""]
[{"$f":"A12+1","v":"2021-09-16"},"Torsdag","08:00:00",null,null,null,"",""]
["2021-09-16","Torsdag",{"$f":"IF(D17<>\"\",D17,\"\")","v":""},null,null,null,"",""]
["2021-09-16","Torsdag","",null,null,null,"",""]
["2021-09-16","Torsdag","",null,null,null,"",""]
["2021-09-16","Torsdag","",null,null,null,"",""]
["2021-09-17","Fredag","08:00:00",null,null,null,"",""]
["2021-09-17","Fredag",{"$f":"IF(D22<>\"\",D22,\"\")","v":""},null,null,null,"","",null,null,null,null,null,null,null,null,null,null,null,null,null,"https://www.excelmedrickard.com/"]
["2021-09-17","Fredag",{"$f":"IF(D23<>\"\",D23,\"\")","v":""},null,null,null,"",""]
["2021-09-17","Fredag","",null,null,null,"",""]
["2021-09-17","Fredag","",null,null,null,"",""]
[{"$f":"A22+1","v":"2021-09-18"},"Lördag","08:00:00",null,null,null,"",""]
[{"$f":"A23+1","v":"2021-09-18"},"Lördag",{"$f":"IF(D27<>\"\",D27,\"\")","v":""},null,null,null,"",""]
["2021-09-18","Lördag","",null,null,null,"",""]
["2021-09-18","Lördag","",null,null,null,"",""]
["2021-09-18","Lördag","",null,null,null,"",""]
[{"$f":"A27+1","v":"2021-09-19"},"Söndag","08:00:00",null,null,null,"",""]
[{"$f":"A28+1","v":"2021-09-19"},"Söndag",{"$f":"IF(D32<>\"\",D32,\"\")","v":""},null,null,null,"",""]
["2021-09-19","Söndag",{"$f":"IF(D33<>\"\",D33,\"\")","v":""},null,null,null,"",""]
["2021-09-19","Söndag","",null,null,null,"",""]
["2021-09-19","Söndag","",null,null,null,"",""]

{"sheet":"Vecka 38","index":38,"n_rows":36,"n_cols":22,"rows_kept":36,"cut":false,"hidden":false,"merged":[[5,21,5,27],[22,21,22,27]]}
["Datum","Dag","Start","Slut","Bolag","Specifikation","Datum + dag","Tid",{"$f":"SUM(H2:H37)","v":0},{"$f":"SUM($K$4:$R$11)","v":0}]
[{"$f":"'Vecka 37'!A2+7","v":"2021-09-20"},"Måndag","08:00:00",null,null,null,{"$f":"IF(D2<>\"\",B2&CHAR(10)&TEXT(A2,\"ÅÅÅÅ-MM-DD\"),\"\")","v":""},{"$f":"IF(D2<>\"\",IFERROR((D2-C2)*24,\"\"),\"\")","v":""},null,"Summa av Tid","Datum"]
[{"$f":"A2","v":"2021-09-20"},"Måndag",{"$f":"IF(D2<>\"\",D2,\"\")","v":""},null,null,null,{"$f":"IF(D3<>\"\",B3&CHAR(10)&TEXT(A3,\"ÅÅÅÅ-MM-DD\"),\"\")","v":""},{"$f":"IF(D3<>\"\",IFERROR((D3-C3)*24,\"\"),\"\")","v":""},null,"Bolag",null,"(tom)","Totalsumma"]
[{"$f":"A3","v":"2021-09-20"},"Måndag",{"$f":"IF(D3<>\"\",D3,\"\")","v":""},null,null,null,"","",null,"(tom)",0,null,0]
["2021-09-20","Måndag","",null,null,null,"","",null,"Totalsumma",0,null,0]
["2021-09-20","Måndag",{"$f":"IF(D5<>\"\",D5,\"\")","v":""},null,null,null,"","",null,null,null,null,null,null,null,null,null,null,null,null,null,"https://www.youtube.com/channel/UCQR-6DA2UYHgg9hwZ5jPpJA"]
[{"$f":"A2+1","v":"2021-09-21"},"Tisdag","08:00:00",null,null,null,"",""]
["2021-09-21","Tisdag",{"$f":"IF(D7<>\"\",D7,\"\")","v":""},null,null,null,"",""]
["2021-09-21","Tisdag",{"$f":"IF(D8<>\"\",D8,\"\")","v":""},null,null,null,"",""]
["2021-09-21","Tisdag","",null,null,null,"",""]
["2021-09-21","Tisdag",{"$f":"IF(D10<>\"\",D10,\"\")","v":""},null,null,null,"",""]
["2021-09-22","Onsdag","08:00:00",null,null,null,"",""]
["2021-09-22","Onsdag",{"$f":"IF(D12<>\"\",D12,\"\")","v":""},null,null,null,"",""]
["2021-09-22","Onsdag",{"$f":"IF(D13<>\"\",D13,\"\")","v":""},null,null,null,"",""]
["2021-09-22","Onsdag","",null,null,null,"",""]
["2021-09-22","Onsdag","",null,null,null,"",""]
[{"$f":"A12+1","v":"2021-09-23"},"Torsdag","08:00:00",null,null,null,"",""]
["2021-09-23","Torsdag",{"$f":"IF(D17<>\"\",D17,\"\")","v":""},null,null,null,"",""]
["2021-09-23","Torsdag","",null,null,null,"",""]
["2021-09-23","Torsdag","",null,null,null,"",""]
["2021-09-23","Torsdag","",null,null,null,"",""]
["2021-09-24","Fredag","08:00:00",null,null,null,"",""]
["2021-09-24","Fredag",{"$f":"IF(D22<>\"\",D22,\"\")","v":""},null,null,null,"","",null,null,null,null,null,null,null,null,null,null,null,null,null,"https://www.excelmedrickard.com/"]
["2021-09-24","Fredag",{"$f":"IF(D23<>\"\",D23,\"\")","v":""},null,null,null,"",""]
["2021-09-24","Fredag","",null,null,null,"",""]
["2021-09-24","Fredag","",null,null,null,"",""]
[{"$f":"A22+1","v":"2021-09-25"},"Lördag","08:00:00",null,null,null,"",""]
[{"$f":"A23+1","v":"2021-09-25"},"Lördag",{"$f":"IF(D27<>\"\",D27,\"\")","v":""},null,null,null,"",""]
["2021-09-25","Lördag","",null,null,null,"",""]
["2021-09-25","Lördag","",null,null,null,"",""]
["2021-09-25","Lördag","",null,null,null,"",""]
[{"$f":"A27+1","v":"2021-09-26"},"Söndag","08:00:00",null,null,null,"",""]
[{"$f":"A28+1","v":"2021-09-26"},"Söndag",{"$f":"IF(D32<>\"\",D32,\"\")","v":""},null,null,null,"",""]
["2021-09-26","Söndag",{"$f":"IF(D33<>\"\",D33,\"\")","v":""},null,null,null,"",""]
["2021-09-26","Söndag","",null,null,null,"",""]
["2021-09-26","Söndag","",null,null,null,"",""]

{"sheet":"Vecka 39","index":39,"n_rows":36,"n_cols":22,"rows_kept":36,"cut":false,"hidden":false,"merged":[[5,21,5,27],[22,21,22,27]]}
["Datum","Dag","Start","Slut","Bolag","Specifikation","Datum + dag","Tid",{"$f":"SUM(H2:H37)","v":0},{"$f":"SUM($K$4:$R$11)","v":0}]
[{"$f":"'Vecka 38'!A2+7","v":"2021-09-27"},"Måndag","08:00:00",null,null,null,{"$f":"IF(D2<>\"\",B2&CHAR(10)&TEXT(A2,\"ÅÅÅÅ-MM-DD\"),\"\")","v":""},{"$f":"IF(D2<>\"\",IFERROR((D2-C2)*24,\"\"),\"\")","v":""},null,"Summa av Tid","Datum"]
[{"$f":"A2","v":"2021-09-27"},"Måndag",{"$f":"IF(D2<>\"\",D2,\"\")","v":""},null,null,null,{"$f":"IF(D3<>\"\",B3&CHAR(10)&TEXT(A3,\"ÅÅÅÅ-MM-DD\"),\"\")","v":""},{"$f":"IF(D3<>\"\",IFERROR((D3-C3)*24,\"\"),\"\")","v":""},null,"Bolag",null,"(tom)","Totalsumma"]
[{"$f":"A3","v":"2021-09-27"},"Måndag",{"$f":"IF(D3<>\"\",D3,\"\")","v":""},null,null,null,"","",null,"(tom)",0,null,0]
["2021-09-27","Måndag","",null,null,null,"","",null,"Totalsumma",0,null,0]
["2021-09-27","Måndag",{"$f":"IF(D5<>\"\",D5,\"\")","v":""},null,null,null,"","",null,null,null,null,null,null,null,null,null,null,null,null,null,"https://www.youtube.com/channel/UCQR-6DA2UYHgg9hwZ5jPpJA"]
[{"$f":"A2+1","v":"2021-09-28"},"Tisdag","08:00:00",null,null,null,"",""]
["2021-09-28","Tisdag",{"$f":"IF(D7<>\"\",D7,\"\")","v":""},null,null,null,"",""]
["2021-09-28","Tisdag",{"$f":"IF(D8<>\"\",D8,\"\")","v":""},null,null,null,"",""]
["2021-09-28","Tisdag","",null,null,null,"",""]
["2021-09-28","Tisdag",{"$f":"IF(D10<>\"\",D10,\"\")","v":""},null,null,null,"",""]
["2021-09-29","Onsdag","08:00:00",null,null,null,"",""]
["2021-09-29","Onsdag",{"$f":"IF(D12<>\"\",D12,\"\")","v":""},null,null,null,"",""]
["2021-09-29","Onsdag",{"$f":"IF(D13<>\"\",D13,\"\")","v":""},null,null,null,"",""]
["2021-09-29","Onsdag","",null,null,null,"",""]
["2021-09-29","Onsdag","",null,null,null,"",""]
[{"$f":"A12+1","v":"2021-09-30"},"Torsdag","08:00:00",null,null,null,"",""]
["2021-09-30","Torsdag",{"$f":"IF(D17<>\"\",D17,\"\")","v":""},null,null,null,"",""]
["2021-09-30","Torsdag","",null,null,null,"",""]
["2021-09-30","Torsdag","",null,null,null,"",""]
["2021-09-30","Torsdag","",null,null,null,"",""]
["2021-10-01","Fredag","08:00:00",null,null,null,"",""]
["2021-10-01","Fredag",{"$f":"IF(D22<>\"\",D22,\"\")","v":""},null,null,null,"","",null,null,null,null,null,null,null,null,null,null,null,null,null,"https://www.excelmedrickard.com/"]
["2021-10-01","Fredag",{"$f":"IF(D23<>\"\",D23,\"\")","v":""},null,null,null,"",""]
["2021-10-01","Fredag","",null,null,null,"",""]
["2021-10-01","Fredag","",null,null,null,"",""]
[{"$f":"A22+1","v":"2021-10-02"},"Lördag","08:00:00",null,null,null,"",""]
[{"$f":"A23+1","v":"2021-10-02"},"Lördag",{"$f":"IF(D27<>\"\",D27,\"\")","v":""},null,null,null,"",""]
["2021-10-02","Lördag","",null,null,null,"",""]
["2021-10-02","Lördag","",null,null,null,"",""]
["2021-10-02","Lördag","",null,null,null,"",""]
[{"$f":"A27+1","v":"2021-10-03"},"Söndag","08:00:00",null,null,null,"",""]
[{"$f":"A28+1","v":"2021-10-03"},"Söndag",{"$f":"IF(D32<>\"\",D32,\"\")","v":""},null,null,null,"",""]
["2021-10-03","Söndag",{"$f":"IF(D33<>\"\",D33,\"\")","v":""},null,null,null,"",""]
["2021-10-03","Söndag","",null,null,null,"",""]
["2021-10-03","Söndag","",null,null,null,"",""]

{"sheet":"Vecka 40","index":40,"n_rows":36,"n_cols":22,"rows_kept":36,"cut":false,"hidden":false,"merged":[[5,21,5,27],[22,21,22,27]]}
["Datum","Dag","Start","Slut","Bolag","Specifikation","Datum + dag","Tid",{"$f":"SUM(H2:H37)","v":0},{"$f":"SUM($K$4:$R$11)","v":0}]
[{"$f":"'Vecka 39'!A2+7","v":"2021-10-04"},"Måndag","08:00:00",null,null,null,{"$f":"IF(D2<>\"\",B2&CHAR(10)&TEXT(A2,\"ÅÅÅÅ-MM-DD\"),\"\")","v":""},{"$f":"IF(D2<>\"\",IFERROR((D2-C2)*24,\"\"),\"\")","v":""},null,"Summa av Tid","Datum"]
[{"$f":"A2","v":"2021-10-04"},"Måndag",{"$f":"IF(D2<>\"\",D2,\"\")","v":""},null,null,null,{"$f":"IF(D3<>\"\",B3&CHAR(10)&TEXT(A3,\"ÅÅÅÅ-MM-DD\"),\"\")","v":""},{"$f":"IF(D3<>\"\",IFERROR((D3-C3)*24,\"\"),\"\")","v":""},null,"Bolag",null,"(tom)","Totalsumma"]
[{"$f":"A3","v":"2021-10-04"},"Måndag",{"$f":"IF(D3<>\"\",D3,\"\")","v":""},null,null,null,"","",null,"(tom)",0,null,0]
["2021-10-04","Måndag","",null,null,null,"","",null,"Totalsumma",0,null,0]
["2021-10-04","Måndag",{"$f":"IF(D5<>\"\",D5,\"\")","v":""},null,null,null,"","",null,null,null,null,null,null,null,null,null,null,null,null,null,"https://www.youtube.com/channel/UCQR-6DA2UYHgg9hwZ5jPpJA"]
[{"$f":"A2+1","v":"2021-10-05"},"Tisdag","08:00:00",null,null,null,"",""]
["2021-10-05","Tisdag",{"$f":"IF(D7<>\"\",D7,\"\")","v":""},null,null,null,"",""]
["2021-10-05","Tisdag",{"$f":"IF(D8<>\"\",D8,\"\")","v":""},null,null,null,"",""]
["2021-10-05","Tisdag","",null,null,null,"",""]
["2021-10-05","Tisdag",{"$f":"IF(D10<>\"\",D10,\"\")","v":""},null,null,null,"",""]
["2021-10-06","Onsdag","08:00:00",null,null,null,"",""]
["2021-10-06","Onsdag",{"$f":"IF(D12<>\"\",D12,\"\")","v":""},null,null,null,"",""]
["2021-10-06","Onsdag",{"$f":"IF(D13<>\"\",D13,\"\")","v":""},null,null,null,"",""]
["2021-10-06","Onsdag","",null,null,null,"",""]
["2021-10-06","Onsdag","",null,null,null,"",""]
[{"$f":"A12+1","v":"2021-10-07"},"Torsdag","08:00:00",null,null,null,"",""]
["2021-10-07","Torsdag",{"$f":"IF(D17<>\"\",D17,\"\")","v":""},null,null,null,"",""]
["2021-10-07","Torsdag","",null,null,null,"",""]
["2021-10-07","Torsdag","",null,null,null,"",""]
["2021-10-07","Torsdag","",null,null,null,"",""]
["2021-10-08","Fredag","08:00:00",null,null,null,"",""]
["2021-10-08","Fredag",{"$f":"IF(D22<>\"\",D22,\"\")","v":""},null,null,null,"","",null,null,null,null,null,null,null,null,null,null,null,null,null,"https://www.excelmedrickard.com/"]
["2021-10-08","Fredag",{"$f":"IF(D23<>\"\",D23,\"\")","v":""},null,null,null,"",""]
["2021-10-08","Fredag","",null,null,null,"",""]
["2021-10-08","Fredag","",null,null,null,"",""]
[{"$f":"A22+1","v":"2021-10-09"},"Lördag","08:00:00",null,null,null,"",""]
[{"$f":"A23+1","v":"2021-10-09"},"Lördag",{"$f":"IF(D27<>\"\",D27,\"\")","v":""},null,null,null,"",""]
["2021-10-09","Lördag","",null,null,null,"",""]
["2021-10-09","Lördag","",null,null,null,"",""]
["2021-10-09","Lördag","",null,null,null,"",""]
[{"$f":"A27+1","v":"2021-10-10"},"Söndag","08:00:00",null,null,null,"",""]
[{"$f":"A28+1","v":"2021-10-10"},"Söndag",{"$f":"IF(D32<>\"\",D32,\"\")","v":""},null,null,null,"",""]
["2021-10-10","Söndag",{"$f":"IF(D33<>\"\",D33,\"\")","v":""},null,null,null,"",""]
["2021-10-10","Söndag","",null,null,null,"",""]
["2021-10-10","Söndag","",null,null,null,"",""]

{"sheet":"Vecka 41","index":41,"n_rows":36,"n_cols":22,"rows_kept":36,"cut":false,"hidden":false,"merged":[[5,21,5,27],[22,21,22,27]]}
["Datum","Dag","Start","Slut","Bolag","Specifikation","Datum + dag","Tid",{"$f":"SUM(H2:H37)","v":0},{"$f":"SUM($K$4:$R$11)","v":0}]
[{"$f":"'Vecka 40'!A2+7","v":"2021-10-11"},"Måndag","08:00:00",null,null,null,{"$f":"IF(D2<>\"\",B2&CHAR(10)&TEXT(A2,\"ÅÅÅÅ-MM-DD\"),\"\")","v":""},{"$f":"IF(D2<>\"\",IFERROR((D2-C2)*24,\"\"),\"\")","v":""},null,"Summa av Tid","Datum"]
[{"$f":"A2","v":"2021-10-11"},"Måndag",{"$f":"IF(D2<>\"\",D2,\"\")","v":""},null,null,null,{"$f":"IF(D3<>\"\",B3&CHAR(10)&TEXT(A3,\"ÅÅÅÅ-MM-DD\"),\"\")","v":""},{"$f":"IF(D3<>\"\",IFERROR((D3-C3)*24,\"\"),\"\")","v":""},null,"Bolag",null,"(tom)","Totalsumma"]
[{"$f":"A3","v":"2021-10-11"},"Måndag",{"$f":"IF(D3<>\"\",D3,\"\")","v":""},null,null,null,"","",null,"(tom)",0,null,0]
["2021-10-11","Måndag","",null,null,null,"","",null,"Totalsumma",0,null,0]
["2021-10-11","Måndag",{"$f":"IF(D5<>\"\",D5,\"\")","v":""},null,null,null,"","",null,null,null,null,null,null,null,null,null,null,null,null,null,"https://www.youtube.com/channel/UCQR-6DA2UYHgg9hwZ5jPpJA"]
[{"$f":"A2+1","v":"2021-10-12"},"Tisdag","08:00:00",null,null,null,"",""]
["2021-10-12","Tisdag",{"$f":"IF(D7<>\"\",D7,\"\")","v":""},null,null,null,"",""]
["2021-10-12","Tisdag",{"$f":"IF(D8<>\"\",D8,\"\")","v":""},null,null,null,"",""]
["2021-10-12","Tisdag","",null,null,null,"",""]
["2021-10-12","Tisdag",{"$f":"IF(D10<>\"\",D10,\"\")","v":""},null,null,null,"",""]
["2021-10-13","Onsdag","08:00:00",null,null,null,"",""]
["2021-10-13","Onsdag",{"$f":"IF(D12<>\"\",D12,\"\")","v":""},null,null,null,"",""]
["2021-10-13","Onsdag",{"$f":"IF(D13<>\"\",D13,\"\")","v":""},null,null,null,"",""]
["2021-10-13","Onsdag","",null,null,null,"",""]
["2021-10-13","Onsdag","",null,null,null,"",""]
[{"$f":"A12+1","v":"2021-10-14"},"Torsdag","08:00:00",null,null,null,"",""]
["2021-10-14","Torsdag",{"$f":"IF(D17<>\"\",D17,\"\")","v":""},null,null,null,"",""]
["2021-10-14","Torsdag","",null,null,null,"",""]
["2021-10-14","Torsdag","",null,null,null,"",""]
["2021-10-14","Torsdag","",null,null,null,"",""]
["2021-10-15","Fredag","08:00:00",null,null,null,"",""]
["2021-10-15","Fredag",{"$f":"IF(D22<>\"\",D22,\"\")","v":""},null,null,null,"","",null,null,null,null,null,null,null,null,null,null,null,null,null,"https://www.excelmedrickard.com/"]
["2021-10-15","Fredag",{"$f":"IF(D23<>\"\",D23,\"\")","v":""},null,null,null,"",""]
["2021-10-15","Fredag","",null,null,null,"",""]
["2021-10-15","Fredag","",null,null,null,"",""]
[{"$f":"A22+1","v":"2021-10-16"},"Lördag","08:00:00",null,null,null,"",""]
[{"$f":"A23+1","v":"2021-10-16"},"Lördag",{"$f":"IF(D27<>\"\",D27,\"\")","v":""},null,null,null,"",""]
["2021-10-16","Lördag","",null,null,null,"",""]
["2021-10-16","Lördag","",null,null,null,"",""]
["2021-10-16","Lördag","",null,null,null,"",""]
[{"$f":"A27+1","v":"2021-10-17"},"Söndag","08:00:00",null,null,null,"",""]
[{"$f":"A28+1","v":"2021-10-17"},"Söndag",{"$f":"IF(D32<>\"\",D32,\"\")","v":""},null,null,null,"",""]
["2021-10-17","Söndag",{"$f":"IF(D33<>\"\",D33,\"\")","v":""},null,null,null,"",""]
["2021-10-17","Söndag","",null,null,null,"",""]
["2021-10-17","Söndag","",null,null,null,"",""]

{"sheet":"Vecka 42","index":42,"n_rows":36,"n_cols":22,"rows_kept":36,"cut":false,"hidden":false,"merged":[[5,21,5,27],[22,21,22,27]]}
["Datum","Dag","Start","Slut","Bolag","Specifikation","Datum + dag","Tid",{"$f":"SUM(H2:H37)","v":0},{"$f":"SUM($K$4:$R$11)","v":0}]
[{"$f":"'Vecka 41'!A2+7","v":"2021-10-18"},"Måndag","08:00:00",null,null,null,{"$f":"IF(D2<>\"\",B2&CHAR(10)&TEXT(A2,\"ÅÅÅÅ-MM-DD\"),\"\")","v":""},{"$f":"IF(D2<>\"\",IFERROR((D2-C2)*24,\"\"),\"\")","v":""},null,"Summa av Tid","Datum"]
[{"$f":"A2","v":"2021-10-18"},"Måndag",{"$f":"IF(D2<>\"\",D2,\"\")","v":""},null,null,null,{"$f":"IF(D3<>\"\",B3&CHAR(10)&TEXT(A3,\"ÅÅÅÅ-MM-DD\"),\"\")","v":""},{"$f":"IF(D3<>\"\",IFERROR((D3-C3)*24,\"\"),\"\")","v":""},null,"Bolag",null,"(tom)","Totalsumma"]
[{"$f":"A3","v":"2021-10-18"},"Måndag",{"$f":"IF(D3<>\"\",D3,\"\")","v":""},null,null,null,"","",null,"(tom)",0,null,0]
["2021-10-18","Måndag","",null,null,null,"","",null,"Totalsumma",0,null,0]
["2021-10-18","Måndag",{"$f":"IF(D5<>\"\",D5,\"\")","v":""},null,null,null,"","",null,null,null,null,null,null,null,null,null,null,null,null,null,"https://www.youtube.com/channel/UCQR-6DA2UYHgg9hwZ5jPpJA"]
[{"$f":"A2+1","v":"2021-10-19"},"Tisdag","08:00:00",null,null,null,"",""]
["2021-10-19","Tisdag",{"$f":"IF(D7<>\"\",D7,\"\")","v":""},null,null,null,"",""]
["2021-10-19","Tisdag",{"$f":"IF(D8<>\"\",D8,\"\")","v":""},null,null,null,"",""]
["2021-10-19","Tisdag","",null,null,null,"",""]
["2021-10-19","Tisdag",{"$f":"IF(D10<>\"\",D10,\"\")","v":""},null,null,null,"",""]
["2021-10-20","Onsdag","08:00:00",null,null,null,"",""]
["2021-10-20","Onsdag",{"$f":"IF(D12<>\"\",D12,\"\")","v":""},null,null,null,"",""]
["2021-10-20","Onsdag",{"$f":"IF(D13<>\"\",D13,\"\")","v":""},null,null,null,"",""]
["2021-10-20","Onsdag","",null,null,null,"",""]
["2021-10-20","Onsdag","",null,null,null,"",""]
[{"$f":"A12+1","v":"2021-10-21"},"Torsdag","08:00:00",null,null,null,"",""]
["2021-10-21","Torsdag",{"$f":"IF(D17<>\"\",D17,\"\")","v":""},null,null,null,"",""]
["2021-10-21","Torsdag","",null,null,null,"",""]
["2021-10-21","Torsdag","",null,null,null,"",""]
["2021-10-21","Torsdag","",null,null,null,"",""]
["2021-10-22","Fredag","08:00:00",null,null,null,"",""]
["2021-10-22","Fredag",{"$f":"IF(D22<>\"\",D22,\"\")","v":""},null,null,null,"","",null,null,null,null,null,null,null,null,null,null,null,null,null,"https://www.excelmedrickard.com/"]
["2021-10-22","Fredag",{"$f":"IF(D23<>\"\",D23,\"\")","v":""},null,null,null,"",""]
["2021-10-22","Fredag","",null,null,null,"",""]
["2021-10-22","Fredag","",null,null,null,"",""]
[{"$f":"A22+1","v":"2021-10-23"},"Lördag","08:00:00",null,null,null,"",""]
[{"$f":"A23+1","v":"2021-10-23"},"Lördag",{"$f":"IF(D27<>\"\",D27,\"\")","v":""},null,null,null,"",""]
["2021-10-23","Lördag","",null,null,null,"",""]
["2021-10-23","Lördag","",null,null,null,"",""]
["2021-10-23","Lördag","",null,null,null,"",""]
[{"$f":"A27+1","v":"2021-10-24"},"Söndag","08:00:00",null,null,null,"",""]
[{"$f":"A28+1","v":"2021-10-24"},"Söndag",{"$f":"IF(D32<>\"\",D32,\"\")","v":""},null,null,null,"",""]
["2021-10-24","Söndag",{"$f":"IF(D33<>\"\",D33,\"\")","v":""},null,null,null,"",""]
["2021-10-24","Söndag","",null,null,null,"",""]
["2021-10-24","Söndag","",null,null,null,"",""]

{"sheet":"Vecka 43","index":43,"n_rows":36,"n_cols":22,"rows_kept":36,"cut":false,"hidden":false,"merged":[[5,21,5,27],[22,21,22,27]]}
["Datum","Dag","Start","Slut","Bolag","Specifikation","Datum + dag","Tid",{"$f":"SUM(H2:H37)","v":0},{"$f":"SUM($K$4:$R$11)","v":0}]
[{"$f":"'Vecka 42'!A2+7","v":"2021-10-25"},"Måndag","08:00:00",null,null,null,{"$f":"IF(D2<>\"\",B2&CHAR(10)&TEXT(A2,\"ÅÅÅÅ-MM-DD\"),\"\")","v":""},{"$f":"IF(D2<>\"\",IFERROR((D2-C2)*24,\"\"),\"\")","v":""},null,"Summa av Tid","Datum"]
[{"$f":"A2","v":"2021-10-25"},"Måndag",{"$f":"IF(D2<>\"\",D2,\"\")","v":""},null,null,null,{"$f":"IF(D3<>\"\",B3&CHAR(10)&TEXT(A3,\"ÅÅÅÅ-MM-DD\"),\"\")","v":""},{"$f":"IF(D3<>\"\",IFERROR((D3-C3)*24,\"\"),\"\")","v":""},null,"Bolag",null,"(tom)","Totalsumma"]
[{"$f":"A3","v":"2021-10-25"},"Måndag",{"$f":"IF(D3<>\"\",D3,\"\")","v":""},null,null,null,"","",null,"(tom)",0,null,0]
["2021-10-25","Måndag","",null,null,null,"","",null,"Totalsumma",0,null,0]
["2021-10-25","Måndag",{"$f":"IF(D5<>\"\",D5,\"\")","v":""},null,null,null,"","",null,null,null,null,null,null,null,null,null,null,null,null,null,"https://www.youtube.com/channel/UCQR-6DA2UYHgg9hwZ5jPpJA"]
[{"$f":"A2+1","v":"2021-10-26"},"Tisdag","08:00:00",null,null,null,"",""]
["2021-10-26","Tisdag",{"$f":"IF(D7<>\"\",D7,\"\")","v":""},null,null,null,"",""]
["2021-10-26","Tisdag",{"$f":"IF(D8<>\"\",D8,\"\")","v":""},null,null,null,"",""]
["2021-10-26","Tisdag","",null,null,null,"",""]
["2021-10-26","Tisdag",{"$f":"IF(D10<>\"\",D10,\"\")","v":""},null,null,null,"",""]
["2021-10-27","Onsdag","08:00:00",null,null,null,"",""]
["2021-10-27","Onsdag",{"$f":"IF(D12<>\"\",D12,\"\")","v":""},null,null,null,"",""]
["2021-10-27","Onsdag",{"$f":"IF(D13<>\"\",D13,\"\")","v":""},null,null,null,"",""]
["2021-10-27","Onsdag","",null,null,null,"",""]
["2021-10-27","Onsdag","",null,null,null,"",""]
[{"$f":"A12+1","v":"2021-10-28"},"Torsdag","08:00:00",null,null,null,"",""]
["2021-10-28","Torsdag",{"$f":"IF(D17<>\"\",D17,\"\")","v":""},null,null,null,"",""]
["2021-10-28","Torsdag","",null,null,null,"",""]
["2021-10-28","Torsdag","",null,null,null,"",""]
["2021-10-28","Torsdag","",null,null,null,"",""]
["2021-10-29","Fredag","08:00:00",null,null,null,"",""]
["2021-10-29","Fredag",{"$f":"IF(D22<>\"\",D22,\"\")","v":""},null,null,null,"","",null,null,null,null,null,null,null,null,null,null,null,null,null,"https://www.excelmedrickard.com/"]
["2021-10-29","Fredag",{"$f":"IF(D23<>\"\",D23,\"\")","v":""},null,null,null,"",""]
["2021-10-29","Fredag","",null,null,null,"",""]
["2021-10-29","Fredag","",null,null,null,"",""]
[{"$f":"A22+1","v":"2021-10-30"},"Lördag","08:00:00",null,null,null,"",""]
[{"$f":"A23+1","v":"2021-10-30"},"Lördag",{"$f":"IF(D27<>\"\",D27,\"\")","v":""},null,null,null,"",""]
["2021-10-30","Lördag","",null,null,null,"",""]
["2021-10-30","Lördag","",null,null,null,"",""]
["2021-10-30","Lördag","",null,null,null,"",""]
[{"$f":"A27+1","v":"2021-10-31"},"Söndag","08:00:00",null,null,null,"",""]
[{"$f":"A28+1","v":"2021-10-31"},"Söndag",{"$f":"IF(D32<>\"\",D32,\"\")","v":""},null,null,null,"",""]
["2021-10-31","Söndag",{"$f":"IF(D33<>\"\",D33,\"\")","v":""},null,null,null,"",""]
["2021-10-31","Söndag","",null,null,null,"",""]
["2021-10-31","Söndag","",null,null,null,"",""]

{"sheet":"Vecka 44","index":44,"n_rows":36,"n_cols":22,"rows_kept":36,"cut":false,"hidden":false,"merged":[[5,21,5,27],[22,21,22,27]]}
["Datum","Dag","Start","Slut","Bolag","Specifikation","Datum + dag","Tid",{"$f":"SUM(H2:H37)","v":0},{"$f":"SUM($K$4:$R$11)","v":0}]
[{"$f":"'Vecka 43'!A2+7","v":"2021-11-01"},"Måndag","08:00:00",null,null,null,{"$f":"IF(D2<>\"\",B2&CHAR(10)&TEXT(A2,\"ÅÅÅÅ-MM-DD\"),\"\")","v":""},{"$f":"IF(D2<>\"\",IFERROR((D2-C2)*24,\"\"),\"\")","v":""},null,"Summa av Tid","Datum"]
[{"$f":"A2","v":"2021-11-01"},"Måndag",{"$f":"IF(D2<>\"\",D2,\"\")","v":""},null,null,null,{"$f":"IF(D3<>\"\",B3&CHAR(10)&TEXT(A3,\"ÅÅÅÅ-MM-DD\"),\"\")","v":""},{"$f":"IF(D3<>\"\",IFERROR((D3-C3)*24,\"\"),\"\")","v":""},null,"Bolag",null,"(tom)","Totalsumma"]
[{"$f":"A3","v":"2021-11-01"},"Måndag",{"$f":"IF(D3<>\"\",D3,\"\")","v":""},null,null,null,"","",null,"(tom)",0,null,0]
["2021-11-01","Måndag","",null,null,null,"","",null,"Totalsumma",0,null,0]
["2021-11-01","Måndag",{"$f":"IF(D5<>\"\",D5,\"\")","v":""},null,null,null,"","",null,null,null,null,null,null,null,null,null,null,null,null,null,"https://www.youtube.com/channel/UCQR-6DA2UYHgg9hwZ5jPpJA"]
[{"$f":"A2+1","v":"2021-11-02"},"Tisdag","08:00:00",null,null,null,"",""]
["2021-11-02","Tisdag",{"$f":"IF(D7<>\"\",D7,\"\")","v":""},null,null,null,"",""]
["2021-11-02","Tisdag",{"$f":"IF(D8<>\"\",D8,\"\")","v":""},null,null,null,"",""]
["2021-11-02","Tisdag","",null,null,null,"",""]
["2021-11-02","Tisdag",{"$f":"IF(D10<>\"\",D10,\"\")","v":""},null,null,null,"",""]
["2021-11-03","Onsdag","08:00:00",null,null,null,"",""]
["2021-11-03","Onsdag",{"$f":"IF(D12<>\"\",D12,\"\")","v":""},null,null,null,"",""]
["2021-11-03","Onsdag",{"$f":"IF(D13<>\"\",D13,\"\")","v":""},null,null,null,"",""]
["2021-11-03","Onsdag","",null,null,null,"",""]
["2021-11-03","Onsdag","",null,null,null,"",""]
[{"$f":"A12+1","v":"2021-11-04"},"Torsdag","08:00:00",null,null,null,"",""]
["2021-11-04","Torsdag",{"$f":"IF(D17<>\"\",D17,\"\")","v":""},null,null,null,"",""]
["2021-11-04","Torsdag","",null,null,null,"",""]
["2021-11-04","Torsdag","",null,null,null,"",""]
["2021-11-04","Torsdag","",null,null,null,"",""]
["2021-11-05","Fredag","08:00:00",null,null,null,"",""]
["2021-11-05","Fredag",{"$f":"IF(D22<>\"\",D22,\"\")","v":""},null,null,null,"","",null,null,null,null,null,null,null,null,null,null,null,null,null,"https://www.excelmedrickard.com/"]
["2021-11-05","Fredag",{"$f":"IF(D23<>\"\",D23,\"\")","v":""},null,null,null,"",""]
["2021-11-05","Fredag","",null,null,null,"",""]
["2021-11-05","Fredag","",null,null,null,"",""]
[{"$f":"A22+1","v":"2021-11-06"},"Lördag","08:00:00",null,null,null,"",""]
[{"$f":"A23+1","v":"2021-11-06"},"Lördag",{"$f":"IF(D27<>\"\",D27,\"\")","v":""},null,null,null,"",""]
["2021-11-06","Lördag","",null,null,null,"",""]
["2021-11-06","Lördag","",null,null,null,"",""]
["2021-11-06","Lördag","",null,null,null,"",""]
[{"$f":"A27+1","v":"2021-11-07"},"Söndag","08:00:00",null,null,null,"",""]
[{"$f":"A28+1","v":"2021-11-07"},"Söndag",{"$f":"IF(D32<>\"\",D32,\"\")","v":""},null,null,null,"",""]
["2021-11-07","Söndag",{"$f":"IF(D33<>\"\",D33,\"\")","v":""},null,null,null,"",""]
["2021-11-07","Söndag","",null,null,null,"",""]
["2021-11-07","Söndag","",null,null,null,"",""]

{"sheet":"Vecka 45","index":45,"n_rows":36,"n_cols":22,"rows_kept":36,"cut":false,"hidden":false,"merged":[[5,21,5,27],[22,21,22,27]]}
["Datum","Dag","Start","Slut","Bolag","Specifikation","Datum + dag","Tid",{"$f":"SUM(H2:H37)","v":0},{"$f":"SUM($K$4:$R$11)","v":0}]
[{"$f":"'Vecka 44'!A2+7","v":"2021-11-08"},"Måndag","08:00:00",null,null,null,{"$f":"IF(D2<>\"\",B2&CHAR(10)&TEXT(A2,\"ÅÅÅÅ-MM-DD\"),\"\")","v":""},{"$f":"IF(D2<>\"\",IFERROR((D2-C2)*24,\"\"),\"\")","v":""},null,"Summa av Tid","Datum"]
[{"$f":"A2","v":"2021-11-08"},"Måndag",{"$f":"IF(D2<>\"\",D2,\"\")","v":""},null,null,null,{"$f":"IF(D3<>\"\",B3&CHAR(10)&TEXT(A3,\"ÅÅÅÅ-MM-DD\"),\"\")","v":""},{"$f":"IF(D3<>\"\",IFERROR((D3-C3)*24,\"\"),\"\")","v":""},null,"Bolag",null,"(tom)","Totalsumma"]
[{"$f":"A3","v":"2021-11-08"},"Måndag",{"$f":"IF(D3<>\"\",D3,\"\")","v":""},null,null,null,"","",null,"(tom)",0,null,0]
["2021-11-08","Måndag","",null,null,null,"","",null,"Totalsumma",0,null,0]
["2021-11-08","Måndag",{"$f":"IF(D5<>\"\",D5,\"\")","v":""},null,null,null,"","",null,null,null,null,null,null,null,null,null,null,null,null,null,"https://www.youtube.com/channel/UCQR-6DA2UYHgg9hwZ5jPpJA"]
[{"$f":"A2+1","v":"2021-11-09"},"Tisdag","08:00:00",null,null,null,"",""]
["2021-11-09","Tisdag",{"$f":"IF(D7<>\"\",D7,\"\")","v":""},null,null,null,"",""]
["2021-11-09","Tisdag",{"$f":"IF(D8<>\"\",D8,\"\")","v":""},null,null,null,"",""]
["2021-11-09","Tisdag","",null,null,null,"",""]
["2021-11-09","Tisdag",{"$f":"IF(D10<>\"\",D10,\"\")","v":""},null,null,null,"",""]
["2021-11-10","Onsdag","08:00:00",null,null,null,"",""]
["2021-11-10","Onsdag",{"$f":"IF(D12<>\"\",D12,\"\")","v":""},null,null,null,"",""]
["2021-11-10","Onsdag",{"$f":"IF(D13<>\"\",D13,\"\")","v":""},null,null,null,"",""]
["2021-11-10","Onsdag","",null,null,null,"",""]
["2021-11-10","Onsdag","",null,null,null,"",""]
[{"$f":"A12+1","v":"2021-11-11"},"Torsdag","08:00:00",null,null,null,"",""]
["2021-11-11","Torsdag",{"$f":"IF(D17<>\"\",D17,\"\")","v":""},null,null,null,"",""]
["2021-11-11","Torsdag","",null,null,null,"",""]
["2021-11-11","Torsdag","",null,null,null,"",""]
["2021-11-11","Torsdag","",null,null,null,"",""]
["2021-11-12","Fredag","08:00:00",null,null,null,"",""]
["2021-11-12","Fredag",{"$f":"IF(D22<>\"\",D22,\"\")","v":""},null,null,null,"","",null,null,null,null,null,null,null,null,null,null,null,null,null,"https://www.excelmedrickard.com/"]
["2021-11-12","Fredag",{"$f":"IF(D23<>\"\",D23,\"\")","v":""},null,null,null,"",""]
["2021-11-12","Fredag","",null,null,null,"",""]
["2021-11-12","Fredag","",null,null,null,"",""]
[{"$f":"A22+1","v":"2021-11-13"},"Lördag","08:00:00",null,null,null,"",""]
[{"$f":"A23+1","v":"2021-11-13"},"Lördag",{"$f":"IF(D27<>\"\",D27,\"\")","v":""},null,null,null,"",""]
["2021-11-13","Lördag","",null,null,null,"",""]
["2021-11-13","Lördag","",null,null,null,"",""]
["2021-11-13","Lördag","",null,null,null,"",""]
[{"$f":"A27+1","v":"2021-11-14"},"Söndag","08:00:00",null,null,null,"",""]
[{"$f":"A28+1","v":"2021-11-14"},"Söndag",{"$f":"IF(D32<>\"\",D32,\"\")","v":""},null,null,null,"",""]
["2021-11-14","Söndag",{"$f":"IF(D33<>\"\",D33,\"\")","v":""},null,null,null,"",""]
["2021-11-14","Söndag","",null,null,null,"",""]
["2021-11-14","Söndag","",null,null,null,"",""]

{"sheet":"Vecka 46","index":46,"n_rows":36,"n_cols":22,"rows_kept":36,"cut":false,"hidden":false,"merged":[[5,21,5,27],[22,21,22,27]]}
["Datum","Dag","Start","Slut","Bolag","Specifikation","Datum + dag","Tid",{"$f":"SUM(H2:H37)","v":0},{"$f":"SUM($K$4:$R$11)","v":0}]
[{"$f":"'Vecka 45'!A2+7","v":"2021-11-15"},"Måndag","08:00:00",null,null,null,{"$f":"IF(D2<>\"\",B2&CHAR(10)&TEXT(A2,\"ÅÅÅÅ-MM-DD\"),\"\")","v":""},{"$f":"IF(D2<>\"\",IFERROR((D2-C2)*24,\"\"),\"\")","v":""},null,"Summa av Tid","Datum"]
[{"$f":"A2","v":"2021-11-15"},"Måndag",{"$f":"IF(D2<>\"\",D2,\"\")","v":""},null,null,null,{"$f":"IF(D3<>\"\",B3&CHAR(10)&TEXT(A3,\"ÅÅÅÅ-MM-DD\"),\"\")","v":""},{"$f":"IF(D3<>\"\",IFERROR((D3-C3)*24,\"\"),\"\")","v":""},null,"Bolag",null,"(tom)","Totalsumma"]
[{"$f":"A3","v":"2021-11-15"},"Måndag",{"$f":"IF(D3<>\"\",D3,\"\")","v":""},null,null,null,"","",null,"(tom)",0,null,0]
["2021-11-15","Måndag","",null,null,null,"","",null,"Totalsumma",0,null,0]
["2021-11-15","Måndag",{"$f":"IF(D5<>\"\",D5,\"\")","v":""},null,null,null,"","",null,null,null,null,null,null,null,null,null,null,null,null,null,"https://www.youtube.com/channel/UCQR-6DA2UYHgg9hwZ5jPpJA"]
[{"$f":"A2+1","v":"2021-11-16"},"Tisdag","08:00:00",null,null,null,"",""]
["2021-11-16","Tisdag",{"$f":"IF(D7<>\"\",D7,\"\")","v":""},null,null,null,"",""]
["2021-11-16","Tisdag",{"$f":"IF(D8<>\"\",D8,\"\")","v":""},null,null,null,"",""]
["2021-11-16","Tisdag","",null,null,null,"",""]
["2021-11-16","Tisdag",{"$f":"IF(D10<>\"\",D10,\"\")","v":""},null,null,null,"",""]
["2021-11-17","Onsdag","08:00:00",null,null,null,"",""]
["2021-11-17","Onsdag",{"$f":"IF(D12<>\"\",D12,\"\")","v":""},null,null,null,"",""]
["2021-11-17","Onsdag",{"$f":"IF(D13<>\"\",D13,\"\")","v":""},null,null,null,"",""]
["2021-11-17","Onsdag","",null,null,null,"",""]
["2021-11-17","Onsdag","",null,null,null,"",""]
[{"$f":"A12+1","v":"2021-11-18"},"Torsdag","08:00:00",null,null,null,"",""]
["2021-11-18","Torsdag",{"$f":"IF(D17<>\"\",D17,\"\")","v":""},null,null,null,"",""]
["2021-11-18","Torsdag","",null,null,null,"",""]
["2021-11-18","Torsdag","",null,null,null,"",""]
["2021-11-18","Torsdag","",null,null,null,"",""]
["2021-11-19","Fredag","08:00:00",null,null,null,"",""]
["2021-11-19","Fredag",{"$f":"IF(D22<>\"\",D22,\"\")","v":""},null,null,null,"","",null,null,null,null,null,null,null,null,null,null,null,null,null,"https://www.excelmedrickard.com/"]
["2021-11-19","Fredag",{"$f":"IF(D23<>\"\",D23,\"\")","v":""},null,null,null,"",""]
["2021-11-19","Fredag","",null,null,null,"",""]
["2021-11-19","Fredag","",null,null,null,"",""]
[{"$f":"A22+1","v":"2021-11-20"},"Lördag","08:00:00",null,null,null,"",""]
[{"$f":"A23+1","v":"2021-11-20"},"Lördag",{"$f":"IF(D27<>\"\",D27,\"\")","v":""},null,null,null,"",""]
["2021-11-20","Lördag","",null,null,null,"",""]
["2021-11-20","Lördag","",null,null,null,"",""]
["2021-11-20","Lördag","",null,null,null,"",""]
[{"$f":"A27+1","v":"2021-11-21"},"Söndag","08:00:00",null,null,null,"",""]
[{"$f":"A28+1","v":"2021-11-21"},"Söndag",{"$f":"IF(D32<>\"\",D32,\"\")","v":""},null,null,null,"",""]
["2021-11-21","Söndag",{"$f":"IF(D33<>\"\",D33,\"\")","v":""},null,null,null,"",""]
["2021-11-21","Söndag","",null,null,null,"",""]
["2021-11-21","Söndag","",null,null,null,"",""]

{"sheet":"Vecka 47","index":47,"n_rows":36,"n_cols":22,"rows_kept":36,"cut":false,"hidden":false,"merged":[[5,21,5,27],[22,21,22,27]]}
["Datum","Dag","Start","Slut","Bolag","Specifikation","Datum + dag","Tid",{"$f":"SUM(H2:H37)","v":0},{"$f":"SUM($K$4:$R$11)","v":0}]
[{"$f":"'Vecka 46'!A2+7","v":"2021-11-22"},"Måndag","08:00:00",null,null,null,{"$f":"IF(D2<>\"\",B2&CHAR(10)&TEXT(A2,\"ÅÅÅÅ-MM-DD\"),\"\")","v":""},{"$f":"IF(D2<>\"\",IFERROR((D2-C2)*24,\"\"),\"\")","v":""},null,"Summa av Tid","Datum"]
[{"$f":"A2","v":"2021-11-22"},"Måndag",{"$f":"IF(D2<>\"\",D2,\"\")","v":""},null,null,null,{"$f":"IF(D3<>\"\",B3&CHAR(10)&TEXT(A3,\"ÅÅÅÅ-MM-DD\"),\"\")","v":""},{"$f":"IF(D3<>\"\",IFERROR((D3-C3)*24,\"\"),\"\")","v":""},null,"Bolag",null,"(tom)","Totalsumma"]
[{"$f":"A3","v":"2021-11-22"},"Måndag",{"$f":"IF(D3<>\"\",D3,\"\")","v":""},null,null,null,"","",null,"(tom)",0,null,0]
["2021-11-22","Måndag","",null,null,null,"","",null,"Totalsumma",0,null,0]
["2021-11-22","Måndag",{"$f":"IF(D5<>\"\",D5,\"\")","v":""},null,null,null,"","",null,null,null,null,null,null,null,null,null,null,null,null,null,"https://www.youtube.com/channel/UCQR-6DA2UYHgg9hwZ5jPpJA"]
[{"$f":"A2+1","v":"2021-11-23"},"Tisdag","08:00:00",null,null,null,"",""]
["2021-11-23","Tisdag",{"$f":"IF(D7<>\"\",D7,\"\")","v":""},null,null,null,"",""]
["2021-11-23","Tisdag",{"$f":"IF(D8<>\"\",D8,\"\")","v":""},null,null,null,"",""]
["2021-11-23","Tisdag","",null,null,null,"",""]
["2021-11-23","Tisdag",{"$f":"IF(D10<>\"\",D10,\"\")","v":""},null,null,null,"",""]
["2021-11-24","Onsdag","08:00:00",null,null,null,"",""]
["2021-11-24","Onsdag",{"$f":"IF(D12<>\"\",D12,\"\")","v":""},null,null,null,"",""]
["2021-11-24","Onsdag",{"$f":"IF(D13<>\"\",D13,\"\")","v":""},null,null,null,"",""]
["2021-11-24","Onsdag","",null,null,null,"",""]
["2021-11-24","Onsdag","",null,null,null,"",""]
[{"$f":"A12+1","v":"2021-11-25"},"Torsdag","08:00:00",null,null,null,"",""]
["2021-11-25","Torsdag",{"$f":"IF(D17<>\"\",D17,\"\")","v":""},null,null,null,"",""]
["2021-11-25","Torsdag","",null,null,null,"",""]
["2021-11-25","Torsdag","",null,null,null,"",""]
["2021-11-25","Torsdag","",null,null,null,"",""]
["2021-11-26","Fredag","08:00:00",null,null,null,"",""]
["2021-11-26","Fredag",{"$f":"IF(D22<>\"\",D22,\"\")","v":""},null,null,null,"","",null,null,null,null,null,null,null,null,null,null,null,null,null,"https://www.excelmedrickard.com/"]
["2021-11-26","Fredag",{"$f":"IF(D23<>\"\",D23,\"\")","v":""},null,null,null,"",""]
["2021-11-26","Fredag","",null,null,null,"",""]
["2021-11-26","Fredag","",null,null,null,"",""]
[{"$f":"A22+1","v":"2021-11-27"},"Lördag","08:00:00",null,null,null,"",""]
[{"$f":"A23+1","v":"2021-11-27"},"Lördag",{"$f":"IF(D27<>\"\",D27,\"\")","v":""},null,null,null,"",""]
["2021-11-27","Lördag","",null,null,null,"",""]
["2021-11-27","Lördag","",null,null,null,"",""]
["2021-11-27","Lördag","",null,null,null,"",""]
[{"$f":"A27+1","v":"2021-11-28"},"Söndag","08:00:00",null,null,null,"",""]
[{"$f":"A28+1","v":"2021-11-28"},"Söndag",{"$f":"IF(D32<>\"\",D32,\"\")","v":""},null,null,null,"",""]
["2021-11-28","Söndag",{"$f":"IF(D33<>\"\",D33,\"\")","v":""},null,null,null,"",""]
["2021-11-28","Söndag","",null,null,null,"",""]
["2021-11-28","Söndag","",null,null,null,"",""]

{"sheet":"Vecka 48","index":48,"n_rows":36,"n_cols":22,"rows_kept":36,"cut":false,"hidden":false,"merged":[[5,21,5,27],[22,21,22,27]]}
["Datum","Dag","Start","Slut","Bolag","Specifikation","Datum + dag","Tid",{"$f":"SUM(H2:H37)","v":0},{"$f":"SUM($K$4:$R$11)","v":0}]
[{"$f":"'Vecka 47'!A2+7","v":"2021-11-29"},"Måndag","08:00:00",null,null,null,{"$f":"IF(D2<>\"\",B2&CHAR(10)&TEXT(A2,\"ÅÅÅÅ-MM-DD\"),\"\")","v":""},{"$f":"IF(D2<>\"\",IFERROR((D2-C2)*24,\"\"),\"\")","v":""},null,"Summa av Tid","Datum"]
[{"$f":"A2","v":"2021-11-29"},"Måndag",{"$f":"IF(D2<>\"\",D2,\"\")","v":""},null,null,null,{"$f":"IF(D3<>\"\",B3&CHAR(10)&TEXT(A3,\"ÅÅÅÅ-MM-DD\"),\"\")","v":""},{"$f":"IF(D3<>\"\",IFERROR((D3-C3)*24,\"\"),\"\")","v":""},null,"Bolag",null,"(tom)","Totalsumma"]
[{"$f":"A3","v":"2021-11-29"},"Måndag",{"$f":"IF(D3<>\"\",D3,\"\")","v":""},null,null,null,"","",null,"(tom)",0,null,0]
["2021-11-29","Måndag","",null,null,null,"","",null,"Totalsumma",0,null,0]
["2021-11-29","Måndag",{"$f":"IF(D5<>\"\",D5,\"\")","v":""},null,null,null,"","",null,null,null,null,null,null,null,null,null,null,null,null,null,"https://www.youtube.com/channel/UCQR-6DA2UYHgg9hwZ5jPpJA"]
[{"$f":"A2+1","v":"2021-11-30"},"Tisdag","08:00:00",null,null,null,"",""]
["2021-11-30","Tisdag",{"$f":"IF(D7<>\"\",D7,\"\")","v":""},null,null,null,"",""]
["2021-11-30","Tisdag",{"$f":"IF(D8<>\"\",D8,\"\")","v":""},null,null,null,"",""]
["2021-11-30","Tisdag","",null,null,null,"",""]
["2021-11-30","Tisdag",{"$f":"IF(D10<>\"\",D10,\"\")","v":""},null,null,null,"",""]
["2021-12-01","Onsdag","08:00:00",null,null,null,"",""]
["2021-12-01","Onsdag",{"$f":"IF(D12<>\"\",D12,\"\")","v":""},null,null,null,"",""]
["2021-12-01","Onsdag",{"$f":"IF(D13<>\"\",D13,\"\")","v":""},null,null,null,"",""]
["2021-12-01","Onsdag","",null,null,null,"",""]
["2021-12-01","Onsdag","",null,null,null,"",""]
[{"$f":"A12+1","v":"2021-12-02"},"Torsdag","08:00:00",null,null,null,"",""]
["2021-12-02","Torsdag",{"$f":"IF(D17<>\"\",D17,\"\")","v":""},null,null,null,"",""]
["2021-12-02","Torsdag","",null,null,null,"",""]
["2021-12-02","Torsdag","",null,null,null,"",""]
["2021-12-02","Torsdag","",null,null,null,"",""]
["2021-12-03","Fredag","08:00:00",null,null,null,"",""]
["2021-12-03","Fredag",{"$f":"IF(D22<>\"\",D22,\"\")","v":""},null,null,null,"","",null,null,null,null,null,null,null,null,null,null,null,null,null,"https://www.excelmedrickard.com/"]
["2021-12-03","Fredag",{"$f":"IF(D23<>\"\",D23,\"\")","v":""},null,null,null,"",""]
["2021-12-03","Fredag","",null,null,null,"",""]
["2021-12-03","Fredag","",null,null,null,"",""]
[{"$f":"A22+1","v":"2021-12-04"},"Lördag","08:00:00",null,null,null,"",""]
[{"$f":"A23+1","v":"2021-12-04"},"Lördag",{"$f":"IF(D27<>\"\",D27,\"\")","v":""},null,null,null,"",""]
["2021-12-04","Lördag","",null,null,null,"",""]
["2021-12-04","Lördag","",null,null,null,"",""]
["2021-12-04","Lördag","",null,null,null,"",""]
[{"$f":"A27+1","v":"2021-12-05"},"Söndag","08:00:00",null,null,null,"",""]
[{"$f":"A28+1","v":"2021-12-05"},"Söndag",{"$f":"IF(D32<>\"\",D32,\"\")","v":""},null,null,null,"",""]
["2021-12-05","Söndag",{"$f":"IF(D33<>\"\",D33,\"\")","v":""},null,null,null,"",""]
["2021-12-05","Söndag","",null,null,null,"",""]
["2021-12-05","Söndag","",null,null,null,"",""]

{"sheet":"Vecka 49","index":49,"n_rows":36,"n_cols":22,"rows_kept":36,"cut":false,"hidden":false,"merged":[[5,21,5,27],[22,21,22,27]]}
["Datum","Dag","Start","Slut","Bolag","Specifikation","Datum + dag","Tid",{"$f":"SUM(H2:H37)","v":0},{"$f":"SUM($K$4:$R$11)","v":0}]
[{"$f":"'Vecka 48'!A2+7","v":"2021-12-06"},"Måndag","08:00:00",null,null,null,{"$f":"IF(D2<>\"\",B2&CHAR(10)&TEXT(A2,\"ÅÅÅÅ-MM-DD\"),\"\")","v":""},{"$f":"IF(D2<>\"\",IFERROR((D2-C2)*24,\"\"),\"\")","v":""},null,"Summa av Tid","Datum"]
[{"$f":"A2","v":"2021-12-06"},"Måndag",{"$f":"IF(D2<>\"\",D2,\"\")","v":""},null,null,null,{"$f":"IF(D3<>\"\",B3&CHAR(10)&TEXT(A3,\"ÅÅÅÅ-MM-DD\"),\"\")","v":""},{"$f":"IF(D3<>\"\",IFERROR((D3-C3)*24,\"\"),\"\")","v":""},null,"Bolag",null,"(tom)","Totalsumma"]
[{"$f":"A3","v":"2021-12-06"},"Måndag",{"$f":"IF(D3<>\"\",D3,\"\")","v":""},null,null,null,"","",null,"(tom)",0,null,0]
["2021-12-06","Måndag","",null,null,null,"","",null,"Totalsumma",0,null,0]
["2021-12-06","Måndag",{"$f":"IF(D5<>\"\",D5,\"\")","v":""},null,null,null,"","",null,null,null,null,null,null,null,null,null,null,null,null,null,"https://www.youtube.com/channel/UCQR-6DA2UYHgg9hwZ5jPpJA"]
[{"$f":"A2+1","v":"2021-12-07"},"Tisdag","08:00:00",null,null,null,"",""]
["2021-12-07","Tisdag",{"$f":"IF(D7<>\"\",D7,\"\")","v":""},null,null,null,"",""]
["2021-12-07","Tisdag",{"$f":"IF(D8<>\"\",D8,\"\")","v":""},null,null,null,"",""]
["2021-12-07","Tisdag","",null,null,null,"",""]
["2021-12-07","Tisdag",{"$f":"IF(D10<>\"\",D10,\"\")","v":""},null,null,null,"",""]
["2021-12-08","Onsdag","08:00:00",null,null,null,"",""]
["2021-12-08","Onsdag",{"$f":"IF(D12<>\"\",D12,\"\")","v":""},null,null,null,"",""]
["2021-12-08","Onsdag",{"$f":"IF(D13<>\"\",D13,\"\")","v":""},null,null,null,"",""]
["2021-12-08","Onsdag","",null,null,null,"",""]
["2021-12-08","Onsdag","",null,null,null,"",""]
[{"$f":"A12+1","v":"2021-12-09"},"Torsdag","08:00:00",null,null,null,"",""]
["2021-12-09","Torsdag",{"$f":"IF(D17<>\"\",D17,\"\")","v":""},null,null,null,"",""]
["2021-12-09","Torsdag","",null,null,null,"",""]
["2021-12-09","Torsdag","",null,null,null,"",""]
["2021-12-09","Torsdag","",null,null,null,"",""]
["2021-12-10","Fredag","08:00:00",null,null,null,"",""]
["2021-12-10","Fredag",{"$f":"IF(D22<>\"\",D22,\"\")","v":""},null,null,null,"","",null,null,null,null,null,null,null,null,null,null,null,null,null,"https://www.excelmedrickard.com/"]
["2021-12-10","Fredag",{"$f":"IF(D23<>\"\",D23,\"\")","v":""},null,null,null,"",""]
["2021-12-10","Fredag","",null,null,null,"",""]
["2021-12-10","Fredag","",null,null,null,"",""]
[{"$f":"A22+1","v":"2021-12-11"},"Lördag","08:00:00",null,null,null,"",""]
[{"$f":"A23+1","v":"2021-12-11"},"Lördag",{"$f":"IF(D27<>\"\",D27,\"\")","v":""},null,null,null,"",""]
["2021-12-11","Lördag","",null,null,null,"",""]
["2021-12-11","Lördag","",null,null,null,"",""]
["2021-12-11","Lördag","",null,null,null,"",""]
[{"$f":"A27+1","v":"2021-12-12"},"Söndag","08:00:00",null,null,null,"",""]
[{"$f":"A28+1","v":"2021-12-12"},"Söndag",{"$f":"IF(D32<>\"\",D32,\"\")","v":""},null,null,null,"",""]
["2021-12-12","Söndag",{"$f":"IF(D33<>\"\",D33,\"\")","v":""},null,null,null,"",""]
["2021-12-12","Söndag","",null,null,null,"",""]
["2021-12-12","Söndag","",null,null,null,"",""]

{"sheet":"Vecka 50","index":50,"n_rows":36,"n_cols":22,"rows_kept":36,"cut":false,"hidden":false,"merged":[[5,21,5,27],[22,21,22,27]]}
["Datum","Dag","Start","Slut","Bolag","Specifikation","Datum + dag","Tid",{"$f":"SUM(H2:H37)","v":0},{"$f":"SUM($K$4:$R$11)","v":0}]
[{"$f":"'Vecka 49'!A2+7","v":"2021-12-13"},"Måndag","08:00:00",null,null,null,{"$f":"IF(D2<>\"\",B2&CHAR(10)&TEXT(A2,\"ÅÅÅÅ-MM-DD\"),\"\")","v":""},{"$f":"IF(D2<>\"\",IFERROR((D2-C2)*24,\"\"),\"\")","v":""},null,"Summa av Tid","Datum"]
[{"$f":"A2","v":"2021-12-13"},"Måndag",{"$f":"IF(D2<>\"\",D2,\"\")","v":""},null,null,null,{"$f":"IF(D3<>\"\",B3&CHAR(10)&TEXT(A3,\"ÅÅÅÅ-MM-DD\"),\"\")","v":""},{"$f":"IF(D3<>\"\",IFERROR((D3-C3)*24,\"\"),\"\")","v":""},null,"Bolag",null,"(tom)","Totalsumma"]
[{"$f":"A3","v":"2021-12-13"},"Måndag",{"$f":"IF(D3<>\"\",D3,\"\")","v":""},null,null,null,"","",null,"(tom)",0,null,0]
["2021-12-13","Måndag","",null,null,null,"","",null,"Totalsumma",0,null,0]
["2021-12-13","Måndag",{"$f":"IF(D5<>\"\",D5,\"\")","v":""},null,null,null,"","",null,null,null,null,null,null,null,null,null,null,null,null,null,"https://www.youtube.com/channel/UCQR-6DA2UYHgg9hwZ5jPpJA"]
[{"$f":"A2+1","v":"2021-12-14"},"Tisdag","08:00:00",null,null,null,"",""]
["2021-12-14","Tisdag",{"$f":"IF(D7<>\"\",D7,\"\")","v":""},null,null,null,"",""]
["2021-12-14","Tisdag",{"$f":"IF(D8<>\"\",D8,\"\")","v":""},null,null,null,"",""]
["2021-12-14","Tisdag","",null,null,null,"",""]
["2021-12-14","Tisdag",{"$f":"IF(D10<>\"\",D10,\"\")","v":""},null,null,null,"",""]
["2021-12-15","Onsdag","08:00:00",null,null,null,"",""]
["2021-12-15","Onsdag",{"$f":"IF(D12<>\"\",D12,\"\")","v":""},null,null,null,"",""]
["2021-12-15","Onsdag",{"$f":"IF(D13<>\"\",D13,\"\")","v":""},null,null,null,"",""]
["2021-12-15","Onsdag","",null,null,null,"",""]
["2021-12-15","Onsdag","",null,null,null,"",""]
[{"$f":"A12+1","v":"2021-12-16"},"Torsdag","08:00:00",null,null,null,"",""]
["2021-12-16","Torsdag",{"$f":"IF(D17<>\"\",D17,\"\")","v":""},null,null,null,"",""]
["2021-12-16","Torsdag","",null,null,null,"",""]
["2021-12-16","Torsdag","",null,null,null,"",""]
["2021-12-16","Torsdag","",null,null,null,"",""]
["2021-12-17","Fredag","08:00:00",null,null,null,"",""]
["2021-12-17","Fredag",{"$f":"IF(D22<>\"\",D22,\"\")","v":""},null,null,null,"","",null,null,null,null,null,null,null,null,null,null,null,null,null,"https://www.excelmedrickard.com/"]
["2021-12-17","Fredag",{"$f":"IF(D23<>\"\",D23,\"\")","v":""},null,null,null,"",""]
["2021-12-17","Fredag","",null,null,null,"",""]
["2021-12-17","Fredag","",null,null,null,"",""]
[{"$f":"A22+1","v":"2021-12-18"},"Lördag","08:00:00",null,null,null,"",""]
[{"$f":"A23+1","v":"2021-12-18"},"Lördag",{"$f":"IF(D27<>\"\",D27,\"\")","v":""},null,null,null,"",""]
["2021-12-18","Lördag","",null,null,null,"",""]
["2021-12-18","Lördag","",null,null,null,"",""]
["2021-12-18","Lördag","",null,null,null,"",""]
[{"$f":"A27+1","v":"2021-12-19"},"Söndag","08:00:00",null,null,null,"",""]
[{"$f":"A28+1","v":"2021-12-19"},"Söndag",{"$f":"IF(D32<>\"\",D32,\"\")","v":""},null,null,null,"",""]
["2021-12-19","Söndag",{"$f":"IF(D33<>\"\",D33,\"\")","v":""},null,null,null,"",""]
["2021-12-19","Söndag","",null,null,null,"",""]
["2021-12-19","Söndag","",null,null,null,"",""]

{"sheet":"Vecka 51","index":51,"n_rows":36,"n_cols":22,"rows_kept":36,"cut":false,"hidden":false,"merged":[[5,21,5,27],[22,21,22,27]]}
["Datum","Dag","Start","Slut","Bolag","Specifikation","Datum + dag","Tid",{"$f":"SUM(H2:H37)","v":0},{"$f":"SUM($K$4:$R$11)","v":0}]
[{"$f":"'Vecka 50'!A2+7","v":"2021-12-20"},"Måndag","08:00:00",null,null,null,{"$f":"IF(D2<>\"\",B2&CHAR(10)&TEXT(A2,\"ÅÅÅÅ-MM-DD\"),\"\")","v":""},{"$f":"IF(D2<>\"\",IFERROR((D2-C2)*24,\"\"),\"\")","v":""},null,"Summa av Tid","Datum"]
[{"$f":"A2","v":"2021-12-20"},"Måndag",{"$f":"IF(D2<>\"\",D2,\"\")","v":""},null,null,null,{"$f":"IF(D3<>\"\",B3&CHAR(10)&TEXT(A3,\"ÅÅÅÅ-MM-DD\"),\"\")","v":""},{"$f":"IF(D3<>\"\",IFERROR((D3-C3)*24,\"\"),\"\")","v":""},null,"Bolag",null,"(tom)","Totalsumma"]
[{"$f":"A3","v":"2021-12-20"},"Måndag",{"$f":"IF(D3<>\"\",D3,\"\")","v":""},null,null,null,"","",null,"(tom)",0,null,0]
["2021-12-20","Måndag","",null,null,null,"","",null,"Totalsumma",0,null,0]
["2021-12-20","Måndag",{"$f":"IF(D5<>\"\",D5,\"\")","v":""},null,null,null,"","",null,null,null,null,null,null,null,null,null,null,null,null,null,"https://www.youtube.com/channel/UCQR-6DA2UYHgg9hwZ5jPpJA"]
[{"$f":"A2+1","v":"2021-12-21"},"Tisdag","08:00:00",null,null,null,"",""]
["2021-12-21","Tisdag",{"$f":"IF(D7<>\"\",D7,\"\")","v":""},null,null,null,"",""]
["2021-12-21","Tisdag",{"$f":"IF(D8<>\"\",D8,\"\")","v":""},null,null,null,"",""]
["2021-12-21","Tisdag","",null,null,null,"",""]
["2021-12-21","Tisdag",{"$f":"IF(D10<>\"\",D10,\"\")","v":""},null,null,null,"",""]
["2021-12-22","Onsdag","08:00:00",null,null,null,"",""]
["2021-12-22","Onsdag",{"$f":"IF(D12<>\"\",D12,\"\")","v":""},null,null,null,"",""]
["2021-12-22","Onsdag",{"$f":"IF(D13<>\"\",D13,\"\")","v":""},null,null,null,"",""]
["2021-12-22","Onsdag","",null,null,null,"",""]
["2021-12-22","Onsdag","",null,null,null,"",""]
[{"$f":"A12+1","v":"2021-12-23"},"Torsdag","08:00:00",null,null,null,"",""]
["2021-12-23","Torsdag",{"$f":"IF(D17<>\"\",D17,\"\")","v":""},null,null,null,"",""]
["2021-12-23","Torsdag","",null,null,null,"",""]
["2021-12-23","Torsdag","",null,null,null,"",""]
["2021-12-23","Torsdag","",null,null,null,"",""]
["2021-12-24","Fredag","08:00:00",null,null,null,"",""]
["2021-12-24","Fredag",{"$f":"IF(D22<>\"\",D22,\"\")","v":""},null,null,null,"","",null,null,null,null,null,null,null,null,null,null,null,null,null,"https://www.excelmedrickard.com/"]
["2021-12-24","Fredag",{"$f":"IF(D23<>\"\",D23,\"\")","v":""},null,null,null,"",""]
["2021-12-24","Fredag","",null,null,null,"",""]
["2021-12-24","Fredag","",null,null,null,"",""]
[{"$f":"A22+1","v":"2021-12-25"},"Lördag","08:00:00",null,null,null,"",""]
[{"$f":"A23+1","v":"2021-12-25"},"Lördag",{"$f":"IF(D27<>\"\",D27,\"\")","v":""},null,null,null,"",""]
["2021-12-25","Lördag","",null,null,null,"",""]
["2021-12-25","Lördag","",null,null,null,"",""]
["2021-12-25","Lördag","",null,null,null,"",""]
[{"$f":"A27+1","v":"2021-12-26"},"Söndag","08:00:00",null,null,null,"",""]
[{"$f":"A28+1","v":"2021-12-26"},"Söndag",{"$f":"IF(D32<>\"\",D32,\"\")","v":""},null,null,null,"",""]
["2021-12-26","Söndag",{"$f":"IF(D33<>\"\",D33,\"\")","v":""},null,null,null,"",""]
["2021-12-26","Söndag","",null,null,null,"",""]
["2021-12-26","Söndag","",null,null,null,"",""]

{"sheet":"Vecka 52","index":52,"n_rows":36,"n_cols":22,"rows_kept":36,"cut":false,"hidden":false,"merged":[[5,21,5,27],[22,21,22,27]]}
["Datum","Dag","Start","Slut","Bolag","Specifikation","Datum + dag","Tid",{"$f":"SUM(H2:H37)","v":0},{"$f":"SUM($K$4:$R$11)","v":0}]
[{"$f":"'Vecka 51'!A2+7","v":"2021-12-27"},"Måndag","08:00:00",null,null,null,{"$f":"IF(D2<>\"\",B2&CHAR(10)&TEXT(A2,\"ÅÅÅÅ-MM-DD\"),\"\")","v":""},{"$f":"IF(D2<>\"\",IFERROR((D2-C2)*24,\"\"),\"\")","v":""},null,"Summa av Tid","Datum"]
[{"$f":"A2","v":"2021-12-27"},"Måndag",{"$f":"IF(D2<>\"\",D2,\"\")","v":""},null,null,null,{"$f":"IF(D3<>\"\",B3&CHAR(10)&TEXT(A3,\"ÅÅÅÅ-MM-DD\"),\"\")","v":""},{"$f":"IF(D3<>\"\",IFERROR((D3-C3)*24,\"\"),\"\")","v":""},null,"Bolag",null,"(tom)","Totalsumma"]
[{"$f":"A3","v":"2021-12-27"},"Måndag",{"$f":"IF(D3<>\"\",D3,\"\")","v":""},null,null,null,"","",null,"(tom)",0,null,0]
["2021-12-27","Måndag","",null,null,null,"","",null,"Totalsumma",0,null,0]
["2021-12-27","Måndag",{"$f":"IF(D5<>\"\",D5,\"\")","v":""},null,null,null,"","",null,null,null,null,null,null,null,null,null,null,null,null,null,"https://www.youtube.com/channel/UCQR-6DA2UYHgg9hwZ5jPpJA"]
[{"$f":"A2+1","v":"2021-12-28"},"Tisdag","08:00:00",null,null,null,"",""]
["2021-12-28","Tisdag",{"$f":"IF(D7<>\"\",D7,\"\")","v":""},null,null,null,"",""]
["2021-12-28","Tisdag",{"$f":"IF(D8<>\"\",D8,\"\")","v":""},null,null,null,"",""]
["2021-12-28","Tisdag","",null,null,null,"",""]
["2021-12-28","Tisdag",{"$f":"IF(D10<>\"\",D10,\"\")","v":""},null,null,null,"",""]
["2021-12-29","Onsdag","08:00:00",null,null,null,"",""]
["2021-12-29","Onsdag",{"$f":"IF(D12<>\"\",D12,\"\")","v":""},null,null,null,"",""]
["2021-12-29","Onsdag",{"$f":"IF(D13<>\"\",D13,\"\")","v":""},null,null,null,"",""]
["2021-12-29","Onsdag","",null,null,null,"",""]
["2021-12-29","Onsdag","",null,null,null,"",""]
[{"$f":"A12+1","v":"2021-12-30"},"Torsdag","08:00:00",null,null,null,"",""]
["2021-12-30","Torsdag",{"$f":"IF(D17<>\"\",D17,\"\")","v":""},null,null,null,"",""]
["2021-12-30","Torsdag","",null,null,null,"",""]
["2021-12-30","Torsdag","",null,null,null,"",""]
["2021-12-30","Torsdag","",null,null,null,"",""]
["2021-12-31","Fredag","08:00:00",null,null,null,"",""]
["2021-12-31","Fredag",{"$f":"IF(D22<>\"\",D22,\"\")","v":""},null,null,null,"","",null,null,null,null,null,null,null,null,null,null,null,null,null,"https://www.excelmedrickard.com/"]
["2021-12-31","Fredag",{"$f":"IF(D23<>\"\",D23,\"\")","v":""},null,null,null,"",""]
["2021-12-31","Fredag","",null,null,null,"",""]
["2021-12-31","Fredag","",null,null,null,"",""]
[{"$f":"A22+1","v":"2022-01-01"},"Lördag","08:00:00",null,null,null,"",""]
[{"$f":"A23+1","v":"2022-01-01"},"Lördag",{"$f":"IF(D27<>\"\",D27,\"\")","v":""},null,null,null,"",""]
["2022-01-01","Lördag","",null,null,null,"",""]
["2022-01-01","Lördag","",null,null,null,"",""]
["2022-01-01","Lördag","",null,null,null,"",""]
[{"$f":"A27+1","v":"2022-01-02"},"Söndag","08:00:00",null,null,null,"",""]
[{"$f":"A28+1","v":"2022-01-02"},"Söndag",{"$f":"IF(D32<>\"\",D32,\"\")","v":""},null,null,null,"",""]
["2022-01-02","Söndag",{"$f":"IF(D33<>\"\",D33,\"\")","v":""},null,null,null,"",""]
["2022-01-02","Söndag","",null,null,null,"",""]
["2022-01-02","Söndag","",null,null,null,"",""]

{"sheet":"Vecka 53","index":53,"n_rows":36,"n_cols":22,"rows_kept":36,"cut":false,"hidden":false,"merged":[[5,21,5,27],[22,21,22,27]]}
["Datum","Dag","Start","Slut","Bolag","Specifikation","Datum + dag","Tid",{"$f":"SUM(H2:H37)","v":0},{"$f":"SUM($K$4:$R$11)","v":0}]
[{"$f":"'Vecka 52'!A2+7","v":"2022-01-03"},"Måndag","08:00:00",null,null,null,{"$f":"IF(D2<>\"\",B2&CHAR(10)&TEXT(A2,\"ÅÅÅÅ-MM-DD\"),\"\")","v":""},{"$f":"IF(D2<>\"\",IFERROR((D2-C2)*24,\"\"),\"\")","v":""},null,"Summa av Tid","Datum"]
[{"$f":"A2","v":"2022-01-03"},"Måndag",{"$f":"IF(D2<>\"\",D2,\"\")","v":""},null,null,null,{"$f":"IF(D3<>\"\",B3&CHAR(10)&TEXT(A3,\"ÅÅÅÅ-MM-DD\"),\"\")","v":""},{"$f":"IF(D3<>\"\",IFERROR((D3-C3)*24,\"\"),\"\")","v":""},null,"Bolag",null,"(tom)","Totalsumma"]
[{"$f":"A3","v":"2022-01-03"},"Måndag",{"$f":"IF(D3<>\"\",D3,\"\")","v":""},null,null,null,"","",null,"(tom)",0,null,0]
["2022-01-03","Måndag","",null,null,null,"","",null,"Totalsumma",0,null,0]
["2022-01-03","Måndag",{"$f":"IF(D5<>\"\",D5,\"\")","v":""},null,null,null,"","",null,null,null,null,null,null,null,null,null,null,null,null,null,"https://www.youtube.com/channel/UCQR-6DA2UYHgg9hwZ5jPpJA"]
[{"$f":"A2+1","v":"2022-01-04"},"Tisdag","08:00:00",null,null,null,"",""]
["2022-01-04","Tisdag",{"$f":"IF(D7<>\"\",D7,\"\")","v":""},null,null,null,"",""]
["2022-01-04","Tisdag",{"$f":"IF(D8<>\"\",D8,\"\")","v":""},null,null,null,"",""]
["2022-01-04","Tisdag","",null,null,null,"",""]
["2022-01-04","Tisdag",{"$f":"IF(D10<>\"\",D10,\"\")","v":""},null,null,null,"",""]
["2022-01-05","Onsdag","08:00:00",null,null,null,"",""]
["2022-01-05","Onsdag",{"$f":"IF(D12<>\"\",D12,\"\")","v":""},null,null,null,"",""]
["2022-01-05","Onsdag",{"$f":"IF(D13<>\"\",D13,\"\")","v":""},null,null,null,"",""]
["2022-01-05","Onsdag","",null,null,null,"",""]
["2022-01-05","Onsdag","",null,null,null,"",""]
[{"$f":"A12+1","v":"2022-01-06"},"Torsdag","08:00:00",null,null,null,"",""]
["2022-01-06","Torsdag",{"$f":"IF(D17<>\"\",D17,\"\")","v":""},null,null,null,"",""]
["2022-01-06","Torsdag","",null,null,null,"",""]
["2022-01-06","Torsdag","",null,null,null,"",""]
["2022-01-06","Torsdag","",null,null,null,"",""]
["2022-01-07","Fredag","08:00:00",null,null,null,"",""]
["2022-01-07","Fredag",{"$f":"IF(D22<>\"\",D22,\"\")","v":""},null,null,null,"","",null,null,null,null,null,null,null,null,null,null,null,null,null,"https://www.excelmedrickard.com/"]
["2022-01-07","Fredag",{"$f":"IF(D23<>\"\",D23,\"\")","v":""},null,null,null,"",""]
["2022-01-07","Fredag","",null,null,null,"",""]
["2022-01-07","Fredag","",null,null,null,"",""]
[{"$f":"A22+1","v":"2022-01-08"},"Lördag","08:00:00",null,null,null,"",""]
[{"$f":"A23+1","v":"2022-01-08"},"Lördag",{"$f":"IF(D27<>\"\",D27,\"\")","v":""},null,null,null,"",""]
["2022-01-08","Lördag","",null,null,null,"",""]
["2022-01-08","Lördag","",null,null,null,"",""]
["2022-01-08","Lördag","",null,null,null,"",""]
[{"$f":"A27+1","v":"2022-01-09"},"Söndag","08:00:00",null,null,null,"",""]
[{"$f":"A28+1","v":"2022-01-09"},"Söndag",{"$f":"IF(D32<>\"\",D32,\"\")","v":""},null,null,null,"",""]
["2022-01-09","Söndag",{"$f":"IF(D33<>\"\",D33,\"\")","v":""},null,null,null,"",""]
["2022-01-09","Söndag","",null,null,null,"",""]
["2022-01-09","Söndag","",null,null,null,"",""]

{"sheet":"Cognos_Office_Connection_Cache","index":54,"n_rows":0,"n_cols":0,"rows_kept":0,"cut":false,"hidden":true,"merged":[]}