Workbook

Sheet 1. Taak Risico Analyse
A1: #VALUE! | C1: Logo klant | E1: Taak Risico Analyse | L1: Datum Versie 1: | P1: 45390
L2: Revisie nummer:
E3: Taakbeschrijving: | L3: Revisie datum:
A4: Nr | B4: Activiteit | C4: Gevaar | D4: Risico | E4: Risicoclassificatie | I4: Risicoreducerende maatregelen | J4: Arbeidshygiënische strategie | K4: Verantwoordelijke | L4: Risicoclassificatie na maatregelen | P4: Actie/advies
E5: W | F5: B | G5: E | H5: Risico | L5: W | M5: B | N5: E | O5: Risico
A7: 1 | B7: Voorbeeld: Werkzaamheden op het dak | C7: Werken op hoogte | D7: Vallen | E7: 3 | F7: 6 | G7: 15 | H7: =E7*F7*G7 -> 270 | I7: Dakrandbeveiliging | J7: Collectieve maatregel | K7: Werkgever | L7: 0.5 | M7: 6 | N7: 15 | O7: =L7*M7*N7 -> 45 | P7: {=_xlfn.IFS(O7>400,'2. Methode'!D32,O7>200,'2. Methode'!D33,O7>70,'2. Methode'!D34,O7>20,'2. Methode'!D35,O7<=20,'2. Methode'!D36)} -> Aandacht vereist
I8: Het dak niet betreden boven windkracht 6 | J8: Individuele maatregel | K8: Werkgever
K9: Werkgever
K10: Werkgever
A12: 2 | H12: =E12*F12*G12 -> 0 | O12: =L12*M12*N12 -> 0 | P12: {=_xlfn.IFS(O12>400,'2. Methode'!D32,O12>200,'2. Methode'!D33,O12>70,'2. Methode'!D34,O12>20,'2. Methode'!D35,O12<=20,'2. Methode'!D36)} -> Wellicht aanvaardbaar
A14: 3 | H14: =E14*F14*G14 -> 0 | K14: Werkgever | O14: =L14*M14*N14 -> 0 | P14: {=_xlfn.IFS(O14>400,'2. Methode'!D32,O14>200,'2. Methode'!D33,O14>70,'2. Methode'!D34,O14>20,'2. Methode'!D35,O14<=20,'2. Methode'!D36)} -> Wellicht aanvaardbaar
A16: 4 | H16: =E16*F16*G16 -> 0 | K16: Werkgever | O16: =L16*M16*N16 -> 0 | P16: {=_xlfn.IFS(O16>400,'2. Methode'!D32,O16>200,'2. Methode'!D33,O16>70,'2. Methode'!D34,O16>20,'2. Methode'!D35,O16<=20,'2. Methode'!D36)} -> Wellicht aanvaardbaar
A18: 5 | H18: =E18*F18*G18 -> 0 | K18: Werkgever | O18: =L18*M18*N18 -> 0 | P18: {=_xlfn.IFS(O18>400,'2. Methode'!D32,O18>200,'2. Methode'!D33,O18>70,'2. Methode'!D34,O18>20,'2. Methode'!D35,O18<=20,'2. Methode'!D36)} -> Wellicht aanvaardbaar
A20: 6 | H20: =E20*F20*G20 -> 0 | K20: Werkgever | O20: =L20*M20*N20 -> 0 | P20: {=_xlfn.IFS(O20>400,'2. Methode'!D32,O20>200,'2. Methode'!D33,O20>70,'2. Methode'!D34,O20>20,'2. Methode'!D35,O20<=20,'2. Methode'!D36)} -> Wellicht aanvaardbaar
A22: 7 | H22: =E22*F22*G22 -> 0 | K22: Werkgever | O22: =L22*M22*N22 -> 0 | P22: {=_xlfn.IFS(O22>400,'2. Methode'!D32,O22>200,'2. Methode'!D33,O22>70,'2. Methode'!D34,O22>20,'2. Methode'!D35,O22<=20,'2. Methode'!D36)} -> Wellicht aanvaardbaar
A24: 8 | H24: =E24*F24*G24 -> 0 | K24: Werkgever | O24: =L24*M24*N24 -> 0 | P24: {=_xlfn.IFS(O24>400,'2. Methode'!D32,O24>200,'2. Methode'!D33,O24>70,'2. Methode'!D34,O24>20,'2. Methode'!D35,O24<=20,'2. Methode'!D36)} -> Wellicht aanvaardbaar
A26: 9 | H26: =E26*F26*G26 -> 0 | K26: Werkgever | O26: =L26*M26*N26 -> 0 | P26: {=_xlfn.IFS(O26>400,'2. Methode'!D32,O26>200,'2. Methode'!D33,O26>70,'2. Methode'!D34,O26>20,'2. Methode'!D35,O26<=20,'2. Methode'!D36)} -> Wellicht aanvaardbaar
A28: 10 | H28: =E28*F28*G28 -> 0 | K28: Werkgever | O28: =L28*M28*N28 -> 0 | P28: {=_xlfn.IFS(O28>400,'2. Methode'!D32,O28>200,'2. Methode'!D33,O28>70,'2. Methode'!D34,O28>20,'2. Methode'!D35,O28<=20,'2. Methode'!D36)} -> Wellicht aanvaardbaar
H29: =E29*F29*G29 -> 0 | K29: Werkgever | O29: =L29*M29*N29 -> 0 | P29: {=_xlfn.IFS(O29>400,'2. Methode'!D32,O29>200,'2. Methode'!D33,O29>70,'2. Methode'!D34,O29>20,'2. Methode'!D35,O29<=20,'2. Methode'!D36)} -> Wellicht aanvaardbaar
H30: =E30*F30*G30 -> 0 | K30: Werkgever | O30: =L30*M30*N30 -> 0 | P30: {=_xlfn.IFS(O30>400,'2. Methode'!D32,O30>200,'2. Methode'!D33,O30>70,'2. Methode'!D34,O30>20,'2. Methode'!D35,O30<=20,'2. Methode'!D36)} -> Wellicht aanvaardbaar
H31: =E31*F31*G31 -> 0 | K31: Werkgever | O31: =L31*M31*N31 -> 0 | P31: {=_xlfn.IFS(O31>400,'2. Methode'!D32,O31>200,'2. Methode'!D33,O31>70,'2. Methode'!D34,O31>20,'2. Methode'!D35,O31<=20,'2. Methode'!D36)} -> Wellicht aanvaardbaar
H32: =E32*F32*G32 -> 0 | K32: Werkgever | O32: =L32*M32*N32 -> 0 | P32: {=_xlfn.IFS(O32>400,'2. Methode'!D32,O32>200,'2. Methode'!D33,O32>70,'2. Methode'!D34,O32>20,'2. Methode'!D35,O32<=20,'2. Methode'!D36)} -> Wellicht aanvaardbaar

Sheet 2. Methode
B30: Verwijzing
B31: Risico | C31: Risico | D31: Mogelijke maatregel
B32: >400 | C32: Zeer hoog | D32: Overweeg stopzetten activiteit
B33: 200-400 | C33: Hoog | D33: Onmiddellijk maatregelen vereist
B34: 70-200 | C34: Substantieel | D34: Correctie is nodig
B35: 20-70 | C35: Mogelijk | D35: Aandacht vereist
B36: <20 | C36: Licht | D36: Wellicht aanvaardbaar
A39: Disclaimer
A40: Dit document bevat algemene informatie over de Arbowetgeving en is bedoeld ter ondersteuning van bewustwording en kennisdeling. Het biedt geen juridisch advies. De inhoud is zorgvuldig samengesteld, maar wij kunnen niet garanderen dat deze volledig, up-to-date of toepasbaar is op elke specifieke situatie. Gebruik ervan is op eigen risico. Voor professioneel advies of bij twijfel over de toepassing van wet- en regelgeving, raden wij aan contact op te nemen met een juridisch specialist. Wij aanvaarden geen aansprakelijkheid voor schade die voortvloeit uit het gebruik van deze informatie."

Sheet 3. Arbeidshygiënische Strategie
A1: 1. Bronmaatregelen | B1: Een werkgever moet eerst de oorzaak van het probleem wegnemen. Voorbeeld: schadelijke stof vervangen door een veiliger alternatief.
A2: 2. Collectieve maatregelen | B2: Als bronmaatregelen geen mogelijkheden bieden, moet de werkgever collectieve maatregelen nemen om risico’s te verminderen. Voorbeeld: het plaatsen van afscherming of een afzuiginstallatie.
A3: 3. Individuele maatregelen | B3: Als collectieve maatregelen niet kunnen of ook (nog) geen afdoende oplossing bieden, moet de werkgever individuele maatregelen nemen. Voorbeeld: het werk zo organiseren dat werknemers minder risico lopen (taakroulatie).
A4: 4. Persoonlijke beschermingsmiddelen | B4: Als de bovenste drie maatregelen geen effect hebben, moet de werkgever de werknemer gratis persoonlijke beschermingsmiddelen verstrekken. Voorbeeld: oorbeschermers en lasbrillen.

Sheet 4. Gevaar en risico
A1: Voorbeelden van gevaren | B1: Voorbeelden van risico's
A2: Gevaarlijke stoffen | B2: Blootstelling aan Chroom-6
A3: Biologische agentia | B3: Blootstelling aan bacteriën en schimmels
A4: Geluid | B4: Blootstelling aan schadelijk geluid (>80dB(A))
A5: Trillingen | B5: Gezondheidsklachten aan rug, schouders en armen
A6: Niet-ioniserende straling | B6: Schade aan weefsel en DNA
A7: Ioniserende straling | B7: Oogletsel
A8: Temperatuur | B8: Overhit raken, onderkoeld raken
A9: Fysieke belasting | B9: Gezondheidsklachten aan rug, nek, schouders en armen
A10: Beeldschermwerk | B10: Hart en vaatziekten
A11: Besloten ruimte | B11: Verstikking
A12: Elektriciteit | B12: Elektrocutie
... A20: Werken op hoogte | B20: Vallen
