Workbook
Name _GHHKK: '[1]Bill 04 - water supply tb '!#REF!
Name A: #REF!
Name aa: #REF!
Name aaa: #REF!
Name Allow: '[2] Factor '!$F$1:$G$65536
Name Anton: #REF!
Name AR: '[3]B-2'!#REF!
Name as: #REF!
Name asd: #REF!
Name asgsdfg: #REF!
Name B: #REF!
Name bai: #REF!
Name bbb: #REF!
Name bhhbhj: #REF!
Name bill: #REF!
Name bill1: #REF!
Name C_: #REF!
Name d: #REF!
Name ddd: #REF!
Name dddfg: '[5]B-2'!#REF!
Name Demol: #REF!
Name dffff: #REF!
Name dfghkk: #REF!
Name dinesha: #REF!
Name drghd: [6]Ragama!#REF!
Name ertyuu: #REF!
Name f: #REF!
Name FDF: #REF!
Name fesf: #REF!
Name ffff: #REF!
Name fg: #REF!
Name fgh: #REF!
Name fgrewggr: #REF!
Name floof: #REF!
Name fsdgsg: '[7]OLD PRICES'!$C$5:$F$1475
Name g: #REF!
Name gghjk: #REF!
Name gh: #REF!
Name gregdezrsgsgs: #REF!
Name H: #REF!
Name I: #REF!
Name InsD1: #REF!
Name InsD2: #REF!
Name ITEN: '[2]Histry Price'!$C$5:$F$1475
Name j: #REF!
Name k: #REF!
Name kj418lhr: #REF!
Name makup: '[8]B-2'!#REF!
Name markup: '[8]B-2'!#REF!
Name new: #REF!
Name Performance_bond: #REF!
Name PRINT_AREA_MI: #N/A
Name PRINT_TITLES_MI: #REF!
Name qqq: #REF!
Name RaSup: [9]SSuppliers!$A$4:$E$130
Name Rasup1: [9]SSuppliers!$A$4:$F$243
Name RAW: #REF!
Name ResJK: #REF!
Name RESOURCES: '[10]Histry Price'!$C$5:$F$1475
Name s: #REF!

Sheet SUMMARY
A1: Maldives Police Service
A2: Infrastructure and Development Department
A3: Infrastructure and Building Development
A4: Male' Rep of Maldives
A7: PROJECT: Renovation of Police Station
A8: CLIENT: Maldives police service
A9: LOCATION: B. Eydafushi
A10: Date: 6th July 2025
A12: GRAND SUMMARY
A14: Item | B14: Description | C14: Amount
A15: 1 | B15: ='BOQ REV'!B44 -> BILL NO. 01 - PRELIMINARIES
A16: 2 | B16: ='BOQ REV'!B117 -> BILL NO. 02 - CONCRETE & WOOD WORKS
A17: 3 | B17: ='BOQ REV'!B186 -> BILL NO. 03 - MASONRY WALLS / PARTITIONS
A18: 4 | B18: ='BOQ REV'!B251 -> BILL NO. 04 - CEILING
A19: 5 | B19: ='BOQ REV'!B317 -> BILL NO. 05 - TILING
A20: 6 | B20: ='BOQ REV'!B441 -> BILL NO. 06 - DOORS AND WINDOWS
A21: 7 | B21: ='BOQ REV'!B515 -> BILL NO. 07 - PAINTING
A22: 8 | B22: ='BOQ REV'!B586 -> BILL NO. 08 - ROOFING & METAL WORKS
A23: 9 | B23: ='BOQ REV'!B642 -> BILL NO. 09 - HYDRAULICS & DRAINAGE
A24: 10 | B24: ='BOQ REV'!B739 -> BILL NO. 10 - ELECTRICAL & SPECIFIC INSTALLATIONS
A25: 11 | B25: ='BOQ REV'!B808 -> BILL NO. 11 - CELL BLOCK
A26: 12 | B26: ='BOQ REV'!B836 -> BILL NO. 12 - KITCHEN (OUTSIDE)
A27: 13 | B27: ='BOQ REV'!B888 -> BILL NO. 13 - ADDITIONS
A28: 14 | B28: ='BOQ REV'!B940 -> BILL NO. 14 - OMMISSIONS
B34: TOTAL
B35: GST 8%
B36: GRAND TOTAL | E36: =C36*1.15 -> 0

Sheet BOQ REV
A1: Maldives Police Service
A2: Infrastructure Development Department
A3: Infrastructure and Building Development
A4: Male' Rep of Maldives
A6: Date: 6th July 2025
A8: PROJECT: Renovation of Police Station
A9: CLIENT: Maldives police service
A10: LOCATION: B. Eydafushi
A11: BILL OF QUANTITIES
A13: NO | B13: DESCRIPTION | C13: QTY. | D13: UNIT | E13: RATE | F13: AMOUNT
A15: 1 | B15: BILL NO 1: PRELIMINARIES
A16: 1.1 | B16: SITE MANAGEMENT COST
B17: Allow for all on and off site management cost including cost of certified site engineer, foreman and assistants, temporary services, telephone, fax, hoardings, guards, temporary fencing inside and outside the premises and similar. | C17: 1 | D17: item
A19: 1.2 | B19: CLEAN - UP
B20: Allow for clean- up of completed works and site up on completion. Allow for removal of debris away from the site. | C20: 1 | D20: item
B44: BILL NO. 01 - PRELIMINARIES
B45: TOTAL OF BILL No: 01 - Carried over to summary
A46: 2 | B46: BILL NO 2: CONCRETE & WOOD WORKS
B47: Rates shall include for provision of scaffolding and other necessary works to carryout the described works.
B48: a) Rate shall include for: placing in position; making good after removal of formwork and casting in all required items; additional concrete required to conform to structural and excavated tolerances.
B49: b) Mix ratio for reinforced concrete shall be 1:2:3
A51: 2.1 | B51: REINFORCED CONCRETE
A53: 1 | B53: Restoration of concrete in window sill and parapet wall decoration. | C53: 1 | D53: item
B54: Note: (a) Minor cracked and rusted areas shall be chipped to expose rebars, cut and clean-up rusted rebars to receive Structural repair mortar MasterEmaco S 488 or equivalent. (b) If the cracking is severe, remove concrete, clean and wire brush re-bars to remove rusts, place fresh concrete. Rate shall include for provision of shuttering and formworks for new concrete.
A56: 2.2 | B56: Flag Post ( refer detail )
A57: 1 | B57: As per the drawings construct a flag post. Rates should include all necessary works. ( eg: ELECTRICAL WIRING , lighting etc ) | C57: 1 | D57: Item
A58: 2 | B58: Demolition of existing flag post | C58: 1 | D58: Item
A60: 2.3 | B60: WOODEN RECEPTION COUNTER
A61: 1 | B61: Reception counter with finishing works as per detailed drawings. ( Rates should include all necessary works ) | C61: 1 | D61: Item
B63: GROUND FLOOR
A64: 2.4 | B64: FEMALE BARRACKS
A65: 2.4.1 | B65: DISMANTLING WORK
A66: 1 | B66: Remove the existing toilet door and relocate. Rate must include all necessary works (refer drawing) | C66: 1 | D66: item
A67: 2 | B67: Remove the existing window from the store room and relocate it as per drawing and specification. Rate must include all necessary works. | C67: 1 | D67: item
A69: 2.5 | B69: LAUNDRY & OUTSIDE
A70: 2.5.1 | B70: WOOD WORK
A71: 1 | B71: Supply and fix wall mount cabinet using 18mm thick white foam board with 25mm diameter UV-coated closed edges, and 5mm thick PVC backboard. The work includes installation of pneumatic soft-close hinges at laundry (as per drawing) | C71: 1 | D71: item
B74: FIRST FLOOR
A75: 2.6 | B75: LAUNDRY (BARRACKS 2)
A77: 1 | B77: Reinforced Concrete 150mm thk. Rate shall include formwork, reinforcement and any other modification works to accomodate connection of two washing machines | C77: 1 | D77: item
A80: 2.7 | B80: WATERPROOFING WORKS
A82: 1 | B82: Provision for waterproofing front RCC gutter slab as per drawing, specification and detail. Rate shall include for all necessary works as per consultant's instruction. All material used shall be pre-approved with relevant technical details | C82: 1 | D82: item
B117: BILL NO. 02 - CONCRETE & WOOD WORKS
B118: TOTAL OF BILL No: 02 - Carried over to summary
A119: 3 | B119: BILL NO 03: MASONRY WALLS / PARTITION
B120: a) Existing plastering layer shall be removed and the surface shall be prepared using PVC coated wire mesh to receive the new plastering layer. Plastering thickness as required ≤20mm and mortar ratio shall be 1:4.
B121: b) All cracked surfaces of wall shall be repaired using ReCon GP repair mortar or equivalent chemical compound as per manufacture specification. Chemical shall be approved, prior to applying.
B122: c)All repaired external cracks , must be textured (same pattern ) external texture should be approved.
A124: 3.1 | B124: BOUNDARY WALL
A125: 1 | B125: Rejoining existing 150mm thk masonry wall ( gate opening) with 25mm thk plastering on both side. | C125: 16.4 | D125: m2
A128: 3.2 | B128: EXTERNAL WALLS
A130: 3.2.1 | B130: Masonry kicker, including tile works & waterproofing chemical (First floor balconies). Approx 50mmx75mm x1.2m x 2nos | C130: 1 | D130: item
A133: 3.3 | B133: INTERNAL WALLS
A135: 3.3.1 | B135: 150mm thick masonry wall, including 15mm thick plastering on both sides in investigation room. Rate shall include for removal of existing wooden door. | C135: 1.68 | D135: m2
A137: 3.3.2 | B137: 150mm thick masonry wall, including 15mm thick plastering on both sides in store( previous cell ) | C137: 1.37 | D137: m2
A139: 3.3.3 | B139: Provision of 1" GI Pipe (2.3m) anchored on both sides at 600mm c/c to masonry wall in laundry area for cloth hanging. | C139: 3 | D139: nos
A154: 3.5 | B154: PARTITION WORKS
A155: 3.5.1 | B155: Removal of existing wooden partition wall and wooden door in INTEL room at first floor level, provide wooden framed (50x50mm timber) SCG smart board(9mm thick) partition. Rates shall include for installation of wooden door as size same as D5.& wood preservative treatment for frames. | C155: 1 | D155: item
A156: 3.5.2 | B156: Removal of existing wooden partition wall in ADMIN STORE room at ground floor level, provide wooden framed (50x50mm timber) SCG smart board(9mm thick) partition. Rates shall include for wood preservative treatment for frames and application of 1 coat of primer and 2 coats of approved interior paint on both sides. | C156: 1 | D156: item
A157: 3.5.3 | B157: GROUND FLOOR (RECEPTION AREA)
A158: 1 | B158: Replace the damaged dry wall partition boards and repair with new boards. Rate must include all necessary works including finishing and painting. (refer drawing) | C158: 1 | D158: item
A159: 3.5.4 | B159: GROUND FLOOR (RECORD ROOM)
A160: 1 | B160: Remove the damaged dry wall partition boards and finish floor and wall to match with existing. Rate must include all necessary works including finishing and painting as required. (refer drawing) | C160: 1 | D160: item
B186: BILL NO. 03 - MASONRY WALLS / PARTITIONS
B187: TOTAL OF BILL No: 03 - Carried over to summary
A188: 4 | B188: BILL NO 04: CEILING
B189: GENERAL
B190: a) Rates shall include for: all labour in framing, notching and fitting around projections, pipes, light fittings, hatches, grilles and similar and complete with cleats, packers, wedges and timber beading, etc.…. similar nail and screws.
B191: b)All the frame for the ceiling wooden /G.I with cement board and gypsum. Rates shall include joint filling putty and all other necessary works
B192: c) Rate shall include for ceiling borders where necessary
A194: 4.1 | B194: INTERNAL CEILING
B195: Note : Rate shall include for rectification works where necessary, and any other incidental works as a result of rectification. Entire removal of fungus infected ceiling and incidental areas. Care must be taken not to damage existing ceiling frame unless otherwise the frame is rusted or damaged
A197: 1 | B197: Replace of gypsum ceiling, provide 6mm thick cement board ceiling at store ( previous cell ) Rate must include for replacing the rusted/damaged ceiling frames with similar material (GI or Aluminium). Provision of 6mm thick gypsum board ceiling including putty works 1 coat of primer coat and 2 coats of internal paint. Rate should include fixing existing wall plug using fisher injection mortar FIS P Plus 300 T. | C197: 15.4 | D197: m2
A198: 2 | B198: Replace of gypsum ceiling, provide 6mm thick cement board ceiling at store ( ops room ) Rate must include for replacing the rusted/damaged ceiling frames with similar material (GI or Aluminium). Provision of 6mm thick gypsum board ceiling including putty works 1 coat of primer coat and 2 coats of internal paint. Rate should include fixing existing wall plug using fisher injection mortar FIS P Plus 300 T. | C198: 1 | D198: item
A213: 4.2 | B213: EXTERNAL CEILING
B214: Note : Rate shall include for rectification works where necessary, and any other incidental works as a result of rectification
A215: 4.2.1 | B215: (a) Replace of balconies, toilets, laundry and pump room ceilings as necessary. Care must be taken not to damage existing ceiling frame unless otherwise the frame is rusted or damaged. Rate must include for replacing the rusted/damaged ceiling frames with similar material (GI or Aluminium). Provision of 6mm thick Cement board ceiling including putty works 1 coat of primer coat and 2 coats of external paint. Rate should include fixing existing wall plug using fisher injection mortar FIS P Plus 300 T.
A216: 1 | B216: Ground floor | C216: 1 | D216: item
A217: 2 | B217: First floor | C217: 1 | D217: item
B251: BILL NO. 04 - CEILING
B252: TOTAL OF BILL No: 04 - Carried over to summary
B253: BILL NO 05: TILING
B254: a) Rates shall include for: fixing, bedding, grouting, pointing, finishing and any other similar works to ensure the required finish.
B255: b) Any removal of tile or other in the process of re-tiling shall be performed where necessary
A257: 5.1 | B257: BARRACKS 1
A259: 1 | B259: 300x600 CERAMIC wall tiles up to ceiling height in toilets & laundry. Rates shall include for tiling remaining untiled works | C259: 1 | D259: item
A260: 2 | B260: 300x300mm anti-slip CERAMIC tiles on toilet & laundry floor.Rates shall include for skirting and tiling remaining untiled works | C260: 1 | D260: item
A261: 3 | B261: 600x600mm PORCELAIN tiles on floor. Rates shall include for skirting and tiling remaining untiled works | C261: 1 | D261: item
A263: 5.2 | B263: BARRACKS 2
A265: 1 | B265: 300x600 CERAMIC wall tiles up to ceiling height in toilets & laundry. Rates shall include for tiling remaining untiled works | C265: 1 | D265: item
A266: 2 | B266: 300x300mm anti-slip CERAMIC tiles on toilets & laundry floor. Rates shall include for skirting and tiling remaining untiled works | C266: 1 | D266: item
A269: 5.3 | B269: ATOLL COMMANDER ROOM
A271: 1 | B271: 300x600 CERAMIC wall tiles up to ceiling height in toilets & laundry. Rates shall include for tiling remaining untiled works | C271: 1 | D271: item
A272: 2 | B272: 300x300mm anti-slip CERAMIC tiles on toilets & laundry floor. Rates shall include for skirting and tiling remaining untiled works | C272: 1 | D272: item
A274: 5.4 | B274: GROUND FLOOR TOILETS & LAUNDARY
B275: Stripping of tile works in toilet walls and floors with mortar. and removal of debris. Tiles shall be stripped together with mortar, while brick surface shall be cleaned with a wire brush.
A276: 1 | B276: 300x600 ceramic wall tiles up to ceiling height in toilets & laundry. Rates shall include for demolition of existing tile, repairing of wall cracks by method of routing and sealing using Polyurethane Sealant (PU 25 or equivalent) as per manufacturer’s specifications. | C276: 93 | D276: m2
A277: 2 | B277: 300x300mm anti-slip CERAMIC tiles on toilets & laundry floor. Rates shall include demolition of existing tiles, application of 2 coats of water proofing membrane, (MasterSeal 550 or similar). | C277: 14 | D277: m2
A280: 5.5 | B280: GROUND FLOOR (FEMALE BARRACKS)
A281: 5.5.1 | B281: COVERUP OF WINDOW OPENING
...
