Workbook
Name _GHHKK: '[1]Bill 04 - water supply tb '!#REF!
Name A: #REF!
Name aa: #REF!
Name aaa: #REF!
Name Allow: '[2] Factor '!$F$1:$G$65536
Name Anton: #REF!
Name AR: '[3]B-2'!#REF!
Name as: #REF!
Name asd: #REF!
Name asgsdfg: #REF!
Name B: #REF!
Name bai: #REF!
Name bbb: #REF!
Name bhhbhj: #REF!
Name bill: #REF!
Name bill1: #REF!
Name C_: #REF!
Name d: #REF!
Name ddd: #REF!
Name dddfg: '[5]B-2'!#REF!
Name Demol: #REF!
Name dffff: #REF!
Name dfghkk: #REF!
Name dinesha: #REF!
Name drghd: [6]Ragama!#REF!
Name ertyuu: #REF!
Name f: #REF!
Name FDF: #REF!
Name fesf: #REF!
Name ffff: #REF!
Name fg: #REF!
Name fgh: #REF!
Name fgrewggr: #REF!
Name floof: #REF!
Name fsdgsg: '[7]OLD PRICES'!$C$5:$F$1475
Name g: #REF!
Name gghjk: #REF!
Name gh: #REF!
Name gregdezrsgsgs: #REF!
Name H: #REF!
Name I: #REF!
Name InsD1: #REF!
Name InsD2: #REF!
Name ITEN: '[2]Histry Price'!$C$5:$F$1475
Name j: #REF!
Name k: #REF!
Name kj418lhr: #REF!
Name makup: '[8]B-2'!#REF!
Name markup: '[8]B-2'!#REF!
Name new: #REF!
Name Performance_bond: #REF!
Name PRINT_AREA_MI: #N/A
Name PRINT_TITLES_MI: #REF!
Name qqq: #REF!
Name RaSup: [9]SSuppliers!$A$4:$E$130
Name Rasup1: [9]SSuppliers!$A$4:$F$243
Name RAW: #REF!
Name ResJK: #REF!
Name RESOURCES: '[10]Histry Price'!$C$5:$F$1475
Name s: #REF!

Sheet SUMMARY
A1: Maldives Police Service
A2: Infrastructure and Development Department
A3: Infrastructure and Building Development
A4: Male' Rep of Maldives
A7: PROJECT: Renovation of Police Station
A8: CLIENT: Maldives police service
A9: LOCATION: B. Eydafushi
A10: Date: 6th July 2025
A12: GRAND SUMMARY
A14: Item | B14: Description | C14: Amount
A15: 1 | B15: ='BOQ REV'!B44 -> BILL NO. 01 - PRELIMINARIES
A16: 2 | B16: ='BOQ REV'!B117 -> BILL NO. 02 - CONCRETE & WOOD WORKS
A17: 3 | B17: ='BOQ REV'!B186 -> BILL NO. 03 - MASONRY WALLS / PARTITIONS
A18: 4 | B18: ='BOQ REV'!B251 -> BILL NO. 04 - CEILING
A19: 5 | B19: ='BOQ REV'!B317 -> BILL NO. 05 - TILING
A20: 6 | B20: ='BOQ REV'!B441 -> BILL NO. 06 - DOORS AND WINDOWS
A21: 7 | B21: ='BOQ REV'!B515 -> BILL NO. 07 - PAINTING
A22: 8 | B22: ='BOQ REV'!B586 -> BILL NO. 08 - ROOFING & METAL WORKS
A23: 9 | B23: ='BOQ REV'!B642 -> BILL NO. 09 - HYDRAULICS & DRAINAGE
A24: 10 | B24: ='BOQ REV'!B739 -> BILL NO. 10 - ELECTRICAL & SPECIFIC INSTALLATIONS
A25: 11 | B25: ='BOQ REV'!B808 -> BILL NO. 11 - CELL BLOCK
A26: 12 | B26: ='BOQ REV'!B836 -> BILL NO. 12 - KITCHEN (OUTSIDE)
A27: 13 | B27: ='BOQ REV'!B888 -> BILL NO. 13 - ADDITIONS
A28: 14 | B28: ='BOQ REV'!B940 -> BILL NO. 14 - OMMISSIONS
B34: TOTAL
B35: GST 8%
B36: GRAND TOTAL | E36: =C36*1.15 -> 0

Sheet BOQ REV
A1: Maldives Police Service
A2: Infrastructure Development Department
A3: Infrastructure and Building Development
A4: Male' Rep of Maldives
A6: Date: 6th July 2025
A8: PROJECT: Renovation of Police Station
A9: CLIENT: Maldives police service
A10: LOCATION: B. Eydafushi
A11: BILL OF QUANTITIES
A13: NO | B13: DESCRIPTION | C13: QTY. | D13: UNIT | E13: RATE | F13: AMOUNT
A15: 1 | B15: BILL NO 1: PRELIMINARIES
A16: 1.1 | B16: SITE MANAGEMENT COST
B17: Allow for all on and off site management cost including cost of certified site engineer, foreman and assistants, temporary services, telephone, fax, hoardings, guards, temporary fencing inside and outside the premises and similar. | C17: 1 | D17: item
A19: 1.2 | B19: CLEAN - UP
B20: Allow for clean- up of completed works and site up on completion. Allow for removal of debris away from the site. | C20: 1 | D20: item
B44: BILL NO. 01 - PRELIMINARIES
B45: TOTAL OF BILL No: 01 - Carried over to summary
A46: 2 | B46: BILL NO 2: CONCRETE & WOOD WORKS
B47: Rates shall include for provision of scaffolding and other necessary works to carryout the described works.
B48: a) Rate shall include for: placing in position; making good after removal of formwork and casting in all required items; additional concrete required to conform to structural and excavated tolerances.
B49: b) Mix ratio for reinforced concrete shall be 1:2:3
A51: 2.1 | B51: REINFORCED CONCRETE
A53: 1 | B53: Restoration of concrete in window sill and parapet wall decoration. | C53: 1 | D53: item
B54: Note: (a) Minor cracked and rusted areas shall be chipped to expose rebars, cut and clean-up rusted rebars to receive Structural repair mortar MasterEmaco S 488 or equivalent. (b) If the cracking is severe, remove concrete, clean and wire brush re-bars to remove rusts, place fresh concrete. Rate shall include for provision of shuttering and formworks for new concrete.
A56: 2.2 | B56: Flag Post ( refer detail )
A57: 1 | B57: As per the drawings construct a flag post. Rates should include all necessary works. ( eg: ELECTRICAL WIRING , lighting etc ) | C57: 1 | D57: Item
A58: 2 | B58: Demolition of existing flag post | C58: 1 | D58: Item
A60: 2.3 | B60: WOODEN RECEPTION COUNTER
A61: 1 | B61: Reception counter with finishing works as per detailed drawings. ( Rates should include all necessary works ) | C61: 1 | D61: Item
B63: GROUND FLOOR
A64: 2.4 | B64: FEMALE BARRACKS
A65: 2.4.1 | B65: DISMANTLING WORK
A66: 1 | B66: Remove the existing toilet door and relocate. Rate must include all necessary works (refer drawing) | C66: 1 | D66: item
A67: 2 | B67: Remove the existing window from the store room and relocate it as per drawing and specification. Rate must include all necessary works. | C67: 1 | D67: item
A69: 2.5 | B69: LAUNDRY & OUTSIDE
A70: 2.5.1 | B70: WOOD WORK
A71: 1 | B71: Supply and fix wall mount cabinet using 18mm thick white foam board with 25mm diameter UV-coated closed edges, and 5mm thick PVC backboard. The work includes installation of pneumatic soft-close hinges at laundry (as per drawing) | C71: 1 | D71: item
B74: FIRST FLOOR
A75: 2.6 | B75: LAUNDRY (BARRACKS 2)
A77: 1 | B77: Reinforced Concrete 150mm thk. Rate shall include formwork, reinforcement and any other modification works to accomodate connection of two washing machines | C77: 1 | D77: item
...
