Workbook

Sheet Cover
A16: BILL OF QUANTITIES
A17: Street light, GDh.Faresmaathoda
A19: CLIENT : Secretariat of the Faresmaathoda Council

Sheet BOQ Summary
A2: SUMMARY OF BILLS OF QUANTITIES
A3: =Cover!A17:I17 -> Street light, GDh.Faresmaathoda
C5: DESCRIPTION | E5: AMOUNT | F5: %
C8: ='BOQ for tender'!E7 -> Bill №: 01 - PRELIMINARIES | E8: ='BOQ for tender'!J44 -> 0 | F8: =E8/$E$14 -> #DIV/0!
C9: ='BOQ for tender'!E45 -> Bill №: 02 - Excavation for Electrical Cable Trenches | E9: ='BOQ for tender'!J58 -> 0 | F9: =E9/$E$14 -> #DIV/0!
C10: ='BOQ for tender'!E59 -> Bill №: 03 - Bill of Materials for Meter Box Installation | E10: ='BOQ for tender'!J90 -> 0 | F10: =E10/$E$14 -> #DIV/0!
C11: ='BOQ for tender'!E91 -> Bill №: 04 - Concrete Pedestal Details for Meter Box Installation | E11: ='BOQ for tender'!J113 -> 0 | F11: =E11/$E$14 -> #DIV/0!
C12: ='BOQ for tender'!E114 -> Bill №: 5 - ADDITIONS AND OMMISIONS | E12: ='BOQ for tender'!J144 -> 0 | F12: =E12/$E$14 -> #DIV/0!
C14: Sub-Total | E14: =SUM(E8:E13) -> 0
C15: GST 8% | E15: =E14*0.08 -> 0
C16: Grand Total | E16: =E14+E15 -> 0

Sheet BOQ for tender
J1: 0
A2: Street light, GDh.Faresmaathoda
A3: GDH.Faresmaathoda, Republic of Maldives
A5: BILL OF QUANTITIES
A6: ITEM | E6: DESCRIPTION | G6: UNIT | H6: QTY | I6: RATE | J6: AMOUNT
A7: 1.0.00 | E7: Bill №: 01 - PRELIMINARIES
A10: 1.1.00 | B10: GENERAL NOTES
E11: Abbreviations
D12: m | E12: - metre
D13: nr | E13: - numbers
D14: m3 | E14: - cubic metres
D15: m2
D16: m | E16: - linear metre
D17: t | E17: - tons
D18: inc. | E18: - including
D19: mm | E19: - millimetre
D20: SS | E20: - stainless steel
D21: GI | E21: - galvanized iron
A24: 1.2.00 | B24: SITE MANAGEMENT COSTS
E25: Allow for all on and off site management cost including costs of foreman and assistants, temporary services, telephone, fax, hoardings & similar. | G25: item | H25: 1 | I25: 0 | J25: =I25*H25 -> 0
A28: 1.3.00 | B28: SIGN BOARD
E29: Allow for sign board. | G29: nr | H29: 1 | I29: 0 | J29: =I29*H29 -> 0
A32: 1.4.00 | B32: CLEAN-UP
E33: Allow for clean-up upon completion of works. | G33: item | H33: 1 | I33: 0 | J33: =I33*H33 -> 0
A36: 1.5.00 | B36: SAFETY ON SITE
E37: Safety on site:- Providing and maintaining adequate safety measures on site for all workers and all authorized visitors on site and protecting adjoining properties and people against falling objects or other with regard to the construction works | G37: item | H37: 1 | I37: 0 | J37: =I37*H37 -> 0
A44: 1.6.00 | B44: TOTAL OF BILL №: 01 - Carried Over To Summary | J44: =SUM(J25:J42) -> 0
A45: 2.0.00 | E45: Bill №: 02 - Excavation for Electrical Cable Trenches
A47: 2.1.00 | B47: GENERAL
D48: (a) | E48: Rates shall include for: leveling, backfilling All excavation, backfilling, and compaction as required for cable trenches and foundations. Cleaning and preparation of surfaces where necessary. Cutting or forming chases, holes, and openings for conduits, pipes, sleeves, and accessories. Providing temporary supports and making good disturbed surfaces. Supply and installation of all necessary fixings, fasteners, and supports for electrical components. Compliance with relevant standards and local regulations. All incidental works required to complete the installation in a workmanlike manner.
A51: 2.3.00 | B51: EXCAVATION & FILLING
E52: Rates shall include for backfilling.
A53: 2.3.02 | E53: Excavation for Electrical Cable trench to a depth of 2.5 feet and width as specified in drawings, including necessary trimming and leveling of trench bottom, and disposal of surplus soil within site limits.(3 km) | G53: m3 | H53: 212.38 | I53: 0 | J53: =I53*H53 -> 0
A58: 2.5.00 | B58: TOTAL OF BILL №: 02 - Carried Over To Summary | J58: =SUM(J48:J56) -> 0
A59: 3.0.00 | E59: Bill №: 03 - Bill of Materials for Meter Box Installation
A61: 3.1.00 | B61: GENERAL
D62: (a) | E62: Rates shall include for: All labor and materials required for wiring installation, including cutting, notching, and fitting around projections, conduits, junction boxes, light fittings, hatches, grilles, and similar obstructions; complete with all necessary accessories such as cleats, clips, packers, wedges, and fixings, including nails, screws, and other fasteners to ensure proper securing and neat finish of wiring runs.
A65: 3.1.00 | B65: Meter Box Components and Accessories
A66: 3.1.01 | E66: Single Phase House Meter (Fenaka - Smart Meter) 10-100 | G66: Nos | H66: 15 | I66: 0 | J66: =I66*H66 -> 0
A67: 3.1.02 | E67: 01 Pole M.C.B 32A | G67: Nos | H67: 15 | I67: 0 | J67: =I67*H67 -> 0
A68: 3.1.05 | E68: 2B Meter Box | G68: Nos | H68: 15 | I68: 0 | J68: =I68*H68 -> 0
A69: 3.1.06 | E69: Timer Switch (230V 45-60Hz) | G69: Nos | H69: 15 | I69: 0 | J69: =I69*H69 -> 0
A70: 3.1.07 | E70: Contactor 40A | G70: Nos | H70: 15 | I70: 0 | J70: =I70*H70 -> 0
A71: 3.1.08 | E71: Earth Rod | G71: Nos | H71: 15 | I71: 0 | J71: =I71*H71 -> 0
B73: *ELC be will be provide from Council
A76: 3.2.00 | B76: Additional merial needed
A77: 3.2.01 | E77: Timer Switch (230V 45-60Hz) | G77: Nos | H77: 10 | I77: 0 | J77: =I77*H77 -> 0
A80: 3.3.00 | B80: Cable
A81: 3.3.01 | E81: Supply and laying of 6 mm², 2-core, PVC insulated, PVC sheathed, armored copper cable for underground installation, including sand bedding, and provision of warning tape above the cable as per specifications. | G81: m | H81: 3000 | I81: 0 | J81: =I81*H81 -> 0
C84: CONCRETE COPING
A85: 3.2.03 | B85: 150 | C85: x | D85: 100 | E85: Concrete coping on top of boundary wall | G85: m3 | H85: 0.6 | I85: 0 | J85: =I85*H85 -> 0
A87: 3.2.04 | D87: screed
D88: Gate | G88: m3 | H88: =3.3*2*0.1*2 -> 1.32 | I88: 0 | J88: =I88*H88 -> 0
A90: 3.3.00 | E90: TOTAL OF BILL №: 03 - Carried Over To Summary | J90: =SUM(J63:J88) -> 0
A91: 4.0.00 | E91: Bill №: 04 - Concrete Pedestal Details for Meter Box Installation
A93: 4.1.00 | B93: GENERAL
D94: (a) | E94: Dimensions Height of pedestal: 3 feet (so that the center of the meter box is at 4 feet from ground level) Top platform size: 18" x 18" (or as per meter box size) Base size: 24" x 24" for stability Thickness: Minimum 6" reinforced concrete
A97: 4.2.00 | B97: Construction
E98: Cement Hollow block wall (Reef sand (dhonveli).
A100: 4.2.01 | E100: Foundation: Excavate to a depth of 1.5 feet below ground level Provide a compacted base with 4" thick PCC (Plain Cement Concrete) | G100: Nos | H100: 15 | I100: 0 | J100: =I100*H100 -> 0
A102: 4.2.02 | E102: Pedestal: Cast in RCC (Reinforced Cement Concrete) with M20 grade - use (local sand) Provide 4 nos. 12 mm dia vertical reinforcement bars with stirrups | G102: Nos | H102: 15 | I102: 0 | J102: =I102*H102 -> 0
A104: 4.2.03 | E104: Top surface: Smooth finish with slope for water drainage | G104: Nos | H104: 15 | I104: 0 | J104: =I104*H104 -> 0
A106: 4.2.04 | E106: Fixing Arrangement Anchor bolts: 4 nos. galvanized anchor bolts (M12 or M16) embedded in concrete top for fixing the meter box Bolt projection: Minimum 50 mm above pedestal top Nut and washer: Galvanized steel for corrosion resistance | G106: Nos | H106: 15 | I106: 0 | J106: =I106*H106 -> 0
A108: 4.2.05 | E108: Earthing Install earth rod adjacent to pedestal and connect to meter box using copper earth wire (minimum 2 mm²). | G108: Nos | H108: 15 | I108: 0 | J108: =I108*H108 -> 0
A110: 4.2.06 | E110: Protection Apply weatherproof paint on pedestal Fix Danger – Electrical signage on the meter box
A113: 4.3.00 | E113: TOTAL OF BILL №: 04 - Carried Over To Summary | J113: =SUM(J91:J111) -> 0
A114: 11.0.00 | E114: Bill №: 5 - ADDITIONS AND OMMISIONS
A116: 7.1.00 | B116: ADDITIONS
A117: 7.1.01 | E117: Bill №: 01 - PRELIMINARIES
A118: 7.1.02 | E118: Bill №: 02 - Excavation for Electrical Cable Trenches | H118: 1 | I118: 0 | J118: =I118*H118 -> 0
A119: 7.1.03 | E119: Bill №: 03 - Bill of Materials for Meter Box Installation | H119: 1 | I119: 0 | J119: =I119*H119 -> 0
A120: 7.1.04 | E120: Bill №: 04 - Concrete Pedestal Details for Meter Box Installation
E122: TOTAL | J122: =SUM(J117:J120) -> 0
A126: 7.2.00 | B126: OMISSIONS
A127: 7.2.01 | E127: Bill №: 01 - PRELIMINARIES
A128: 7.2.02 | E128: Bill №: 02 - Excavation for Electrical Cable Trenches | H128: 1 | I128: 0 | J128: =I128*H128 -> 0
A129: 7.2.03 | E129: Bill №: 03 - Bill of Materials for Meter Box Installation | H129: 1 | I129: 0 | J129: =I129*H129 -> 0
A130: 7.2.04 | E130: Bill №: 04 - Concrete Pedestal Details for Meter Box Installation
E132: TOTAL | J132: =SUM(J127:J130) -> 0
A144: 7.3.00 | E144: TOTAL OF BILL №: 7 - Carried Over To Summary | J144: =SUM(J122+J132) -> 0
