Workbook

Sheet Cover
A16: BILL OF QUANTITIES
A17: Street light, GDh.Faresmaathoda
A19: CLIENT : Secretariat of the Faresmaathoda Council

Sheet BOQ Summary
A2: SUMMARY OF BILLS OF QUANTITIES
A3: =Cover!A17:I17 -> Street light, GDh.Faresmaathoda
C5: DESCRIPTION | E5: AMOUNT | F5: %
C8: ='BOQ for tender'!E7 -> Bill №: 01 - PRELIMINARIES | E8: ='BOQ for tender'!J44 -> 0 | F8: =E8/$E$14 -> #DIV/0!
C9: ='BOQ for tender'!E45 -> Bill №: 02 - Excavation for Electrical Cable Trenches | E9: ='BOQ for tender'!J58 -> 0 | F9: =E9/$E$14 -> #DIV/0!
C10: ='BOQ for tender'!E59 -> Bill №: 03 - Bill of Materials for Meter Box Installation | E10: ='BOQ for tender'!J90 -> 0 | F10: =E10/$E$14 -> #DIV/0!
C11: ='BOQ for tender'!E91 -> Bill №: 04 - Concrete Pedestal Details for Meter Box Installation | E11: ='BOQ for tender'!J113 -> 0 | F11: =E11/$E$14 -> #DIV/0!
C12: ='BOQ for tender'!E114 -> Bill №: 5 - ADDITIONS AND OMMISIONS | E12: ='BOQ for tender'!J144 -> 0 | F12: =E12/$E$14 -> #DIV/0!
C14: Sub-Total | E14: =SUM(E8:E13) -> 0
C15: GST 8% | E15: =E14*0.08 -> 0
C16: Grand Total | E16: =E14+E15 -> 0

Sheet BOQ for tender
J1: 0
A2: Street light, GDh.Faresmaathoda
A3: GDH.Faresmaathoda, Republic of Maldives
A5: BILL OF QUANTITIES
A6: ITEM | E6: DESCRIPTION | G6: UNIT | H6: QTY | I6: RATE | J6: AMOUNT
A7: 1.0.00 | E7: Bill №: 01 - PRELIMINARIES
A10: 1.1.00 | B10: GENERAL NOTES
E11: Abbreviations
D12: m | E12: - metre
D13: nr | E13: - numbers
D14: m3 | E14: - cubic metres
D15: m2
D16: m | E16: - linear metre
D17: t | E17: - tons
D18: inc. | E18: - including
D19: mm | E19: - millimetre
D20: SS | E20: - stainless steel
D21: GI | E21: - galvanized iron
A24: 1.2.00 | B24: SITE MANAGEMENT COSTS
E25: Allow for all on and off site management cost including costs of foreman and assistants, temporary services, telephone, fax, hoardings & similar. | G25: item | H25: 1 | I25: 0 | J25: =I25*H25 -> 0
A28: 1.3.00 | B28: SIGN BOARD
E29: Allow for sign board. | G29: nr | H29: 1 | I29: 0 | J29: =I29*H29 -> 0
A32: 1.4.00 | B32: CLEAN-UP
E33: Allow for clean-up upon completion of works. | G33: item | H33: 1 | I33: 0 | J33: =I33*H33 -> 0
A36: 1.5.00 | B36: SAFETY ON SITE
E37: Safety on site:- Providing and maintaining adequate safety measures on site for all workers and all authorized visitors on site and protecting adjoining properties and people against falling objects or other with regard to the construction works | G37: item | H37: 1 | I37: 0 | J37: =I37*H37 -> 0
A44: 1.6.00 | B44: TOTAL OF BILL №: 01 - Carried Over To Summary | J44: =SUM(J25:J42) -> 0
A45: 2.0.00 | E45: Bill №: 02 - Excavation for Electrical Cable Trenches
A47: 2.1.00 | B47: GENERAL
D48: (a) | E48: Rates shall include for: leveling, backfilling All excavation, backfilling, and compaction as required for cable trenches and foundations. Cleaning and preparation of surfaces where necessary. Cutting or forming chases, holes, and openings for conduits, pipes, sleeves, and accessories. Providing temporary supports and making good disturbed surfaces. Supply and installation of all necessary fixings, fasteners, and supports for electrical components. Compliance with relevant standards and local regulations. All incidental works required to complete the installation in a workmanlike manner.
A51: 2.3.00 | B51: EXCAVATION & FILLING
E52: Rates shall include for backfilling.
A53: 2.3.02 | E53: Excavation for Electrical Cable trench to a depth of 2.5 feet and width as specified in drawings, including necessary trimming and leveling of trench bottom, and disposal of surplus soil within site limits.(3 km) | G53: m3 | H53: 212.38 | I53: 0 | J53: =I53*H53 -> 0
A58: 2.5.00 | B58: TOTAL OF BILL №: 02 - Carried Over To Summary | J58: =SUM(J48:J56) -> 0
A59: 3.0.00 | E59: Bill №: 03 - Bill of Materials for Meter Box Installation
A61: 3.1.00 | B61: GENERAL
D62: (a) | E62: Rates shall include for: All labor and materials required for wiring installation, including cutting, notching, and fitting around projections, conduits, junction boxes, light fittings, hatches, grilles, and similar obstructions; complete with all necessary accessories such as cleats, clips, packers, wedges, and fixings, including nails, screws, and other fasteners to ensure proper securing and neat finish of wiring runs.
A65: 3.1.00 | B65: Meter Box Components and Accessories
A66: 3.1.01 | E66: Single Phase House Meter (Fenaka - Smart Meter) 10-100 | G66: Nos | H66: 15 | I66: 0 | J66: =I66*H66 -> 0
A67: 3.1.02 | E67: 01 Pole M.C.B 32A | G67: Nos | H67: 15 | I67: 0 | J67: =I67*H67 -> 0
...
