Workbook

Sheet Cover (2)
A16: BILL OF QUANTITIES
A17: AA. UKULHAS SCHOOL RENOVATION
A19: CLIENT : MINISTRY OF EDUCATION

Sheet BOQ Summary
B2: SUMMARY OF BILL OF QUANTITIES
B3: Project: DH. KUDAHUVADHOO SCHOOL | C3: Date: | E3: 45880
C4: Version: | E4: R2
B5: Client: | C5: Prepared by: | E5: As
B7: DESCRIPTION | E7: AMOUNT (MVR) | F7: %
B8: =+'BOQ for tender'!E734 -> Bill №: 01 - PRELIMINARIES
B9: =+'BOQ for tender'!E735 -> Bill №: 02 - DEMOLITION WORKS
B10: =+'BOQ for tender'!E736 -> Bill №: 03 - MASONRY & CONCRETE
B11: =+'BOQ for tender'!E737 -> Bill №: 04 - CEILING / PARTITION
B12: =+'BOQ for tender'!E738 -> Bill №: 05 - WINDOWS
B13: =+'BOQ for tender'!E739 -> Bill №: 06 - DOORS
B14: =+'BOQ for tender'!E740 -> Bill №: 07 - PAINTING
B15: =+'BOQ for tender'!E741 -> Bill №: 08 - FINISHES
B16: =+'BOQ for tender'!E763 -> Bill №: 09 - FURNITURE
B17: =+'BOQ for tender'!E743 -> Bill №: 10 - HYDRAULICS AND DRAINAGE
B18: =+'BOQ for tender'!E744 -> Bill №: 11 - ELECTRICAL INSTALLATIONS
B19: =+'BOQ for tender'!E745 -> Bill №: 12- INSULATION, FIRE STOPPING & FIRE PROTECTION
B20: =+'BOQ for tender'!E678 -> Bill №: 13 - LABORATORY GAS SYSTEM
B21: =+'BOQ for tender'!E747 -> Bill №: 14- MISCELLANEOUS WORK
B22: Bill №: 15- ADDITIONS AND OMMISIONS
B26: TOTAL AMOUNT
B27: TOTAL 8 % GST AMOUNT
B28: GRAND TOTAL INCLUDING 8 % GST
B30: NOTES to BoQ:

Sheet BOQ for tender
L1: =L784 -> 0
A2: BILL OF QUANTITIES
A4: ITEM | E4: DESCRIPTION | H4: UNIT | I4: QTY | J4: MATERIAL RATE | K4: LABOUR RATE | L4: AMOUNT
A5: 1.0.00 | E5: Bill №: 01 - PRELIMINARIES
A7: 1.1.00 | B7: PREAMBLES
A8: 1.1.01 | E8: General Preambles:
E9: Renovation of DH. KUDAHUVADHOO below mentioned rooms.
E10: GENERAL LAB 1 & 2
E11: STEM / ICT LAB
E12: PHYSICS LAB
E13: CHEMISTRY LAB
E14: BIOLOGY LAB
A16: 1.2.00 | B16: GENERAL NOTES
E17: Abbreviations
D18: m | E18: - metre
D19: nr | E19: - numbers
D20: m3 | E20: - cubic metres
D21: m2 | E21: - square metres
D22: lm | E22: - linear metre
D23: t | E23: - tons
D24: inc. | E24: - including
D25: mm | E25: - millimetre
D26: item | E26: - quote a lumpsum amount for the item
D27: SS | E27: - stainless steel
D28: GI | E28: - galvanized iron
A30: 1.3.00 | B30: SITE MANAGEMENT COSTS
A31: 1.3.01 | E31: Allow for all on and off site management cost including costs of foreman and assistants, temporary services, telephone, fax, hoardings & similar. | H31: item | I31: 1
A32: 1.3.02 | E32: The contractor shall provide protective covering for carpet, furnishings, and finishes in existing areas not designated for demolition or new construction. the contractor shall be responsible for the repair of any damage caused by his work or any subcontractor. in particular, the contractor shall maintain a dust-free environment within the area. | H32: item | I32: 1
A34: 1.4.00 | B34: SIGN BOARD
A35: 1.4.01 | E35: Allow for sign board. | H35: nr | I35: 1
A37: 1.5.00 | B37: CLEAN-UP
A38: 1.5.01 | E38: Allow for clean-up upon completion of works. | H38: item | I38: 1
A41: 1.6.00 | B41: SAFETY ON SITE
A42: 1.6.01 | E42: Safety Measures: | H42: item | I42: 1
E43: Provision and maintenance of personal protective equipment (PPE).
E44: Implementation of safety protocols and emergency procedures.
E45: Regular safety training and drills for all site personnel.
A46: 1.6.02 | E46: Safety Signage: | H46: item | I46: 1
E47: Clear and visible safety signs indicating hazards, emergency exits, and equipment.
A49: 1.9.00 | B49: SITE ESTABLISHMENT
...
