Workbook

Sheet Cover (2)
A16: BILL OF QUANTITIES
A17: AA. UKULHAS SCHOOL RENOVATION
A19: CLIENT : MINISTRY OF EDUCATION

Sheet BOQ Summary
B2: SUMMARY OF BILL OF QUANTITIES
B3: Project: DH. KUDAHUVADHOO SCHOOL | C3: Date: | E3: 45880
C4: Version: | E4: R2
B5: Client: | C5: Prepared by: | E5: As
B7: DESCRIPTION | E7: AMOUNT (MVR) | F7: %
B8: =+'BOQ for tender'!E734 -> Bill №: 01 - PRELIMINARIES
B9: =+'BOQ for tender'!E735 -> Bill №: 02 - DEMOLITION WORKS
B10: =+'BOQ for tender'!E736 -> Bill №: 03 - MASONRY & CONCRETE
B11: =+'BOQ for tender'!E737 -> Bill №: 04 - CEILING / PARTITION
B12: =+'BOQ for tender'!E738 -> Bill №: 05 - WINDOWS
B13: =+'BOQ for tender'!E739 -> Bill №: 06 - DOORS
B14: =+'BOQ for tender'!E740 -> Bill №: 07 - PAINTING
B15: =+'BOQ for tender'!E741 -> Bill №: 08 - FINISHES
B16: =+'BOQ for tender'!E763 -> Bill №: 09 - FURNITURE
B17: =+'BOQ for tender'!E743 -> Bill №: 10 - HYDRAULICS AND DRAINAGE
B18: =+'BOQ for tender'!E744 -> Bill №: 11 - ELECTRICAL INSTALLATIONS
B19: =+'BOQ for tender'!E745 -> Bill №: 12- INSULATION, FIRE STOPPING & FIRE PROTECTION
B20: =+'BOQ for tender'!E678 -> Bill №: 13 - LABORATORY GAS SYSTEM
B21: =+'BOQ for tender'!E747 -> Bill №: 14- MISCELLANEOUS WORK
B22: Bill №: 15- ADDITIONS AND OMMISIONS
B26: TOTAL AMOUNT
B27: TOTAL 8 % GST AMOUNT
B28: GRAND TOTAL INCLUDING 8 % GST
B30: NOTES to BoQ:

Sheet BOQ for tender
L1: =L784 -> 0
A2: BILL OF QUANTITIES
A4: ITEM | E4: DESCRIPTION | H4: UNIT | I4: QTY | J4: MATERIAL RATE | K4: LABOUR RATE | L4: AMOUNT
A5: 1.0.00 | E5: Bill №: 01 - PRELIMINARIES
A7: 1.1.00 | B7: PREAMBLES
A8: 1.1.01 | E8: General Preambles:
E9: Renovation of DH. KUDAHUVADHOO below mentioned rooms.
E10: GENERAL LAB 1 & 2
E11: STEM / ICT LAB
E12: PHYSICS LAB
E13: CHEMISTRY LAB
E14: BIOLOGY LAB
A16: 1.2.00 | B16: GENERAL NOTES
E17: Abbreviations
D18: m | E18: - metre
D19: nr | E19: - numbers
D20: m3 | E20: - cubic metres
D21: m2 | E21: - square metres
D22: lm | E22: - linear metre
D23: t | E23: - tons
D24: inc. | E24: - including
D25: mm | E25: - millimetre
D26: item | E26: - quote a lumpsum amount for the item
D27: SS | E27: - stainless steel
D28: GI | E28: - galvanized iron
A30: 1.3.00 | B30: SITE MANAGEMENT COSTS
A31: 1.3.01 | E31: Allow for all on and off site management cost including costs of foreman and assistants, temporary services, telephone, fax, hoardings & similar. | H31: item | I31: 1
A32: 1.3.02 | E32: The contractor shall provide protective covering for carpet, furnishings, and finishes in existing areas not designated for demolition or new construction. the contractor shall be responsible for the repair of any damage caused by his work or any subcontractor. in particular, the contractor shall maintain a dust-free environment within the area. | H32: item | I32: 1
A34: 1.4.00 | B34: SIGN BOARD
A35: 1.4.01 | E35: Allow for sign board. | H35: nr | I35: 1
A37: 1.5.00 | B37: CLEAN-UP
A38: 1.5.01 | E38: Allow for clean-up upon completion of works. | H38: item | I38: 1
A41: 1.6.00 | B41: SAFETY ON SITE
A42: 1.6.01 | E42: Safety Measures: | H42: item | I42: 1
E43: Provision and maintenance of personal protective equipment (PPE).
E44: Implementation of safety protocols and emergency procedures.
E45: Regular safety training and drills for all site personnel.
A46: 1.6.02 | E46: Safety Signage: | H46: item | I46: 1
E47: Clear and visible safety signs indicating hazards, emergency exits, and equipment.
A49: 1.9.00 | B49: SITE ESTABLISHMENT
A50: 1.9.01 | E50: Allow for mobilization and demobilization | H50: item | I50: 1
A52: 1.10.00 | B52: SERVICES AND FACILITIES
A53: 1.10.01 | E53: Provision and maintenance of services and facilities such as Water, power supply, lighting and fuel required for the project, including Client facilities. | H53: item | I53: 1
A55: 1.11.00 | B55: TEMPORARY FENCING AND HOARDING
A56: 1.11.01 | E56: Supply, erect and maintenance of a fence through out the construction period and hoarding all along the perimeter of the of the site. | H56: item | I56: 1
A57: 1.13.00 | B57: TOTAL OF BILL №: 01 - Carried Over To Summary
A58: 2.0.00 | E58: Bill №: 02 - DEMOLITION WORKS
A60: 2.1.00 | B60: GENERAL
D61: (a) | E61: Rates shall include for: demolish, dismantle and remove building structures and materials including brick, timber, concrete and metal.
A63: 2.2.00 | B63: GENERAL LAB 1 & 2
E64: Removal of existing door/window and making the opening to the required dimension to fix the new as per drawing,
A65: 2.2.01 | E65: Door - RD1 | H65: nr | I65: 4
A66: 2.2.02 | E66: Scratch off existing paint coat on internal surface of walls | H66: m2 | I66: 100
A67: 2.2.03 | E67: Scratch off existing paint coat on external surface of walls | H67: m2 | I67: 62
A68: 2.2.04 | E68: Removal of existing ceiling (if required) | H68: m2 | I68: 0
A69: 2.2.05 | E69: Removal ceiling fixtures including fans / lights as per drawing | H69: item | I69: 1
A70: 2.2.06 | E70: Cutting holes/ducts in walls to embed electrical conduit and fittings. | H70: item | I70: 1
A71: 2.2.07 | E71: Removal of window at existing toilet and demoltion of wall to Install the Door | H71: item | I71: 1
A72: 2.2.07 | E72: Demolition of Existing Wall | H72: m2 | I72: 14
A73: 2.3.00 | B73: STEM / ICT LAB
A74: 2.3.01 | E74: Demolishing of existing sink | H74: nr | I74: 1
A75: 2.3.02 | E75: Demolishing of existing wall | H75: m2 | I75: 15.43
E76: Removal of existing door/window and making the opening to the required dimension to fix the new as per drawing,. Replace existing Louvers with 6 mm Reflective Galss
A77: 2.3.03 | E77: Door - D2 | H77: nr | I77: 1
A78: 2.3.04 | E78: Window - W1- Replace existing Louvers with 6mm theick Reflective fixed Glass | H78: nr | I78: 1
A79: 2.3.05 | E79: Window - W3- Replace existing Louvers with 6mm thick Reflective fixed Glass | H79: nr | I79: 1
A80: 2.3.06 | E80: Scratch off existing paint coat on internal surface of walls | H80: m2 | I80: 68.23
A81: 2.3.07 | E81: Scratch off existing paint coat on external surface of walls | H81: m2 | I81: 44.33
A82: 2.3.08 | E82: Removal of existing ceiling of Room and Staircase area | H82: m2 | I82: 68.29
A83: 2.3.09 | E83: Removal ceiling fixtures including fans / lights as per drawing including stiarcase area | H83: item | I83: 1
A84: 2.3.10 | E84: Cutting holes/ducts in walls to embed electrical conduit and fittings. | H84: item | I84: 1
A85: 2.3.11 | E85: Removal of any Loose and damaged tiles | H85: Item | I85: 1
A86: 2.3.12 | E86: Remove all signs of termite and treat whole room for termite. Room is termite infested | H86: item | I86: 1
A87: 2.4.00 | B87: PHYSICS LAB
A88: 2.4.01 | E88: Scratch off existing paint coat on internal surface of walls | H88: m2 | I88: 151.84
A89: 2.4.02 | E89: Scratch off existing paint coat on external surface of walls | H89: m2 | I89: 76.11
A90: 2.4.03 | E90: Cutting holes/ducts in walls to embed electrical conduit and fittings. | H90: item | I90: 1
A91: 2.4.04 | E91: Remove any loose & damaged tiles | H91: Item | I91: 1
A92: 2.4.05 | E92: Scratch of any delaminated paint on the slab soffit and clean the Surface | H92: m2 | I92: 120.81
A93: 2.4.06 | E93: Removal ceiling fixtures including fans / lights as per drawing | H93: item | I93: 1
A95: 2.5.00 | B95: CHEMISTRY LAB
E96: Removal of existing door/window and making the opening to the required dimension to fix the new as per drawing,
A97: 2.5.01 | E97: Door - D2 | H97: nr | I97: 1
A98: 2.5.02 | E98: Scratch off existing paint coat on internal surface of walls | H98: m2 | I98: 210.21
A99: 2.5.03 | E99: Scratch off existing paint coat on external surface of walls | H99: m2 | I99: 90.12
A100: 2.5.04 | E100: Cutting holes/ducts in walls to embed electrical conduit and fittings. | H100: item | I100: 1
A101: 2.5.05 | E101: Remove any loose or damaged tiles | H101: Item | I101: 1
A102: 2.5.06 | E102: Scratch of any delaminated paint on the slab soffit and clean the Surface | H102: m2 | I102: 154.6
A103: 2.5.07 | E103: Removal ceiling fixtures including fans / lights as per drawing | H103: item | I103: 1
A105: 2.6.00 | B105: BIOLOGY LAB
A106: 2.6.01 | E106: Scratch off existing paint coat on internal surface of walls | H106: m2 | I106: 103.82
A107: 2.6.02 | E107: Scratch off existing paint coat on external surface of walls | H107: m2 | I107: 62.8
A108: 2.6.03 | E108: Cutting holes/ducts in walls to embed electrical conduit and fittings. | H108: item | I108: 1
A109: 2.6.04 | E109: Remove any loose or damaged tiles | H109: Item | I109: 1
A110: 2.6.05 | E110: Scratch of any delaminated paint on the slab soffit and clean the Surface | H110: m2 | I110: 103.5
A111: 2.6.06 | E111: Removal ceiling fixtures including fans / lights as per drawing | H111: item | I111: 1
A113: 2.7.00 | B113: TOTAL OF BILL №: 02 - Carried Over To Summary
A114: 3.0.00 | E114: Bill №: 03 - MASONRY & CONCRETE
A116: 3.1.00 | B116: GENERAL
D117: (a) | E117: Rates shall include for: cleaning out cavities, forming rebated reveals and pointing and cleaning down to reveals where necessary; fractional size blocks, all necessary machine cutting, cutting or forming chases or edges of floor slabs, cutting or leavingholes and openings as recesses for and building in pipes, conduits, sleeves and similar as required for all trades; leaving surfaces rough or raking out joints for plastering and flashing, bedding frames or plates, building in joists, bearers or similar, temporary supports to openings, templates, reinforcement in walls and for all necessary making good.
...
