Workbook

Sheet Summary
B2: SUMMARY OF BILL OF QUANTITIES
B3: Project: DH. KUDAHUVADHOO SCHOOL | C3: Date: | E3: 45880
C4: Version: | E4: R2
B5: Client: | C5: Prepared by: | E5: As
B7: DESCRIPTION | E7: AMOUNT (MVR) | F7: %
B8: =+'[1]BOQ for tender'!E734 -> Bill №: 01 - PRELIMINARIES | E8: =BOQ!L57 -> 0
B9: =+'[1]BOQ for tender'!E735 -> Bill №: 02 - DEMOLITION WORKS | E9: =BOQ!L113 -> 0
B10: =+'[1]BOQ for tender'!E736 -> Bill №: 03 - MASONRY & CONCRETE | E10: =BOQ!L157 -> 0
B11: =+'[1]BOQ for tender'!E737 -> Bill №: 04 - CEILING / PARTITION | E11: =BOQ!L176 -> 0
B12: =+'[1]BOQ for tender'!E738 -> Bill №: 05 - WINDOWS | E12: =BOQ!L229 -> 0
B13: =+'[1]BOQ for tender'!E739 -> Bill №: 06 - DOORS | E13: =BOQ!L280 -> 0
B14: =+'[1]BOQ for tender'!E740 -> Bill №: 07 - PAINTING | E14: =BOQ!L308 -> 0
B15: =+'[1]BOQ for tender'!E741 -> Bill №: 08 - FINISHES | E15: =BOQ!L330 -> 0
B16: =+'[1]BOQ for tender'!E763 -> Bill №: 09 - FURNITURE | E16: =BOQ!L359 -> 0
B17: =+'[1]BOQ for tender'!E743 -> Bill №: 10 - HYDRAULICS AND DRAINAGE | E17: =BOQ!L426 -> 0
B18: =+'[1]BOQ for tender'!E744 -> Bill №: 11 - ELECTRICAL INSTALLATIONS | E18: =BOQ!L560 -> 0
B19: =+'[1]BOQ for tender'!E745 -> Bill №: 12- INSULATION, FIRE STOPPING & FIRE PROTECTION | E19: =BOQ!L628 -> 0
B20: =+'[1]BOQ for tender'!E678 -> Bill №: 13 - LABORATORY GAS SYSTEM | E20: =BOQ!L656 -> 0
B21: =+'[1]BOQ for tender'!E747 -> Bill №: 14- MISCELLANEOUS WORK | E21: =BOQ!L681 -> 0
B22: Bill №: 15- ADDITIONS AND OMMISIONS
B26: TOTAL AMOUNT | E26: =SUM(E8:E22) -> 0
B27: TOTAL 8 % GST AMOUNT | E27: =E26*0.08 -> 0
B28: GRAND TOTAL INCLUDING 8 % GST | E28: =E27+E26 -> 0
B30: NOTES to BoQ:

Sheet BOQ
L1: =L735 -> 0
A2: BILL OF QUANTITIES
A4: ITEM | E4: DESCRIPTION | H4: UNIT | I4: QTY | J4: MATERIAL RATE | K4: LABOUR RATE | L4: AMOUNT
A5: 1.0.00 | E5: Bill №: 01 - PRELIMINARIES
A7: 1.1.00 | B7: PREAMBLES
A8: 1.1.01 | E8: General Preambles:
E9: Renovation of DH. KUDAHUVADHOO below mentioned rooms.
E10: GENERAL LAB 1 & 2
E11: STEM / ICT LAB
E12: PHYSICS LAB
E13: CHEMISTRY LAB
E14: BIOLOGY LAB
A16: 1.2.00 | B16: GENERAL NOTES
E17: Abbreviations
D18: m | E18: - metre
D19: nr | E19: - numbers
D20: m3 | E20: - cubic metres
D21: m2 | E21: - square metres
D22: lm | E22: - linear metre
D23: t | E23: - tons
D24: inc. | E24: - including
D25: mm | E25: - millimetre
D26: item | E26: - quote a lumpsum amount for the item
D27: SS | E27: - stainless steel
D28: GI | E28: - galvanized iron
A30: 1.3.00 | B30: SITE MANAGEMENT COSTS
A31: 1.3.01 | E31: Allow for all on and off site management cost including costs of foreman and assistants, temporary services, telephone, fax, hoardings & similar. | H31: item | I31: 1 | L31: =I31*(J31+K31) -> 0
A32: 1.3.02 | E32: The contractor shall provide protective covering for carpet, furnishings, and finishes in existing areas not designated for demolition or new construction. the contractor shall be responsible for the repair of any damage caused by his work or any subcontractor. in particular, the contractor shall maintain a dust-free environment within the area. | H32: item | I32: 1 | L32: =I32*(J32+K32) -> 0
L33: =I33*(J33+K33) -> 0
A34: 1.4.00 | B34: SIGN BOARD | L34: =I34*(J34+K34) -> 0
A35: 1.4.01 | E35: Allow for sign board. | H35: nr | I35: 1 | L35: =I35*(J35+K35) -> 0
L36: =I36*(J36+K36) -> 0
A37: 1.5.00 | B37: CLEAN-UP | L37: =I37*(J37+K37) -> 0
A38: 1.5.01 | E38: Allow for clean-up upon completion of works. | H38: item | I38: 1 | L38: =I38*(J38+K38) -> 0
L39: =I39*(J39+K39) -> 0
L40: =I40*(J40+K40) -> 0
A41: 1.6.00 | B41: SAFETY ON SITE | L41: =I41*(J41+K41) -> 0
A42: 1.6.01 | E42: Safety Measures: | H42: item | I42: 1 | L42: =I42*(J42+K42) -> 0
E43: Provision and maintenance of personal protective equipment (PPE). | L43: =I43*(J43+K43) -> 0
E44: Implementation of safety protocols and emergency procedures. | L44: =I44*(J44+K44) -> 0
...
