Workbook

Sheet Summary
B2: SUMMARY OF BILL OF QUANTITIES
B3: Project: DH. KUDAHUVADHOO SCHOOL | C3: Date: | E3: 45880
C4: Version: | E4: R2
B5: Client: | C5: Prepared by: | E5: As
B7: DESCRIPTION | E7: AMOUNT (MVR) | F7: %
B8: =+'[1]BOQ for tender'!E734 -> Bill №: 01 - PRELIMINARIES | E8: =BOQ!L57 -> 0
B9: =+'[1]BOQ for tender'!E735 -> Bill №: 02 - DEMOLITION WORKS | E9: =BOQ!L113 -> 0
B10: =+'[1]BOQ for tender'!E736 -> Bill №: 03 - MASONRY & CONCRETE | E10: =BOQ!L157 -> 0
B11: =+'[1]BOQ for tender'!E737 -> Bill №: 04 - CEILING / PARTITION | E11: =BOQ!L176 -> 0
B12: =+'[1]BOQ for tender'!E738 -> Bill №: 05 - WINDOWS | E12: =BOQ!L229 -> 0
B13: =+'[1]BOQ for tender'!E739 -> Bill №: 06 - DOORS | E13: =BOQ!L280 -> 0
B14: =+'[1]BOQ for tender'!E740 -> Bill №: 07 - PAINTING | E14: =BOQ!L308 -> 0
B15: =+'[1]BOQ for tender'!E741 -> Bill №: 08 - FINISHES | E15: =BOQ!L330 -> 0
B16: =+'[1]BOQ for tender'!E763 -> Bill №: 09 - FURNITURE | E16: =BOQ!L359 -> 0
B17: =+'[1]BOQ for tender'!E743 -> Bill №: 10 - HYDRAULICS AND DRAINAGE | E17: =BOQ!L426 -> 0
B18: =+'[1]BOQ for tender'!E744 -> Bill №: 11 - ELECTRICAL INSTALLATIONS | E18: =BOQ!L560 -> 0
B19: =+'[1]BOQ for tender'!E745 -> Bill №: 12- INSULATION, FIRE STOPPING & FIRE PROTECTION | E19: =BOQ!L628 -> 0
B20: =+'[1]BOQ for tender'!E678 -> Bill №: 13 - LABORATORY GAS SYSTEM | E20: =BOQ!L656 -> 0
B21: =+'[1]BOQ for tender'!E747 -> Bill №: 14- MISCELLANEOUS WORK | E21: =BOQ!L681 -> 0
B22: Bill №: 15- ADDITIONS AND OMMISIONS
B26: TOTAL AMOUNT | E26: =SUM(E8:E22) -> 0
B27: TOTAL 8 % GST AMOUNT | E27: =E26*0.08 -> 0
B28: GRAND TOTAL INCLUDING 8 % GST | E28: =E27+E26 -> 0
B30: NOTES to BoQ:

Sheet BOQ
L1: =L735 -> 0
A2: BILL OF QUANTITIES
A4: ITEM | E4: DESCRIPTION | H4: UNIT | I4: QTY | J4: MATERIAL RATE | K4: LABOUR RATE | L4: AMOUNT
A5: 1.0.00 | E5: Bill №: 01 - PRELIMINARIES
A7: 1.1.00 | B7: PREAMBLES
A8: 1.1.01 | E8: General Preambles:
E9: Renovation of DH. KUDAHUVADHOO below mentioned rooms.
E10: GENERAL LAB 1 & 2
E11: STEM / ICT LAB
E12: PHYSICS LAB
E13: CHEMISTRY LAB
E14: BIOLOGY LAB
A16: 1.2.00 | B16: GENERAL NOTES
E17: Abbreviations
D18: m | E18: - metre
D19: nr | E19: - numbers
D20: m3 | E20: - cubic metres
D21: m2 | E21: - square metres
D22: lm | E22: - linear metre
D23: t | E23: - tons
D24: inc. | E24: - including
D25: mm | E25: - millimetre
D26: item | E26: - quote a lumpsum amount for the item
D27: SS | E27: - stainless steel
D28: GI | E28: - galvanized iron
A30: 1.3.00 | B30: SITE MANAGEMENT COSTS
A31: 1.3.01 | E31: Allow for all on and off site management cost including costs of foreman and assistants, temporary services, telephone, fax, hoardings & similar. | H31: item | I31: 1 | L31: =I31*(J31+K31) -> 0
A32: 1.3.02 | E32: The contractor shall provide protective covering for carpet, furnishings, and finishes in existing areas not designated for demolition or new construction. the contractor shall be responsible for the repair of any damage caused by his work or any subcontractor. in particular, the contractor shall maintain a dust-free environment within the area. | H32: item | I32: 1 | L32: =I32*(J32+K32) -> 0
L33: =I33*(J33+K33) -> 0
A34: 1.4.00 | B34: SIGN BOARD | L34: =I34*(J34+K34) -> 0
A35: 1.4.01 | E35: Allow for sign board. | H35: nr | I35: 1 | L35: =I35*(J35+K35) -> 0
L36: =I36*(J36+K36) -> 0
A37: 1.5.00 | B37: CLEAN-UP | L37: =I37*(J37+K37) -> 0
A38: 1.5.01 | E38: Allow for clean-up upon completion of works. | H38: item | I38: 1 | L38: =I38*(J38+K38) -> 0
L39: =I39*(J39+K39) -> 0
L40: =I40*(J40+K40) -> 0
A41: 1.6.00 | B41: SAFETY ON SITE | L41: =I41*(J41+K41) -> 0
A42: 1.6.01 | E42: Safety Measures: | H42: item | I42: 1 | L42: =I42*(J42+K42) -> 0
E43: Provision and maintenance of personal protective equipment (PPE). | L43: =I43*(J43+K43) -> 0
E44: Implementation of safety protocols and emergency procedures. | L44: =I44*(J44+K44) -> 0
E45: Regular safety training and drills for all site personnel. | L45: =I45*(J45+K45) -> 0
A46: 1.6.02 | E46: Safety Signage: | H46: item | I46: 1 | L46: =I46*(J46+K46) -> 0
E47: Clear and visible safety signs indicating hazards, emergency exits, and equipment. | L47: =I47*(J47+K47) -> 0
L48: =I48*(J48+K48) -> 0
A49: 1.9.00 | B49: SITE ESTABLISHMENT | L49: =I49*(J49+K49) -> 0
A50: 1.9.01 | E50: Allow for mobilization and demobilization | H50: item | I50: 1 | L50: =I50*(J50+K50) -> 0
L51: =I51*(J51+K51) -> 0
A52: 1.10.00 | B52: SERVICES AND FACILITIES | L52: =I52*(J52+K52) -> 0
A53: 1.10.01 | E53: Provision and maintenance of services and facilities such as Water, power supply, lighting and fuel required for the project, including Client facilities. | H53: item | I53: 1 | L53: =I53*(J53+K53) -> 0
L54: =I54*(J54+K54) -> 0
A55: 1.11.00 | B55: TEMPORARY FENCING AND HOARDING | L55: =I55*(J55+K55) -> 0
A56: 1.11.01 | E56: Supply, erect and maintenance of a fence through out the construction period and hoarding all along the perimeter of the of the site. | H56: item | I56: 1 | L56: =I56*(J56+K56) -> 0
A57: 1.13.00 | B57: TOTAL OF BILL №: 01 - Carried Over To Summary | L57: =SUM(L25:L56) -> 0
A58: 2.0.00 | E58: Bill №: 02 - DEMOLITION WORKS
A60: 2.1.00 | B60: GENERAL
D61: (a) | E61: Rates shall include for: demolish, dismantle and remove building structures and materials including brick, timber, concrete and metal.
A63: 2.2.00 | B63: GENERAL LAB 1 & 2
E64: Removal of existing door/window and making the opening to the required dimension to fix the new as per drawing,
A65: 2.2.01 | E65: Door - RD1 | H65: nr | I65: 4 | L65: =I65*(J65+K65) -> 0
A66: 2.2.02 | E66: Scratch off existing paint coat on internal surface of walls | H66: m2 | I66: 100 | L66: =I66*(J66+K66) -> 0
A67: 2.2.03 | E67: Scratch off existing paint coat on external surface of walls | H67: m2 | I67: 62 | L67: =I67*(J67+K67) -> 0
A68: 2.2.04 | E68: Removal of existing ceiling (if required) | H68: m2 | I68: 0 | L68: =I68*(J68+K68) -> 0
A69: 2.2.05 | E69: Removal ceiling fixtures including fans / lights as per drawing | H69: item | I69: 1 | L69: =I69*(J69+K69) -> 0
A70: 2.2.06 | E70: Cutting holes/ducts in walls to embed electrical conduit and fittings. | H70: item | I70: 1 | L70: =I70*(J70+K70) -> 0
A71: 2.2.07 | E71: Removal of window at existing toilet and demoltion of wall to Install the Door | H71: item | I71: 1 | L71: =I71*(J71+K71) -> 0
A72: 2.2.07 | E72: Demolition of Existing Wall | H72: m2 | I72: 14 | L72: =I72*(J72+K72) -> 0
A73: 2.3.00 | B73: STEM / ICT LAB | L73: =I73*(J73+K73) -> 0
A74: 2.3.01 | E74: Demolishing of existing sink | H74: nr | I74: 1 | L74: =I74*(J74+K74) -> 0
A75: 2.3.02 | E75: Demolishing of existing wall | H75: m2 | I75: 15.43 | L75: =I75*(J75+K75) -> 0
E76: Removal of existing door/window and making the opening to the required dimension to fix the new as per drawing,. Replace existing Louvers with 6 mm Reflective Galss | L76: =I76*(J76+K76) -> 0
A77: 2.3.03 | E77: Door - D2 | H77: nr | I77: 1 | L77: =I77*(J77+K77) -> 0
A78: 2.3.04 | E78: Window - W1- Replace existing Louvers with 6mm theick Reflective fixed Glass | H78: nr | I78: 1 | L78: =I78*(J78+K78) -> 0
A79: 2.3.05 | E79: Window - W3- Replace existing Louvers with 6mm thick Reflective fixed Glass | H79: nr | I79: 1 | L79: =I79*(J79+K79) -> 0
A80: 2.3.06 | E80: Scratch off existing paint coat on internal surface of walls | H80: m2 | I80: 68.23 | L80: =I80*(J80+K80) -> 0
A81: 2.3.07 | E81: Scratch off existing paint coat on external surface of walls | H81: m2 | I81: 44.33 | L81: =I81*(J81+K81) -> 0
A82: 2.3.08 | E82: Removal of existing ceiling of Room and Staircase area | H82: m2 | I82: 68.29 | L82: =I82*(J82+K82) -> 0
A83: 2.3.09 | E83: Removal ceiling fixtures including fans / lights as per drawing including stiarcase area | H83: item | I83: 1 | L83: =I83*(J83+K83) -> 0
A84: 2.3.10 | E84: Cutting holes/ducts in walls to embed electrical conduit and fittings. | H84: item | I84: 1 | L84: =I84*(J84+K84) -> 0
A85: 2.3.11 | E85: Removal of any Loose and damaged tiles | H85: Item | I85: 1 | L85: =I85*(J85+K85) -> 0
A86: 2.3.12 | E86: Remove all signs of termite and treat whole room for termite. Room is termite infested | H86: item | I86: 1 | L86: =I86*(J86+K86) -> 0
A87: 2.4.00 | B87: PHYSICS LAB | L87: =I87*(J87+K87) -> 0
A88: 2.4.01 | E88: Scratch off existing paint coat on internal surface of walls | H88: m2 | I88: 151.84 | L88: =I88*(J88+K88) -> 0
A89: 2.4.02 | E89: Scratch off existing paint coat on external surface of walls | H89: m2 | I89: 76.11 | L89: =I89*(J89+K89) -> 0
A90: 2.4.03 | E90: Cutting holes/ducts in walls to embed electrical conduit and fittings. | H90: item | I90: 1 | L90: =I90*(J90+K90) -> 0
A91: 2.4.04 | E91: Remove any loose & damaged tiles | H91: Item | I91: 1 | L91: =I91*(J91+K91) -> 0
A92: 2.4.05 | E92: Scratch of any delaminated paint on the slab soffit and clean the Surface | H92: m2 | I92: 120.81 | L92: =I92*(J92+K92) -> 0
A93: 2.4.06 | E93: Removal ceiling fixtures including fans / lights as per drawing | H93: item | I93: 1 | L93: =I93*(J93+K93) -> 0
L94: =I94*(J94+K94) -> 0
A95: 2.5.00 | B95: CHEMISTRY LAB | L95: =I95*(J95+K95) -> 0
E96: Removal of existing door/window and making the opening to the required dimension to fix the new as per drawing, | L96: =I96*(J96+K96) -> 0
A97: 2.5.01 | E97: Door - D2 | H97: nr | I97: 1 | L97: =I97*(J97+K97) -> 0
A98: 2.5.02 | E98: Scratch off existing paint coat on internal surface of walls | H98: m2 | I98: 210.21 | L98: =I98*(J98+K98) -> 0
A99: 2.5.03 | E99: Scratch off existing paint coat on external surface of walls | H99: m2 | I99: 90.12 | L99: =I99*(J99+K99) -> 0
A100: 2.5.04 | E100: Cutting holes/ducts in walls to embed electrical conduit and fittings. | H100: item | I100: 1 | L100: =I100*(J100+K100) -> 0
A101: 2.5.05 | E101: Remove any loose or damaged tiles | H101: Item | I101: 1 | L101: =I101*(J101+K101) -> 0
A102: 2.5.06 | E102: Scratch of any delaminated paint on the slab soffit and clean the Surface | H102: m2 | I102: 154.6 | L102: =I102*(J102+K102) -> 0
A103: 2.5.07 | E103: Removal ceiling fixtures including fans / lights as per drawing | H103: item | I103: 1 | L103: =I103*(J103+K103) -> 0
L104: =I104*(J104+K104) -> 0
A105: 2.6.00 | B105: BIOLOGY LAB | L105: =I105*(J105+K105) -> 0
A106: 2.6.01 | E106: Scratch off existing paint coat on internal surface of walls | H106: m2 | I106: 103.82 | L106: =I106*(J106+K106) -> 0
...
