Workbook

Sheet Cover
A16: BILL OF QUANTITIES
A17: PUBLIC PARK DH.MEEDHOO
A19: CLIENT : DH.MEEDHOO COUNCIL

Sheet BOQ Summary
A2: SUMMARY OF BILLS OF QUANTITIES
A3: =Cover!A17:I17 -> PUBLIC PARK DH.MEEDHOO
C5: DESCRIPTION | D5: Material Cost | E5: Labour Cost | F5: AMOUNT
C8: ='BOQ '!E7 -> Bill №: 01 - PRELIMINARIES | D8: ='BOQ '!K30 -> 0 | E8: ='BOQ '!L30 -> 0 | F8: ='BOQ '!M30 -> 0
C9: ='BOQ '!E31 -> Bill №: 02 - EVENT SPACE/LIBRARY/STORAGE | D9: ='BOQ '!K262 -> 0 | E9: ='BOQ '!L262 -> 0 | F9: ='BOQ '!M262 -> 0
C10: ='BOQ '!E263 -> Bill №: 03 - RECREATIONAL ACTIVITY AREA | D10: ='BOQ '!K350 -> 0 | E10: ='BOQ '!L350 -> 0 | F10: ='BOQ '!M350 -> 0
C11: ='BOQ '!E351 -> Bill №: 04 -FISH POND | D11: ='BOQ '!K476 -> 0 | E11: ='BOQ '!L476 -> 0 | F11: ='BOQ '!M476 -> 0
C12: ='BOQ '!E477 -> Bill №: 05 -TOILET AREA | D12: ='BOQ '!K731 -> 0 | E12: ='BOQ '!L731 -> 0 | F12: ='BOQ '!M731 -> 0
C13: ='BOQ '!E732 -> Bill №: 6 -GUARD ROOM | D13: ='BOQ '!K951 -> 0 | E13: ='BOQ '!L951 -> 0 | F13: ='BOQ '!M951 -> 0
C14: =+'BOQ '!E952 -> Bill №: 07 - SWING AREA | D14: ='BOQ '!K1019 -> 0 | E14: ='BOQ '!L1019 -> 0 | F14: ='BOQ '!M1019 -> 0
C15: ='BOQ '!E1020 -> Bill №: 08 - KIDS PLAY AREA 1 | D15: ='BOQ '!K1058 -> 0 | E15: ='BOQ '!L1058 -> 0 | F15: ='BOQ '!M1058 -> 0
C16: TOTAL AMOUNT | D16: =SUM(D8:D15) -> 0 | E16: =SUM(E8:E15) -> 0 | F16: =SUM(F8:F15) -> 0
C17: GST 8% | F17: =F16*8/100 -> 0
C18: TOTAL AMOUNT including GST | F18: =F16+F17 -> 0

Sheet BOQ 
M1: 0
A2: ='BOQ Summary'!A3:F3 -> PUBLIC PARK DH.MEEDHOO
A3: Republic of Maldives
A5: BILL OF QUANTITIES
A6: ITEM | E6: DESCRIPTION | G6: UNIT | H6: QTY | I6: MATERIAL RATE | J6: LABOUR RATE | K6: MATERIAL AMOUNT | L6: LABOUR AMOUNT | M6: AMOUNT
A7: 1.0.00 | E7: Bill №: 01 - PRELIMINARIES
A10: 1.1.00 | B10: GENERAL NOTES
E11: Abbreviations
D12: m | E12: - metre
D13: nr | E13: - numbers
D14: m3 | E14: - cubic metres
D15: m2 | E15: - square metres
D16: m | E16: - linear metre
D17: t | E17: - tons
D18: inc. | E18: - including
D19: mm | E19: - millimetre
D20: SS | E20: - stainless steel
D21: GI | E21: - galvanized iron
A24: 1.4.00 | B24: CLEAN-UP
E25: Allow for clean-up upon completion of works. (labour) | G25: item | H25: 1 | K25: =H25*I25 -> 0 | L25: =H25*J25 -> 0 | M25: =K25+L25 -> 0
E28: Allow for site clearing works. (labour) | G28: m2 | H28: 2500.41 | K28: =H28*I28 -> 0 | L28: =H28*J28 -> 0 | M28: =K28+L28 -> 0
A30: 1.5.00 | B30: TOTAL OF BILL №: 01 - Carried Over To Summary | K30: =SUBTOTAL(9,K24:K28) -> 0 | L30: =SUBTOTAL(9,L24:L28) -> 0 | M30: =SUBTOTAL(9,M24:M28) -> 0
A31: 2.0.00 | E31: Bill №: 02 - EVENT SPACE/LIBRARY/STORAGE
B33: EVENT SPACE/LIBRARY/STORAGE
A35: 2.3.00 | B35: EXCAVATION
E36: Excavation quantities are measured to the faces of concrete members. Rates shall include for all the additional excavation required to place the formwork. Rates shall include for backfilling.
A37: 2.3.01 | E37: Excavation | G37: m3 | H37: 73.98 | K37: =H37*I37 -> 0 | L37: =H37*J37 -> 0 | M37: =K37+L37 -> 0
K38: =H38*I38 -> 0 | L38: =H38*J38 -> 0
K39: =H39*I39 -> 0 | L39: =H39*J39 -> 0
A40: 2.4.00 | B40: FILLING | K40: =H40*I40 -> 0 | L40: =H40*J40 -> 0
E41: Rate shall include for: levelling, grading, trimming, compacting and similar | K41: =H41*I41 -> 0 | L41: =H41*J41 -> 0
A42: 2.4.01 | E42: Compacted earth filling under ground slab | G42: m2 | H42: 69 | K42: =H42*I42 -> 0 | L42: =H42*J42 -> 0 | M42: =K42+L42 -> 0
K43: =H43*I43 -> 0 | L43: =H43*J43 -> 0
K44: =H44*I44 -> 0 | L44: =H44*J44 -> 0
A45: 2.5.00 | B45: DAMP-PROOF MEMBRANE | K45: =H45*I45 -> 0 | L45: =H45*J45 -> 0
E46: Rate shall include for: dressing around and sealing to all penetrations,laps and turnups. | K46: =H46*I46 -> 0 | L46: =H46*J46 -> 0
A47: 2.5.01 | E47: Polythene damp proof membrane (500 gauge) | G47: m2 | H47: 103.2 | K47: =H47*I47 -> 0 | L47: =H47*J47 -> 0 | M47: =K47+L47 -> 0
K48: =H48*I48 -> 0 | L48: =H48*J48 -> 0
A49: 3.2.00 | B49: MASS CONCRETE | K49: =H49*I49 -> 0 | L49: =H49*J49 -> 0
E50: Quantity is measured to the edges of concrete foundation members. Rates shall be inclusive for any additional concrete required to place the formwork. | K50: =H50*I50 -> 0 | L50: =H50*J50 -> 0
...
