Workbook

Sheet Cover
A16: BILL OF QUANTITIES
A17: PUBLIC PARK DH.MEEDHOO
A19: CLIENT : DH.MEEDHOO COUNCIL

Sheet BOQ Summary
A2: SUMMARY OF BILLS OF QUANTITIES
A3: =Cover!A17:I17 -> PUBLIC PARK DH.MEEDHOO
C5: DESCRIPTION | D5: Material Cost | E5: Labour Cost | F5: AMOUNT
C8: ='BOQ '!E7 -> Bill №: 01 - PRELIMINARIES | D8: ='BOQ '!K30 -> 0 | E8: ='BOQ '!L30 -> 0 | F8: ='BOQ '!M30 -> 0
C9: ='BOQ '!E31 -> Bill №: 02 - EVENT SPACE/LIBRARY/STORAGE | D9: ='BOQ '!K262 -> 0 | E9: ='BOQ '!L262 -> 0 | F9: ='BOQ '!M262 -> 0
C10: ='BOQ '!E263 -> Bill №: 03 - RECREATIONAL ACTIVITY AREA | D10: ='BOQ '!K350 -> 0 | E10: ='BOQ '!L350 -> 0 | F10: ='BOQ '!M350 -> 0
C11: ='BOQ '!E351 -> Bill №: 04 -FISH POND | D11: ='BOQ '!K476 -> 0 | E11: ='BOQ '!L476 -> 0 | F11: ='BOQ '!M476 -> 0
C12: ='BOQ '!E477 -> Bill №: 05 -TOILET AREA | D12: ='BOQ '!K731 -> 0 | E12: ='BOQ '!L731 -> 0 | F12: ='BOQ '!M731 -> 0
C13: ='BOQ '!E732 -> Bill №: 6 -GUARD ROOM | D13: ='BOQ '!K951 -> 0 | E13: ='BOQ '!L951 -> 0 | F13: ='BOQ '!M951 -> 0
C14: =+'BOQ '!E952 -> Bill №: 07 - SWING AREA | D14: ='BOQ '!K1019 -> 0 | E14: ='BOQ '!L1019 -> 0 | F14: ='BOQ '!M1019 -> 0
C15: ='BOQ '!E1020 -> Bill №: 08 - KIDS PLAY AREA 1 | D15: ='BOQ '!K1058 -> 0 | E15: ='BOQ '!L1058 -> 0 | F15: ='BOQ '!M1058 -> 0
C16: TOTAL AMOUNT | D16: =SUM(D8:D15) -> 0 | E16: =SUM(E8:E15) -> 0 | F16: =SUM(F8:F15) -> 0
C17: GST 8% | F17: =F16*8/100 -> 0
C18: TOTAL AMOUNT including GST | F18: =F16+F17 -> 0

Sheet BOQ 
M1: 0
A2: ='BOQ Summary'!A3:F3 -> PUBLIC PARK DH.MEEDHOO
A3: Republic of Maldives
A5: BILL OF QUANTITIES
A6: ITEM | E6: DESCRIPTION | G6: UNIT | H6: QTY | I6: MATERIAL RATE | J6: LABOUR RATE | K6: MATERIAL AMOUNT | L6: LABOUR AMOUNT | M6: AMOUNT
A7: 1.0.00 | E7: Bill №: 01 - PRELIMINARIES
A10: 1.1.00 | B10: GENERAL NOTES
E11: Abbreviations
D12: m | E12: - metre
D13: nr | E13: - numbers
D14: m3 | E14: - cubic metres
D15: m2 | E15: - square metres
D16: m | E16: - linear metre
D17: t | E17: - tons
D18: inc. | E18: - including
D19: mm | E19: - millimetre
D20: SS | E20: - stainless steel
D21: GI | E21: - galvanized iron
A24: 1.4.00 | B24: CLEAN-UP
E25: Allow for clean-up upon completion of works. (labour) | G25: item | H25: 1 | K25: =H25*I25 -> 0 | L25: =H25*J25 -> 0 | M25: =K25+L25 -> 0
E28: Allow for site clearing works. (labour) | G28: m2 | H28: 2500.41 | K28: =H28*I28 -> 0 | L28: =H28*J28 -> 0 | M28: =K28+L28 -> 0
A30: 1.5.00 | B30: TOTAL OF BILL №: 01 - Carried Over To Summary | K30: =SUBTOTAL(9,K24:K28) -> 0 | L30: =SUBTOTAL(9,L24:L28) -> 0 | M30: =SUBTOTAL(9,M24:M28) -> 0
A31: 2.0.00 | E31: Bill №: 02 - EVENT SPACE/LIBRARY/STORAGE
B33: EVENT SPACE/LIBRARY/STORAGE
A35: 2.3.00 | B35: EXCAVATION
E36: Excavation quantities are measured to the faces of concrete members. Rates shall include for all the additional excavation required to place the formwork. Rates shall include for backfilling.
A37: 2.3.01 | E37: Excavation | G37: m3 | H37: 73.98 | K37: =H37*I37 -> 0 | L37: =H37*J37 -> 0 | M37: =K37+L37 -> 0
K38: =H38*I38 -> 0 | L38: =H38*J38 -> 0
K39: =H39*I39 -> 0 | L39: =H39*J39 -> 0
A40: 2.4.00 | B40: FILLING | K40: =H40*I40 -> 0 | L40: =H40*J40 -> 0
E41: Rate shall include for: levelling, grading, trimming, compacting and similar | K41: =H41*I41 -> 0 | L41: =H41*J41 -> 0
A42: 2.4.01 | E42: Compacted earth filling under ground slab | G42: m2 | H42: 69 | K42: =H42*I42 -> 0 | L42: =H42*J42 -> 0 | M42: =K42+L42 -> 0
K43: =H43*I43 -> 0 | L43: =H43*J43 -> 0
K44: =H44*I44 -> 0 | L44: =H44*J44 -> 0
A45: 2.5.00 | B45: DAMP-PROOF MEMBRANE | K45: =H45*I45 -> 0 | L45: =H45*J45 -> 0
E46: Rate shall include for: dressing around and sealing to all penetrations,laps and turnups. | K46: =H46*I46 -> 0 | L46: =H46*J46 -> 0
A47: 2.5.01 | E47: Polythene damp proof membrane (500 gauge) | G47: m2 | H47: 103.2 | K47: =H47*I47 -> 0 | L47: =H47*J47 -> 0 | M47: =K47+L47 -> 0
K48: =H48*I48 -> 0 | L48: =H48*J48 -> 0
A49: 3.2.00 | B49: MASS CONCRETE | K49: =H49*I49 -> 0 | L49: =H49*J49 -> 0
E50: Quantity is measured to the edges of concrete foundation members. Rates shall be inclusive for any additional concrete required to place the formwork. | K50: =H50*I50 -> 0 | L50: =H50*J50 -> 0
K51: =H51*I51 -> 0 | L51: =H51*J51 -> 0
A52: 3.2.01 | D52: 50 | E52: mm Lean Concrete | G52: m3 | H52: 1.84 | K52: =H52*I52 -> 0 | L52: =H52*J52 -> 0 | M52: =K52+L52 -> 0
K53: =H53*I53 -> 0 | L53: =H53*J53 -> 0
A54: 3.3.00 | B54: REINFORCED INSITU CONCRETE | K54: =H54*I54 -> 0 | L54: =H54*J54 -> 0
K55: =H55*I55 -> 0 | L55: =H55*J55 -> 0
C56: FOUNDATION & FOUNDATION BEAMS | K56: =H56*I56 -> 0 | L56: =H56*J56 -> 0
A57: 3.3.01 | B57: 800 | C57: x | D57: 800 | E57: Foundation F1 | G57: m3 | H57: 3.84 | K57: =H57*I57 -> 0 | L57: =H57*J57 -> 0 | M57: =K57+L57 -> 0
K58: =H58*I58 -> 0 | L58: =H58*J58 -> 0
A59: 3.3.08 | B59: 350 | C59: x | D59: 200 | E59: mm Tie Beam TB | G59: m3 | H59: 8.4 | K59: =H59*I59 -> 0 | L59: =H59*J59 -> 0 | M59: =K59+L59 -> 0
K60: =H60*I60 -> 0 | L60: =H60*J60 -> 0
C61: COLUMNS | K61: =H61*I61 -> 0 | L61: =H61*J61 -> 0
A62: 3.3.10 | B62: 200 | C62: x | D62: 200 | E62: mm Concrete columns C1 | G62: m3 | H62: 1.12 | K62: =H62*I62 -> 0 | L62: =H62*J62 -> 0 | M62: =K62+L62 -> 0
A63: 3.3.10 | D63: 250 | E63: mm Dia Concrete columns C2 | G63: m3 | H63: 7.065 | K63: =H63*I63 -> 0 | L63: =H63*J63 -> 0 | M63: =K63+L63 -> 0
K64: =H64*I64 -> 0 | L64: =H64*J64 -> 0
C65: FLOOR SLAB | K65: =H65*I65 -> 0 | L65: =H65*J65 -> 0
A66: 3.4.04 | D66: 100 | E66: mm floor slab | G66: m3 | H66: 16.589 | K66: =H66*I66 -> 0 | L66: =H66*J66 -> 0 | M66: =K66+L66 -> 0
K67: =H67*I67 -> 0 | L67: =H67*J67 -> 0 | M67: =K67+L67 -> 0
C68: BEAM | K68: =H68*I68 -> 0 | L68: =H68*J68 -> 0 | M68: =K68+L68 -> 0
A69: 3.4.06 | B69: 450 | C69: x | D69: 200 | E69: mm Beam B1 | G69: m3 | H69: 4.98159 | K69: =H69*I69 -> 0 | L69: =H69*J69 -> 0 | M69: =K69+L69 -> 0
A70: 3.4.06 | B70: 200 | C70: x | D70: 300 | E70: mm Beam HB | G70: m3 | H70: 4.4628 | K70: =H70*I70 -> 0 | L70: =H70*J70 -> 0 | M70: =K70+L70 -> 0
K71: =H71*I71 -> 0 | L71: =H71*J71 -> 0 | M71: =K71+L71 -> 0
C72: ROOF SLAB | K72: =H72*I72 -> 0 | L72: =H72*J72 -> 0 | M72: =K72+L72 -> 0
A73: 3.4.11 | D73: 200 | E73: mm roof slab | G73: m3 | H73: 30.782 | K73: =H73*I73 -> 0 | L73: =H73*J73 -> 0 | M73: =K73+L73 -> 0
K74: =H74*I74 -> 0 | L74: =H74*J74 -> 0 | M74: =K74+L74 -> 0
C75: LINTEL, SILL BEAMS & MID BAND | K75: =H75*I75 -> 0 | L75: =H75*J75 -> 0 | M75: =K75+L75 -> 0
A76: 3.7.01 | B76: 150 | C76: x | D76: 100 | E76: mm lintel | G76: m3 | H76: 0.5313 | K76: =H76*I76 -> 0 | L76: =H76*J76 -> 0 | M76: =K76+L76 -> 0
K77: =H77*I77 -> 0 | L77: =H77*J77 -> 0 | M77: =K77+L77 -> 0
E78: Cement | G78: Bag | H78: =ROUND(1+SUM(H52:H77)*8,0) -> 638 | K78: =H78*I78 -> 0 | L78: =H78*J78 -> 0 | M78: =K78+L78 -> 0
E79: Coarse Sand | G79: Bag | H79: =H78*2 -> 1276 | K79: =H79*I79 -> 0 | L79: =H79*J79 -> 0 | M79: =K79+L79 -> 0
E80: Aggregate | G80: Bag | H80: =H78*3 -> 1914 | K80: =H80*I80 -> 0 | L80: =H80*J80 -> 0 | M80: =K80+L80 -> 0
E81: Admixture | G81: Ltr | H81: =H78*0.1 -> 63.8 | K81: =H81*I81 -> 0 | L81: =H81*J81 -> 0 | M81: =K81+L81 -> 0
K82: =H82*I82 -> 0 | L82: =H82*J82 -> 0 | M82: =K82+L82 -> 0
A83: 3.8.00 | C83: FORM WORK | K83: =H83*I83 -> 0 | L83: =H83*J83 -> 0 | M83: =K83+L83 -> 0
C84: FOUNDATION & FOUNDATION BEAMS | K84: =H84*I84 -> 0 | L84: =H84*J84 -> 0 | M84: =K84+L84 -> 0
A85: 3.8.01 | B85: 800 | C85: x | D85: 800 | E85: =E57 -> Foundation F1 | G85: m² | H85: 19.2 | K85: =H85*I85 -> 0 | L85: =H85*J85 -> 0 | M85: =K85+L85 -> 0
K86: =H86*I86 -> 0 | L86: =H86*J86 -> 0 | M86: =K86+L86 -> 0
A87: 3.8.07 | B87: 350 | C87: x | D87: 200 | E87: =E59 -> mm Tie Beam TB | G87: m² | H87: 84 | K87: =H87*I87 -> 0 | L87: =H87*J87 -> 0 | M87: =K87+L87 -> 0
K88: =H88*I88 -> 0 | L88: =H88*J88 -> 0 | M88: =K88+L88 -> 0
C89: COLUMNS | K89: =H89*I89 -> 0 | L89: =H89*J89 -> 0
A90: 3.8.09 | B90: 200 | C90: x | D90: 200 | E90: mm Concrete columns C1 | G90: m² | H90: 22.4 | K90: =H90*I90 -> 0 | L90: =H90*J90 -> 0 | M90: =H90*I90+H90*J90 -> 0
A91: 3.8.09 | D91: 250 | E91: mm Dia Concrete columns C2 | G91: m² | H91: 133.1046 | K91: =H91*I91 -> 0 | L91: =H91*J91 -> 0 | M91: =H91*I91+H91*J91 -> 0
K92: =H92*I92 -> 0 | L92: =H92*J92 -> 0
C93: FLOOR SLAB | K93: =H93*I93 -> 0 | L93: =H93*J93 -> 0
A94: 3.9.04 | D94: 100 | E94: mm floor slab | G94: m² | H94: 17 | K94: =H94*I94 -> 0 | L94: =H94*J94 -> 0 | M94: =H94*I94+H94*J94 -> 0
K95: =H95*I95 -> 0 | L95: =H95*J95 -> 0
C96: BEAM | K96: =H96*I96 -> 0 | L96: =H96*J96 -> 0
A97: 3.9.06 | B97: 450 | C97: x | D97: 200 | E97: =E69 -> mm Beam B1 | G97: m² | H97: 47.04835 | K97: =H97*I97 -> 0 | L97: =H97*J97 -> 0 | M97: =H97*I97+H97*J97 -> 0
A98: 3.9.06 | B98: 200 | C98: x | D98: 300 | E98: =E70 -> mm Beam HB | G98: m² | H98: 59.504 | K98: =H98*I98 -> 0 | L98: =H98*J98 -> 0 | M98: =H98*I98+H98*J98 -> 0
K99: =H99*I99 -> 0 | L99: =H99*J99 -> 0
C100: ROOF SLAB | K100: =H100*I100 -> 0 | L100: =H100*J100 -> 0
A101: 3.9.09 | D101: 200 | E101: =E73 -> mm roof slab | G101: m² | H101: 153.91 | K101: =H101*I101 -> 0 | L101: =H101*J101 -> 0 | M101: =H101*I101+H101*J101 -> 0
K102: =H102*I102 -> 0 | L102: =H102*J102 -> 0
C103: LINTEL, SILL BEAMS & MID BAND | K103: =H103*I103 -> 0 | L103: =H103*J103 -> 0
A104: 3.12.01 | B104: 100 | C104: x | D104: 100 | E104: mm Lintel | G104: m² | H104: 10.626 | K104: =H104*I104 -> 0 | L104: =H104*J104 -> 0 | M104: =H104*I104+H104*J104 -> 0
K105: =H105*I105 -> 0 | L105: =H105*J105 -> 0 | M105: =H105*I105+H105*J105 -> 0
E106: Plywood 12mm flim faced | G106: Nos | H106: 127 | K106: =H106*I106 -> 0 | L106: =H106*J106 -> 0 | M106: =H106*I106+H106*J106 -> 0
E107: Timber 35x50mm | G107: m3 | H107: 1.6088771 | K107: =H107*I107 -> 0 | L107: =H107*J107 -> 0 | M107: =H107*I107+H107*J107 -> 0
E108: Timber 50x50mm | G108: m3 | H108: 1.082475 | K108: =H108*I108 -> 0 | L108: =H108*J108 -> 0 | M108: =H108*I108+H108*J108 -> 0
E109: Timber Nail 1 1/2" | G109: Kg | H109: 10 | K109: =H109*I109 -> 0 | L109: =H109*J109 -> 0 | M109: =H109*I109+H109*J109 -> 0
E110: Timber Nail 2" | G110: Kg | H110: 5 | K110: =H110*I110 -> 0 | L110: =H110*J110 -> 0 | M110: =H110*I110+H110*J110 -> 0
...
