Workbook
Name ddd: #REF!
Name FLOORFINISHES: #REF!
Name FLOORFINISHES: #REF!
Name FLOORFINISHES: #REF!
Name FLOORFINISHES: #REF!
Name markup: #REF!
Name markup: #REF!
Name markup: #REF!
Name markup: #REF!
Name markup: #REF!
Name markup: #REF!
Name markup: #REF!
Name wastage: #REF!
Name wastage: #REF!
Name wastage: #REF!
Name wastage: #REF!
Name wastage: #REF!
Name wastage: #REF!
Name wastage: #REF!

Sheet GRAND SUMMARY
A2: GRAND SUMMARY
A3: BOQ FOR TH.MADIFUSHI COUNCIL BLD
A4: MCLP
A5: Revised: 04th January 2026
A8: BILL NO | B8: DESCRIPTION | D8: AMOUNT (MRF)
A10: 1 | B10: SITE DEMOLITION | D10: 0
A11: 2 | B11: PRELIMINARIES | D11: ='GENERAL SUMMARY '!D17 -> 0
A12: 3 | B12: WORKS BELOW GROUND | D12: ='GENERAL SUMMARY '!E17 -> 0
A13: 4 | B13: CONCRETE WORKS | D13: ='GENERAL SUMMARY '!F17 -> 0
A14: 5 | B14: METAL AND CARPENTRY WORKS | D14: ='GENERAL SUMMARY '!G17 -> 0
A15: 6 | B15: MASONARY AND PLASTERING | D15: ='GENERAL SUMMARY '!H17 -> 0
A16: 7 | B16: DOORS AND WINDOWS | D16: ='GENERAL SUMMARY '!I17 -> 0
A17: 8 | B17: PAINTING WORKS | D17: ='GENERAL SUMMARY '!J17 -> 0
A18: 9 | B18: FLOOR FINISHES | D18: ='GENERAL SUMMARY '!K17 -> 0
A19: 10 | B19: FIRE PROTECTION AND DETECTION | D19: ='GENERAL SUMMARY '!L17 -> 0
A20: 11 | B20: HYDRAULICS & DRAINAGE | D20: ='GENERAL SUMMARY '!M17 -> 0
A21: 12 | B21: ELECTRCIAL INSTALATIONS | D21: ='GENERAL SUMMARY '!N17 -> 0
A22: 13 | B22: MECHANICAL SYSTEMS | D22: ='GENERAL SUMMARY '!O17 -> 0
A23: 14 | B23: ADDITIONS | D23: ='GENERAL SUMMARY '!P17 -> 0
A24: 15 | B24: OMISSIONS
B29: PROJECT VALUE TOTAL | D29: =SUM(D10:D28) -> 0
B30: GST 8% | D30: =D29*0.08 -> 0
B31: GRAND TOTAL | D31: =D30+D29 -> 0
B33: DURATION (DAYS)

Sheet GENERAL SUMMARY 
A6: GENERAL SUMMARY
A7: =+'GRAND SUMMARY'!A3 -> BOQ FOR TH.MADIFUSHI COUNCIL BLD
A8: =+'GRAND SUMMARY'!A4 -> MCLP
A9: =+'GRAND SUMMARY'!A5 -> Revised: 04th January 2026
C10: BILL NO 01 | D10: BILL NO 02 | E10: BILL NO 03 | F10: BILL NO 04 | G10: BILL NO 05 | H10: BILL NO 06 | I10: BILL NO 07 | J10: BILL NO 08 | K10: BILL NO 09 | L10: BILL NO 10 | M10: BILL NO 11 | N10: BILL NO 12 | O10: BILL NO 13 | P10: BILL NO 14
C11: DEMOLITION | D11: PRELIMINARIES | E11: WORKS BELOW GROUND | F11: CONCRTE WORKS | G11: METAL AND CARPENTRY WORKS | H11: MASONRY AND PLASTERING | I11: DOORS AND WINDOWS | J11: PAINTING WORKS | K11: FLOOR FINISHES | L11: FIRE PROTECTION AND DETECTION | M11: HYDRAULICS AND DRAINAGE | N11: ELECTRICAL INSTALLATIONS | O11: MECHANICAL SYSTEMS | P11: ADDITIONS
B12: COMMON WORKS | C12: 0 | D12: ='BILL 2 PRELIMINARIES'!F2 -> 0 | F12: ='BILL 4 CONCRETE WORKS'!F3 -> 0
B13: FOUNDATION | E13: ='BILL 3 WORKS BELOW GROUND'!F5 -> 0
B14: GROUND FLOOR | F14: 0 | G14: ='BILL 5METAL AND CARPENTRY WORKS'!F12 -> 0 | H14: ='BILL 6 MASONRY AND PLASTERING'!F9 -> 0 | I14: ='Bill 7 DOORS AND WINDOWS'!F2 -> 0 | J14: ='Bill 8 PAINTING WORKS'!F2 -> 0 | K14: ='Bill 9 FLOOR FINISHES'!F2 -> 0 | L14: ='BILL 10 FDP'!F2 -> 0 | M14: ='BILL 11 HYDRAULICS AND DRAINAGE'!F10 -> 0 | N14: ='BILL 12 ELECTRICAL INSTALLATION'!F11 -> 0 | O14: ='BILL 13 MECHANICAL SYSTEMS'!F2 -> 0 | P14: ='BILL 14 Additions'!F4 -> 0
B15: ROOF | F15: 0 | G15: ='BILL 5METAL AND CARPENTRY WORKS'!F16 -> 0
B17: TOTAL | C17: 0 | D17: =SUM(D12:D16) -> 0 | E17: =SUM(E12:E16) -> 0 | F17: =SUM(F12:F16) -> 0 | G17: =SUM(G12:G16) -> 0 | H17: =SUM(H12:H16) -> 0 | I17: =SUM(I12:I16) -> 0 | J17: =SUM(J12:J16) -> 0 | K17: =SUM(K12:K16) -> 0 | ... P17: =SUM(P12:P16) -> 0

Sheet BILL 1 DEMOLITION
A1: NO | B1: DESCRIPTION | C1: QTY | D1: UNIT | E1: RATE | F1: AMOUNT
A2: 1 | B2: DEMOLITION | F2: =SUM(F3:F18) -> 0
A4: 1 | B4: General Notes
B5: m - meter
B6: No - Numbers
B7: M³ - cubic meter
B8: m² - square meter
B9: Lm - linear meter
B10: t - tonnes
B11: incl - including
B12: mm - millimeter
B13: dia - diameter
B14: SS - Stainless steel
B15: GI - galvanized iron
B16: thk - thick
F19: END OF BILL NO 01: CARRIED OVER TO GENERAL SUMMARY

Sheet BILL 2 PRELIMINARIES
A1: NO | B1: DESCRIPTION | C1: QTY | D1: UNIT | E1: RATE | F1: AMOUNT
A2: 1 | B2: PRELIMINARIES | F2: =SUM(F3:F27) -> 0
A4: 1 | B4: General Notes
B5: m - meter
B6: No - Numbers
B7: M³ - cubic meter
B8: m² - square meter
B9: Lm - linear meter
B10: t - tonnes
B11: incl - including
B12: mm - millimeter
B13: dia - diameter
B14: SS - Stainless steel
B15: GI - galvanized iron
B16: thk - thick
A19: 1.1 | B19: Site Management Costs
A20: 1 | B20: Allow for all on and off site management cost including costs of foreman and assistants, temporary electricity, water supply, hoardings and include for hire equipment, plant, props, etc. | C20: 1 | D20: item | F20: =E20*C20 -> 0
B21: Allow for site protection, site supervisors, hire of machinery and equipment | C21: 1 | D21: item | F21: =E21*C21 -> 0
A23: 1.2 | B23: Sign Board
A24: 1 | B24: Allow for sign board. | C24: 1 | D24: no | F24: =E24*C24 -> 0
A26: 1.3 | B26: Clean Up
A27: 1 | B27: Allow for clean-up of completed works and site upon completion. | C27: 1 | D27: item | F27: =IF(E27="","",C27*E27)
F28: END OF BILL NO 01: CARRIED OVER TO GENERAL SUMMARY

Sheet BILL 3 WORKS BELOW GROUND
A1: NO | B1: DESCRIPTION | C1: QTY | D1: UNIT | E1: RATE | F1: AMOUNT
A2: 2 | B2: WORKS BELOW FROUND
A3: 2.1 | B3: General
B4: Rates shall include for: levelling, grading, trimming, compacting to faces of excavation, keep sides plumb, backfilling, consolidating and disposing surplus soil
B5: WORKS BELOW GROUND | F5: =SUM(F6:F9) -> 0
A7: 2.3 | B7: Water supply and sewage disposal
B8: Ground water well 1.2m dia (with rcc lid) to client required depth. | C8: 1 | D8: item | F8: =E8*C8 -> 0
F10: END OF BILL NO 02: CARRIED OVER TO GENERAL SUMMARY

Sheet BILL 4 CONCRETE WORKS
A1: NO | B1: DESCRIPTION | C1: QTY | D1: UNIT | E1: RATE | F1: AMOUNT
A2: 3 | B2: CONCRETE WORKS | F2: 0
A3: 3.1 | B3: General
A4: a | B4: Rates shall include for: placing in position; making good after removal of formwork and casting in all required items; additional concrete required to conform to structural and excavated tolerances.
A5: b | B5: Concrete quantity is measured to the edges of concrete foundation members. Rates shall be inclusive for any additional concrete required to place the formwork.
A6: c | B6: Formwork rates shall include for: all necessary boarding, supports, erecting, framing, temporary cambering, cutting, perforations for reinforcing bars, bolts, straps, ties, hangers, pipes and removal of formwork.
A7: d | B7: Reinforcement rates shall include for: cleaning, fabrication, placing, the provision for all necessary temporary fixings, and supports including tie wire and chair supports, laps, distribution bars, spacer bar and wastage.
A8: e | B8: All reinforcing bars shall be high strength bars and over lap should be 45 x diameter.
A9: f | B9: Install slurry type water proofing to top surfaces of balcony slabs and external surfaces of underground concrete work.
A10: g | B10: Mix ratio for concrete shall be 1:2:3; unless stated otherwise
A11: h | B11: Concrete shall be castes using non-ageed structural steel and cement and such shall be newly puchased for this project and all concrete materials shall be subjected to inspection by the client
F13: END OF BILL NO 03: CARRIED OVER TO GENERAL SUMMARY

Sheet BILL 5METAL AND CARPENTRY WORKS
A1: NO | B1: DESCRIPTION | C1: QTY | D1: UNIT | E1: RATE | F1: AMOUNT
A2: 4 | B2: METAL AND CARPENTRY WORKS | F2: =SUM(F12+F16) -> 0
B4: General
A5: a | B5: Rates shall include for: all fabrication work, welding, marking, drilling for bolts including those securing timbers, steel plates, bolts, nuts and any type of washer, riveted work, counter sinking and tapping for bolts or machine screws.
A6: b | B6: contractor shall submit for approval shop draings for all ceiling works for apartments including ceilings for bedrooms, sitting rooms and toilets. The ceilings shall be as specified by the dlient and are subjected to written spproval by the client
A7: c | B7: Rates shall include for all painting and finishing as specified in the specification.
A8: d | B8: Rates shall include for fabrication and erection and temporary supports and fixing into position.
A9: e | B9: Stair Case, Balcony and parapet railing shall be made as shown in the drawing
A10: f | B10: Lift Machine room stars shall be incl. in the lift supply and installation
A12: 4.1 | B12: GROUND FLOOR | F12: =SUM(F13:F15) -> 0
B13: Ramp Railing on both sides | C13: 1 | D13: item | F13: =IF(E13="","",C13*E13)
B14: Service counter as per given drawing | C14: 1 | D14: item | F14: =IF(E14="","",C14*E14)
B15: Ceilng works | C15: 396.16 | D15: m2 | F15: =IF(E15="","",C15*E15)
A16: 4.2 | B16: ROOF | F16: 0
F17: END OF BILL NO 04: CARRIED OVER TO GENERAL SUMMARY

Sheet BILL 6 MASONRY AND PLASTERING
A1: NO | B1: DESCRIPTION | C1: QTY | D1: UNIT | E1: RATE | F1: AMOUNT
A2: 5 | B2: MASONRY AND PLASTERING
B3: General
A4: a | B4: Rates shall include for: cleaning out cavities, forming rebated reveals and pointing and cleaning down to reveals where necessary; fractional size blocks, all necessary machine cutting, cutting or forming chases or edges of floor slabs, cutting or leaving holes and openings as recesses for and building in pipes, conduits, sleeves and similar as required for all trades; leaving surfaces rough or raking out joints for plastering and flashings, bedding, frames or plates, building in joists, bearers or similar, temporary supports to openings, templates, reinforcement in walls and for all necessary making good
A5: b | B5: Cement solid block, laid on and incl. mortar tie rods, compression joint gap filler, nylon/plastic mesh as specified
A6: c | B6: Cement plastering on walls and concrete surfaces as specified incl. wire mesh at the joints of concrete surfaces and walls
A7: d | B7: Masonry brick should be salt free PWS / Municipalty solid bricks.
A9: 5.1 | B9: GROUND FLOOR | F9: =SUM(F10:F16) -> 0
A11: 2 | B11: Plastering & Screeding
A12: 3 | B12: Floor screed | C12: 475.68 | D12: m2 | F12: =E12*C12 -> 0
A14: 3 | B14: Boundary Wall
A15: 1 | B15: Masonry and Plastering works | C15: 1 | D15: Item | F15: =E15*C15 -> 0
F16: =IF(E16="","",C16*E16)
F17: END OF BILL NO 05: CARRIED OVER TO GENERAL SUMMARY

Sheet Bill 7 DOORS AND WINDOWS
A1: NO | B1: DESCRIPTION | C1: QTY | D1: UNIT | E1: RATE | F1: AMOUNT
A2: 6 | B2: DOOR AND WINDOW SCHEDULE | F2: =SUM(F8) -> 0
B3: General
A4: a | B4: Rates shall include for: Locks (mortise double Locks), Latches, Closers, Bolts, Puch Plates, Pull Handles, Kick Plates, Hinges and all door and window hardware.
A5: b | B5: Locks (mortise double Locks), Latches, Closers, Bolts, Puch Plates and all Doors and windows shall be as specified in drawings and subjected to written approval by the client
A6: c | B6: The contractor shall take delivery and complete installation
A8: 6.1 | B8: GROUND FLOOR | F8: =SUM(F9:F20) -> 0
B9: D1 | C9: 1 | D9: nos | F9: =IF(E9="","",C9*E9)
B10: D2 | C10: 4 | D10: nos | F10: =IF(E10="","",C10*E10)
B11: D3 | C11: 19 | D11: nos | F11: =IF(E11="","",C11*E11)
B12: D4 | C12: 7 | D12: nos | F12: =IF(E12="","",C12*E12)
B13: D5 | C13: 1 | D13: nos | F13: =IF(E13="","",C13*E13)
B14: D6 | C14: 1 | D14: nos | F14: =IF(E14="","",C14*E14)
B15: W1 | C15: 2 | D15: nos | F15: =IF(E15="","",C15*E15)
B16: W2 | C16: 15 | D16: nos | F16: =IF(E16="","",C16*E16)
B17: W3 | C17: 8 | D17: nos | F17: =IF(E17="","",C17*E17)
B18: W4 | C18: 2 | D18: nos | F18: =IF(E18="","",C18*E18)
B19: GT | C19: 2 | D19: nos | F19: =IF(E19="","",C19*E19)
F21: END OF BILL NO 06: CARRIED OVER TO GENERAL SUMMARY

Sheet Bill 8 PAINTING WORKS
A1: NO | B1: DESCRIPTION | C1: QTY | D1: UNIT | E1: RATE | F1: AMOUNT
A2: 7 | B2: PAINTING | F2: =SUM(F8) -> 0
B3: General
A4: a | B4: Rates shall include for: the provision, erection and removal of scaffolding, preparation, rubbing down between coats and similar work, the protection and/or masking floors, fittings and similar work, removing and replacing door and window
A5: b | B5: All painting work shall be carried in accordance with the Specifications
A6: c | B6: Paint system shall be approved paint from client and consultant.
A8: 7.1 | B8: GROUND FLOOR | F8: =SUM(F9:F14) -> 0
F9: =IF(E9="","",C9*E9)
A10: 1 | B10: Paint on Walls (External Surfaces) | C10: 342.82 | D10: m2 | F10: =IF(E10="","",C10*E10)
A11: 2 | B11: Paint on Walls (Internal Surfaces) | C11: 721.57 | D11: m2 | F11: =IF(E11="","",C11*E11)
A12: 3 | B12: Paint on Ceilings and exposed slab | C12: 475.68 | D12: m2 | F12: =IF(E12="","",C12*E12)
A13: 4 | B13: Paint on boundary walls | C13: 1 | D13: Item | F13: =IF(E13="","",C13*E13)
F14: =IF(E14="","",C14*E14)
F15: END OF BILL NO 07: CARRIED OVER TO GENERAL SUMMARY

Sheet Bill 9 FLOOR FINISHES
A1: NO | B1: DESCRIPTION | C1: QTY | D1: UNIT | E1: RATE | F1: AMOUNT
A2: 8 | B2: FLOOR FINISHES | F2: =SUM(F8) -> 0
B4: General
A5: a | B5: Rates shall include for:motar, fixing, bedding, grouting, and pointing materials; making good around pipes, sanitary fixtures, and similar; cleaning down and polishing.
A6: b | B6: Tiles for general areas such as rooms, sittingroom and kitchen shall be 600x600 ceramic glazed tiles or sizes approved by client and tiles for wet area such as toilets balconies shall be of 450x450 ceramic non-skid tiles on floor and 450x600 ceramic tles up to ceiling or as approved by the client, also tiling addon such as borders and decorative tiles for bathroom shall be included and all materials for floor finishes shall be subjected to written spproval by client
A8: 8.1 | B8: GROUND FLOOR | F8: =SUM(F9:F16) -> 0
F9: =IF(E9="","",C9*E9)
B10: Floor Tiles | F10: =IF(E10="","",C10*E10)
A11: 1 | B11: 600x600 homogenous floor tiles fixed with tile adhesive | C11: 459.81 | D11: m2 | F11: =E11*C11 -> 0
A12: 2 | B12: 300x300 homogenous non skid floor tiles fixed with water proof tile adhesive | C12: 15.87 | D12: m2 | F12: =E12*C12 -> 0
B13: Wall Tiles
A14: 3 | B14: wall tiles fixed with tile adhesive | C14: 75.87 | D14: m2 | F14: =E14*C14 -> 0
F15: =IF(E15="","",C15*E15)
F16: =IF(E16="","",C16*E16)
F17: END OF BILL NO 08: CARRIED OVER TO GENERAL SUMMARY

Sheet BILL 10 FDP
A1: NO | B1: DESCRIPTION | C1: QTY | D1: UNIT | E1: RATE | F1: AMOUNT
A2: 9 | B2: FIRE DETECTION AND PROTECTION | F2: =SUM(F10) -> 0
B3: General
A4: a | B4: Rates shall include for: wirerin with 2.5mm2 fire retardant low smoke (FRLS) cables in FRLS conduits and instalation
A5: b | B5: all dry riser pipes should be galvanized
A6: c | B6: all dry riser pipes should be painted in red as per regulation
A7: d | B7: all support/brackets shall be hot dippedd galvanized to 100mm
A8: e | B8: all fire extinguishers shall be in cabinets (cabinets should be provided)
A10: 9.1 | B10: GROUND FLOOR | F10: =SUM(F11:F20) -> 0
F11: =IF(E11="","",C11*E11)
A12: 1 | B12: CO2 Extinguisher (load 2kg) In Polycarbonate Enclosure | C12: 2 | D12: nos | F12: =IF(E12="","",C12*E12)
A13: 2 | B13: H2O Extinguisher (load 9L) In Polycarbonate Enclosure | C13: 2 | D13: nos | F13: =IF(E13="","",C13*E13)
A14: 3 | B14: Manual Call Point | C14: 2 | D14: nos | F14: =IF(E14="","",C14*E14)
A15: 4 | B15: Smoke Detector | C15: 24 | D15: nos | F15: =IF(E15="","",C15*E15)
A16: 5 | B16: Beacon | C16: 1 | D16: nos | F16: =IF(E16="","",C16*E16)
A17: 6 | B17: Sounder Bell | C17: 1 | D17: nos | F17: =IF(E17="","",C17*E17)
A18: 7 | B18: Fire Alarm Control Panel | C18: 1 | D18: nos | F18: =IF(E18="","",C18*E18)
F19: =IF(E19="","",C19*E19)
F20: =IF(E20="","",C20*E20)
F21: END OF BILL NO 09: CARRIED OVER TO GENERAL SUMMARY

Sheet BILL 11 HYDRAULICS AND DRAINAGE
A1: NO | B1: DESCRIPTION | C1: QTY | D1: UNIT | E1: RATE | F1: AMOUNT
A2: 10 | B2: HYDRAULICS AND DRAINAGE | F2: =SUM(F10) -> 0
A4: A | B4: General
A5: 1 | B5: Rates shall include for: valves, sockets, running joints, connectors, elbows, junctions, reducers, expansion joints; backnuts and similar; incidental fittings, clips, saddles, brackets, straps, hangers, screws, nails and fixing complete, including cutting and forming holes; excavating, laying pipes and backfilling trenches.
A6: 2 | B6: Sanitary fixtures complete including brackets, flush pipes, valves, overflows, plugs and washers, as specified. All fixtures and fittings shall be newly purchased for this project and subjected to inspection by the client
A7: 3 | B7: Toilet fittings to be stailess steel or chrome plated and fixtures to be cotto or equivalent or the fittings shall be approved by writing by the client
A8: 4 | B8: The contractor shall take delivery and fixing
A10: 10.1 | B10: GROUND FLOOR | F10: =SUM(F11:F30) -> 0
B11: Supply and Drainage
A12: 1 | B12: Running Internal fresh water pipes followed from Shut-off valves to all Tiolets, Kitchens & Laundrys which reduces from 25mmØ to 20mmØ and finally 16mmØ to the outlet fixtures or mixer as given in the detail drawings | C12: 1 | D12: item | F12: =IF(E12="","",C12*E12)
A13: 2 | B13: Complete Rainwater Drainage pipework, required trays, chains and ducting as given in the drawing | C13: 1 | D13: item | F13: =IF(E13="","",C13*E13)
A14: 3 | B14: Complete Rainwater Drainage pipework, required trays and ducting as given in the drawing | C14: 1 | D14: item | F14: =IF(E14="","",C14*E14)
A15: 4 | B15: Plumbing fixtures and accessories | F15: =IF(E15="","",C15*E15)
B16: Floor Drain | C16: 3 | D16: nos | F16: =IF(E16="","",C16*E16)
B17: Floor Gully | C17: 1 | D17: nos | F17: =IF(E17="","",C17*E17)
B18: Gully Trap | C18: 1 | D18: nos | F18: =IF(E18="","",C18*E18)
B19: Bottle Trap | C19: 5 | D19: nos | F19: =IF(E19="","",C19*E19)
B20: Clean Out Point | C20: 2 | D20: nos | F20: =IF(E20="","",C20*E20)
B21: Wash Basin with Faucet | C21: 4 | D21: nos | F21: =IF(E21="","",C21*E21)
B22: Bidet Shower | C22: 4 | D22: nos | F22: =IF(E22="","",C22*E22)
B23: Sink with Sink Tap | C23: 1 | D23: nos | F23: =IF(E23="","",C23*E23)
B24: Water Closet | C24: 4 | D24: nos | F24: =IF(E24="","",C24*E24)
B25: Gate Valve | C25: 13 | D25: nos | F25: =IF(E25="","",C25*E25)
B26: MWSC Meter | C26: 1 | D26: nos | F26: =IF(E26="","",C26*E26)
B27: 16Ø Ground Water Supply Provision To Cistern | C27: 4 | D27: nos | F27: =IF(E27="","",C27*E27)
... B30: Foot Valve With Strainer | C30: 1 | D30: nos | F30: =IF(E30="","",C30*E30)
F31: END OF BILL NO 10: CARRIED OVER TO GENERAL SUMMARY

Sheet BILL 12 ELECTRICAL INSTALLATION
A1: NO | B1: DESCRIPTION | C1: QTY | D1: UNIT | E1: RATE | F1: AMOUNT
A2: 11 | B2: ELECTRICAL INSTALLATIONS
B3: General
A4: a | B4: Rates shall include for: screws, nails, bolts, nuts, standard cable fixing or supporting clips, brackets, straps, rivets, plugs and all incidental accessories
A5: b | B5: Rates for work in trench shall include for: excavation, maintaining faces of excavations, backfilling, compaction, appropriate cable covers, warning tape and disposal of surplus spoil
A6: c | B6: Rates shall include for electrical conduits, fittings, equipment and similar all fixings to various building surfaces
A7: c | B7: Lighting fixture and electrical wires and other electrical euquipement such as fans and such shall comply with STELCO standard and all fixtures and fitting shall be subjected to written approval by the client
A8: d | B8: Each Light/ light fixture and its switch is measured as one point; similarly each fan or each socket outlet is measured as one point;
A9: e | B9: The contractor shall take delivery and complete installation
A11: 11.1 | B11: Ground floor | F11: =SUM(F12:F53) -> 0
A13: 1 | B13: Electrical Wiring | F13: =IF(E13="","",C13*E13)
A14: 1 | B14: Main Electrical Connection | C14: 1 | D14: item | F14: =IF(E14="","",C14*E14)
A15: 2 | B15: Electrical wiring with copper conductor cable in conduites in wall and slabs as specified to 2.5mm² wiring to sockets and 1.5mm² wiring to light fixtures, fans and its switches | C15: 1 | D15: item | F15: =IF(E15="","",C15*E15)
A16: 3 | B16: Cabling for internet and medianet | C16: 1 | D16: item | F16: =IF(E16="","",C16*E16)
F17: =IF(E17="","",C17*E17)
A18: 2 | B18: Lighting and electrical acessories | F18: =IF(E18="","",C18*E18)
A19: 1 | B19: 13A Power Socket | C19: 17 | D19: nos | F19: =IF(E19="","",C19*E19)
A20: 2 | B20: 13A Twin Socket | C20: 81 | D20: nos | F20: =IF(E20="","",C20*E20)
A21: 3 | B21: 15A Switched Socket at High Level | C21: 19 | D21: nos | F21: =IF(E21="","",C21*E21)
A22: 4 | B22: 15A Socket In Polycarbonate Box | C22: 1 | D22: nos | F22: =IF(E22="","",C22*E22)
A23: 5 | B23: Distribution Board | C23: 1 | D23: nos | F23: =IF(E23="","",C23*E23)
A24: 6 | B24: VGA Inlet Socket for Ceiling Mounted Projector | C24: 2 | D24: nos | F24: =IF(E24="","",C24*E24)
A25: 7 | B25: VGA Outlet Socket for Ceiling Mounted Projector | C25: 2 | D25: nos | F25: =IF(E25="","",C25*E25)
A26: 8 | B26: Computer Network Outlet | C26: 35 | D26: nos | F26: =IF(E26="","",C26*E26)
A27: 9 | B27: Emergency Light | C27: 10 | D27: nos | F27: =IF(E27="","",C27*E27)
A28: 10 | B28: Telephone Extension | C28: 21 | D28: nos | F28: =IF(E28="","",C28*E28)
A29: 11 | B29: Telephone Outlet | C29: 7 | D29: nos | F29: =IF(E29="","",C29*E29)
A30: 12 | B30: Angular Camera | C30: 8 | D30: nos | F30: =IF(E30="","",C30*E30)
... A52: 34 | B52: Ceiling Fan Switch With Controller | C52: 25 | D52: nos | F52: =IF(E52="","",C52*E52)
F53: =IF(E53="","",C53*E53)
F54: END OF BILL NO 11: CARRIED OVER TO GENERAL SUMMARY

Sheet BILL 13 MECHANICAL SYSTEMS
A1: NO | B1: DESCRIPTION | C1: QTY | D1: UNIT | E1: RATE | F1: AMOUNT
A2: 12 | B2: Mechanical Systems | F2: =SUM(F7) -> 0
A4: 12.1 | B4: AIR-CONDITIONING SYSTEM
A6: a | B6: Rate shall include for signal cables for each unit, which has to be laid above the ceiling. copper tubes and refnet joints refnet header needed for completion. electrical connection required for all indoor units and isolator switches for out door units
A7: 1 | B7: Ground Floor | F7: =SUM(F8:F17) -> 0
B8: 4 way cassete Air Conditioner 24,000 BTU with out-door condensing unit | C8: 3 | D8: item | F8: =IF(E8="","",C8*E8)
B9: Wall mount Air conditioner 9,000 BTU with out-door condensing unit | C9: 2 | D9: item | F9: =IF(E9="","",C9*E9)
B10: Wall mount Air conditioner 9,000 BTU with out-door condensing unit | C10: 6 | D10: item | F10: =IF(E10="","",C10*E10)
B11: Wall mount Air conditioner 12,000 BTU with out-door condensing unit | C11: 3 | D11: item | F11: =IF(E11="","",C11*E11)
B12: Wall mount Air conditioner 18,000 BTU with out-door condensing unit | C12: 1 | D12: item | F12: =IF(E12="","",C12*E12)
B13: Wall mount Air conditioner 24,000 BTU with out-door condensing unit | C13: 3 | D13: item | F13: =IF(E13="","",C13*E13)
B14: Wall mount Air conditioner 24,000 BTU with out-door condensing unit | C14: 3 | D14: item | F14: =IF(E14="","",C14*E14)
B15: Wall mount Air conditioner 24,000 BTU with out-door condensing unit | C15: 1 | D15: item | F15: =IF(E15="","",C15*E15)
F16: =IF(E16="","",C16*E16)
F17: =IF(E17="","",C17*E17)
F18: END OF BILL NO 12: CARRIED OVER TO GENERAL SUMMARY

Sheet BILL 14 Additions
A1: NO | B1: DESCRIPTION | C1: QTY | D1: UNIT | E1: RATE | F1: AMOUNT
A2: 13 | B2: Additions
A4: 1 | B4: Additions | F4: =SUM(F5:F57) -> 0
A6: a | B6: Completion of Garage & General Store | C6: 1 | D6: item | F6: =E6 -> 0
A7: b | B7: Flag Post (flagpole) 6m height, Marine Grade S.S, 3"dia | C7: 1 | D7: item | F7: =E7 -> 0
A8: c | B8: Name Board of Council building (4'x2') PVC sheet min 6mm thick | C8: 1 | D8: item | F8: =E8 -> 0
F11: =IF(E11="","",C11*E11)
F12: =IF(E12="","",C12*E12)
F13: =IF(E13="","",C13*E13)
F14: =IF(E14="","",C14*E14)
F15: =IF(E15="","",C15*E15)
F16: =IF(E16="","",C16*E16)
F17: =IF(E17="","",C17*E17)
F18: =IF(E18="","",C18*E18)
F19: =IF(E19="","",C19*E19)
F20: =IF(E20="","",C20*E20)
F21: =IF(E21="","",C21*E21)
F22: =IF(E22="","",C22*E22)
... F56: =IF(E56="","",C56*E56)
F58: END OF BILL NO 13: CARRIED OVER TO GENERAL SUMMARY

Sheet BILL 15 Omissions
A1: NO | B1: DESCRIPTION | C1: QTY | D1: UNIT | E1: RATE | F1: AMOUNT
A2: 14 | B2: Omissions
A4: 1 | B4: Omissions | F4: =IF(E4="","",C4*E4)
F5: =IF(E5="","",C5*E5)
F6: =IF(E6="","",C6*E6)
F7: =IF(E7="","",C7*E7)
F8: =IF(E8="","",C8*E8)
F9: =IF(E9="","",C9*E9)
F10: =IF(E10="","",C10*E10)
F11: =IF(E11="","",C11*E11)
F12: =IF(E12="","",C12*E12)
F13: =IF(E13="","",C13*E13)
F14: =IF(E14="","",C14*E14)
F15: =IF(E15="","",C15*E15)
F16: =IF(E16="","",C16*E16)
... F56: =IF(E56="","",C56*E56)
F58: END OF BILL NO 14: CARRIED OVER TO GENERAL SUMMARY
