Workbook

Sheet BILL 01-13
A2: ބިލް އޮފް ކުއަންޓިޓީ (ބީ.އޯ.ކިއު)
A3: ޕްރޮޖެކްޓު ނަން: ތަކުރުހިޔާ އެކްސްޓެންޝަން
A4: އިއުލާނު ނަންބަރު: (IUL)245-MIM/245/2026/78
A5: ޖުމުލަ | B5: ރޭޓް | C5: ޢަދަދު | D5: ޔުނިޓް | E5: ތަފްޞީލް | F5: އައިޓަމް
E6: ބިލު ނަންބަރު: 01 ގުރައުންޑު މަސައްކަތް
A7: =B7*C7 -> 0
E8: ސައިޓު ސާފުކުރުން | F8: 1.1
A9: =B9*C9 -> 0 | C9: 1 | D9: ނަންބަރު | E9: ގޯތިތެރޭގައި ހަދާފައިވާ ޖަންގްޝަން ސާފުކުރުމަށްފަހު، ތަޅާލުން. | F9: 1
A10: =B10*C10 -> 0 | C10: 1 | D10: ނަންބަރު | E10: މުޅި މަސައްކަތް ނިމުމުން ސައިޓު ސާފުކުރުން | F10: 2
A11: =B11*C11 -> 0
A12: =B12*C12 -> 0 | E12: ކޮނުން | F12: 1.2
A13: =B13*C13 -> 0 | E13: (ހ) ކޮންކުރިޓު އަޅަންޖެހޭ ތަންތަން ކޮންނަންޖެހޭ އަދަދު މިންކޮށްފައިވަނީ ކޮންކުރިޓުގެ ބައިތަކާ އެއްވަރަށެވެ. އަގުކުރުމުގައި ތައްގަނޑު ޖެއްސުމަށް އިތުރަށް ކޮންނަންޖެހޭ މިންވަރު ހިމަނަންވާނެއެވެ.
E14: (ށ) ހުރިހައި ކޮނުމެއް އަގުކުރުމުގައި އަލުން ފަސްއަޅާ ފޮރުވުން (އާތު ފިލިންގ) އާއި، ކޮމްޕެކްޓުކޮށް، ލެވަލުކުރުމާއި، އިތުރުވާ ފަސްތައް ނަގާ އުކުން ހިމަނަންވާނެއެވެ.
A15: =B15*C15 -> 0 | C15: 85.58 | D15: ކޮޑިފޫޓު | E15: ފައުންޑޭޝަން އެޅުމަށް ކޮނުން | F15: 1
A16: =B16*C16 -> 0 | C16: 14.98 | D16: ކޮޑިފޫޓު | E16: އަސްކަނި ތަޅުމުގެ ފާރު ރޭނުމަށް ކޮނުން | F16: 2
A17: =B17*C17 -> 0 | C17: 194.77 | D17: ފޫޓު | E17: ޑްރެއިނޭޖް ހޮޅިތަކާއި، ފްރެޝްވޯޓަރ ހޮޅިތައް ވަޅުލުމަށް ކޮނުން. | F17: 3
A18: =B18*C18 -> 0
A19: =B19*C19 -> 0 | E19: ޑޭމް ޕްރޫފިންގ | F19: 1.3
A20: =B20*C20 -> 0 | E20: މިންކޮށްފައިވާނީ، ލީން ކޮންކްރީޓްގެ ބައިތަކާ އެއްވަރަށެވެ. އަގުކުރުމުގައި ކޮންކްރީޓު ބައިތަކުގެ އަރިމަތިން އިތުރުކުރާ މިންވަރު ހިމަނަންވާނެއެވެ.
A21: =B21*C21 -> 0 | C21: 82.82 | D21: އަކަފޫޓު | E21: ޑޭމް ޕްރޫފް މެމްބަރޭން (ފައުންޑޭޝަންގެ ދަށަށް) | F21: 1
A22: =B22*C22 -> 0 | C22: 34.92 | D22: އަކަފޫޓު | E22: ޑޭމް ޕްރޫފް މެމްބަރޭން (އަސްކަނި ތަޅުމުގެ ފާރު ދަށަށް) | F22: 2
A23: =B23*C23 -> 0 | C23: 8.3 | D23: އަކަފޫޓު | E23: ޑޭމް ޕްރޫފް މެމްބަރޭން (ވޯޓަރ ޕަމްޕު ސްޓޭންޑުގެ ފާރުތަކުގެ ދަށަށް) | F23: 3
A25: =B25*C25 -> 0 | E25: ވޯޓަރ ޕްރޫފިންގ | F25: 1.4
A26: =B26*C26 -> 0 | E26: ގްރައުންޑް ލެވަލުން ތިރީގައިވާ ކޮންކުރީޓުގެ ހުރިހާ ސަރފޭސްހެއްގައި 1 ކޯޓު ބިޓިއުމިނަސް ޕެއިންޓެއް (Bituminous Paint) ލާންވާނެއެވެ.
A27: =B27*C27 -> 0 | C27: 132.52 | D27: އަކަފޫޓު | E27: ފައުންޑޭޝަން | F27: 1
E29: ފާރު ތެޅުމާއި މުށި ނެއްޓުން | F29: 1.5
E30: ފާޚާނާގެ ފާރު ނެގުމުން ކޮޓަރި ފާރުން ސިމެންތި ކެނޑޭ ތަންތަނުގައި އަލުން ސިމެންތި ޖަހާ އެއްވަރުކުރަން ވާނެއެވެ. ފާރު ނެގުން އަގުކުރުމުގައި އަލުން ސިމެންތި ޖެހުން ހިމަނަންވާނެއެވެ. މީގެ އިތުރުން ކޮޓަރިތަކުގެ ހުޅުވުންތަކަށް (ދޮރުތަކަށް) ފާރު ކެނޑުން އަގުކުރުމުގައި، ދޮރުތަކުގެ ދާރަ ހެދުން ހިމަނަންވާނެއެވެ.
E31: މުށި ޖަހާފައިވާ ތަންތަނުން މުށި ނެއްޓުމުގެ އަގުގެ ތެރޭގައި ބޯޑަރު މުށި ނެއްޓުން ހިމަނަންވާނެއެވެ. މި ބައިގައި މުށި ނެއްޓުން ކަމަށް ބަޔާންކޮށްފައި އެ ވަނީ މިހާރު މުށި ޖަހައިފައިވާ (އެގްޒިސްޓިންގ) ތަންތަނަށެވެ.
A32: =B32*C32 -> 0 | C32: 113.8 | D32: އަކަފޫޓު | E32: ފާޚާނާ 3ގެ ފާރު ނެގުން | F32: 1
A33: =B33*C33 -> 0 | C33: 59.11 | D33: އަކަފޫޓު | E33: ކޮޓަރިތަކުގެ ހުޅުވުންތަކަށް ކެނޑުން | F33: 2
A34: =B34*C34 -> 0 | C34: 83 | D34: އަކަފޫޓު | E34: ހުރިހައި ފާޚާނާއެއްގެ ތަޅުމުން މުށި ނެއްޓުން | F34: 3
A35: =B35*C35 -> 0 | C35: 437 | D35: އަކަފޫޓު | E35: ފާޚާނާ (2)އާއި (4)ގެ ބިތުމުށި ނެއްޓުން | F35: 4
A37: =SUM(A8:A35) -> 0 | E37: ބިލު ނަންބަރު 01 ގެ ޖުމުލަ - ހުލާސާއަށް ގެންދެވުނު
E38: ބިލު ނަންބަރު: 02 - ކޮންކުރީޓު
E40: އާންމު ބައިތައް
E41: (ހ) އަގުކުރުމުގައި، ތައްގަނޑު ޖެއްސުމާއި، ބެހެއްޓުމާއި، ތައްގަނޑުތައް ނެއްޓުމަށްފަހު ރަނގަޅުކުރަންޖެހޭ ތަންތަން ރަނގަޅުކުރުމާއި، ކޮންކުރީޓު ހަމަކުރުމަށް އިތުރަށް އަޅަންޖެހޭ ކޮންކުރީޓުގެ މިންވަރު، އަދި ކިއޯކުރުމަށް ފެންޖެހުން ހިމަނަން ވާނެއެވެ. މީގެ އިތުރުން، ސްކެފޯލްޑިންގއާއި، ހޮއިސްޓިންގ އިކްއިޕްމަންޓަށާއި، ވަގުތީގޮތުން އަޅާ ޓުރަސްއާއި ސަޕޯޓު ފަދަ ކަންކަމަށް ހިނގާ ޚަރަދު ހިމަނަން ވާނެއެވެ.
E42: (ށ) ކޮންކްރީޓުގެ ހުރިހައި ކަމަށް ބޭނުންކުރަން ވާނީ އެއް ބުރޭންޑެއްގެ އިންޑޯ ނުވަތަ ބީ.އެސް 12އަށް ފެތޭ ސިމެންތިއެކެވެ. އަދި ބޭނުންކުރަން ވާނީ ރަނގަޅަށް ގުރޭޑުކުރެވިފައިވާ ހިލަޔާއި ހިލަވެއްޔެވެ.
E43: (ނ) ދަގަނޑު ބޭނުންކުރުމުގައި އަބަދުވެސް ދަގަނޑުގެ ފުރިހަމަ ދިގުމިނުގައި ބޭނުން ކުރުމަށް ހާއްސަ ސަމާލުކަން ދޭންވާނެއެވެ. ދަގަނޑު ބުރިބުރިކޮށްގެން ބޭނުންކުރުމަކީ އެދެވިގެންވާ ކަމެއް ނޫނެވެ.
E44: (ރ) ކޮލަމުތަކުގެ ތައްގަނޑުތައް ނައްޓަންޖެހޭނީ ކޮންކުރީޓު މަސައްކަތް ނިމޭތާ 72 ގަޑިއިރު ވުމަށްފަހުއެވެ. މި ގޮތަށް ފައުންޑޭޝަންގެ ތައްގަނޑުތައް ނައްޓަންޖެހޭނީ 36 ގަޑިއިރު ވުމަށް ފަހުއެވެ.
E45: (ބ) ސްޓްރަކްޗަރަލް ކޮންކުރީޓުގެ ގްރޭޑް C25-C20 އަށް ވާންވާނެއެވެ. މާސް ކޮންކުރީޓުގެ ގްރޭޑް C20 އަށް ވާންވާނެއެވެ. ކޮންކްރީޓުގެ ފެނާ ސިމެންތީގެ ރޭޝިއޯއަކީ 0.4% އާ 0.45%އާ ދެމެދުގެ މިންވަރެކެވެ.
...

Sheet SUMMARY
A2: ބިލް އޮފް ކުއަންޓިޓީ (ބީ.އޯ.ކިއު) - ޚުލާސާ
A3: ޕްރޮޖެކްޓު ނަން: ތަކުރުހިޔާ އެސްކްޓެންޝަން
A4: އިއުލާނު ނަންބަރު: (IUL)245-MIM/245/2026/78
A5: އަގު | B5: ތަފްސީލް | F5: އައިޓަމް
A6: ='BILL 01-13'!A37 -> 0 | B6: ގުރައުންޑު މަސައްކަތް | F6: 1
A7: ='BILL 01-13'!A96 -> 0 | B7: ކޮންކުރިޓު | F7: 2
A8: ='BILL 01-13'!A144 -> 0 | B8: ރޭނުމާއި، ތަޅުން އެޅުމާއި، ސިމެންތި ޖެހުން | F8: 3
A9: ='BILL 01-13'!A173 -> 0 | E9: ހިޔާކުރުން | F9: 4
A10: ='BILL 01-13'!A199 -> 0 | E10: ސީލިންކުރުން | F10: 5
A11: ='BILL 01-13'!A230 -> 0 | E11: މުށިޖެހުން | F11: 6
A12: ='BILL 01-13'!A245 -> 0 | E12: ބޮޑުދޮރާއި ކުޑަދޮރު | F12: 7
A13: ='BILL 01-13'!A298 -> 0 | E13: ކަރަންޓު ވަޔަރުކުރުން | F13: 8
A14: ='BILL 01-13'!A321 -> 0 | E14: މެކޭނިކަލް ސިސްޓަމް، ފަޔަ އެކްޓިންގުއިޒާ | F14: 9
A15: ='BILL 01-13'!A363 -> 0 | E15: ފެން ވަޔަރުކުރުން | F15: 10
A16: ='BILL 01-13'!A381 -> 0 | E16: ކުލައާއި ދަވާދު | F16: 11
A17: ='BILL 01-13'!A405 -> 0 | E17: ފަރުނީޗަރު، އިކުއިޕުމަންޓު، އެހެނިހެން | F17: 12
A18: =SUM(A6:A17) -> 0 | B18: ޖުމްލަ
A19: =A18*8% -> 0 | B19: ޖީ.އެސް.ޓީ %8
A20: =A18+A19 -> 0 | B20: އެކު ޖުމްލަ
