Workbook

Sheet BILL 01-13
A2: ބިލް އޮފް ކުއަންޓިޓީ (ބީ.އޯ.ކިއު)
A3: ޕްރޮޖެކްޓު ނަން: ތަކުރުހިޔާ އެކްސްޓެންޝަން
A4: އިއުލާނު ނަންބަރު: (IUL)245-MIM/245/2026/78
A5: ޖުމުލަ | B5: ރޭޓް | C5: ޢަދަދު | D5: ޔުނިޓް | E5: ތަފްޞީލް | F5: އައިޓަމް
E6: ބިލު ނަންބަރު: 01 ގުރައުންޑު މަސައްކަތް
A7: =B7*C7 -> 0
E8: ސައިޓު ސާފުކުރުން | F8: 1.1
A9: =B9*C9 -> 0 | C9: 1 | D9: ނަންބަރު | E9: ގޯތިތެރޭގައި ހަދާފައިވާ ޖަންގްޝަން ސާފުކުރުމަށްފަހު، ތަޅާލުން. | F9: 1
A10: =B10*C10 -> 0 | C10: 1 | D10: ނަންބަރު | E10: މުޅި މަސައްކަތް ނިމުމުން ސައިޓު ސާފުކުރުން | F10: 2
A11: =B11*C11 -> 0
A12: =B12*C12 -> 0 | E12: ކޮނުން | F12: 1.2
A13: =B13*C13 -> 0 | E13: (ހ) ކޮންކުރިޓު އަޅަންޖެހޭ ތަންތަން ކޮންނަންޖެހޭ އަދަދު މިންކޮށްފައިވަނީ ކޮންކުރިޓުގެ ބައިތަކާ އެއްވަރަށެވެ. އަގުކުރުމުގައި ތައްގަނޑު ޖެއްސުމަށް އިތުރަށް ކޮންނަންޖެހޭ މިންވަރު ހިމަނަންވާނެއެވެ.
E14: (ށ) ހުރިހައި ކޮނުމެއް އަގުކުރުމުގައި އަލުން ފަސްއަޅާ ފޮރުވުން (އާތު ފިލިންގ) އާއި، ކޮމްޕެކްޓުކޮށް، ލެވަލުކުރުމާއި، އިތުރުވާ ފަސްތައް ނަގާ އުކުން ހިމަނަންވާނެއެވެ.
A15: =B15*C15 -> 0 | C15: 85.58 | D15: ކޮޑިފޫޓު | E15: ފައުންޑޭޝަން އެޅުމަށް ކޮނުން | F15: 1
A16: =B16*C16 -> 0 | C16: 14.98 | D16: ކޮޑިފޫޓު | E16: އަސްކަނި ތަޅުމުގެ ފާރު ރޭނުމަށް ކޮނުން | F16: 2
A17: =B17*C17 -> 0 | C17: 194.77 | D17: ފޫޓު | E17: ޑްރެއިނޭޖް ހޮޅިތަކާއި، ފްރެޝްވޯޓަރ ހޮޅިތައް ވަޅުލުމަށް ކޮނުން. | F17: 3
A18: =B18*C18 -> 0
A19: =B19*C19 -> 0 | E19: ޑޭމް ޕްރޫފިންގ | F19: 1.3
A20: =B20*C20 -> 0 | E20: މިންކޮށްފައިވާނީ، ލީން ކޮންކްރީޓްގެ ބައިތަކާ އެއްވަރަށެވެ. އަގުކުރުމުގައި ކޮންކްރީޓު ބައިތަކުގެ އަރިމަތިން އިތުރުކުރާ މިންވަރު ހިމަނަންވާނެއެވެ.
A21: =B21*C21 -> 0 | C21: 82.82 | D21: އަކަފޫޓު | E21: ޑޭމް ޕްރޫފް މެމްބަރޭން (ފައުންޑޭޝަންގެ ދަށަށް) | F21: 1
A22: =B22*C22 -> 0 | C22: 34.92 | D22: އަކަފޫޓު | E22: ޑޭމް ޕްރޫފް މެމްބަރޭން (އަސްކަނި ތަޅުމުގެ ފާރު ދަށަށް) | F22: 2
A23: =B23*C23 -> 0 | C23: 8.3 | D23: އަކަފޫޓު | E23: ޑޭމް ޕްރޫފް މެމްބަރޭން (ވޯޓަރ ޕަމްޕު ސްޓޭންޑުގެ ފާރުތަކުގެ ދަށަށް) | F23: 3
A25: =B25*C25 -> 0 | E25: ވޯޓަރ ޕްރޫފިންގ | F25: 1.4
A26: =B26*C26 -> 0 | E26: ގްރައުންޑް ލެވަލުން ތިރީގައިވާ ކޮންކުރީޓުގެ ހުރިހާ ސަރފޭސްހެއްގައި 1 ކޯޓު ބިޓިއުމިނަސް ޕެއިންޓެއް (Bituminous Paint) ލާންވާނެއެވެ.
A27: =B27*C27 -> 0 | C27: 132.52 | D27: އަކަފޫޓު | E27: ފައުންޑޭޝަން | F27: 1
E29: ފާރު ތެޅުމާއި މުށި ނެއްޓުން | F29: 1.5
E30: ފާޚާނާގެ ފާރު ނެގުމުން ކޮޓަރި ފާރުން ސިމެންތި ކެނޑޭ ތަންތަނުގައި އަލުން ސިމެންތި ޖަހާ އެއްވަރުކުރަން ވާނެއެވެ. ފާރު ނެގުން އަގުކުރުމުގައި އަލުން ސިމެންތި ޖެހުން ހިމަނަންވާނެއެވެ. މީގެ އިތުރުން ކޮޓަރިތަކުގެ ހުޅުވުންތަކަށް (ދޮރުތަކަށް) ފާރު ކެނޑުން އަގުކުރުމުގައި، ދޮރުތަކުގެ ދާރަ ހެދުން ހިމަނަންވާނެއެވެ.
E31: މުށި ޖަހާފައިވާ ތަންތަނުން މުށި ނެއްޓުމުގެ އަގުގެ ތެރޭގައި ބޯޑަރު މުށި ނެއްޓުން ހިމަނަންވާނެއެވެ. މި ބައިގައި މުށި ނެއްޓުން ކަމަށް ބަޔާންކޮށްފައި އެ ވަނީ މިހާރު މުށި ޖަހައިފައިވާ (އެގްޒިސްޓިންގ) ތަންތަނަށެވެ.
A32: =B32*C32 -> 0 | C32: 113.8 | D32: އަކަފޫޓު | E32: ފާޚާނާ 3ގެ ފާރު ނެގުން | F32: 1
A33: =B33*C33 -> 0 | C33: 59.11 | D33: އަކަފޫޓު | E33: ކޮޓަރިތަކުގެ ހުޅުވުންތަކަށް ކެނޑުން | F33: 2
A34: =B34*C34 -> 0 | C34: 83 | D34: އަކަފޫޓު | E34: ހުރިހައި ފާޚާނާއެއްގެ ތަޅުމުން މުށި ނެއްޓުން | F34: 3
A35: =B35*C35 -> 0 | C35: 437 | D35: އަކަފޫޓު | E35: ފާޚާނާ (2)އާއި (4)ގެ ބިތުމުށި ނެއްޓުން | F35: 4
A37: =SUM(A8:A35) -> 0 | E37: ބިލު ނަންބަރު 01 ގެ ޖުމުލަ - ހުލާސާއަށް ގެންދެވުނު
E38: ބިލު ނަންބަރު: 02 - ކޮންކުރީޓު
E40: އާންމު ބައިތައް
E41: (ހ) އަގުކުރުމުގައި، ތައްގަނޑު ޖެއްސުމާއި، ބެހެއްޓުމާއި، ތައްގަނޑުތައް ނެއްޓުމަށްފަހު ރަނގަޅުކުރަންޖެހޭ ތަންތަން ރަނގަޅުކުރުމާއި، ކޮންކުރީޓު ހަމަކުރުމަށް އިތުރަށް އަޅަންޖެހޭ ކޮންކުރީޓުގެ މިންވަރު، އަދި ކިއޯކުރުމަށް ފެންޖެހުން ހިމަނަން ވާނެއެވެ. މީގެ އިތުރުން، ސްކެފޯލްޑިންގއާއި، ހޮއިސްޓިންގ އިކްއިޕްމަންޓަށާއި، ވަގުތީގޮތުން އަޅާ ޓުރަސްއާއި ސަޕޯޓު ފަދަ ކަންކަމަށް ހިނގާ ޚަރަދު ހިމަނަން ވާނެއެވެ.
E42: (ށ) ކޮންކްރީޓުގެ ހުރިހައި ކަމަށް ބޭނުންކުރަން ވާނީ އެއް ބުރޭންޑެއްގެ އިންޑޯ ނުވަތަ ބީ.އެސް 12އަށް ފެތޭ ސިމެންތިއެކެވެ. އަދި ބޭނުންކުރަން ވާނީ ރަނގަޅަށް ގުރޭޑުކުރެވިފައިވާ ހިލަޔާއި ހިލަވެއްޔެވެ.
E43: (ނ) ދަގަނޑު ބޭނުންކުރުމުގައި އަބަދުވެސް ދަގަނޑުގެ ފުރިހަމަ ދިގުމިނުގައި ބޭނުން ކުރުމަށް ހާއްސަ ސަމާލުކަން ދޭންވާނެއެވެ. ދަގަނޑު ބުރިބުރިކޮށްގެން ބޭނުންކުރުމަކީ އެދެވިގެންވާ ކަމެއް ނޫނެވެ.
E44: (ރ) ކޮލަމުތަކުގެ ތައްގަނޑުތައް ނައްޓަންޖެހޭނީ ކޮންކުރީޓު މަސައްކަތް ނިމޭތާ 72 ގަޑިއިރު ވުމަށްފަހުއެވެ. މި ގޮތަށް ފައުންޑޭޝަންގެ ތައްގަނޑުތައް ނައްޓަންޖެހޭނީ 36 ގަޑިއިރު ވުމަށް ފަހުއެވެ.
E45: (ބ) ސްޓްރަކްޗަރަލް ކޮންކުރީޓުގެ ގްރޭޑް C25-C20 އަށް ވާންވާނެއެވެ. މާސް ކޮންކުރީޓުގެ ގްރޭޑް C20 އަށް ވާންވާނެއެވެ. ކޮންކްރީޓުގެ ފެނާ ސިމެންތީގެ ރޭޝިއޯއަކީ 0.4% އާ 0.45%އާ ދެމެދުގެ މިންވަރެކެވެ.
E46: (ޅ) މާސް ކޮންކުރީޓު އަދި ރިއިންފޯސްޑް ކޮންކުރިޓުގެ މިކްސް ރޭޝިއޯއަކީ 1:2:3 އެވެ. (1 ސިމެންތީގެ ވަޒަނަށް 2 ހިލަވެލި، އަދި 3 ހިލަ އެވެ.)
E48: މާސް ކޮންކުރީޓު | F48: 2.1
E49: (ހ) ކޮންކުރިޓު އަޅާނީ ތައްގަނޑު ޖައްސައިގެންނެވެ. (Cast-in place)
E50: (ށ) ކޮންކުރީޓު އަޅަންޖެހޭ ވަރު މިންކޮށްފައި ވާނީ، ކޮންކުރީޓުގެ ބައިތަކުގެ ސައިޒާ (އެޖް އޮފް ކޮންކްރީޓް މެމްބަރސްއާ) އެއްވަރަށެވެ. މިން ހަމަކުރުމަށް އިތުރަށް އަޅަންޖެހޭ ކޮންކުރީޓު އަގުކުރުމުގައި ހިމަނަން ވާނެއެވެ.
A51: =C51*B51 -> 0 | C51: 13.37 | D51: ކޮޑިފޫޓު | E51: ފައުންޑޭޝަންގެ ދަށަށް 50mm ބޯ × 250mm ފުޅާ ލީން ކޮންކުރީޓު އެޅުން | F51: 1
A52: =C52*B52 -> 0 | C52: 5.64 | D52: ކޮޑިފޫޓު | E52: އަސްކަނި ތަޅުމުގެ ފާރުގެ ދަށަށް 50mm ބޯ × 200mm ފުޅާ ލީން ކޮންކުރީޓު އެޅުން | F52: 2
A53: =C53*B53 -> 0 | C53: 1.41 | D53: ކޮޑިފޫޓު | E53: ވޯޓާ ޕަމްޕު ސްޓޭންޑުގެ ފާރުގެ ދަށަށް 50mm ބޯ × 200mm ފުޅާ ލީން ކޮންކުރީޓު އެޅުން | F53: 3
A54: =C54*B54 -> 0
A55: =C55*B55 -> 0 | E55: ރިއިންފޯސްޑް ކޮންކުރީޓު | F55: 2.2
A56: =C56*B56 -> 0 | E56: (ހ) ކޮންކުރީޓު އަޅަންޖެހޭ ވަރު މިންކޮށްފައި ވާނީ، ކޮންކުރީޓު ބައިތަކުގެ ސައިޒާ (އެޖް އޮފް ކޮންކްރީޓް މެމްބަރސްއާ) އެއްވަރަށެވެ. މިން ހަމަކުރުމަށް އިތުރަށް އަޅަންޖެހޭ ކޮންކުރީޓު އަގުކުރުމުގައި ހިމަނަން ވާނެއެވެ.
E57: (ށ) ލިންޓަލް ބީމު އަޅާނީ އަލަށް ހަރުކުރާ ހުރިހައި ބޮޑުދޮރާއި ކުޑަދޮރު އަދި ފެންލައިޓުގެ މަތީގައި، ދޮރުގެ ފުޅާމިނަށް ވުރެ ކޮންމެ ކޮޅަކުން 200mm ދިގުކޮށެވެ.
A58: =C58*B58 -> 0 | C58: 42.79 | D58: ކޮޑިފޫޓު | E58: ފައުންޑޭޝަން. 200x200x30292 | F58: 1
A59: =C59*B59 -> 0 | C59: 32.47 | D59: ކޮޑިފޫޓު | E59: ކޮލަމް 150×150×2919ގެ 14 | F59: 2
A60: =C60*B60 -> 0 | C60: 24.07 | D60: ކޮޑިފޫޓު | E60: ރޫފް ބީމް. 150x150x30292 | F60: 3
A61: =C61*B61 -> 0 | C61: 6.81 | D61: ކޮޑިފޫޓު | E61: ލިންޓަލް ބީމް. ކޮންމެ ބީމެއްގެ އުސްމިން: 100mm, ފުޅާމިން 125mm | F61: 4
A62: =C62*B62 -> 0 | C62: 6.8 | D62: ކޮޑިފޫޓު | E62: ވޯޓަރ ޕަމްޕު ސްޓޭންޑުގެ ސްލެބް. 100mm ބޯމިން | F62: 5
A64: =C64*B64 -> 0 | E64: ރިއިންފޯސްމަންޓް | F64: 2.3
A65: =C65*B65 -> 0 | E65: (ހ) ދަގަނޑު ބޭނުންވާ އަދަދު މިންކޮށްފައިވާނީ، ކޮންކުރީޓުގެ ބައިތަކުގެ ސައިޒަށް (އެޖް އޮފް ކޮންކްރީޓް މެމްބަރސްއަށް) ބަލައިގެންނެވެ. އަގުކުރުމުގައި ވޭސްޓޭޖަށާއި ޖޮއިންޓުތަކަށް ރިއާޔަތްކުރަންވާނެއެވެ. އަދި އަގުކުރުމުގައި ބަންނަނަރާއި، ދަގަނޑު ބަނުމާއި ބެހެއްޓުން ހިމަނަންވާނެއެވެ.
E67: ފައުންޑޭޝަން | F67: 2.3.1
A68: =C68*B68 -> 0 | C68: 24 | D68: ނަންބަރު | E68: 10mm ގެ ރިއިންފޯސްޑް ޑިފޯމްޑް ބަރ | F68: 1
A69: =C69*B69 -> 0 | C69: 18 | D69: ނަންބަރު | E69: 6mm ގެ ރިއިންފޯސްޑް ބަރ | F69: 2
E71: ކޮލަމް | F71: 2.3.2
A72: =C72*B72 -> 0 | C72: 36 | D72: ނަންބަރު | E72: 10mm ގެ ރިއިންފޯސްޑް ޑިފޯމްޑް ބަރ | F72: 1
A73: =C73*B73 -> 0 | C73: 15 | D73: ކިލޯގްރާމް | E73: 6mm ގެ ރިއިންފޯސްޑް ބަރ | F73: 2
E75: ރޫފު ބީމް | F75: 2.3.3
A76: =C76*B76 -> 0 | C76: 24 | D76: ނަންބަރު | E76: 10mm ގެ ރިއިންފޯސްޑް ޑިފޯމްޑް ބަރ | F76: 1
A77: =C77*B77 -> 0 | C77: 11 | D77: ނަންބަރު | E77: 6mm ގެ ރިއިންފޯސްޑް ބަރ | F77: 2
E79: ލިންޓަލް ބީމް | F79: 2.3.4
E80: ޚޮންމެ ބީމެއްގައި 10mmގެ ދެ އެނބުރިދަގަނޑު ބޭނުންކޮށް ރިންގު އެޅުވުމަށް. ރިންގު އަޅުވާނީ 150mm ދުރިމިނުންނެވެ.
A81: =C81*B81 -> 0 | C81: 6 | D81: ނަންބަރު | E81: 10mm ގެ ރިއިންފޯސްޑް ޑިފޯމްޑް ބަރ | F81: 1
A82: =C82*B82 -> 0 | C82: 2 | D82: ނަންބަރު | E82: 6mm ގެ ރިއިންފޯސްޑް ބަރ | F82: 2
E84: ވޯޓަރ ޕަންޕު ސްޓޭންޑް ސްލެބް | F84: 2.3.5
E85: 6mmގެ ރިންގު ދަގަނޑު ބޭނުންކޮށް، 150mm ދުރިމިނުން ގޮޅި ވާގޮތަށް ދަގަނޑު ބަނުމަށް
A86: =C86*B86 -> 0 | C86: 3 | D86: ނަންބަރު | E86: 6mm ގެ ރިއިންފޯސްޑް ބަރ | F86: 1
A88: =C88*B88 -> 0 | E88: ތައްގަނޑު | F88: 2.4
A89: =C89*B89 -> 0 | E89: (ހ) އަގުކުރުމުގައި ތައްގަނޑު ޖެއްސުމަށް ބޭނުންވާ ހުރިހައި ބޯޑު، ސަޕޯޓްސް، ފްރޭމް ހިމެނެއެވެ. އަދި ތައްގަނޑުތައް ޖެއްސުމަށް ވަގުތީގޮތުން ބޭނުންވާ ހުރިހައި ސަޕޯޓަކާއި ފިކްސިންގ ހިމެނެއެވެ. އަދި ކީހުމާއި، ކެފުމާއި، ތައްގަނޑު ނެއްޓުން ހިމެނެއެވެ.
E90: (ށ) ތައްގަނޑު ހެދުމަށް ބޭނުންކުރަން ވާނީ އެކަށީގެންވާ ބޯމިނުގެ ފިލްމު ފޭސް ޕްލައިވްޑް ފިލައެވެ.
A91: =C91*B91 -> 0 | C91: 130.42 | D91: އަކަފޫޓު | E91: ފައުންޑޭޝަން، ރޫފު ބީމް | F91: 1
A92: =C92*B92 -> 0 | C92: 280 | D92: އަކަފޫޓު | E92: ކޮލަމް | F92: 2
A93: =C93*B93 -> 0 | C93: 32 | D93: އަކަފޫޓު | E93: ލިންޓަލް ބީމް | F93: 3
A94: =C94*B94 -> 0 | C94: 17.25 | D94: އަކަފޫޓު | E94: ވޯޓަރ ޕަންޕު ސްޓޭންޑް | F94: 4
A96: =SUM(A51:A94) -> 0 | E96: ބިލު ނަންބަރު 2 ގެ ޖުމުލަ - ހުލާސާއަށް ގެންދެވުނު
E97: ބިލު ނަންބަރު: 03 - ރޭނުމާއި ތަޅުންއެޅުމާއި، ސިމެންތިޖެހުން
E99: އާއްމު ބައިތައް
E100: (ހ) އަގުކުރުމުގައި އަންނަނިވި ކަންކަން ހިމަނަން ވާނެއެވެ. ގަލާއި، ކެފުމާއި، ދޮރުތަކާއި ފެންލައިޓުތައްފަދަ ހުރިހައި ހުޅުވުންތަކަށް ޖާގަ ދޫކުރުމާއި، ޔުޓިލިޓީ ޚިދުމަތްތަކަށް އަޅާ ހޮޅިތައް ވެއްދުމަށް ހުޅުވުންތައް ހެދުމާއި، ކަރަންޓު ސާމާނާއި ފާރުގައި ހަރުކުރަންޖެހޭ އެނޫންވެސް ފިކްޗާސް ހަރުކުރުމަށް ފާރުން ކަނޑަންޖެހޭ ތަންތަން ކަނޑާ ރިސެސްގެ ގޮތުގައި ޖާގަ ދޫކުރުން އަގުކުރުމުގައި ހިމަނަންވާނެއެވެ. މީގެ އިތުރުން، ސްކެފޯލްޑިންގއާއި، ހޮއިސްޓިންގ އިކްއިޕްމަންޓަށާއި، ވަގުތީގޮތުން އަޅާ ޓްރަސްއާއި ސަޕޯޓު ފަދަ ކަންކަމަށް ހިނގާ ޚަރަދު ހިމަނަން ވާނެއެވެ.
E101: (ށ) ވަގުތީގޮތުން ބަހައްޓަންޖެހޭ ސަޕޯޓްސް ހެދުމާއި، ސަޕޯޓްސް އެޅުން އަގުކުރުމުގައި ހިމަނަންވާނެއެވެ.
E102: (ނ) ރޭނުމާއި، ތަޅުންއެޅުމާއި، ސިމެންތިޖެހުމުގެ ހުރިހައި ކަމަކަށް ބޭނުންކުރަން ވާނީ ލޮނު ފިލުވައިފައި ހުރި ކިސަޑާއި ކުނިބުނި ނެތް ސާފު ދޮން ވެއްޔެވެ. އަދި މި ހުރިހައި ކަމަކަށް ބޭނުންކުރަންވާނީ އެއް ބްރޭންޑެއްގެ އިންޑޯ ނުވަތަ ބީ.އެސް 12އަށް ފެތޭ ސިމެންތި އެކެވެ.
E103: (ރ) ރޭނުމާއި، ތަޅުންއެޅުމާއި، ސިމެންތިޖެހުމުގެ މިކްސް ރޭޝިއޯއަކީ 1:4 އެވެ. (1 ސިމެންތީގެ ވަޒަނަށް 4 ދޮންވެއްޔެވެ.)
E105: ރޭނުން | F105: 3.1
E106: (ހ) ހުރިހައި ބޭރު ފާރެއް ރާނާނީ 125x150x300ގެ ހޮލޯ ބުލޮކުންނެވެ.
E107: (ށ) ހުރިހައި އެތެރެ ފާރެއް ރާނާނީ 125x150x300ގެ ހޮލޯ ބުލޮކުންނެވެ.
E108: (ނ) ރޭނުމަށް ބޭނުންކުރަންވާނީ ރަނގަޅަށް ކޮމްޕެކްޓުކޮށްގެން އަޅާފައިވާ ރަނގަޅަށް ހިކިފައިވާ ގަލެވެ.
E109: (ރ) ރާނާ ގާ އެތުރުމުގައި އެއްގާބަރި މައްޗަށް އަނެއްގާބަރި ޖެހުމުގައި ފައްތަރުތައް ދިމާނުވާނެ ގޮތް ބަލައިގެން ގާ އެތުރުމަށް ސަމާލުކަންދޭން ވާނެއެވެ.
E110: (ބ) ފާޚާނާގެ ދޮރުމަތީގައި 75mm އުސް، 75mm ބޯ މިނުގެ އޮޅިއެއް ރާނަންވާނެއެވެ. 125mmގެ ހޮލޯބުލޮކުން ރޭނުމުގައި މި އަގު ހިމަނަންވާނެއެވެ.
A111: =C111*B111 -> 0 | C111: 113.32 | D111: އަކަފޫޓު | E111: ކުޑަދޮރުތައް ނެގުމަށް ފަހު، ކުރެހުމާ އެއްގޮތަށް އެތަންތަން ބެއްދުމަށް 125mm ބޯމިނުގެ ހޮލޯބުލޮކުން ރޭނުން | F111: 1
A112: =C112*B112 -> 0 | C112: 714.61 | D112: އަކަފޫޓު | E112: 125mm ބޯމިނުގެ ހޮލޯބުލޮކުން ރޭނުން | F112: 2
A113: =C113*B113 -> 0 | C113: 52.38 | D113: އަކަފޫޓު | E113: 125mm ބޯމިނުގެ ހޮލޯބުލޮކުން އަސްކަނި ތަޅުމުގެ ފާރު ރޭނުން | F113: 3
A114: =C114*B114 -> 0 | C114: 20 | D114: އަކަފޫޓު | E114: 125mm ބޯމިނުގެ ހޮލޯބުލޮކުން ވޯޓަރ ޕަމްޕު ސްޓޭންޑުގެ ފާރު ރޭނުން | F114: 4
A117: =C117*B117 -> 0 | E117: ސިމެންތިޖެހުން | F117: 3.2
A118: =C118*B118 -> 0 | E118: (ހ) ފާރުގެ ބޭރު ފަރާތުގައި ސިމެންތިޖަހާނީ 15mm ބޯމިނަށެވެ. ފާރުގެ އެތެރެފަރާތުގައި ސިމެންތި ޖަހާނީ 12mm ބޯމިނަށެވެ. ހުރިހައި ފާހާނާއެއް އެތެރެ ފާރުގައި ސިމެންތިޖަހާނީ 18mm ބޯމިނަށެވެ.
...

Sheet SUMMARY
A2: ބިލް އޮފް ކުއަންޓިޓީ (ބީ.އޯ.ކިއު) - ޚުލާސާ
A3: ޕްރޮޖެކްޓު ނަން: ތަކުރުހިޔާ އެސްކްޓެންޝަން
A4: އިއުލާނު ނަންބަރު: (IUL)245-MIM/245/2026/78
A5: އަގު | B5: ތަފްސީލް | F5: އައިޓަމް
A6: ='BILL 01-13'!A37 -> 0 | B6: ގުރައުންޑު މަސައްކަތް | F6: 1
A7: ='BILL 01-13'!A96 -> 0 | B7: ކޮންކުރިޓު | F7: 2
A8: ='BILL 01-13'!A144 -> 0 | B8: ރޭނުމާއި، ތަޅުން އެޅުމާއި، ސިމެންތި ޖެހުން | F8: 3
A9: ='BILL 01-13'!A173 -> 0 | E9: ހިޔާކުރުން | F9: 4
A10: ='BILL 01-13'!A199 -> 0 | E10: ސީލިންކުރުން | F10: 5
A11: ='BILL 01-13'!A230 -> 0 | E11: މުށިޖެހުން | F11: 6
A12: ='BILL 01-13'!A245 -> 0 | E12: ބޮޑުދޮރާއި ކުޑަދޮރު | F12: 7
A13: ='BILL 01-13'!A298 -> 0 | E13: ކަރަންޓު ވަޔަރުކުރުން | F13: 8
A14: ='BILL 01-13'!A321 -> 0 | E14: މެކޭނިކަލް ސިސްޓަމް، ފަޔަ އެކްޓިންގުއިޒާ | F14: 9
A15: ='BILL 01-13'!A363 -> 0 | E15: ފެން ވަޔަރުކުރުން | F15: 10
A16: ='BILL 01-13'!A381 -> 0 | E16: ކުލައާއި ދަވާދު | F16: 11
A17: ='BILL 01-13'!A405 -> 0 | E17: ފަރުނީޗަރު، އިކުއިޕުމަންޓު، އެހެނިހެން | F17: 12
A18: =SUM(A6:A17) -> 0 | B18: ޖުމްލަ
A19: =A18*8% -> 0 | B19: ޖީ.އެސް.ޓީ %8
A20: =A18+A19 -> 0 | B20: އެކު ޖުމްލަ
