Workbook

Sheet Cover
B9: BILL OF QUANTITIES
B16: HERITAGE MOSQUE REPLICA @ THINADHOO CITY HERITAGE PARK
B17: OFFICE ESTIMATE
B25: PREPARED BY: ISMAIL ASLAM (A.C.O)
B28: APPROVED/CHEKED BY: MOHAMED LIRAR ALI (Asst. Council Executive)

Sheet SUMMERY
B1: SUMMARY
A3: 1 | B3: =MOSQUE!B19 -> GROUND WORKS | E3: =MOSQUE!F59 -> 0
A4: 2 | B4: =MOSQUE!B62 -> CONCRETE | E4: =MOSQUE!F174 -> 0
A5: 3 | B5: =MOSQUE!B176 -> MASONRY AND PLASTERING | E5: =MOSQUE!F206 -> 0
A6: 4 | B6: =MOSQUE!B208 -> WATER PROOFING | E6: =MOSQUE!F219 -> 0
A7: 5 | B7: JOINERY WORKS | E7: =+MOSQUE!F236 -> 0
A8: 6 | B8: =MOSQUE!B238 -> CEILINGS | E8: =MOSQUE!F251 -> 0
A9: 7 | B9: =MOSQUE!B254 -> DOORS AND WINDOWS | E9: =MOSQUE!F271 -> 0
A10: 8 | B10: =MOSQUE!B273 -> FINISHES | E10: =MOSQUE!F290 -> 0
A11: 9 | B11: =MOSQUE!B292 -> PAINTING | E11: =MOSQUE!F314 -> 0
A12: 10 | B12: =MOSQUE!B316 -> ELECTRICAL INSTALLATIONS | E12: =MOSQUE!F336 -> 0
A13: 11 | B13: =MOSQUE!B338 -> ROOFING | E13: =MOSQUE!F354 -> 0
B21: TOTAL | E21: =SUM(E3:F20) -> 0
B22: GST 8% | E22: =E21*8/100 -> 0
B23: GRAND TOTAL | E23: =E21+E22 -> 0
B24: DURATION

Sheet MOSQUE
A1: BILLS OF QUANTITIES
A2: FOR HERITAGE PARK @ GDH. THINADHOO - HISTORICAL MOSQUE
A3: Item | B3: Description | C3: Qty | D3: Unit | E3: Rate | F3: Total Amount
B5: BILL No: 01
B7: GENERAL NOTES
B8: Abbreviations
B9: m - metre
B10: Nos - numbers
B11: m³ - cubic metre
B12: m² - square metre
B13: lm - Linear metre
B14: kg - Kilograms
B15: incl. - including
B16: mm - millimetre
B17: SS - Stainless Steel
... B19: GROUND WORKS
A20: 1.1 | B20: GENERAL
B21: Note: Rates shall include for: levelling, grading, trimming, compacting to faces of excavation, keep sides plumb, backfilling, consolidating and disposing surplus soil. Site clearance measured with external works
A22: 1.2 | B22: SITE PREPARATION
A24: 1 | B24: Allow for removal of top soil in building area up to thickness of 150mm on existing ground level and removal of all debris away from the site | C24: 80 | D24: m² | E24: 0 | F24: =C24*E24 -> 0
A26: 1.3 | B26: EXCAVATION
B27: Note: Excavation quantities are measured to the faces of concrete members. Rates shall include for all additional excavation required to place the formwork/shuttering and dewatering the trenches for the required days.
A28: 1 | B28: Excavation for foundation | C28: 44.4 | D28: m³ | E28: 0 | F28: =C28*E28 -> 0
A31: 1.4 | B31: FILLING
B32: Notes: Rates shall include for: levelling, grading, trimming and compacting
A34: 1 | B34: Earth filling in ground floor | C34: 81.72 | D34: m³ | E34: 0 | F34: =C34*E34 -> 0
A36: 1.5 | B36: ANTI TERMITE TREATMENT
A38: 1 | B38: Anti termite treatment shall be in accordance with the manufacture's specification and to the approval of Consultant by specialize sub contractor. Anti termite treatment to be spray the area of construction. | C38: 1 | D38: Item | E38: 0 | F38: =C38*E38 -> 0
A40: 1.6 | B40: SITE MANAGEMENT COSTS
A41: 1 | B41: Allow for all on and off site management cost including costs of foreman and assistants | C41: 1 | D41: item | E41: 0 | F41: =C41*E41 -> 0
A43: 1.7 | B43: SAFETY ON SITE
A44: 1 | B44: Providing & maintaining adequate safety measure on site for all workers & all authorized visitors on site & protecting adjoining properties & people against falling objects or other with regard to the construction works | C44: 1 | D44: item | E44: 0 | F44: =C44*E44 -> 0
A46: 1.8 | B46: PLANTS & MACHINERY
A47: 1 | B47: Provision & maintenance of all necessary temporary plants, machineries & scaffolding that is required for the completion of the project | C47: 1 | D47: item | E47: 0 | F47: =C47*E47 -> 0
A49: 1.9 | B49: SERVICES & FACILITIES
A50: 1 | B50: Provision & maintenance of services & facilities such as water, power supply, lighting & fuel required for the project. | C50: 1 | D50: item | E50: 0 | F50: =C50*E50 -> 0
A52: 1.1 | B52: SIGN BOARD
A53: 1 | B53: Allow for sign boards | C53: 1 | D53: item | E53: 0 | F53: =C53*E53 -> 0
A55: 1.11 | B55: TEMPORARY FENCING & HOARDING
A56: 1 | B56: Supply, erect & maintenance of a fence through out the construction period & hoarding all along the perimeter of the site | C56: 1 | D56: item | E56: 0 | F56: =C56*E56 -> 0
B59: BILL No: 01 - GROUND WORKS | F59: =SUM(F6:F58) -> 0
B60: TOTAL OF BILL No: 01 - Carried over to summary | F60: =F59 -> 0
B61: BILL No: 02
B62: CONCRETE
A63: 2.1 | B63: GENERAL
B64: (a) Rates shall include for: provision to place in position; casting of all required items and finishing after removal of formwork and additional concrete required to conform to structural and excavated tolerances
B65: (b) Rates shall include supply of all formwork item including form oil, timber, plywood, nails etc.
B66: (c) Mix ratio for reinforced concrete shall be 1:2:3 and lean concrete shall be 1:3:6 by volume
A68: 2.2 | B68: REINFORCED CONCRETE
B69: (a) Rates shall include for: cleaning, fabrication, placing, the provision for all necessary temporary fixings and supports including tie wire and chair supports, laps and wastage
B70: (b) All reinforcing bars except 6mm dia bars shall be high strength deformed bars
B71: (c) The exact length inclusive of laps are given. The rates shall take into account any wastage.
B72: In-situ reinforced concrete to:
A74: 2.2.1 | B74: Foundation
A75: 1 | B75: Foundation
B76: Concrete Volume | C76: 9.7 | D76: m³ | E76: 0 | F76: =C76*E76 -> 0
B77: Cement | C77: =ROUNDUP(C76*9,0) -> 88 | D77: bags
B78: River sand | C78: =SUM(C77*2) -> 176 | D78: bags
B79: Coarse aggregate | C79: =SUM(C77*3) -> 264 | D79: bags
B80: Concrete chemical Rheomix 141 | C80: =C76*0.15 -> 1.455 | D80: litres
B81: Water proofing material | C81: =ROUNDUP(C77*0.16,0) -> 15 | D81: litres
A83: 2 | B83: Formwork. | C83: 108 | D83: m² | E83: 0 | F83: =C83*E83 -> 0
B84: 12mm thick plywood | C84: =ROUNDUP(C83/2.88,0) -> 38 | D84: nos
B85: 50mm x 50mm timber | C85: =C84*0.06 -> 2.28 | D85: m³
B86: Nails | C86: =C84*2.88/20 -> 5.472 | D86: kg
B87: Mould oil | C87: =ROUNDUP(C83*0.144,0) -> 16 | D87: litres
B89: Reinforcement.
A90: 3 | B90: 12mm. dia, 6m. high tensile steel bar | C90: 0.04 | D90: t | E90: 0 | F90: =C90*E90 -> 0
A91: 4 | B91: 10mm. dia, 6m. high tensile steel bar | C91: 0.38 | D91: t | E91: 0 | F91: =C91*E91 -> 0
A92: 5 | B92: 6mm. dia, 6m. high tensile steel bar | C92: 0.02 | D92: t | E92: 0 | F92: =C92*E92 -> 0
A94: 2.2.2 | B94: Columns
A95: 1 | B95: Columns C1
B96: Concrete Volume | C96: 0.15 | D96: m³ | E96: 0 | F96: =C96*E96 -> 0
B97: Cement | C97: =ROUNDUP(C96*9,0) -> 2 | D97: bags
B98: River sand | C98: =SUM(C97*2) -> 4 | D98: bags
B99: Coarse aggregate | C99: =SUM(C97*3) -> 6 | D99: bags
B100: Concrete chemical Rheomix 141 | C100: =C96*0.15 -> 0.0225 | D100: litres
B101: Water proofing material | C101: =ROUNDUP(C97*0.16,0) -> 1 | D101: litres
A103: 2 | B103: Formwork. | C103: 4.04 | D103: m² | E103: 0 | F103: =C103*E103 -> 0
B104: 12mm thick plywood | C104: =ROUNDUP(C103/2.88,0) -> 2 | D104: nos
B105: 50mm x 50mm timber | C105: =C104*0.06 -> 0.12 | D105: m³
B106: Nails | C106: =C104*2.88/20 -> 0.288 | D106: kg
B107: Mould oil | C107: =ROUNDUP(C103*0.144,0) -> 1 | D107: litres
B109: Reinforcement.
A110: 3 | B110: 12mm. dia, 6m. high tensile steel bar | C110: =0.006*4 -> 0.024 | D110: t | E110: 0 | F110: =C110*E110 -> 0
A111: 4 | B111: 6mm. dia, 6m. Ring bars | C111: =0.0012*4 -> 0.0048 | D111: t | E111: 0 | F111: =C111*E111 -> 0
A114: 2.2.3 | B114: Beams
A116: 1 | B116: Lintel Beams (LB above doors and windows)
B117: Concrete Volume | C117: 31.4 | D117: m | E117: 0 | F117: =C117*E117 -> 0
B118: Cement | C118: 10 | D118: bags
B119: River sand | C119: 20 | D119: bags
B120: Coarse aggregate | C120: 30 | D120: bags
B121: Concrete chemical Rheomix 141 | C121: 0.15 | D121: litres
B122: Water proofing material | C122: 2 | D122: litres
A124: 2 | B124: Formwork. | C124: =C117*0.15*0.2 -> 0.942 | D124: m² | E124: 0 | F124: =C124*E124 -> 0
B125: 12mm thick plywood | C125: =ROUNDUP(C124/2.88,0) -> 1 | D125: nos
B126: 50mm x 50mm timber | C126: =C125*0.06 -> 0.06 | D126: m³
B127: Nails | C127: =C125*2.88/20 -> 0.144 | D127: kg
B128: Mould oil | C128: =ROUNDUP(C124*0.144,0) -> 1 | D128: litres
B130: Reinforcement.
...
