Workbook

Sheet Cover
B9: BILL OF QUANTITIES
B16: HERITAGE MOSQUE REPLICA @ THINADHOO CITY HERITAGE PARK
B17: OFFICE ESTIMATE
B25: PREPARED BY: ISMAIL ASLAM (A.C.O)
B28: APPROVED/CHEKED BY: MOHAMED LIRAR ALI (Asst. Council Executive)

Sheet SUMMERY
B1: SUMMARY
A3: 1 | B3: =MOSQUE!B19 -> GROUND WORKS | E3: =MOSQUE!F59 -> 0
A4: 2 | B4: =MOSQUE!B62 -> CONCRETE | E4: =MOSQUE!F174 -> 0
A5: 3 | B5: =MOSQUE!B176 -> MASONRY AND PLASTERING | E5: =MOSQUE!F206 -> 0
A6: 4 | B6: =MOSQUE!B208 -> WATER PROOFING | E6: =MOSQUE!F219 -> 0
A7: 5 | B7: JOINERY WORKS | E7: =+MOSQUE!F236 -> 0
A8: 6 | B8: =MOSQUE!B238 -> CEILINGS | E8: =MOSQUE!F251 -> 0
A9: 7 | B9: =MOSQUE!B254 -> DOORS AND WINDOWS | E9: =MOSQUE!F271 -> 0
A10: 8 | B10: =MOSQUE!B273 -> FINISHES | E10: =MOSQUE!F290 -> 0
A11: 9 | B11: =MOSQUE!B292 -> PAINTING | E11: =MOSQUE!F314 -> 0
A12: 10 | B12: =MOSQUE!B316 -> ELECTRICAL INSTALLATIONS | E12: =MOSQUE!F336 -> 0
A13: 11 | B13: =MOSQUE!B338 -> ROOFING | E13: =MOSQUE!F354 -> 0
B21: TOTAL | E21: =SUM(E3:F20) -> 0
B22: GST 8% | E22: =E21*8/100 -> 0
B23: GRAND TOTAL | E23: =E21+E22 -> 0
B24: DURATION

Sheet MOSQUE
A1: BILLS OF QUANTITIES
A2: FOR HERITAGE PARK @ GDH. THINADHOO - HISTORICAL MOSQUE
A3: Item | B3: Description | C3: Qty | D3: Unit | E3: Rate | F3: Total Amount
B5: BILL No: 01
B7: GENERAL NOTES
B8: Abbreviations
B9: m - metre
B10: Nos - numbers
B11: m³ - cubic metre
B12: m² - square metre
B13: lm - Linear metre
B14: kg - Kilograms
B15: incl. - including
B16: mm - millimetre
B17: SS - Stainless Steel
... B19: GROUND WORKS
A20: 1.1 | B20: GENERAL
B21: Note: Rates shall include for: levelling, grading, trimming, compacting to faces of excavation, keep sides plumb, backfilling, consolidating and disposing surplus soil. Site clearance measured with external works
A22: 1.2 | B22: SITE PREPARATION
A24: 1 | B24: Allow for removal of top soil in building area up to thickness of 150mm on existing ground level and removal of all debris away from the site | C24: 80 | D24: m² | E24: 0 | F24: =C24*E24 -> 0
A26: 1.3 | B26: EXCAVATION
B27: Note: Excavation quantities are measured to the faces of concrete members. Rates shall include for all additional excavation required to place the formwork/shuttering and dewatering the trenches for the required days.
A28: 1 | B28: Excavation for foundation | C28: 44.4 | D28: m³ | E28: 0 | F28: =C28*E28 -> 0
A31: 1.4 | B31: FILLING
B32: Notes: Rates shall include for: levelling, grading, trimming and compacting
A34: 1 | B34: Earth filling in ground floor | C34: 81.72 | D34: m³ | E34: 0 | F34: =C34*E34 -> 0
A36: 1.5 | B36: ANTI TERMITE TREATMENT
A38: 1 | B38: Anti termite treatment shall be in accordance with the manufacture's specification and to the approval of Consultant by specialize sub contractor. Anti termite treatment to be spray the area of construction. | C38: 1 | D38: Item | E38: 0 | F38: =C38*E38 -> 0
A40: 1.6 | B40: SITE MANAGEMENT COSTS
A41: 1 | B41: Allow for all on and off site management cost including costs of foreman and assistants | C41: 1 | D41: item | E41: 0 | F41: =C41*E41 -> 0
A43: 1.7 | B43: SAFETY ON SITE
A44: 1 | B44: Providing & maintaining adequate safety measure on site for all workers & all authorized visitors on site & protecting adjoining properties & people against falling objects or other with regard to the construction works | C44: 1 | D44: item | E44: 0 | F44: =C44*E44 -> 0
A46: 1.8 | B46: PLANTS & MACHINERY
A47: 1 | B47: Provision & maintenance of all necessary temporary plants, machineries & scaffolding that is required for the completion of the project | C47: 1 | D47: item | E47: 0 | F47: =C47*E47 -> 0
A49: 1.9 | B49: SERVICES & FACILITIES
A50: 1 | B50: Provision & maintenance of services & facilities such as water, power supply, lighting & fuel required for the project. | C50: 1 | D50: item | E50: 0 | F50: =C50*E50 -> 0
A52: 1.1 | B52: SIGN BOARD
A53: 1 | B53: Allow for sign boards | C53: 1 | D53: item | E53: 0 | F53: =C53*E53 -> 0
A55: 1.11 | B55: TEMPORARY FENCING & HOARDING
A56: 1 | B56: Supply, erect & maintenance of a fence through out the construction period & hoarding all along the perimeter of the site | C56: 1 | D56: item | E56: 0 | F56: =C56*E56 -> 0
...
