Workbook

Sheet Cover (2)
A16: BILL OF QUANTITIES
A17: CONFERENCE HALL - G.DH VAADHOO COUNCIL
A19: CLIENT : G.DH VAADHOO OCUNCIL

Sheet BOQ Summary
B2: SUMMARY OF BILL OF QUANTITIES
B3: Project: | C3: Date:
C4: Version:
B5: Client: | C5: Prepared by:
B7: DESCRIPTION | E7: AMOUNT (MVR) | F7: %
B8: Bill №: 01 - PRELIMINARIES | E8: =BOQ!I57 -> 0
B9: Bill №: 02 - EXCAVATION AND FILLING | E9: =BOQ!I89 -> 0
B10: Bill №: 03 - INSITU CONCRETE WORKS | E10: =BOQ!I172 -> 0
B11: Bill №: 05 - STRUCTURAL METAL WORKS | E11: =BOQ!I206 -> 0
B12: Bill №: 10- ROOFING | E12: =BOQ!I237 -> 0
B13: Bill №: 14- ADDITIONS AND OMMISIONS
B15: AMOUNT | E15: =SUM(E8:E13) -> 0 | I15: Builtup area | K15: =10.675*33.15 -> 353.87625
B16: 8% GST | E16: =E15*0.08 -> 0 | K16: =K15*10.76 -> 3807.7085
B17: TOTAL AMOUNT | E17: =E15+E16 -> 0 | K17: =E17/K16 -> 0
B19: NOTES to BoQ:

Sheet BOQ
A2: BILL OF QUANTITIES
A4: ITEM | E4: DESCRIPTION | F4: UNIT | G4: QTY | H4: RATE | I4: Amount
A5: 1.0.00 | E5: Bill №: 01 - PRELIMINARIES
A8: 1.1 | B8: GENERAL NOTES
E9: Abbreviations
D10: m | E10: - metre
D11: nr | E11: - numbers
D12: m3 | E12: - cubic metres
D13: m2 | E13: - square metres
D14: lm | E14: - linear metre
D15: t | E15: - tons
D16: inc. | E16: - including
D17: mm | E17: - millimetre
D18: item | E18: - quote a lumpsum amount for the item
D19: SS | E19: - stainless steel
D20: GI | E20: - galvanized iron
A22: 1.2 | B22: SITE MANAGEMENT COSTS
A23: -1 | E23: Allow for all on and off site management cost including costs of foreman and assistants, temporary services, telephone, fax, hoardings & similar. | F23: item | G23: 1 | H23: 0 | I23: =H23*G23 -> 0
A25: 1.3 | B25: SIGN BOARD
A26: -1 | E26: Allow for sign board. | F26: nr | G26: 1 | H26: 0 | I26: =H26*G26 -> 0
A29: 1.4 | B29: INSURANCE, BONDS, GUARANTEES AND WARRANTIES
A30: -1 | E30: Bonds: | F30: item | G30: 1 | H30: 0 | I30: =H30*G30 -> 0
E31: Performance bonds ensuring project completion.
E32: Payment bonds ensuring all subcontractors and suppliers are paid.
A33: 1.5 | B33: As-built Drawing
A34: -1 | E34: Rate shall include prodiving as-built upon completion of the work. Include, MEP, achitectural & Structural drawings. | F34: item | G34: 1 | H34: 0 | I34: =H34*G34 -> 0
A57: 1.6.00 | B57: TOTAL OF BILL №: 01 - Carried Over To Summary | I57: =SUM(I22:I34) -> 0
A58: 2.0.00 | E58: Bill №: 02 - EXCAVATION AND FILLING
A60: 2.1.00 | B60: GENERAL
D61: (a) | E61: Rates shall include for: leveling, grading, trimming, compacting to faces of excavation, keep sides plumb, backfilling, consolidating, and disposing surplus soil.
A64: 2.2.00 | B64: SITE CLEARING
A65: -1 | E65: Clear the area of site from rubbish and vegetable matters, stumps, roots. | F65: m2 | G65: 766.88 | H65: 0 | I65: =H65*G65 -> 0
A66: 2.2.1 | E66: Removal of trees larger than girth 0.6m and clearing the site as required, Rate shall include for backfilling and level to natural ground level after uprooting the vegetations | F66: item | G66: 1 | H66: 0 | I66: =H66*G66 -> 0
A68: 2.3.00 | B68: EXCAVATION
E69: Excavation quantities are measured to the faces of concrete members. Rates shall include for all the additional excavation required to place the formwork. Rates shall include for backfilling.
A70: -1 | E70: Excavation for Foundation pads / beam | F70: m3 | G70: 34.57 | H70: 0 | I70: =H70*G70 -> 0
A72: 2.4.00 | B72: FILLING
E73: Rate shall include for: levelling, grading, trimming, compacting and similar
A74: -1 | E74: Compacted earth filling under stage area | F74: m2 | G74: 64.05 | H74: 0 | I74: =H74*G74 -> 0
E75: Compacted earth filling under ground screed. | F75: m2 | G75: 353.88 | H75: 0 | I75: =H75*G75 -> 0
...
