Workbook

Sheet Cover (2)
A16: BILL OF QUANTITIES
A17: CONFERENCE HALL - G.DH VAADHOO COUNCIL
A19: CLIENT : G.DH VAADHOO OCUNCIL

Sheet BOQ Summary
B2: SUMMARY OF BILL OF QUANTITIES
B3: Project: | C3: Date:
C4: Version:
B5: Client: | C5: Prepared by:
B7: DESCRIPTION | E7: AMOUNT (MVR) | F7: %
B8: Bill №: 01 - PRELIMINARIES | E8: =BOQ!I57 -> 0
B9: Bill №: 02 - EXCAVATION AND FILLING | E9: =BOQ!I89 -> 0
B10: Bill №: 03 - INSITU CONCRETE WORKS | E10: =BOQ!I172 -> 0
B11: Bill №: 05 - STRUCTURAL METAL WORKS | E11: =BOQ!I206 -> 0
B12: Bill №: 10- ROOFING | E12: =BOQ!I237 -> 0
B13: Bill №: 14- ADDITIONS AND OMMISIONS
B15: AMOUNT | E15: =SUM(E8:E13) -> 0 | I15: Builtup area | K15: =10.675*33.15 -> 353.87625
B16: 8% GST | E16: =E15*0.08 -> 0 | K16: =K15*10.76 -> 3807.7085
B17: TOTAL AMOUNT | E17: =E15+E16 -> 0 | K17: =E17/K16 -> 0
B19: NOTES to BoQ:

Sheet BOQ
A2: BILL OF QUANTITIES
A4: ITEM | E4: DESCRIPTION | F4: UNIT | G4: QTY | H4: RATE | I4: Amount
A5: 1.0.00 | E5: Bill №: 01 - PRELIMINARIES
A8: 1.1 | B8: GENERAL NOTES
E9: Abbreviations
D10: m | E10: - metre
D11: nr | E11: - numbers
D12: m3 | E12: - cubic metres
D13: m2 | E13: - square metres
D14: lm | E14: - linear metre
D15: t | E15: - tons
D16: inc. | E16: - including
D17: mm | E17: - millimetre
D18: item | E18: - quote a lumpsum amount for the item
D19: SS | E19: - stainless steel
D20: GI | E20: - galvanized iron
A22: 1.2 | B22: SITE MANAGEMENT COSTS
A23: -1 | E23: Allow for all on and off site management cost including costs of foreman and assistants, temporary services, telephone, fax, hoardings & similar. | F23: item | G23: 1 | H23: 0 | I23: =H23*G23 -> 0
A25: 1.3 | B25: SIGN BOARD
A26: -1 | E26: Allow for sign board. | F26: nr | G26: 1 | H26: 0 | I26: =H26*G26 -> 0
A29: 1.4 | B29: INSURANCE, BONDS, GUARANTEES AND WARRANTIES
A30: -1 | E30: Bonds: | F30: item | G30: 1 | H30: 0 | I30: =H30*G30 -> 0
E31: Performance bonds ensuring project completion.
E32: Payment bonds ensuring all subcontractors and suppliers are paid.
A33: 1.5 | B33: As-built Drawing
A34: -1 | E34: Rate shall include prodiving as-built upon completion of the work. Include, MEP, achitectural & Structural drawings. | F34: item | G34: 1 | H34: 0 | I34: =H34*G34 -> 0
A57: 1.6.00 | B57: TOTAL OF BILL №: 01 - Carried Over To Summary | I57: =SUM(I22:I34) -> 0
A58: 2.0.00 | E58: Bill №: 02 - EXCAVATION AND FILLING
A60: 2.1.00 | B60: GENERAL
D61: (a) | E61: Rates shall include for: leveling, grading, trimming, compacting to faces of excavation, keep sides plumb, backfilling, consolidating, and disposing surplus soil.
A64: 2.2.00 | B64: SITE CLEARING
A65: -1 | E65: Clear the area of site from rubbish and vegetable matters, stumps, roots. | F65: m2 | G65: 766.88 | H65: 0 | I65: =H65*G65 -> 0
A66: 2.2.1 | E66: Removal of trees larger than girth 0.6m and clearing the site as required, Rate shall include for backfilling and level to natural ground level after uprooting the vegetations | F66: item | G66: 1 | H66: 0 | I66: =H66*G66 -> 0
A68: 2.3.00 | B68: EXCAVATION
E69: Excavation quantities are measured to the faces of concrete members. Rates shall include for all the additional excavation required to place the formwork. Rates shall include for backfilling.
A70: -1 | E70: Excavation for Foundation pads / beam | F70: m3 | G70: 34.57 | H70: 0 | I70: =H70*G70 -> 0
A72: 2.4.00 | B72: FILLING
E73: Rate shall include for: levelling, grading, trimming, compacting and similar
A74: -1 | E74: Compacted earth filling under stage area | F74: m2 | G74: 64.05 | H74: 0 | I74: =H74*G74 -> 0
E75: Compacted earth filling under ground screed. | F75: m2 | G75: 353.88 | H75: 0 | I75: =H75*G75 -> 0
A77: 2.5.00 | B77: DAMP-PROOF MEMBRANE
E78: Rate shall include for: dressing around and sealing to all penetrations.
A79: -1 | E79: Water Proof Membrane - DPM | F79: m2 | G79: =(0.7*0.7*28)+(194.4*0.2)+(51.2*0.2) -> 62.84 | H79: 0 | I79: =H79*G79 -> 0
A80: -2 | E80: Bituminous coating | F80: m2 | G80: =(0.7*0.3*4*28)+(194.4*0.33*2)+(51.2*0.2*2) -> 172.304 | H80: 0 | I80: =H80*G80 -> 0
A83: 2.7.00 | B83: DEMOLITION
A84: -1 | E84: Demolition of existing building on the site and clearing of debris as necessary | F84: item | G84: 1 | H84: 0 | I84: =H84*G84 -> 0
A89: 2.8.00 | B89: TOTAL OF BILL №: 02 - Carried Over To Summary | I89: =SUM(I65:I84) -> 0
A90: 3.0.00 | E90: Bill №: 03 - INSITU CONCRETE WORKS
A92: 3.1.00 | B92: GENERAL
D93: (a) | E93: Rates shall include for: placing in position, making good after removal of formwork, mortar touch up to all concrete and casting in all required items; additional concrete required to conform to structural and excavated tolerances
D94: (b) | E94: Mix ratio for reinforced concrete shall be 1:2:3 and lean concrete shall be 1:2:6.
D95: (c) | E95: All structural concrete shall be GRADE M25 and lean concrete shall be GRADE C15
D96: (d) | E96: Rates shall include for: concrete, formwork, reinforcement, cleaning, fabrication, placing, the provision for all necessary temporary fixings and supports including tie wires and chair supports, laps, distribution bars and wastage.
D97: (e) | E97: Rates shall include for: all necessary boarding, supports, erecting, framing, temporary cambering, cutting, perforations for reinforcing bars, bolts, straps, ties, hangers, pipes and removal of formwork.
D98: (f) | E98: Rates shall include for: cleaning, fabrication, placing the provision for all necessary temporary fixings and supports including tie wires and chair supports, laps, distribution bars and wastage.
D99: (g) | E99: All reinforcing bars shall be high strength bars.
D100: (h) | E100: Slab soffits to be finished fairfaced, use plasteciser and formwork with reducing agent.
D101: (i) | E101: Waterproofing shall be added to all areas specified.
D102: (j) | E102: All works complete as per drawing and specification
A105: 3.2.00 | B105: MASS CONCRETE
E106: Quantity is measured to the edges of concrete foundation members. Rates shall be inclusive for any additional concrete required to place the formwork.
A108: -1 | D108: 50 | E108: mm Lean Concrete (Foundations) | F108: m3 | G108: =[1]Footing!$G$7+'[1]Foundation beam'!$F$6 -> 3.142 | H108: 0 | I108: =H108*G108 -> 0
B110: REINFORCED INSITU CONCRETE
A112: 3.3.00 | B112: SUB-STRUCTURE
C114: FOUNDATION PADS
A115: -1 | B115: 700 | C115: x | D115: 700 | E115: x 300mm Foundation pads, F1 | F115: m3 | G115: =[1]Footing!$G$20 -> 4.116 | H115: 0 | I115: =H115*G115 -> 0
A116: -2 | E116: 10mm dia. Reinforcement bar | F116: m | G116: 235.2 | H116: 0 | I116: =H116*G116 -> 0
A117: -3 | E117: Formwork | F117: m2 | G117: 23.52 | H117: 0 | I117: =H117*G117 -> 0
C119: FOUNDATION BEAMS
A120: -4 | B120: 200 | C120: x | D120: 325 | E120: mm Foundation beam, TB | F120: m3 | G120: ='[1]Foundation beam'!$F$14 -> 12.636 | H120: 0 | I120: =H120*G120 -> 0
A121: -5 | E121: 10mm dia. Reinforcement bar | F121: m | G121: 777.6 | H121: 0 | I121: =H121*G121 -> 0
A122: -6 | E122: 6mm dia. Reinforcement bar | F122: m | G122: 2274.48 | H122: 0 | I122: =H122*G122 -> 0
A123: -7 | E123: Formwork | F123: m2 | G123: 126.36 | H123: 0 | I123: =H123*G123 -> 0
A125: -8 | B125: 200 | C125: x | D125: 200 | E125: mm Foundation beam, GB | F125: m3 | G125: ='[1]Foundation beam'!$F$15 -> 2.048 | H125: 0 | I125: =H125*G125 -> 0
A126: -9 | E126: 10mm dia. Reinforcement bar | F126: m | G126: 204.8 | H126: 0 | I126: =H126*G126 -> 0
A127: -10 | E127: 6mm dia. Reinforcement bar | F127: m | G127: 307.2 | H127: 0 | I127: =H127*G127 -> 0
A128: -11 | E128: Formwork | F128: m2 | G128: 20.48 | H128: 0 | I128: =H128*G128 -> 0
A131: 3.4.0 | B131: GROUND FLOOR
C132: COLUMNS
A133: -1 | B133: 250 | C133: x | D133: 250 | E133: mm Concrete columns C1 | F133: m3 | G133: 7 | H133: 0 | I133: =H133*G133 -> 0
A134: -2 | E134: 16mm dia. Reinforcement bar | F134: m | G134: 470.4 | H134: 0 | I134: =H134*G134 -> 0
A135: -3 | E135: 6mm dia. Reinforcement bar | F135: m | G135: 672 | H135: 0 | I135: =H135*G135 -> 0
A136: -4 | E136: Formwork | F136: m2 | G136: 112 | H136: 0 | I136: =H136*G136 -> 0
A138: -5 | B138: 150 | C138: x | D138: 150 | E138: mm Concrete columns SC | F138: m3 | G138: 0.54 | H138: 0 | I138: =H138*G138 -> 0
E139: 10mm dia. Reinforcement bar | F139: m | G139: 50.4 | H139: 0 | I139: =H139*G139 -> 0
E140: 6mm dia. Reinforcement bar | F140: m | G140: 96 | H140: 0 | I140: =H140*G140 -> 0
E141: Formwork | F141: m2 | G141: 14.4 | H141: 0
C143: SLABS
A144: -6 | D144: 100 | E144: mm thk Concrete ground Slab including ramp | F144: m3 | G144: 28.31 | H144: 0 | I144: =H144*G144 -> 0
A145: -7 | E145: 6mm dia. Reinforcement bar | F145: m | G145: 4718.35 | H145: 0 | I145: =H145*G145 -> 0
A147: 3.5.0 | B147: ROOF LEVEL
D148: ROOF BEAMS
A149: -1 | B149: 350 | C149: x | D149: 200 | E149: mm Beam B1 (@ Level1) | F149: m3 | G149: 6.67 | H149: 0 | I149: =H149*G149 -> 0
A150: -2 | E150: 12mm dia. Reinforcement bar | F150: m | G150: 350.6 | H150: 0 | I150: =H150*G150 -> 0
A151: -3 | E151: 6mm dia. Reinforcement bar | F151: m | G151: 502.53 | H151: 0 | I151: =H151*G151 -> 0
A152: -4 | E152: Formwork | F152: m2 | G152: 74.5 | H152: 0 | I152: =H152*G152 -> 0
A154: 3.6.00 | B154: OTHER WORKS
A156: -1 | B156: 100 | C156: x | D156: 100 | E156: mm Lintel Beam LB | F156: item | G156: 1 | H156: 0 | I156: =H156*G156 -> 0
A157: -2 | B157: 150 | C157: x | D157: 150 | E157: mm Sill Beam SB | F157: item | G157: 1 | H157: 0 | I157: =H157*G157 -> 0
A159: -3 | B159: 150 | C159: x | D159: 150 | E159: mm Coping | F159: m3 | G159: 0.97 | H159: 0 | I159: =H159*G159 -> 0
...
