Workbook
Name data: #REF!
Name details: #REF!
Name rate: [1]Rate!$A$2:$B$36

Sheet Main summary 
A2: PROJECT: 5TH FLOOR B BLOCK BOQ
A5: MAIN SUMMARY OF BILLS OF QUANTITIES
A8: SL.NO | B8: BILL NAME | D8: AMOUNT (MRF)
A9: 1 | B9: ='[2]BoQ of Building'!B47 -> Partition Works | D9: ='BoQ of Building'!G48 -> 0
A10: 2 | B10: ='[2]BoQ of Building'!B50 -> Paint and Putty Works | D10: ='BoQ of Building'!G51 -> 0
A11: 3 | B11: ='[2]BoQ of Building'!B53 -> Flooring Works | D11: ='BoQ of Building'!G55 -> 0
A12: 4 | B12: ='[2]BoQ of Building'!B58 -> Door , Partition Installation | D12: ='BoQ of Building'!G63 -> 0
A13: 5 | B13: ='BoQ of Building'!B64 -> Electric and Network | D13: ='BoQ of Building'!G68 -> 0
A14: 6 | B14: ='BoQ of Building'!B69 -> Cleaning Works | D14: ='BoQ of Building'!G71 -> 0
A15: 7 | B15: ='BoQ of Building'!B72 -> Other Repair Works | D15: ='BoQ of Building'!G74 -> 0
A17: SUBTOTAL | D17: =SUM(D9:D16) -> 0
A18: GST (8%) | D18: =D17*0.08 -> 0
A19: TOTAL AMOUNT (MVR) INCLUDING GST | D19: =D18+D17 -> 0

Sheet BoQ of Building
A1: Project : 5TH FLOOR B BLOCK BOQ
A3: Item | B3: Description | C3: Unit | D3: Qty | E3: Material Rate | F3: Labour Rate | G3: Total
B5: PREAMBLE TO BILL OF QUANTITY
A7: Note | B7: 1. General
B8: a) The nature of this contract is measured unit price contract and the Bill of Quantity (BOQ) shall reflect this fact.
B9: b) BOQ shall be read and construed in conjunction with other Contract Documents
B10: c) The Tenderer is obliged to check the number of the pages of the Bill of Quantity and should any be found missing or duplicated or the figures or writing indistinct, the Tenderer must notify the Employer/Engineer at once and have the matter rectified before the Tender is submitted. No liability whatsoever will be accepted in respect of any claim for errors in the Tenderer’s offer resulting from failure to comply with the foregoing.
B11: d) The Tenderer is deemed to have visited the site/s and fully acquainted himself as to the location of each of the items and works to be carried out and to all conditions which may affect the performance of the works, including but not limited to: -Access to each of the roads where solid waste transfer process will be carried out, and Access for the dump site. -Restrictions applicable to working in Male City area. -All safety regulations and employer site safety procedures. -All Safety regulations.
B12: e) The Tenderer is also deemed to have surveyed the actual condition of the site and buildings and made his own assessment of the type and extent of the works prior to submitting his offer
B14: 2. Quantities
B15: Even though that practical care was exercised in preparing the BOQ, but all quantities given herein shall be deemed to be estimated quantities of the work to be done but they are not to be taken as actual and correct quantities of the work to be executed and they are not to absolve the contractor of his obligations under the Contract. They are not to be taken as guarantee that the actual quantities increase or decrease, and any claim whatsoever submitted for cost or extra expenses incurred from such increase or decrease will not be accepted by Employer/Engineer except where else stipulated in the Contract.
B19: 3. Materials
B20: All materials used are to be of the best new available and subject to the Employer/Engineer approval, and of durable nature, guaranteed, not liable to any base exchange and manufactured according to applicable BS, ASTM or DIN Standards. Execution also is subject to approval of Employer/Engineer and shall be the best available common practice in engineering codes at the time of execution.
B21: 4. Unit Price and Currency
B22: The Unit Prices entered against the various items in the following Bill of Quantities include all operations for execution, completion and maintenance of the various items of the works finished completely in every respect till the final acceptance as specified or described in the Tender Documents, with or without modifications, either by way of additions or deductions, or alterations as may be offered in writing during the progress of the works, and include, without being limited to, all matters and things particularly referred to in the Tender Documents.
B23: The Unit Price shall cover all costs of every kind whatsoever including, without being limited to, all charges for additional site installations, relocation, supervision, labor, transportation and supply of materials; the provision, maintenance, use and efficient repair of all plant, equipment and appliance of every kind, the construction and maintenance of all temporary works, the performance of all services and the fulfillment of all obligations and responsibilities herein defined.
... B30: BILL No: 01
A32: 1.1.0 | B32: General Notes
A33: 1 ) | B33: Abbreviations
B34: m - metre
B35: no - numbers
B36: m³ - cubic metre
B37: m² - square metre
B38: m - metre
B39: t - tonnes
B40: incl - including
B41: mm - millimetre
B42: dia - diameter
B43: SS - Stainless Steel
B44: GI - Galvanised Iron
A46: 1.2.0 | B46: Partition and carpet Remove Works
A47: 1 ) | B47: Remove Existing Partition and carpets | C47: items | D47: 1 | E47: 0 | F47: 0 | G47: =IF(D47="","",(E47*D47)+(F47*D47)) -> 0
G48: =SUM(G47) -> 0
A49: 1.3.0 | B49: Paint and Putty Works
A50: 1 ) | B50: Wall & Ceiling Crack Repair and Painting – Repair all cracks and damaged surfaces to existing walls and ceilings, including surface preparation, crack filling, patching, sanding, putty and primer where required. Apply minimum two coats of approved interior paint to all office areas and prayer room walls and ceilings, complete with all materials, labour, tools, protection, touch-up and final cleaning. | C50: m2 | D50: 75 | E50: 0 | F50: 0 | G50: =IF(D50="","",(E50*D50)+(F50*D50)) -> 0
G51: =SUM(G50) -> 0
A52: 1.4.0 | B52: Flooring Works
A53: 1 ) | B53: Office Area and Prayer Room | C53: m2 | D53: 75 | E53: 0 | F53: 0 | G53: =IF(D53="","",(E53*D53)+(F53*D53)) -> 0
B54: PVC Parquet Flooring with Underlayer
G55: =SUM(G53:G54) -> 0
...
