Workbook

Sheet COVER

Sheet Summary
A1: SUMMARY BILL OF QUANTITIES
A2: # | B2: Bill name | C2: Price
B3: LOT 1
A4: 1 | B4: =BOQ!B6 -> Painting Interior
A5: 2 | B5: =BOQ!B10 -> Aluminium Partition
A6: 3 | B6: =BOQ!B14 -> Demolition
A7: 4 | B7: =BOQ!B18 -> Doors
A8: 5 | B8: =BOQ!B23 -> Rewiring and electricals
A9: 6 | B9: =BOQ!B30 -> Drop ceiling
A10: 7 | B10: =BOQ!B34 -> Fixing tiles
A11: 8 | B11: =BOQ!B38 -> Dry Wall
B12: LOT 2
A13: 1 | B13: ='BOQ 2'!B5 -> Supply and instalation of AC
A14: 2.1 | B14: ='BOQ 2'!B11 -> Office Compact Table as shown Drawings
A15: 2.2 | B15: ='BOQ 2'!B12 -> Pedestal
B16: Total: | C16: =SUM(C4:C15) -> 0
B17: GST | C17: =C16*0.06 -> 0
B18: Amount | C18: =C17+C16 -> 0

Sheet BOQ
A1: BILL OF QUANTITIES
A2: LOT 1
A4: # | B4: Bill name | C4: Qty | D4: Unit | E4: Price | F4: Amount
A6: 1 | B6: Painting Interior
B7: All loose paint should be scraped well before painting the new codes of paint. The price shall be for 2 codes of Interior paint that which will have to be approved by the client. (nippon odourless paint or equivalent.) Price shall include putty works needed to fill the irregular defects in interior using interior putty. The price shall be for 2 codes of exterior paint that which will have to be approved by the client. (Sigma oil base exterior paint or equivalent)
B8: Interior painting | C8: 1502.5 | D8: Sqr ft | F8: =C8*E8 -> 0
D9: Total | E9: =F8 -> 0
A10: 2 | B10: Aluminium Partition
B11: Fasten aluminium partition panels to the inside framework of building. Prepare panels by sawing, drilling, or cutting holes in panels for electrical outlets, air-conditioning units, and plumbing. Aluminium partitions should be assembled as shown in the drawings attached with the BOQ. Frosting will be needed on the clear glass area by three feet across the partition.
C12: =7+12+9+9+9+6+6+6+7+6+7+17+14+10+6+8+10 -> 149 | D12: ft | F12: =C12*E12 -> 0
D13: Total | E13: =F12 -> 0
A14: 3 | B14: Demolition
B15: Demolish masonary and dry walls as shown in the drawings . The 1 Item demolition works shall include taking down the walls, window and doors. disposal of surplus excavated material etc. The contractor is strictly advised to visit the site to assess the extent of the scope and any risks associated with this work because claims for extra payment arising as a result of the contractor's failure to fully understand the scope and its risks will not be accepted. All the works must be carried out in compliance with Occupation Health and Safety Act, Construction Regulations and any other laws applicable at the time the works are being executed.
C16: 1 | D16: no | F16: =E16*C16 -> 0
D17: Total | E17: =SUM(E16) -> 0
A18: 4 | B18: Doors
B19: a) Rates shall include for: locks, latches, closers, push plates, pull handles, bolts, kick plates, hinges and all door & window hardware. c) All timber doors shall be 40mm thick solid timber paneled door and 120mm timber frames made with red Marantie timber with varnish / Paint finish.
B20: D1 | C20: 3 | D20: no | F20: =E20*C20 -> 0
B21: D2 | C21: 3 | D21: no | F21: =E21*C21 -> 0
D22: Total | E22: =SUM(F20:F21) -> 0
A23: 5 | B23: Rewiring and electricals
B24: Completely removing all existing wiers and Rates shall include conection from D board to all of outlets. Shall include all sockets swiches wier and etc. needed for the job.
B25: 2 gang Socket outlets | C25: 22 | D25: no | F25: =C25*E25 -> 0
B26: AC sockets | C26: 6 | D26: no | F26: =C26*E26 -> 0
B27: 600 mm X 600mm LED lights | C27: 19 | D27: no | F27: =C27*E27 -> 0
B28: Change existing lights to 300mm X300mm LED lights | C28: 20 | D28: no | F28: =C28*E28 -> 0
D29: Total | E29: =SUM(F25:F28) -> 0
A30: 6 | B30: Drop ceiling
B31: 600mm X 600mm X 0.7mm thick perforated acoustic metal ciling including acoustic pad above ceiling and all neccesary meatal suspension system attached to concrete soffit; as per drawing and specification
B32: Ceiling | C32: 1950 | D32: Sqft | F32: =C32*E32 -> 0
D33: Total | E33: =F32 -> 0
A34: 7 | B34: Fixing tiles
B35: Removal of the detached tiles and retiling the area using chemical ciment from sikka with approved tiles from EDF
C36: 120 | D36: sqft | F36: =C36*E36 -> 0
D37: Total | E37: =F36 -> 0
A38: 8 | B38: Dry Wall
B39: Fasten drywall panels to the inside framework of building. Prepare panels for painting by taping or finishing joints. Work with ceiling tile installers to build walls. Prepare panels by sawing, drilling, or cutting holes in panels for electrical outlets, air-conditioning units, and plumbing. All Dry wall will have an five feet dry wall and a frame that will be fitted with 6mm glass till the top of the frame. the price has to include painting works as well.
C40: 128 | D40: Sqft | F40: =E40*C40 -> 0
D41: Total | E41: =F40 -> 0 | F41: =C41*E41 -> 0
E42: TOTAL | F42: =E41+E37+E33+E29+E22+E17+E13+E9 -> 0
...

Sheet BOQ 2
A1: BILL OF QUANTITIES
A2: LOT 2
A4: # | B4: Bill name | C4: Qty | D4: Unit | E4: Price | F4: Amount
A5: 1 | B5: Supply and instalation of AC
B6: Price shall include supply and instalation of four 24000 BTU Light Commercial AC Single Split
C7: 4 | D7: no | F7: =E7*C7 -> 0
D8: Total | E8: =F7 -> 0
A9: 2 | B9: Supply of furniture
B10: Supply of furniture
A11: 2.1 | B11: Office Compact Table as shown Drawings | C11: 4 | D11: no | F11: =E11*C11 -> 0
A12: 2.2 | B12: Pedestal | C12: 4 | D12: no | F12: =E12*C12 -> 0
D13: Total | E13: =F12+F11 -> 0
E14: TOTAL | F14: =E13+E8 -> 0
E15: GST 6% | F15: =F14*0.06 -> 0
E16: AMONT | F16: =F15+F14 -> 0
