Workbook

Sheet BOQ
A1: Infrastructure & Building Development
A2: Auxiliary Services
A3: Maldives Police Service
A5: Project: Renovation of B.Eydafushi Police Station
A6: Location: B. Eydafushi
A7: Date: 10 February 2022
A10: SUMMARY
A12: BILL | B12: DESCRIPTION | F12: AMOUNT
A13: 1 | B13: PRELIMINARIES | F13: =BOQ!F98 -> 0
A14: 2 | B14: CONCRETE WORKS | F14: =BOQ!F155 -> 0
A15: 3 | B15: MASONRY WALLS / PARTITION | F15: =BOQ!F185 -> 0
A16: 4 | B16: CEILING | F16: =BOQ!F226 -> 0
A17: 5 | B17: TILING | F17: =BOQ!F283 -> 0
A18: 6 | B18: DOORS AND WINDOWS | F18: =BOQ!F358 -> 0
A19: 7 | B19: PAINTING | F19: =BOQ!F427 -> 0
A20: 8 | B20: ROOFING | F20: =BOQ!F470 -> 0
A21: 9 | B21: SANITARY & ELECTRICAL | F21: =BOQ!F503 -> 0
A22: 10 | B22: CELL BLOCK | F22: =BOQ!F503 -> 0
A32: TOTAL (MVR) | F32: =SUM(F13:F31) -> 0
A33: ADD 6% GST | F33: =F32*0.06 -> 0
A34: GRAND TOTAL (MVR) | F34: =F33+F32 -> 0
A53: Infrastructure & Building Development
A54: Auxiliary Services
A55: Maldives Police Service
A57: Project: Renovation of B.Eydafushi Police Station
A58: Location: B. Eydafushi
A59: Date: 10 February 2022
A61: BILL OF QUANTITIES
A63: BILL | B63: DESCRIPTION | C63: QTY. | D63: UNIT | E63: RATE | F63: AMOUNT
A64: 1 | B64: BILL NO 1: PRELIMINARIES
A65: 1.1 | B65: SITE MANAGEMENT COST
B66: Allow for all on and off site management cost including cost of certified site engineer, foreman and assistants, temporary services, telephone, fax, hoardings, guards, temporary fencing inside and outside the premises and similar. | C66: 1 | D66: item | F66: =E66*C66 -> 0
A68: 1.2 | B68: CLEAN - UP
B69: Allow for clean- up of completed works and site up on completion. Allow for removal of debris away from the site. | C69: 1 | D69: item | F69: =E69*C69 -> 0
B98: TOTAL (BILL NO 01:PRELIMINARIES) | F98: =SUM(F64:F97) -> 0
A99: 2 | B99: BILL NO 2: CONCRETE WORKS
B100: Rates shall include for provision of scaffolding and other necessary works to carryout the described works.
B101: a) Rate shall include for: placing in position; making good after removal of formwork and casting in all required items; additional concrete required to conform to structural and excavated tolerances.
B102: b) Mix ratio for reinforced concrete shall be 1:2:4
A103: 2.1 | B103: DEMOLITION WORKS
...

Sheet Sheet1
B5: External Walls | F5: Internal Walls | J5: Internal Walls | N5: Boundary Wall | R5: Cell Block
F6: Ground Floor | J6: Ground Floor
B7: Length | C7: Height | D7: Area | F7: Length | G7: Height | H7: Area | J7: Length | K7: Height | L7: Area | N7: Length | O7: Height | P7: Area | R7: Length | S7: Height | T7: Area
B8: 24.15 | C8: 7.5 | D8: =C8*B8 -> 181.125 | F8: 3.825 | G8: 3 | H8: =G8*F8 -> 11.475 | J8: 15.7 | K8: 3 | L8: =K8*J8 -> 47.1 | N8: 65.42 | O8: 3 | P8: =O8*N8 -> 196.26 | R8: 12.825 | S8: 3 | T8: =S8*R8 -> 38.475
B9: 24.15 | C9: 7.5 | D9: =C9*B9 -> 181.125 | F9: 3.825 | G9: 3 | H9: =G9*F9 -> 11.475 | J9: 15.7 | K9: 3 | L9: =K9*J9 -> 47.1 | N9: 20.25 | O9: 3 | P9: =O9*N9 -> 60.75 | R9: 12.825 | S9: 3 | T9: =S9*R9 -> 38.475
B10: 15.425 | C10: 7.5 | D10: =C10*B10 -> 115.6875 | F10: 3.825 | G10: 3 | H10: =G10*F10 -> 11.475 | J10: 3.85 | K10: 3 | L10: =K10*J10 -> 11.55 | N10: 17.9 | O10: 1.5 | P10: =O10*N10 -> 26.85 | R10: =3.4*12 -> 40.8 | S10: 3 | T10: =S10*R10 -> 122.4
B11: 15.425 | C11: 7.5 | D11: =C11*B11 -> 115.6875 | F11: 3.3 | G11: 3 | H11: =G11*F11 -> 9.9 | J11: 3.85 | K11: 3 | L11: =K11*J11 -> 11.55 | N11: 36 | O11: 1.5 | P11: =O11*N11 -> 54
B12: 24.15 | C12: 4.5 | D12: =C12*B12 -> 108.675 | F12: 3.3 | G12: 3 | H12: =G12*F12 -> 9.9 | J12: 19.15 | K12: 3 | L12: =K12*J12 -> 57.45 | N12: 17.3 | O12: 1.5 | P12: =O12*N12 -> 25.95 | T12: =SUM(T8:T11) -> 199.35
B13: 5.475 | C13: 4.5 | D13: =C13*B13 -> 24.6375 | F13: 3.3 | G13: 3 | H13: =G13*F13 -> 9.9 | J13: 19.15 | K13: 3 | L13: =K13*J13 -> 57.45 | N13: 29.37 | O13: 3 | P13: =O13*N13 -> 88.11
F14: 3.3 | G14: 3 | H14: =G14*F14 -> 9.9 | J14: 19.15 | K14: 3 | L14: =K14*J14 -> 57.45
D15: =SUM(D8:D14) -> 726.9375 | F15: 2.475 | G15: 3 | H15: =G15*F15 -> 7.425 | J15: 2.425 | K15: 3 | L15: =K15*J15 -> 7.275 | P15: =SUM(P8:P14) -> 451.92
F16: 2.475 | G16: 3 | H16: =G16*F16 -> 7.425
F17: 3.775 | G17: 3 | H17: =G17*F17 -> 11.325
F18: 3.775 | G18: 3 | H18: =G18*F18 -> 11.325
F19: 3.775 | G19: 3 | H19: =G19*F19 -> 11.325
F20: 3.775 | G20: 3 | H20: =G20*F20 -> 11.325
F21: 3.85 | G21: 3 | H21: =G21*F21 -> 11.55
F22: 3.85 | G22: 3 | H22: =G22*F22 -> 11.55
F23: 3.85 | G23: 3 | H23: =G23*F23 -> 11.55
F24: 3.85 | G24: 3 | H24: =G24*F24 -> 11.55
F25: 3.85 | G25: 3 | H25: =G25*F25 -> 11.55
F26: 24.15 | G26: 3 | H26: =G26*F26 -> 72.45
F27: 24.15 | G27: 3 | H27: =G27*F27 -> 72.45
... F30: 3.35 | G30: 3 | H30: =G30*F30 -> 10.05
H32: =SUM(H8:H31) -> 406.575 | L32: =SUM(L8:L15) -> 296.925

Sheet Sheet2
