Workbook

Sheet BOQ
A1: Infrastructure & Building Development
A2: Auxiliary Services
A3: Maldives Police Service
A5: Project: Renovation of B.Eydafushi Police Station
A6: Location: B. Eydafushi
A7: Date: 10 February 2022
A10: SUMMARY
A12: BILL | B12: DESCRIPTION | F12: AMOUNT
A13: 1 | B13: PRELIMINARIES | F13: =BOQ!F98 -> 0
A14: 2 | B14: CONCRETE WORKS | F14: =BOQ!F155 -> 0
A15: 3 | B15: MASONRY WALLS / PARTITION | F15: =BOQ!F185 -> 0
A16: 4 | B16: CEILING | F16: =BOQ!F226 -> 0
A17: 5 | B17: TILING | F17: =BOQ!F283 -> 0
A18: 6 | B18: DOORS AND WINDOWS | F18: =BOQ!F358 -> 0
A19: 7 | B19: PAINTING | F19: =BOQ!F427 -> 0
A20: 8 | B20: ROOFING | F20: =BOQ!F470 -> 0
A21: 9 | B21: SANITARY & ELECTRICAL | F21: =BOQ!F503 -> 0
A22: 10 | B22: CELL BLOCK | F22: =BOQ!F503 -> 0
A32: TOTAL (MVR) | F32: =SUM(F13:F31) -> 0
A33: ADD 6% GST | F33: =F32*0.06 -> 0
A34: GRAND TOTAL (MVR) | F34: =F33+F32 -> 0
A53: Infrastructure & Building Development
A54: Auxiliary Services
A55: Maldives Police Service
A57: Project: Renovation of B.Eydafushi Police Station
A58: Location: B. Eydafushi
A59: Date: 10 February 2022
A61: BILL OF QUANTITIES
A63: BILL | B63: DESCRIPTION | C63: QTY. | D63: UNIT | E63: RATE | F63: AMOUNT
A64: 1 | B64: BILL NO 1: PRELIMINARIES
A65: 1.1 | B65: SITE MANAGEMENT COST
B66: Allow for all on and off site management cost including cost of certified site engineer, foreman and assistants, temporary services, telephone, fax, hoardings, guards, temporary fencing inside and outside the premises and similar. | C66: 1 | D66: item | F66: =E66*C66 -> 0
A68: 1.2 | B68: CLEAN - UP
B69: Allow for clean- up of completed works and site up on completion. Allow for removal of debris away from the site. | C69: 1 | D69: item | F69: =E69*C69 -> 0
B98: TOTAL (BILL NO 01:PRELIMINARIES) | F98: =SUM(F64:F97) -> 0
A99: 2 | B99: BILL NO 2: CONCRETE WORKS
B100: Rates shall include for provision of scaffolding and other necessary works to carryout the described works.
B101: a) Rate shall include for: placing in position; making good after removal of formwork and casting in all required items; additional concrete required to conform to structural and excavated tolerances.
B102: b) Mix ratio for reinforced concrete shall be 1:2:4
A103: 2.1 | B103: DEMOLITION WORKS
A104: 1 | B104: Demolition of concrete gutter. Rates shall include for placing of scaffolds, provision of safety measures and removal of debris away from the site. | C104: 1 | D104: item | F104: =E104*C104 -> 0
B105: Note: Existing rebars of gutter slab and continuous bars from beams shall be cut from a distance of 25mm from the adjacent roof beams. Gutter Length: 56.80m Total demolition Area: 102.24sqm Refer attached drawings for cross section and details of RC gutter.
A107: 2 | B107: Controlled demolition of gutter slab concrete. Demolition should be carried out with care not to damage top reinforcement of the slab. Rates shall include for placing of scaffolds, provision of safety measures and removal of debris away from the site. | C107: 1 | D107: item | F107: =E107*C107 -> 0
B108: Note: Gutter Length: 22.40m Total demolition Area: 33.60sqm Refer attached drawings for cross section and details of RC gutter.
A110: 2.2 | B110: REINFORCED CONCRETE
A111: 1 | B111: Reinforced concrete as per the drawing in gutter slab. | C111: =(1.5*20)*0.15 -> 4.5 | D111: m3 | F111: =E111*C111 -> 0
B112: Note: Slab thickness 150mm. Top reinforcement shall be cleaned of concrete debris, damaged or corroded bars shall be replaced. Rusted rebars shall be cut and removed, usable rebars free from rust and damaged should be kept and cleaned. Bottom reinforcement T10@150c/c both ways. Where ever required, bottom bars should be anchored into existing roof beams. (Effective embedment depth: 90mm)
B113: Refer to attached drawing for more details.
A115: 2 | B115: Restoration of concrete in window sill and parapet wall decoration. | C115: 1 | D115: item | F115: =E115*C115 -> 0
B116: Note: (a) Minor cracked and rusted areas shall be chipped to expose rebars, cut and clean-up rusted rebars to receive Structural repair mortar MasterEmaco S 488 or equivalent. (b) If the cracking is severe, remove concrete, clean and wire brush re-bars to remove rusts, place fresh concrete. Rate shall include for provision of shuttering and formworks for new concrete.
B155: TOTAL (BILL NO 02: CONCRETE WORKS) | F155: =SUM(F99:F154) -> 0
A156: 3 | B156: BILL NO 03: MASONRY WALLS / PARTITION
A157: 3.1 | B157: BOUNDAY WALL
A158: 1 | B158: Routing and Sealing of Cracks using Acrylic or Polyurethane Sealant as per manufacturer’s specifications | C158: 1 | D158: item | F158: =E158*C158 -> 0
A159: 2 | B159: Remove swollen plastering, re-plastering where necessary. | C159: 1 | D159: item | F159: =E159*C159 -> 0
A161: 3.2 | B161: EXTERNAL WALLS
A162: 3.2.1 | B162: Wall Cracks and Defects
A163: 1 | B163: Routing and Sealing of Cracks in external masonry walls and decorations using Acrylic or Polyurethane Sealant (PU 25 or equivalent) as per manufacturer’s specifications. | C163: 1 | D163: item | F163: =E163*C163 -> 0
A165: 3.2.2 | B165: 50x75mm (length:1.2m) masonry kicker, including tile works (First floor balconies). | C165: 2 | D165: nos | F165: =E165*C165 -> 0
A167: 3.3 | B167: INTERNAL WALLS
A168: 3.3.1 | B168: Wall Cracks
A169: 1 | B169: Routing and Sealing of Cracks using Acrylic or Polyurethane Sealant as per manufacturer’s specifications | C169: 1 | D169: item | F169: =E169*C169 -> 0
A171: 3.3.2 | B171: Demolition of masonry walls. Rates shall include for removal of debris away from site. Rates shall include for removal of existing grill doors. | C171: =(4.15*3)+(1.5*1.5) -> 14.7 | D171: m2 | F171: =E171*C171 -> 0
A173: 3.3.3 | B173: 150mm thick masonry wall, including 15mm thick plastering on both sides in investigation room. Rate shall include for removal of existing wooden door. | C173: =2.1*0.8 -> 1.68 | D173: m2 | F173: =E173*C173 -> 0
A175: 3.3.4 | B175: 150mm thick masonry wall, including 15mm thick plastering on both sides. | C175: =0.65*2.1 -> 1.365 | D175: m2 | F175: =E175*C175 -> 0
A177: 3.3.5 | B177: Provision of 1" GI Pipe (2.3m) anchored on both sides at 600mm c/c to masonry wall in laundry area for cloth hanging. | C177: 3 | D177: nos | F177: =E177*C177 -> 0
A179: 3.4 | B179: PARTITION WORKS
A180: 3.4.1 | B180: Removal of existing wooden partition wall and wooden door in IT room at first floor level, provide wooden framed (50x50mm timber) gypsum (12mm thick) partition. Rates shall include for installation of wooden door as size same as D5. | C180: 1 | D180: item | F180: =E180*C180 -> 0
B185: TOTAL (BILL NO 03: MASONRY WALLS / PARTITION) | F185: =SUM(F156:F184) -> 0
A186: 4 | B186: BILL NO 04: CEILING
A187: 4.1 | B187: EXTERNAL CEILING
A188: 1 | B188: Removal of gypsum ceiling, provide 6mm thick cement board ceiling in first floor balcony. | C188: 14.05 | D188: m2 | F188: =E188*C188 -> 0
A190: 4.2 | B190: INTERNAL CEILING
A191: 1 | B191: Repair damaged gypsum ceiling (Atoll Commander Room). Provision of 9mm thick Gypsum ceiling including putty works and 1 coat of primer coat. | C191: 10.83 | D191: m2 | F191: =E191*C191 -> 0
A192: 2 | B192: Repair damaged gypsum ceiling (Ground Floor - OPS Room). Provision of 9mm thick Gypsum ceiling including putty works and 1 coat of primer coat. | C192: 10.02 | D192: m2 | F192: =E192*C192 -> 0
A193: 3 | B193: Removal of fungus infected ceiling. Provision of 9mm thick Gypsum ceiling including putty works and 1 coat of primer coat. | C193: =15.4*1.75 -> 26.95 | D193: m2 | F193: =E193*C193 -> 0
B226: TOTAL (BILL NO 04: CEILING) | F226: =SUM(F186:F225) -> 0
A227: 5 | B227: BILL NO 05: TILING
A228: 5.1 | B228: WASH BASIN COUNTER
A229: 1 | B229: 300x300mm CERAMIC tiles. Rates shall include for stripping of wash basin counter tiles with mortar, chipping of concrete along cracks. Expose rebars if corrosion has occurred. Clean up the rusts with wire brush, repair cracked areas using chemical (MasterEmaco S 488 or equivalent). | C229: 3 | D229: nos | F229: =E229*C229 -> 0
A231: 5.2 | B231: BARRACKS 1
B232: Stripping of tile works in toilet walls and floors with mortar. and removal of debris. Tiles shall be stripped together with mortar, while brick surface shall be cleaned with a wire brush.
A233: 1 | B233: 300x600 CERAMIC wall tiles up to 2.1m height in toilets. Rates shall include for repairing of wall cracks by method of routing and sealing using Polyurethane Sealant (PU 25 or equivalent) as per manufacturer’s specifications. | C233: 27.72 | D233: m2 | F233: =E233*C233 -> 0
A234: 2 | B234: 300x300mm anti-slip CERAMIC tiles on floor. Rates shall include application of 2 coats of water proofing membrane, (MasterSeal 550 or similar). | C234: 6.2 | D234: m2 | F234: =E234*C234 -> 0
A235: 3 | B235: 450x450mm PORCELAIN tiles on floor. Rates shall include application of 2 coats of water proofing membrane, (MasterSeal 550 or similar). | C235: 2.43 | D235: m2 | F235: =E235*C235 -> 0
A237: 5.3 | B237: BARRACKS 2
B238: Stripping of tile works in toilet walls and floors with mortar. and removal of debris. Tiles shall be stripped together with mortar, while brick surface shall be cleaned with a wire brush.
A239: 1 | B239: 300x600 CERAMIC wall tiles up to 2.1m height in toilets. Rates shall include for repairing of wall cracks by method of routing and sealing using Polyurethane Sealant (PU 25 or equivalent) as per manufacturer’s specifications. | C239: 60.9 | D239: m2 | F239: =E239*C239 -> 0
A240: 2 | B240: 300x300mm anti-slip CERAMIC tiles on floor. Rates shall include application of 2 coats of water proofing membrane, (MasterSeal 550 or similar). | C240: 14.186 | D240: m2 | F240: =E240*C240 -> 0
A242: 5.4 | B242: ATOLL COMMANDER ROOM
B243: Stripping of tile works in toilet walls and floors with mortar. and removal of debris. Tiles shall be stripped together with mortar, while brick surface shall be cleaned with a wire brush.
A244: 1 | B244: 300x600 ceramic wall tiles up to 2.1m height in toilets. Rates shall include for repairing of wall cracks by method of routing and sealing using Polyurethane Sealant (PU 25 or equivalent) as per manufacturer’s specifications. | C244: 11.76 | D244: m2 | F244: =E244*C244 -> 0
A245: 2 | B245: 300x300mm anti-slip CERAMIC tiles on floor. Rates shall include application of 2 coats of water proofing membrane, (MasterSeal 550 or similar). | C245: 2.3 | D245: m2 | F245: =E245*C245 -> 0
A247: 5.5 | B247: STORE ROOM
A248: 1 | B248: Removal of tiles and motar, clean and level the surface to receive 600x600mm PORCELAIN tiles. | C248: 15.4 | D248: m2 | F248: =E248*C248 -> 0
A250: 5.6 | B250: FLAG POST
A251: 1 | B251: Removal of tiles and motar, clean and level the surface to receive 600x600mm homogeneous tiles. | C251: 1 | D251: item | F251: =E251*C251 -> 0
B283: TOTAL (BILL NO 05: TILING) | F283: =SUM(F227:F282) -> 0
A284: 6 | B284: BILL NO 06: DOORS AND WINDOWS
B285: (a) Rates shall include for locks, latches, closures, push plates, pull handles, bolts, kick plates, hinges, door closer, door stoppers and all door & window hardware.
...

Sheet Sheet1
B5: External Walls | F5: Internal Walls | J5: Internal Walls | N5: Boundary Wall | R5: Cell Block
F6: Ground Floor | J6: Ground Floor
B7: Length | C7: Height | D7: Area | F7: Length | G7: Height | H7: Area | J7: Length | K7: Height | L7: Area | N7: Length | O7: Height | P7: Area | R7: Length | S7: Height | T7: Area
B8: 24.15 | C8: 7.5 | D8: =C8*B8 -> 181.125 | F8: 3.825 | G8: 3 | H8: =G8*F8 -> 11.475 | J8: 15.7 | K8: 3 | L8: =K8*J8 -> 47.1 | N8: 65.42 | O8: 3 | P8: =O8*N8 -> 196.26 | R8: 12.825 | S8: 3 | T8: =S8*R8 -> 38.475
B9: 24.15 | C9: 7.5 | D9: =C9*B9 -> 181.125 | F9: 3.825 | G9: 3 | H9: =G9*F9 -> 11.475 | J9: 15.7 | K9: 3 | L9: =K9*J9 -> 47.1 | N9: 20.25 | O9: 3 | P9: =O9*N9 -> 60.75 | R9: 12.825 | S9: 3 | T9: =S9*R9 -> 38.475
B10: 15.425 | C10: 7.5 | D10: =C10*B10 -> 115.6875 | F10: 3.825 | G10: 3 | H10: =G10*F10 -> 11.475 | J10: 3.85 | K10: 3 | L10: =K10*J10 -> 11.55 | N10: 17.9 | O10: 1.5 | P10: =O10*N10 -> 26.85 | R10: =3.4*12 -> 40.8 | S10: 3 | T10: =S10*R10 -> 122.4
B11: 15.425 | C11: 7.5 | D11: =C11*B11 -> 115.6875 | F11: 3.3 | G11: 3 | H11: =G11*F11 -> 9.9 | J11: 3.85 | K11: 3 | L11: =K11*J11 -> 11.55 | N11: 36 | O11: 1.5 | P11: =O11*N11 -> 54
B12: 24.15 | C12: 4.5 | D12: =C12*B12 -> 108.675 | F12: 3.3 | G12: 3 | H12: =G12*F12 -> 9.9 | J12: 19.15 | K12: 3 | L12: =K12*J12 -> 57.45 | N12: 17.3 | O12: 1.5 | P12: =O12*N12 -> 25.95 | T12: =SUM(T8:T11) -> 199.35
B13: 5.475 | C13: 4.5 | D13: =C13*B13 -> 24.6375 | F13: 3.3 | G13: 3 | H13: =G13*F13 -> 9.9 | J13: 19.15 | K13: 3 | L13: =K13*J13 -> 57.45 | N13: 29.37 | O13: 3 | P13: =O13*N13 -> 88.11
F14: 3.3 | G14: 3 | H14: =G14*F14 -> 9.9 | J14: 19.15 | K14: 3 | L14: =K14*J14 -> 57.45
D15: =SUM(D8:D14) -> 726.9375 | F15: 2.475 | G15: 3 | H15: =G15*F15 -> 7.425 | J15: 2.425 | K15: 3 | L15: =K15*J15 -> 7.275 | P15: =SUM(P8:P14) -> 451.92
F16: 2.475 | G16: 3 | H16: =G16*F16 -> 7.425
F17: 3.775 | G17: 3 | H17: =G17*F17 -> 11.325
F18: 3.775 | G18: 3 | H18: =G18*F18 -> 11.325
F19: 3.775 | G19: 3 | H19: =G19*F19 -> 11.325
F20: 3.775 | G20: 3 | H20: =G20*F20 -> 11.325
F21: 3.85 | G21: 3 | H21: =G21*F21 -> 11.55
F22: 3.85 | G22: 3 | H22: =G22*F22 -> 11.55
F23: 3.85 | G23: 3 | H23: =G23*F23 -> 11.55
F24: 3.85 | G24: 3 | H24: =G24*F24 -> 11.55
F25: 3.85 | G25: 3 | H25: =G25*F25 -> 11.55
F26: 24.15 | G26: 3 | H26: =G26*F26 -> 72.45
F27: 24.15 | G27: 3 | H27: =G27*F27 -> 72.45
... F30: 3.35 | G30: 3 | H30: =G30*F30 -> 10.05
H32: =SUM(H8:H31) -> 406.575 | L32: =SUM(L8:L15) -> 296.925

Sheet Sheet2
