Workbook

Sheet SUMMARY
A1: Project No: PC-171/2022/W-L053
A2: Project Name: Renovation of Sh.Funadhoo Police Station
A3: ބީ.އޯ.ކިއު ޚުލާސާ
A4: ޖުމުލަ | B4: މަސައްކަތުގެ ތަފްޞީލް | C4: #
A5: ='Iulaan BOQ'!A21 -> 0 | B5: ='Iulaan BOQ'!E6 -> ބިލް ނަންބަރު 1 (ޕްރެލިމިނަރީސް) | C5: 1
A6: ='Iulaan BOQ'!A57 -> 0 | B6: ='Iulaan BOQ'!E22 -> ބިލް ނަންބަރު 2 (ކޮންސްޓަބަލް ބެރެކްސް) | C6: 2
A7: ='Iulaan BOQ'!A103 -> 0 | B7: ='Iulaan BOQ'!E58 -> ބިލް ނަންބަރު 3 (އެންސީއޯ ބެރެކްސް) | C7: 3
A8: ='Iulaan BOQ'!A146 -> 0 | B8: ='Iulaan BOQ'!E104 -> ބިލް ނަންބަރު 4 (ވީ.ވީ.އައި.ޕީ) | C8: 4
A9: ='Iulaan BOQ'!A186 -> 0 | B9: ='Iulaan BOQ'!E147 -> ބިލް ނަންބަރު 5 (ވީ.އައި.ޕީ) | C9: 5
A10: ='Iulaan BOQ'!A221 -> 0 | B10: ='Iulaan BOQ'!E187 -> ބިލް ނަންބަރު 6 (އޮޕްސް ރޫމް) | C10: 6
A11: ='Iulaan BOQ'!A260 -> 0 | B11: ='Iulaan BOQ'!E222 -> ބިލް ނަންބަރު 7 (ވިޒްޓާރސް 1) | C11: 7
A12: ='Iulaan BOQ'!A298 -> 0 | B12: ='Iulaan BOQ'!E261 -> ބިލް ނަންބަރު 8 (ވިޒްޓާރސް 2) | C12: 8
A13: ='Iulaan BOQ'!A320 -> 0 | B13: ='Iulaan BOQ'!E299 -> ބިލް ނަންބަރު 9 (ފުރަތަމަ ފަންގިފިލާގެ ސިޓިންގ އަދި ވޯކްވޭ) | C13: 9
A14: ='Iulaan BOQ'!A327 -> 0 | B14: ='Iulaan BOQ'!E321 -> ބިލް ނަންބަރު 10 (ފުރަތަމަ ފަންގިފިލާގެ ބެލްކަނިތައް) | C14: 10
A15: ='Iulaan BOQ'!A344 -> 0 | B15: ='Iulaan BOQ'!E328 -> ބިލް ނަންބަރު 11 (ގްރައުންޑް ފުލޯ މެސްރޫމް) | C15: 11
A16: ='Iulaan BOQ'!A364 -> 0 | B16: ='Iulaan BOQ'!E345 -> ބިލް ނަންބަރު 12 (ގްރައުންޑް ޕޭންޓްރީ) | C16: 12
A17: ='Iulaan BOQ'!A410 -> 0 | B17: ='Iulaan BOQ'!E365 -> ބިލް ނަންބަރު 13 (ގްރައުންޑް އިންވެސްޓިގޭޝަން އޮފީސް) | C17: 13
A18: ='Iulaan BOQ'!A445 -> 0 | B18: ='Iulaan BOQ'!E411 -> ބިލް ނަންބަރު 14 (އޮފީސް ބައި ގްރައުންޑް ފްލޯ) | C18: 14
A19: ='Iulaan BOQ'!A462 -> 0 | B19: ='Iulaan BOQ'!E446 -> ބިލް ނަންބަރު 15 (ސިޓިންގ ރޫމް ގްރައުންޑް ފްލޯ) | C19: 15
A20: ='Iulaan BOQ'!A481 -> 0 | B20: ='Iulaan BOQ'!E463 -> ބިލް ނަންބަރު 16 އެހެނިހެން މަސައްކަތްތައް ގްރައުންޑް ބޭރު) | C20: 16
A21: ='Iulaan BOQ'!A489 -> 0 | B21: ='Iulaan BOQ'!E482 -> ބިލް ނަންބަރު 17 (ވަށާފާރުގެ މަސައްކަތް) | C21: 17
A22: ='Iulaan BOQ'!A497 -> 0 | B22: ='Iulaan BOQ'!E490 -> ބިލް ނަންބަރު 18 (ޖަލުގޮޅީގެ މަސައްކަތް) | C22: 18
A23: ='Iulaan BOQ'!A518 -> 0 | B23: ='Iulaan BOQ'!E498 -> ބިލް ނަންބަރު 19 (ބަދިގެ އިމާރާތުގެ މަސައްކަތް) | C23: 19
A27: =SUM(A5:A26) -> 0 | B27: ޖުމްލަ
A28: =A27*0.06 -> 0 | B28: ޖީ.އެސް.ޓީ %6
A29: =SUM(A27:A28) -> 0 | B29: މުޅި ޖުމްލަ
B30: މުއްދަތު (ދުވަސް)

Sheet Iulaan BOQ
A1: =SUMMARY!A1 -> Project No: PC-171/2022/W-L053
A2: =SUMMARY!A2 -> Project Name: Renovation of Sh.Funadhoo Police Station
A3: =SUMMARY!#REF! -> #REF!
A4: އަންދާސީ ހިސާބު
A5: ޖުމްލަ | B5: ރޭޓް | C5: ޔުނިޓް | D5: އަދަދު | E5: މަސައްކަތުގެ ތަފްޞީލް | F5: #
E6: ބިލް ނަންބަރު 1 (ޕްރެލިމިނަރީސް) | F6: 1
E7: ސަމާލުކަން ދެއްވަންވީ ކަންތައްތައް | F7: #
E8: (1) ކުރެހުމުގައި ނުވަތަ ލިޔެކިޔުމުގައި ހިމެނިފައި ނެއްކަމުގައި ވިޔަސް ވަކި މަސައްކަތެއް ކުރަން ކޮންމެހެން ބޭނުންވާ ކަންތައްތައް ހިމަނަންވާނެއެވެ. އަދި މިކަހަލަ މަސައްކަތްތަށް ސައިޓް ދައްކާ ދުވަހު ފާހަގަކޮށްފައި ބެހެއްޓުން ވަރަށް މުހިންމުވާނެއެވެ .މިސާލު: ވަޑާންކުރާއިރު ލަކުޑި ގުޅުވަން ބޭނުން ކުރާ ޖޮއިނަރީ،ދޮރު ހަރުކުރުމުގައި ކޮންމެހެން ކުރަންޖެހިދާނެ ކުދި ކުދި މަސައްކަތް ނުވަތަ މަސައްކަތުގެ ސްކޯޕްގައި ހިމެނިފައި ނެއްނަމަވެސް އެކަމެއް ނުކޮށް މަސައްކަތް ފުރިހަމަ ނުވާނެ ކަމަށް ފެންނަ ކަންތައްތައް.
E9: (2) ބީއޯކިޔު ގައި ދެއްކިފައި ނެތް މަސައްކަތެއް ކުރެހުމުގައި ދައްކައިފައި އޮތްނަމަ ކުރެހުމުގައި ވާ ގޮތަށް މަސައްކަތް ކުރަންވާނެއެވެ.
E10: (3) ކުރެހުމުގައި ދައްކާފައިވާ މިނެއް %100ދިމާ ނުވުމަކީ ވެދާނެ ކަމެކެވެ. އެހެން ކަމުން ސިދާމިންތައް ސައިޓުގައި ޗެކްކޮށް ޔަގީންކުރުމަކީ ކޮންޓްރެކްޓަރުގެ ޒިންމާ އެކެވެ.
E11: (4) ކުރެހުމުގައި ސުވާލު އުފެދޭ ކަންތައްތަކެއް ވާނަމަ އެމަސައްކަތް ނުކޮށް ކޮންސަލްޓަންޓްގެ އެޕްރޫވަލް ހޯދަން ވާނެއެވެ.
E12: (5) މަސައްކަތައް ބޭނުންވާއެއްވެސް މެޓީރިއަލް އެއް ގަތުމުގެ ކުރިން ކޮންސަލްޓަންޓުގެ އެޕްރޫވަލް ހޯދަން ވާނެއެވެ. އެހެން ގޮތަކަށް ބަޔާންކޮށްފައި ނުވާހާ ހިނދަކު ބޭނުންކުރާ މެޓީރިއަލް ވާން ޖެހޭނީ އާ ތަކެއްޗަށެވެ.
E13: (6) އިމާރާތުގައި ބަދަލުކުރަންޖެހޭ ތަކެތި ބަދަލުކުރުމުގައި ބޭނުންކުރަންޖެހޭނީ މިހާރުވެސް އިމާރާތުގެ ބޭނުންކޮށްފައިހުރި ނުވަތަ އެއާއި އެއްފެންވަރެއްގެ ތަކެއްޗެވެ. ތަކެތި ބޭނުންކުރުމުގެ ކުރިން މި ސަރިވިސްގެ ފަރާތުން އެޕްރޫވްކުރަންވާނެއެވެ.
E14: (7) ކުލަ/ދަވާދު ލާންޖެހޭ ތަންތަނުގައި ކުލަ/ދަވާދު ލުމުގެ ކުރިން ކުލަ/ދަވާދު ފޮޅިފައި ހުންނަން ތަންތަން ރަނގަޅަށް ސާފުކޮށް ނަރު ބުރުސް އަޅަންވާނެއެވެ. . ކުލަލުމުގެ ކުރިން ޕުޓީއަޅަންޖެހޭ ތަންތަނަށް ޕުޓީއަޅާ އަޑިގުޑަންތަށް އެއްވަރު ކޮށް ގާނަން ޖެހޭނެއެވެ. ކުލަ ފޮޅިފައިވާ ތަންތާނގާ ވާ ކުލަތަށް ކަހާ ސޭންޑު ކުރަންވާނެ އެވެ. ކުލަލުމުގެ ކުރިން ފާރަށް ވައި ޖަހާ ސާފުކުރަން ވާނެ އެވެ. ލޮނު އަރާފައިވާ ހިސާބުތަށް ފެންލާ ސާފުކޮށް ހިއްކަން ޖެހޭނެއެވެ. ވޯޓާ ޕްރޫފް ކުރަން ވަކި ގޮތަކަށް ކުރެހުމުގައި ނުވަތަ ޓެކްނިކަލް ސްޕެކްގައި ބުނެފައި ވާ ގޮތަށް ގެންނަން ޖެހޭބަދަލް ފާރަށް ގެންނަން ޖެހޭނެއެވެ.
E15: (8) މަސައްކަތު ތާވަލެއް ކޮންޓްރެކްޓަރު ހުށައަޅާ އެޕްރޫވަލް ހޯދަންވާނެއެވެ.
E16: (9) މުށި ޖެހުމުގެ ކުރިން ސާފުކޮށް ސިމެންތިގަނޑު ޗިޕްކުރަން ވާނެއެވެ. މުށި ޖެހުމުގައި ބޭނުން ކުރަންވާނީ މުށި ޖެހުމަށް ޙާއްސަ ކުރެވިފައިވާ ސިމެންތި އެކެވެ.
E17: (10) އިމާރާތުގެ މަސައްކަތްތައް ކުރަންވާނީ ދީފައިވާ ޓެކްނިކަލް ސްޕެސިފިކޭޝަންއާއި އެއްގޮތަށެވެ. އަދި ސްޕެސިފިކޭޝަންގައި ނުހިމެނޭ ކަމެއް ދިމާވެއްޖެނަމަ އެކަމެއް ކުރުމުގެ ކުރިން ކޮންސަލްޓަންޓްގެ ހުއްދަ ހޯދަން ވާނެއެވެ.
A18: =B18*D18 -> 0 | C18: އައިޓަމް | D18: 1 | E18: މަސައްކަތްކުރަން ފެށުމުގެ ކުރިން ވާންޖެހޭ އެންމެހާ ތައްޔާރީތައް. މިސާލު:މަސައްކަތް ކުރަމުންދާއިރު ވަކި ސަރަހައްދެއް ކުނޑި ނާރާގޮތަށް ބަންދު ކުރަން ޖެހޭނަމަ އެސަރަހައްދެއް ބަންދު ކުރުން. | F18: 1.1
A19: =B19*D19 -> 0 | C19: އައިޓަމް | D19: 1 | E19: މަސައްކަތުގެ ބާވަތުން އުކާލަންޖެހޭ އެންމެހާ ކުނިތަކާއި، މަސައްކަތް ނިމުމުން ސާފުކުރުމަށްފަހު އުކާލަންޖެހޭ ތަކެތި ސައިޓުން ބޭރުކޮށް އުކާލުން. | F19: 1.2
A20: =B20*D20 -> 0 | C20: އައިޓަމް | D20: 1 | E20: އިމާރާތުގެ ކަރަންޓް ވަރިންގެ ސޮޕް ޑޯރިން ތައްޔާރުކޮށް އެޕްރޫވް ކުރުން، (އޭސީ ލޭއައުޓް، އިލެކްޓްރިކަލް ވައިރިން) | F20: 1.3
A21: =SUM(A18:A20) -> 0 | B21: ބިލް ނަންބަރު 1 ގެ ޖުމުލަ
E22: ބިލް ނަންބަރު 2 (ކޮންސްޓަބަލް ބެރެކްސް) | F22: 2
A23: =B23*D23 -> 0 | C23: އަދަދު | D23: 11 | E23: މިހާރު ހަރުކޮށްފައިވާ 13އޭ ސޮކެޓް ވައިރިންނާއެކު ބަދަލުކުރުން. | F23: 2.1.1
A24: =B24*D24 -> 0 | C24: އަދަދު | D24: 4 | E24: ސީލިން ރިސެސްޑް ލެޑްލައިޓް ހަރުކުރުން | F24: 2.1.2
A25: =B25*D25 -> 0 | C25: އަދަދު | D25: 8 | E25: ފަންކާ ޑިމަރުތައް ނަގައި ސޮކެޓް މަތިއެޅުން. | F25: 2.1.3
A26: =B26*D26 -> 0 | D26: 1 | E26: 4 ގޭނގް ސްވިޗް ބަދަލުކުރުން | F26: 2.1.4
A27: =B27*D27 -> 0 | C27: އައިޓަމް | D27: 1 | E27: (D 05) 900×2500މމ ބެލްކަނީ މައި ދޮރާއި، ދޮރުކަނި ނެގުމަށްފަހު އެލްމީނިއަމް ކްލެޑެޑް ދޮރަށް ބަދަލުކުރުން (ތަޅު، ހުޅުފަތް، ޑޯކްލޯޒަރ އަގުކުރުމުގައި ހިމެނުން) | F27: 2.1.5
A28: =B28*D28 -> 0 | C28: އަކަމީޓަރު | D28: 41.05 | E28: މިހާރު ހަރުކޮށްފައިވާ ސީލިންގ ފިލާތައް ނެގުމަށްފަހު 10މމ ގެ ޖިބްސަން ބޯޑް ޖަހާ ސީލިންގ ކުރުން (އަގުކުރުމުގައި ޕްޓީ ލުމާއި މެސްޓޭޕް، އިސްކުރު އަދިވެސް މަސައްކަތައް ހިނގާނެ ހުރިހާ ހަރަދެއް ހިމަނަންވާނެއެވެ.) | F28: 2.1.6
A29: =B29*D29 -> 0 | C29: އަދަދު | D29: 3 | E29: 2400× 1700 ކުޑަދޮރުގައި ކާޓައިން ހަރުކުރުން. (ރެއިލިންގއާއިއެކު) | F29: 2.1.7
A30: =B30*D30 -> 0 | C30: އަދަދު | D30: 1 | E30: 36,000 ބީ.ޓީ.ޔޫގެ މަލްޓި ސިސްޓަމް އިންވާޓަރ އޭސީ ހަރުކުރުން، ކަރަންޓް ސޮކެޓް އެޅުމާއި، ޑީބޯޑަށް ބަދަލެއްގެންނަން ޖެހޭނަމަ އަގުކުރުމުގައި އެ މަސައްކަތް ހިމަނަންވާނެއެވެ. | F30: 2.1.8
A31: =B31*D31 -> 0 | C31: އަދަދު | D31: 2 | E31: 18,000 ބީޓީޔޫ ގެ މަލްޓި އައިޑީ ޔޫ ކެސެޓް އޭސީ އިންވާޓަރ ހަރުކުރުން | F31: 2.1.9
A32: =B32*D32 -> 0 | C32: އަދަދު | D32: 1 | E32: 900×(D 02) 2500މމ ބެރެކްސްއަށް ވަންނަ މައި ދޮރާއި ދޮރުފަތް ބަދަލުކުރުމާއި އަދި ދަވާދުލުން. (ތަޅު،ޑޯކްލޯޒަރ، ހުޅުފަތްތައް) | F32: 2.1.10
A33: =B33*D33 -> 0 | C33: އަކަމީޓަރު | D33: 41.05 | E33: 600×600މމ ފޯސެލިން މުށި ޖެހުން، އަގުކުރުމުގައި މިހާރު ހުރިމުށިތައް ނެގުމަށްފަހު، ތަޅުން އެއްވަރުކުރުމާއި، ކެމިކަލް އަދި ޓައިލް ޖެހުމަށް ބޭނުންކުރާ ހުރިހާ ކަމަކަށް އަގުކުރަން ވާނެއެވެ. އަދި ވަށާ ބޯޑަރު ހިމަނަންވާނެއެވެ. | F33: 2.1.11
E34: ކޮންސްޓަބަލް ބެރެކްސް ފާހާނާ | F34: 2.2
A35: =B35*D35 -> 0 | C35: އަކަމީޓަރު | D35: 69.07 | E35: ފާހާނާގެ ތަޅުމާއި ފާރުގައި ޖަހާފައިވާ މުށިތައް ނެގުން | F35: 2.2.1
A36: =B36*D36 -> 0 | C36: އަކަމީޓަރު | D36: 16.23 | E36: ފާހާނާގެ ތަޅުން ވޯޓަރ ޕްރޫފް ކުރުން، އަދި ފާހާނާގެ ފާރު 300 މމ އުސްމިނަށް ވޯޓަރ ޕްރޫފްކުރުން | F36: 2.2.2
A37: =B37*D37 -> 0 | C37: އަކަމީޓަރު | D37: 9.75 | E37: 300×300މމ މުށި ތަޅުމުގައި ޖެހުން، | F37: 2.2.3
A38: =B38*D38 -> 0 | C38: އަކަމީޓަރު | D38: 59.32 | E38: 300×600މމ މުށި ފާރުގައި ޖެހުން | F38: 2.2.4
A39: =B39*D39 -> 0 | C39: އަދަދު | D39: 2 | E39: މިހާރު ހުރި ދޮރާއި ދޮރުފަތް ނެގުމަށްފަހު، 700× 2100 (D 04) މމ ގެ ފައިބަރ ދޮރުހަރުކުރުން، (ތަޅު، ހުޅުފަތް، ތަންޑް) | F39: 2.2.5
A40: =B40*D40 -> 0 | C40: އަދަދު | D40: 1 | E40: ފާހާނާއަށް ވަންނަ މައި ދޮރާއި ދޮރު ފަތް ނެގުމަށްފަހު، އެލްމީނިއަމް ކްލެޑެޑް(D05) 900×2500މމ ދޮރާއި ދޮރުކަނި ބަދަލުކުރުން، (ތަޅު، ހުޅުފަތް، ތަންޑް) | F40: 2.2.6
A41: =B41*D41 -> 0 | C41: އަކަމީޓަރު | D41: 9.75 | E41: ފާހާނާގެ ސީލިންގ ފިލާ ނެގުމަށްފަހު، ސިމެންތި ފިލާޖެހުން (އަގުކުރުމުގައި ޕްޓީ ލުމާއި މެސްޓޭޕް، އިސްކުރު އަދިވެސް މަސައްކަތައް ހިނގާނެ ހުރިހާ ހަރަދެއް ހިމަނަންވާނެއެވެ.) | F41: 2.2.7
A42: =B42*D42 -> 0 | C42: އަދަދު | D42: 2 | E42: ފާހާނާ ތަށި ބަދަލުކުރުން | F42: 2.2.8
A43: =B43*D43 -> 0 | C43: އަދަދު | D43: 2 | E43: މުސްލިމް ޝަވަރ ބަދަލުކުރުން | F43: 2.2.9
A44: =B44*D44 -> 0 | C44: އަދަދު | D44: 2 | E44: ހޭންޑް ޝަވަރ ބަދަލުކުރުން | F44: 2.2.10
A45: =B45*D45 -> 0 | C45: އަދަދު | D45: 2 | E45: ފެން އިސްކުރު ބަދަލުކުރުން | F45: 2.2.11
A46: =B46*D46 -> 0 | C46: އަދަދު | D46: 3 | E46: ސްޓޮޕް ވޭލް ބަދަލުކުރުން | F46: 2.2.12
... A56: =B56*D56 -> 0 | C56: އަދަދު | D56: 4 | E56: ފާހާނާ ފެންލައިޓްގެ ހުޅު ބަދަލުކުރުން | F56: 2.2.22
A57: =SUM(A23:A56) -> 0 | B57: ބިލް ނަންބަރު 2 ގެ ޖުމުލަ
E58: ބިލް ނަންބަރު 3 (އެންސީއޯ ބެރެކްސް) | F58: 3
A59: =B59*D59 -> 0 | C59: އަކަމީޓަރ | D59: 53.61 | E59: ބެރެކްސް ސީލިން ފިލާތައް ނެގުމަށްފަހު 10މމ ޖިބްސަން ސީލިންއަށް ބަދަލުކުރުން (އަގުކުރުމުގައި ޕްޓީ ލުމާއި މެސްޓޭޕް، އިސްކުރު އަދިވސް މަސައްކަތައް ހިނގާނެ ހުރިހާ ހަރަދެއް ހިމަނަންވާނެއެވެ.) | F59: 3.1.1
A60: =B60*D60 -> 0 | C60: އަދަދު | D60: 8 | E60: ސީލިން ރިސެސްޑް ލެޑްލައިޓް ހަރުކުރުން | F60: 3.1.2
A61: =B61*D61 -> 0 | C61: އަދަދު | D61: 1 | E61: 4 ގޭންގް ސުވިޗް ބަދަލުކުރުން | F61: 3.1.3
A62: =B62*D62 -> 0 | C62: އަދަދު | D62: 2 | E62: 5 ގޭންގް ސުވިޗް ބަދަލުކުރުން | F62: 3.1.4
A63: =B63*D63 -> 0 | C63: އަދަދު | D63: 3 | E63: ފަންކާ ޑިމަރުތައް ނަގައި ސޮކެޓް މަތިއެޅުން. | F63: 3.1.5
A64: =B64*D64 -> 0 | C64: އަދަދު | D64: 6 | E64: 13އޭ ޔުނިވާސަލް ސޮކެޓް ބަދަލުކުރުން | F64: 3.1.6
A65: =B65*D65 -> 0 | C65: އަދަދު | D65: 2 | E65: 900×2500 (D 02) މމ ގެ ދޮރާއި ދޮރުފަތް ބަދަލުކުރުން (ތަޅު،ޑޯކްލޯޒަރ، ހުޅުފަތްތައް) | F65: 3.1.7
A66: =B66*D66 -> 0 | C66: އަދަދު | D66: 2 | E66: 900×2500 (D 05)މމ ބެލްކަނީ މައި ދޮރާއި، ދޮރުކަނި ނެގުމަށްފަހު އެލްމީނިއަމް ކްލެޑެޑް ދޮރަށް ބަދަލުކުރުން (ތަޅު، ހުޅުފަތް، ޑޯކްލޯޒަރ އަގުކުރުމުގައި ހިމެނުން) | F66: 3.1.8
A67: =B67*D67 -> 0 | C67: އަދަދު | D67: 1 | E67: 42,000 ބީ.ޓީ.ޔޫގެ މަލްޓި ސިސްޓަމް އިންވާޓަރ އޭސީ ހަރުކުރުން، ކަރަންޓް ސޮކެޓް އެޅުމާއި، ޑީބޯޑަށް ބަދަލެއްގެންނަން ޖެހޭނަމަ އަގުކުރުމުގައި އެ މަސައްކަތް ހިމަނަންވާނެއެވެ. | F67: 3.1.9
A68: =B68*D68 -> 0 | C68: އަދަދު | D68: 2 | E68: 18,000 ބީޓީޔޫ ގެ މަލްޓި އައިޑީ ޔޫ ކެސެޓް އޭސީ އިންވާޓަރ ހަރުކުރުން | F68: 3.1.10
A69: =B69*D69 -> 0 | C69: އަދަދު | D69: 1 | E69: 12,000 ބީޓީޔޫ ގެ މަލްޓި އައިޑީ ޔޫ ކެސެޓް އޭސީ އިންވާޓަރ ހަރުކުރުން | F69: 3.1.11
A70: =B70*D70 -> 0 | C70: އަދަދު | D70: 3 | E70: ފާހާނާ އަދި ބެލްކަނިން ބޭރަށް ނިކުންނަން ހުރި ދޮރު ތިރީގައި އޮޅިކޮޅެއް ހަދައި މުށިޖެހުން (900×50މމ) | F70: 3.1.12
... A78: =B78*D78 -> 0 | C78: އަކަމީޓަރ | D78: 53.61 | E78: 600×600މމ ފޯސެލިން މުށި ޖެހުން، އަގުކުރުމުގައި މިހާރު ހުރިމުށިތައް ނެގުމަށްފަހު، ތަޅުން އެއްވަރުކުރުމާއި، ކެމިކަލް އަދި ޓައިލް ޖެހުމަށް ބޭނުންކުރާ ހުރިހާ ކަމަކަށް އަގުކުރަން ވާނެއެވެ. އަދި ވަށާ ބޯޑަރު ހިމަނަންވާނެއެވެ. | F78: 3.1.20
A79: =B79*D79 -> 0
E80: އެންސީއޯ ބެރެކްސް ގެ ފާހާނާ | F80: 3.2
A81: =B81*D81 -> 0 | C81: އަކަމީޓަރު | D81: =15.32+88.2 -> 103.52 | E81: ފާހާނާގެ ތަޅުމާއި ފާރުގައި ޖަހާފައިވާ މުށިތައް ނެގުން | F81: 3.2.1
A82: =B82*D82 -> 0 | C82: އަކަމީޓަރު | D82: 24.84 | E82: ފާހާނާގެ ތަޅުން ވޯޓަރ ޕްރޫފް ކުރުން، އަދި ފާހާނާގެ ފާރު 300 މމ އުސްމިނަށް ވޯޓަރ ޕްރޫފްކުރުން | F82: 3.2.2
A83: =B83*D83 -> 0 | C83: އަކަމީޓަރު | D83: 15.32 | E83: 300×300މމ މުށި ތަޅުމުގައި ޖެހުން، | F83: 3.2.3
A84: =B84*D84 -> 0 | C84: އަކަމީޓަރު | D84: 88.2 | E84: 300×600މމ މުށި ފާރުގައި ޖެހުން | F84: 3.2.4
A85: =B85*D85 -> 0 | C85: އަދަދު | D85: 3 | E85: މިހާރު ހުރި ދޮރާއި ދޮރުފަތް، 700×2100 (D04)މމ ގެ ފައިބަރ ދޮރުހަރުކުރުން، (ތަޅު، ހުޅުފަތް، ތަންޑް) | F85: 3.2.5
A86: =B86*D86 -> 0 | C86: އަދަދު | D86: 1 | E86: ފާހާނާއަށް ވަންނަ މައި ދޮރާއި ދޮރު ފަތް ނެގުމަށްފަހު، އެލްމީނިއަމް ކްލެޑެޑް(D05) 900 ×2500މމ ދޮރާއި ދޮރުކަނި ބަދަލުކުރުން، (ތަޅު، ހުޅުފަތް، ތަންޑް) | F86: 3.2.6
A87: =B87*D87 -> 0 | C87: އަކަމީޓަރު | D87: 15.32 | E87: ފާހާނާގެ ސީލިންގ ފިލާ ނެގުމަށްފަހު، ސިމެންތި ފިލާޖެހުން (އަގުކުރުމުގައި ޕްޓީ ލުމާއި މެސްޓޭޕް، އިސްކުރު އަދިވސް މަސައްކަތައް ހިނގާނެ ހުރިހާ ހަރަދެއް ހިމަނަންވާނެއެވެ.) | F87: 3.2.7
A88: =B88*D88 -> 0 | C88: އަދަދު | D88: 3 | E88: ފާހާނާ ތަށި ބަދަލުކުރުން | F88: 3.2.8
A89: =B89*D89 -> 0 | C89: އަދަދު | D89: 3 | E89: މުސްލިމް ޝަވަރ ބަދަލުކުރުން | F89: 3.2.9
A90: =B90*D90 -> 0 | C90: އަދަދު | D90: 3 | E90: ހޭންޑް ޝަވަރ ބަދަލުކުރުން | F90: 3.2.10
A91: =B91*D91 -> 0 | C91: އަދަދު | D91: 3 | E91: ފެން އިސްކުރު ބަދަލުކުރުން | F91: 3.2.11
A92: =B92*D92 -> 0 | C92: އަދަދު | D92: 4 | E92: ސްޓޮޕް ވޭލް ބަދަލުކުރުން | F92: 3.2.12
A93: =B93*D93 -> 0 | C93: އަދަދު | D93: 4 | E93: ޑްރެއިން ބަދަލުކުރުން | F93: 3.2.13
... A102: =B102*D102 -> 0 | C102: އަދަދު | D102: 6 | E102: ފާހާނާ ފެންލައިޓްގެ ހުޅު ބަދަލުކުރުން | F102: 3.2.22
A103: =SUM(A59:A102) -> 0 | B103: ބިލް ނަންބަރު 3 ގެ ޖުމުލަ
E104: ބިލް ނަންބަރު 4 (ވީ.ވީ.އައި.ޕީ) | F104: 4
A105: =B105*D105 -> 0 | C105: އަކަމީޓަރ | D105: 25.24 | E105: ސީލިން ފިލާތައް ނެގުމަށްފަހު 10މމ ޖިބްސަން ސީލިންއަށް ބަދަލުކުރުން (އަގުކުރުމުގައި ޕްޓީ ލުމާއި މެސްޓޭޕް، އިސްކުރު އަދިވސް މަސައްކަތައް ހިނގާނެ ހުރިހާ ހަރަދެއް ހިމަނަންވާނެއެވެ.) | F105: 4.1.1
A106: =B106*D106 -> 0 | C106: އަދަދު | D106: 1 | E106: 900×2500 (D02)މމ ގެ ދޮރާއި ދޮރުފަތް ބަދަލުކުރުން (ތަޅު،ޑޯކްލޯޒަރ، ހުޅުފަތްތައް) | F106: 4.1.2
A107: =B107*D107 -> 0 | C107: އަދަދު | D107: 1 | E107: 900×2500(D05)މމ ބެލްކަނީ މައި ދޮރާއި، ދޮރުކަނި ނެގުމަށްފަހު އެލްމީނިއަމް ކްލެޑެޑް ދޮރަށް ބަދަލުކުރުން (ތަޅު، ހުޅުފަތް، ޑޯކްލޯޒަރ އަގުކުރުމުގައި ހިމެނުން) | F107: 4.1.3
A108: =B108*D108 -> 0 | C108: އަދަދު | D108: 1 | E108: ބެލްކަނިން ބޭރަށް ނިކުންނަން ހުރި ދޮރު ތިރީގައި އޮޅިކޮޅެއް ހަދައި މުށިޖެހުން (900×50މމ) | F108: 4.1.4
A109: =B109*D109 -> 0 | C109: އަދަދު | D109: 1 | E109: 2400× 1700 ކުޑަދޮރުގައި ކާޓައިން ހަރުކުރުން. (ރެއިލިންގއާއިއެކު) | F109: 4.1.5
A110: =B110*D110 -> 0 | C110: އަދަދު | D110: 1 | E110: 600× 1700 ކުޑަދޮރުގައި ކާޓައިން ހަރުކުރުން. (ރެއިލިންގއާއިއެކު) | F110: 4.1.6
A111: =B111*D111 -> 0 | C111: އަދަދު | D111: 3 | E111: ސީލިން ރިސެސްޑް ލެޑްލައިޓް ހަރުކުރުން | F111: 4.1.7
A112: =B112*D112 -> 0 | C112: އަދަދު | D112: 1 | E112: 5 ގޭންގް ސްވިޗް ބަދަލުކުރުން | F112: 4.1.8
A113: =B113*D113 -> 0 | C113: އަދަދު | D113: 3 | E113: ވޯލްމައުންޓް ލައިޓް ބަދަލުކުރުން | F113: 4.1.9
A114: =B114*D114 -> 0 | C114: އަދަދު | D114: 2 | E114: ފޯނު ސޮކެޓް ބަދަލުކުރުން | F114: 4.1.10
A115: =B115*D115 -> 0 | C115: އަދަދު | D115: 6 | E115: 13 އޭ ސޮކެޓް ބަދަލުކުރުން | F115: 4.1.11
A116: =B116*D116 -> 0 | C116: އަދަދު | D116: 1 | E116: ބެލްކަނީގައި ސީލިން ރިސެސްޑް ލައިޓް ބަދަލުކުރުން | F116: 4.1.12
... A118: =B118*D118 -> 0 | C118: އަކަމީޓަރ | D118: 25.24 | E118: 600×600މމ ފޯސެލިން މުށި ޖެހުން، އަގުކުރުމުގައި މިހާރު ހުރިމުށިތައް ނެގުމަށްފަހު، ތަޅުން އެއްވަރުކުރުމާއި، ކެމިކަލް އަދި ޓައިލް ޖެހުމަށް ބޭނުންކުރާ ހުރިހާ ކަމަކަށް އަގުކުރަން ވާނެއެވެ. އަދި ވަށާ ބޯޑަރު ހިމަނަންވާނެއެވެ. | F118: 4.1.14
E119: ވީ.ވީ.އައި.ޕީ ފާހާނާ | F119: 4.2
A120: =B120*D120 -> 0 | C120: އަކަމީޓަރު | D120: =15.32+88.2 -> 103.52 | E120: ފާހާނާގެ ތަޅުމާއި ފާރުގައި ޖަހާފައިވާ މުށިތައް ނެގުން | F120: 4.2.1
A121: =B121*D121 -> 0 | C121: އަކަމީޓަރު | D121: 10.69 | E121: ފާހާނާގެ ތަޅުން ވޯޓަރ ޕްރޫފް ކުރުން، އަދި ފާހާނާގެ ފާރު 300 މމ އުސްމިނަށް ވޯޓަރ ޕްރޫފްކުރުން | F121: 4.2.2
A122: =B122*D122 -> 0 | C122: އަކަމީޓަރު | D122: 7 | E122: 300×300މމ މުށި ތަޅުމުގައި ޖެހުން، | F122: 4.2.3
A123: =B123*D123 -> 0 | C123: އަކަމީޓަރު | D123: 34.7 | E123: 300×600މމ މުށި ފާރުގައި ޖެހުން | F123: 4.2.4
A124: =B124*D124 -> 0 | C124: އަދަދު | D124: 1 | E124: މިހާރު ހުރި ދޮރު ނެގުމަށްފަހު، 780×2100 (D03)މމ ގެ ފައިބަރ ދޮރާއި ދޮރުފަތް ހަރުކުރުން، (ތަޅު، ހުޅުފަތް، ތަންޑް) | F124: 4.2.5
A125: =B125*D125 -> 0 | C125: އަކަމީޓަރު | D125: 7 | E125: ފާހާނާގެ ސީލިންގ ފިލާ ނެގުމަށްފަހު، ސިމެންތި ފިލާޖެހުން (އަގުކުރުމުގައި ޕްޓީ ލުމާއި މެސްޓޭޕް، އިސްކުރު އަދިވeސް މަސައްކަތައް ހިނގާނެ ހުރިހާ ހަރަދެއް ހިމަނަންވާނެއެވެ.) | F125: 4.2.6
...
