Workbook

Sheet SUMMARY
A1: Project No: PC-171/2022/W-L053
A2: Project Name: Renovation of Sh.Funadhoo Police Station
A3: ބީ.އޯ.ކިއު ޚުލާސާ
A4: ޖުމުލަ | B4: މަސައްކަތުގެ ތަފްޞީލް | C4: #
A5: ='Iulaan BOQ'!A21 -> 0 | B5: ='Iulaan BOQ'!E6 -> ބިލް ނަންބަރު 1 (ޕްރެލިމިނަރީސް) | C5: 1
A6: ='Iulaan BOQ'!A57 -> 0 | B6: ='Iulaan BOQ'!E22 -> ބިލް ނަންބަރު 2 (ކޮންސްޓަބަލް ބެރެކްސް) | C6: 2
A7: ='Iulaan BOQ'!A103 -> 0 | B7: ='Iulaan BOQ'!E58 -> ބިލް ނަންބަރު 3 (އެންސީއޯ ބެރެކްސް) | C7: 3
A8: ='Iulaan BOQ'!A146 -> 0 | B8: ='Iulaan BOQ'!E104 -> ބިލް ނަންބަރު 4 (ވީ.ވީ.އައި.ޕީ) | C8: 4
A9: ='Iulaan BOQ'!A186 -> 0 | B9: ='Iulaan BOQ'!E147 -> ބިލް ނަންބަރު 5 (ވީ.އައި.ޕީ) | C9: 5
A10: ='Iulaan BOQ'!A221 -> 0 | B10: ='Iulaan BOQ'!E187 -> ބިލް ނަންބަރު 6 (އޮޕްސް ރޫމް) | C10: 6
A11: ='Iulaan BOQ'!A260 -> 0 | B11: ='Iulaan BOQ'!E222 -> ބިލް ނަންބަރު 7 (ވިޒްޓާރސް 1) | C11: 7
A12: ='Iulaan BOQ'!A298 -> 0 | B12: ='Iulaan BOQ'!E261 -> ބިލް ނަންބަރު 8 (ވިޒްޓާރސް 2) | C12: 8
A13: ='Iulaan BOQ'!A320 -> 0 | B13: ='Iulaan BOQ'!E299 -> ބިލް ނަންބަރު 9 (ފުރަތަމަ ފަންގިފިލާގެ ސިޓިންގ އަދި ވޯކްވޭ) | C13: 9
A14: ='Iulaan BOQ'!A327 -> 0 | B14: ='Iulaan BOQ'!E321 -> ބިލް ނަންބަރު 10 (ފުރަތަމަ ފަންގިފިލާގެ ބެލްކަނިތައް) | C14: 10
A15: ='Iulaan BOQ'!A344 -> 0 | B15: ='Iulaan BOQ'!E328 -> ބިލް ނަންބަރު 11 (ގްރައުންޑް ފުލޯ މެސްރޫމް) | C15: 11
A16: ='Iulaan BOQ'!A364 -> 0 | B16: ='Iulaan BOQ'!E345 -> ބިލް ނަންބަރު 12 (ގްރައުންޑް ޕޭންޓްރީ) | C16: 12
A17: ='Iulaan BOQ'!A410 -> 0 | B17: ='Iulaan BOQ'!E365 -> ބިލް ނަންބަރު 13 (ގްރައުންޑް އިންވެސްޓިގޭޝަން އޮފީސް) | C17: 13
A18: ='Iulaan BOQ'!A445 -> 0 | B18: ='Iulaan BOQ'!E411 -> ބިލް ނަންބަރު 14 (އޮފީސް ބައި ގްރައުންޑް ފްލޯ) | C18: 14
A19: ='Iulaan BOQ'!A462 -> 0 | B19: ='Iulaan BOQ'!E446 -> ބިލް ނަންބަރު 15 (ސިޓިންގ ރޫމް ގްރައުންޑް ފްލޯ) | C19: 15
A20: ='Iulaan BOQ'!A481 -> 0 | B20: ='Iulaan BOQ'!E463 -> ބިލް ނަންބަރު 16 އެހެނިހެން މަސައްކަތްތައް ގްރައުންޑް ބޭރު) | C20: 16
A21: ='Iulaan BOQ'!A489 -> 0 | B21: ='Iulaan BOQ'!E482 -> ބިލް ނަންބަރު 17 (ވަށާފާރުގެ މަސައްކަތް) | C21: 17
A22: ='Iulaan BOQ'!A497 -> 0 | B22: ='Iulaan BOQ'!E490 -> ބިލް ނަންބަރު 18 (ޖަލުގޮޅީގެ މަސައްކަތް) | C22: 18
A23: ='Iulaan BOQ'!A518 -> 0 | B23: ='Iulaan BOQ'!E498 -> ބިލް ނަންބަރު 19 (ބަދިގެ އިމާރާތުގެ މަސައްކަތް) | C23: 19
A27: =SUM(A5:A26) -> 0 | B27: ޖުމްލަ
A28: =A27*0.06 -> 0 | B28: ޖީ.އެސް.ޓީ %6
A29: =SUM(A27:A28) -> 0 | B29: މުޅި ޖުމްލަ
B30: މުއްދަތު (ދުވަސް)

Sheet Iulaan BOQ
A1: =SUMMARY!A1 -> Project No: PC-171/2022/W-L053
A2: =SUMMARY!A2 -> Project Name: Renovation of Sh.Funadhoo Police Station
A3: =SUMMARY!#REF! -> #REF!
A4: އަންދާސީ ހިސާބު
A5: ޖުމްލަ | B5: ރޭޓް | C5: ޔުނިޓް | D5: އަދަދު | E5: މަސައްކަތުގެ ތަފްޞީލް | F5: #
E6: ބިލް ނަންބަރު 1 (ޕްރެލިމިނަރީސް) | F6: 1
E7: ސަމާލުކަން ދެއްވަންވީ ކަންތައްތައް | F7: #
E8: (1) ކުރެހުމުގައި ނުވަތަ ލިޔެކިޔުމުގައި ހިމެނިފައި ނެއްކަމުގައި ވިޔަސް ވަކި މަސައްކަތެއް ކުރަން ކޮންމެހެން ބޭނުންވާ ކަންތައްތައް ހިމަނަންވާނެއެވެ. އަދި މިކަހަލަ މަސައްކަތްތަށް ސައިޓް ދައްކާ ދުވަހު ފާހަގަކޮށްފައި ބެހެއްޓުން ވަރަށް މުހިންމުވާނެއެވެ .މިސާލު: ވަޑާންކުރާއިރު ލަކުޑި ގުޅުވަން ބޭނުން ކުރާ ޖޮއިނަރީ،ދޮރު ހަރުކުރުމުގައި ކޮންމެހެން ކުރަންޖެހިދާނެ ކުދި ކުދި މަސައްކަތް ނުވަތަ މަސައްކަތުގެ ސްކޯޕްގައި ހިމެނިފައި ނެއްނަމަވެސް އެކަމެއް ނުކޮށް މަސައްކަތް ފުރިހަމަ ނުވާނެ ކަމަށް ފެންނަ ކަންތައްތައް.
E9: (2) ބީއޯކިޔު ގައި ދެއްކިފައި ނެތް މަސައްކަތެއް ކުރެހުމުގައި ދައްކައިފައި އޮތްނަމަ ކުރެހުމުގައި ވާ ގޮތަށް މަސައްކަތް ކުރަންވާނެއެވެ.
E10: (3) ކުރެހުމުގައި ދައްކާފައިވާ މިނެއް %100ދިމާ ނުވުމަކީ ވެދާނެ ކަމެކެވެ. އެހެން ކަމުން ސިދާމިންތައް ސައިޓުގައި ޗެކްކޮށް ޔަގީންކުރުމަކީ ކޮންޓްރެކްޓަރުގެ ޒިންމާ އެކެވެ.
E11: (4) ކުރެހުމުގައި ސުވާލު އުފެދޭ ކަންތައްތަކެއް ވާނަމަ އެމަސައްކަތް ނުކޮށް ކޮންސަލްޓަންޓްގެ އެޕްރޫވަލް ހޯދަން ވާނެއެވެ.
E12: (5) މަސައްކަތައް ބޭނުންވާއެއްވެސް މެޓީރިއަލް އެއް ގަތުމުގެ ކުރިން ކޮންސަލްޓަންޓުގެ އެޕްރޫވަލް ހޯދަން ވާނެއެވެ. އެހެން ގޮތަކަށް ބަޔާންކޮށްފައި ނުވާހާ ހިނދަކު ބޭނުންކުރާ މެޓީރިއަލް ވާން ޖެހޭނީ އާ ތަކެއްޗަށެވެ.
E13: (6) އިމާރާތުގައި ބަދަލުކުރަންޖެހޭ ތަކެތި ބަދަލުކުރުމުގައި ބޭނުންކުރަންޖެހޭނީ މިހާރުވެސް އިމާރާތުގެ ބޭނުންކޮށްފައިހުރި ނުވަތަ އެއާއި އެއްފެންވަރެއްގެ ތަކެއްޗެވެ. ތަކެތި ބޭނުންކުރުމުގެ ކުރިން މި ސަރިވިސްގެ ފަރާތުން އެޕްރޫވްކުރަންވާނެއެވެ.
E14: (7) ކުލަ/ދަވާދު ލާންޖެހޭ ތަންތަނުގައި ކުލަ/ދަވާދު ލުމުގެ ކުރިން ކުލަ/ދަވާދު ފޮޅިފައި ހުންނަން ތަންތަން ރަނގަޅަށް ސާފުކޮށް ނަރު ބުރުސް އަޅަންވާނެއެވެ. . ކުލަލުމުގެ ކުރިން ޕުޓީއަޅަންޖެހޭ ތަންތަނަށް ޕުޓީއަޅާ އަޑިގުޑަންތަށް އެއްވަރު ކޮށް ގާނަން ޖެހޭނެއެވެ. ކުލަ ފޮޅިފައިވާ ތަންތާނގާ ވާ ކުލަތަށް ކަހާ ސޭންޑު ކުރަންވާނެ އެވެ. ކުލަލުމުގެ ކުރިން ފާރަށް ވައި ޖަހާ ސާފުކުރަން ވާނެ އެވެ. ލޮނު އަރާފައިވާ ހިސާބުތަށް ފެންލާ ސާފުކޮށް ހިއްކަން ޖެހޭނެއެވެ. ވޯޓާ ޕްރޫފް ކުރަން ވަކި ގޮތަކަށް ކުރެހުމުގައި ނުވަތަ ޓެކްނިކަލް ސްޕެކްގައި ބުނެފައި ވާ ގޮތަށް ގެންނަން ޖެހޭބަދަލް ފާރަށް ގެންނަން ޖެހޭނެއެވެ.
E15: (8) މަސައްކަތު ތާވަލެއް ކޮންޓްރެކްޓަރު ހުށައަޅާ އެޕްރޫވަލް ހޯދަންވާނެއެވެ.
E16: (9) މުށި ޖެހުމުގެ ކުރިން ސާފުކޮށް ސިމެންތިގަނޑު ޗިޕްކުރަން ވާނެއެވެ. މުށި ޖެހުމުގައި ބޭނުން ކުރަންވާނީ މުށި ޖެހުމަށް ޙާއްސަ ކުރެވިފައިވާ ސިމެންތި އެކެވެ.
E17: (10) އިމާރާތުގެ މަސައްކަތްތައް ކުރަންވާނީ ދީފައިވާ ޓެކްނިކަލް ސްޕެސިފިކޭޝަންއާއި އެއްގޮތަށެވެ. އަދި ސްޕެސިފިކޭޝަންގައި ނުހިމެނޭ ކަމެއް ދިމާވެއްޖެނަމަ އެކަމެއް ކުރުމުގެ ކުރިން ކޮންސަލްޓަންޓްގެ ހުއްދަ ހޯދަން ވާނެއެވެ.
A18: =B18*D18 -> 0 | C18: އައިޓަމް | D18: 1 | E18: މަސައްކަތްކުރަން ފެށުމުގެ ކުރިން ވާންޖެހޭ އެންމެހާ ތައްޔާރީތައް. މިސާލު:މަސައްކަތް ކުރަމުންދާއިރު ވަކި ސަރަހައްދެއް ކުނޑި ނާރާގޮތަށް ބަންދު ކުރަން ޖެހޭނަމަ އެސަރަހައްދެއް ބަންދު ކުރުން. | F18: 1.1
A19: =B19*D19 -> 0 | C19: އައިޓަމް | D19: 1 | E19: މަސައްކަތުގެ ބާވަތުން އުކާލަންޖެހޭ އެންމެހާ ކުނިތަކާއި، މަސައްކަތް ނިމުމުން ސާފުކުރުމަށްފަހު އުކާލަންޖެހޭ ތަކެތި ސައިޓުން ބޭރުކޮށް އުކާލުން. | F19: 1.2
A20: =B20*D20 -> 0 | C20: އައިޓަމް | D20: 1 | E20: އިމާރާތުގެ ކަރަންޓް ވަރިންގެ ސޮޕް ޑޯރިން ތައްޔާރުކޮށް އެޕްރޫވް ކުރުން، (އޭސީ ލޭއައުޓް، އިލެކްޓްރިކަލް ވައިރިން) | F20: 1.3
A21: =SUM(A18:A20) -> 0 | B21: ބިލް ނަންބަރު 1 ގެ ޖުމުލަ
E22: ބިލް ނަންބަރު 2 (ކޮންސްޓަބަލް ބެރެކްސް) | F22: 2
A23: =B23*D23 -> 0 | C23: އަދަދު | D23: 11 | E23: މިހާރު ހަރުކޮށްފައިވާ 13އޭ ސޮކެޓް ވައިރިންނާއެކު ބަދަލުކުރުން. | F23: 2.1.1
A24: =B24*D24 -> 0 | C24: އަދަދު | D24: 4 | E24: ސީލިން ރިސެސްޑް ލެޑްލައިޓް ހަރުކުރުން | F24: 2.1.2
A25: =B25*D25 -> 0 | C25: އަދަދު | D25: 8 | E25: ފަންކާ ޑިމަރުތައް ނަގައި ސޮކެޓް މަތިއެޅުން. | F25: 2.1.3
A26: =B26*D26 -> 0 | D26: 1 | E26: 4 ގޭނގް ސްވިޗް ބަދަލުކުރުން | F26: 2.1.4
A27: =B27*D27 -> 0 | C27: އައިޓަމް | D27: 1 | E27: (D 05) 900×2500މމ ބެލްކަނީ މައި ދޮރާއި، ދޮރުކަނި ނެގުމަށްފަހު އެލްމީނިއަމް ކްލެޑެޑް ދޮރަށް ބަދަލުކުރުން (ތަޅު، ހުޅުފަތް، ޑޯކްލޯޒަރ އަގުކުރުމުގައި ހިމެނުން) | F27: 2.1.5
A28: =B28*D28 -> 0 | C28: އަކަމީޓަރު | D28: 41.05 | E28: މިހާރު ހަރުކޮށްފައިވާ ސީލިންގ ފިލާތައް ނެގުމަށްފަހު 10މމ ގެ ޖިބްސަން ބޯޑް ޖަހާ ސީލިންގ ކުރުން (އަގުކުރުމުގައި ޕްޓީ ލުމާއި މެސްޓޭޕް، އިސްކުރު އަދިވެސް މަސައްކަތައް ހިނގާނެ ހުރިހާ ހަރަދެއް ހިމަނަންވާނެއެވެ.) | F28: 2.1.6
A29: =B29*D29 -> 0 | C29: އަދަދު | D29: 3 | E29: 2400× 1700 ކުޑަދޮރުގައި ކާޓައިން ހަރުކުރުން. (ރެއިލިންގއާއިއެކު) | F29: 2.1.7
A30: =B30*D30 -> 0 | C30: އަދަދު | D30: 1 | E30: 36,000 ބީ.ޓީ.ޔޫގެ މަލްޓި ސިސްޓަމް އިންވާޓަރ އޭސީ ހަރުކުރުން، ކަރަންޓް ސޮކެޓް އެޅުމާއި، ޑީބޯޑަށް ބަދަލެއްގެންނަން ޖެހޭނަމަ އަގުކުރުމުގައި އެ މަސައްކަތް ހިމަނަންވާނެއެވެ. | F30: 2.1.8
A31: =B31*D31 -> 0 | C31: އަދަދު | D31: 2 | E31: 18,000 ބީޓީޔޫ ގެ މަލްޓި އައިޑީ ޔޫ ކެސެޓް އޭސީ އިންވާޓަރ ހަރުކުރުން | F31: 2.1.9
A32: =B32*D32 -> 0 | C32: އަދަދު | D32: 1 | E32: 900×(D 02) 2500މމ ބެރެކްސްއަށް ވަންނަ މައި ދޮރާއި ދޮރުފަތް ބަދަލުކުރުމާއި އަދި ދަވާދުލުން. (ތަޅު،ޑޯކްލޯޒަރ، ހުޅުފަތްތައް) | F32: 2.1.10
A33: =B33*D33 -> 0 | C33: އަކަމީޓަރު | D33: 41.05 | E33: 600×600މމ ފޯސެލިން މުށި ޖެހުން، އަގުކުރުމުގައި މިހާރު ހުރިމުށިތައް ނެގުމަށްފަހު، ތަޅުން އެއްވަރުކުރުމާއި، ކެމިކަލް އަދި ޓައިލް ޖެހުމަށް ބޭނުންކުރާ ހުރިހާ ކަމަކަށް އަގުކުރަން ވާނެއެވެ. އަދި ވަށާ ބޯޑަރު ހިމަނަންވާނެއެވެ. | F33: 2.1.11
E34: ކޮންސްޓަބަލް ބެރެކްސް ފާހާނާ | F34: 2.2
A35: =B35*D35 -> 0 | C35: އަކަމީޓަރު | D35: 69.07 | E35: ފާހާނާގެ ތަޅުމާއި ފާރުގައި ޖަހާފައިވާ މުށިތައް ނެގުން | F35: 2.2.1
A36: =B36*D36 -> 0 | C36: އަކަމީޓަރު | D36: 16.23 | E36: ފާހާނާގެ ތަޅުން ވޯޓަރ ޕްރޫފް ކުރުން، އަދި ފާހާނާގެ ފާރު 300 މމ އުސްމިނަށް ވޯޓަރ ޕްރޫފްކުރުން | F36: 2.2.2
A37: =B37*D37 -> 0 | C37: އަކަމީޓަރު | D37: 9.75 | E37: 300×300މމ މުށި ތަޅުމުގައި ޖެހުން، | F37: 2.2.3
A38: =B38*D38 -> 0 | C38: އަކަމީޓަރު | D38: 59.32 | E38: 300×600މމ މުށި ފާރުގައި ޖެހުން | F38: 2.2.4
A39: =B39*D39 -> 0 | C39: އަދަދު | D39: 2 | E39: މިހާރު ހުރި ދޮރާއި ދޮރުފަތް ނެގުމަށްފަހު، 700× 2100 (D 04) މމ ގެ ފައިބަރ ދޮރުހަރުކުރުން، (ތަޅު، ހުޅުފަތް، ތަންޑް) | F39: 2.2.5
A40: =B40*D40 -> 0 | C40: އަދަދު | D40: 1 | E40: ފާހާނާއަށް ވަންނަ މައި ދޮރާއި ދޮރު ފަތް ނެގުމަށްފަހު، އެލްމީނިއަމް ކްލެޑެޑް(D05) 900×2500މމ ދޮރާއި ދޮރުކަނި ބަދަލުކުރުން، (ތަޅު، ހުޅުފަތް، ތަންޑް) | F40: 2.2.6
...
