BEGIN:VCALENDAR
PRODID:-//Google Inc//Google Calendar 70.9054//EN
VERSION:2.0
CALSCALE:GREGORIAN
METHOD:CANCEL
BEGIN:VEVENT
DTSTART:20260428T160000Z
DTEND:20260428T170000Z
DTSTAMP:20260401T180528Z
ORGANIZER;CN=Google Cloud Advanced Computing Community Calendar:mailto:c_e3
 0cab13dea1c89fb64938df4144652d1ea509a7e7fa32193ee5f8de3c0ca09b@group.calend
 ar.google.com
UID:2dh32uk5bu7dqhdvgpquj9lt3l@google.com
ATTENDEE;CUTYPE=INDIVIDUAL;ROLE=REQ-PARTICIPANT;PARTSTAT=DECLINED;CN=Mary G
 arza;X-NUM-GUESTS=0:mailto:maryg@sojustsolutions.com
X-GOOGLE-CONFERENCE:https://meet.google.com/qho-qwsk-qce
CREATED:20260401T175207Z
DESCRIPTION:<strong>This is a public community event that is open to Google
  customers\, partners\, and staff!</strong><br><br><strong>Google Cloud Adv
 anced Computing Community Session<br><br>Topic:</strong> Google Cloud Next 
 '26 Decoded: The Advanced Computing Perspective<br><br><strong>Moderator: <
 /strong>Megan Gawlik\, Outbound Product Manager\, Google Cloud<br><strong>P
 anelist(s):</strong> Will Grannis\, VP and CTO\, Google Cloud<strong><br></
 strong><br><strong>Abstract and Website: </strong><a href="https://sites.go
 ogle.com/view/advancedcomputingcommunity/google-cloud-next-26-decoded">http
 s://sites.google.com/view/advancedcomputingcommunity/google-cloud-next-26-d
 ecoded</a><br><br>+-+-+-+-+-+-+-+-<br><br><strong>About the Google Cloud Ad
 vanced Computing Community</strong><br><br>Artificial Intelligence and Clou
 d Computing are impacting and transforming HPC in profound ways\, with quan
 tum computing poised to be an additional disruptor. It is more challenging 
 than ever for practitioners to stay apprised of the technologies and trends
  shaping the future of HPC.<br><br>To advance and accelerate global underst
 anding and expertise in leveraging cloud-based technologies to solve our mo
 st pressing problems across scientific and technical computing\, we are cre
 ating the Google Cloud Advanced Computing Community.<br><br>This community 
 of practice will bring together thought leaders and experts from Google\, i
 ts partners\, and HPC\, AI\, and quantum computing organizations around the
  world for engaging presentations and panels on innovative technologies and
  their applications. The Community will alsoleverage Google's uniquely powe
 rful\, comprehensive\, and cloud-native tools to create the world's most in
 teractive\, dynamic\, and engaging advanced computing community.<br><br>Lea
 rn about the community\, how to attend future online sessions or in-person 
 meetups\, find session recordings\, and more at <a href="http://advancedcom
 puting.googlecloudcommunity.com/" target="_blank">http://advancedcomputing.
 googlecloudcommunity.com/</a>!<br><br>You're invited to this event because 
 you're a member of the Google Cloud Advanced Computing Community group. <st
 rong>Unsubscribe</strong> from the Google Cloud Advanced Computing Communit
 y group by emailing <a href="mailto:gcacc@google.com" target="_blank">gcacc
 @google.com</a> with the subject "Unsubscribe".<br><br>You're invited to th
 is event because you're a member of a Google Cloud internal community that'
 s invited\, such as cloud-hpc@\, <a href="mailto:ai-infrastructure-communit
 y@google.com" target="_blank">ai-infrastructure-community@google.com</a>\, 
 or <a href="mailto:cloud-community-quantum@google.com" target="_blank">clou
 d-community-quantum@google.com</a>.\n\n-::~:~::~:~:~:~:~:~:~:~:~:~:~:~:~:~:
 ~:~:~:~:~:~:~:~:~:~:~:~:~:~:~:~:~:~:~:~:~:~::~:~::-\nJoin with Google Meet:
  https://meet.google.com/qho-qwsk-qce\nOr dial: (US) +1 253-289-7004 PIN: 3
 5787256847#\nMore phone numbers: https://tel.meet/qho-qwsk-qce?pin=14162375
 96487&hs=7\n\nLearn more about Meet at: https://support.google.com/a/users/
 answer/9282720\n\nPlease do not edit this section.\n-::~:~::~:~:~:~:~:~:~:~
 :~:~:~:~:~:~:~:~:~:~:~:~:~:~:~:~:~:~:~:~:~:~:~:~:~:~:~:~::~:~::-
LAST-MODIFIED:20260401T180515Z
LOCATION:
SEQUENCE:0
STATUS:CONFIRMED
SUMMARY:[Google Cloud Advanced Computing Community]  Google Cloud Next '26 
 Decoded: The Advanced Computing Perspective
TRANSP:OPAQUE
END:VEVENT
END:VCALENDAR
