Workbook
Name Költség_típusa: '[1]Háttér adattartalom'!$B$1:$B$5

Sheet Költségterv
A1: A PROJEKT TERVEZETT KÖLTSÉGVETÉSE
A2: Kérelmező neve:
A3: Kérelmező székhelye:
A4: Projekt címe:
A5: Tervezett tevékenység időtartama: | D5: nap/hó/év - nap/hó/év | L5: Projekt száma: | N5: Pxxx
A7: Sorszám | B7: Időszak év/hó/nap | C7: Vonatkozó tevékenység megnevezése | D7: Tétel megnevezése | E7: Költség | H7: Egységár | J7: Egység | L7: Bruttó összköltség | N7: Egyéb bruttó forrás | P7: Igényelt bruttó támogatás a projektidőszakra összesen
E8: részletezése | F8: kategóriája | G8: típusa | H8: HUF | I8: Deviza (megnevezése szükséges) | J8: neve | K8: mennyisége | L8: HUF | M8: Deviza (megnevezése szükséges) | N8: HUF | O8: Deviza (megnevezése szükséges) | P8: HUF | Q8: Deviza (megnevezése szükséges)
A9: 1 - minta és törlendő | B9: 2024.09.01.-2025.06.30. | C9: Képzés hátrányos helyzetű csoportok számára | D9: Képző díja | E9: 200.000 "deviza"/képző/hó 3 fő/hó 10 hó/év | F9: Dologi kiadások | G9: Szakmai megvalósítás | H9: =I9*$N$30 -> 40000000 | I9: 200000 | J9: fő/hó | K9: =3*10 -> 30 | L9: =M9*$N$30 -> 1200000000 | M9: =I9*K9 -> 6000000 | N9: =O9*$N$30 -> 200000000 | O9: 1000000 | P9: =Q9*$N$30 -> 1000000000 | Q9: =+M9-O9 -> 5000000
A10: 2- minta és törlendő | B10: 2025.01.01.-2025.06.30. | C10: Projekt asszisztens, bruttó bér | D10: John Black bére | E10: 400.000 "deviza" bruttó bér/fő/hó 1 fő/hó 16 hó/projekt | F10: Személyi juttatások | G10: Projektmenedzsment | H10: =I10*$N$30 -> 80000000 | I10: 400000 | J10: fő/hó | K10: 16 | L10: =M10*$N$30 -> 1280000000 | M10: =I10*K10 -> 6400000 | N10: =O10*$N$30 -> 0 | O10: 0 | P10: =Q10*$N$30 -> 1280000000 | Q10: =+M10-O10 -> 6400000
A11: 3 - minta és törlendő | B11: 2025.01.01.-2025.06.30. | C11: Projekt asszisztens, bruttó bér járuléka | D11: John Black járulék | E11: 52.000 "deviza"/fő/hó 1 fő/hó 16 hó/projekt | F11: Munkaadókat terhelő járulékok és szociális hozzájárulási adó | G11: Projektmenedzsment | H11: =I11*$N$30 -> 10400000 | I11: 52000 | J11: fő/hó | K11: 16 | L11: =M11*$N$30 -> 166400000 | M11: =I11*K11 -> 832000 | N11: =O11*$N$30 -> 0 | O11: 0 | P11: =Q11*$N$30 -> 166400000 | Q11: =+M11-O11 -> 832000
H12: =I12*$N$30 -> 0 | L12: =M12*$N$30 -> 0 | M12: =I12*K12 -> 0 | N12: =O12*$N$30 -> 0 | O12: 0 | P12: =Q12*$N$30 -> 0 | Q12: =+M12-O12 -> 0
H13: =I13*$N$30 -> 0 | L13: =M13*$N$30 -> 0 | M13: =I13*K13 -> 0 | N13: =O13*$N$30 -> 0 | O13: 0 | P13: =Q13*$N$30 -> 0 | Q13: =+M13-O13 -> 0
H14: =I14*$N$30 -> 0 | L14: =M14*$N$30 -> 0 | M14: =I14*K14 -> 0 | N14: =O14*$N$30 -> 0 | O14: 0 | P14: =Q14*$N$30 -> 0 | Q14: =+M14-O14 -> 0
H15: =I15*$N$30 -> 0 | L15: =M15*$N$30 -> 0 | M15: =I15*K15 -> 0 | N15: =O15*$N$30 -> 0 | O15: 0 | P15: =Q15*$N$30 -> 0 | Q15: =+M15-O15 -> 0
H16: =I16*$N$30 -> 0 | L16: =M16*$N$30 -> 0 | M16: =I16*K16 -> 0 | N16: =O16*$N$30 -> 0 | O16: 0 | P16: =Q16*$N$30 -> 0 | Q16: =+M16-O16 -> 0
H17: =I17*$N$30 -> 0 | L17: =M17*$N$30 -> 0 | M17: =I17*K17 -> 0 | N17: =O17*$N$30 -> 0 | O17: 0 | P17: =Q17*$N$30 -> 0 | Q17: =+M17-O17 -> 0
H18: =I18*$N$30 -> 0 | L18: =M18*$N$30 -> 0 | M18: =I18*K18 -> 0 | N18: =O18*$N$30 -> 0 | O18: 0 | P18: =Q18*$N$30 -> 0 | Q18: =+M18-O18 -> 0
H19: =I19*$N$30 -> 0 | L19: =M19*$N$30 -> 0 | M19: =I19*K19 -> 0 | N19: =O19*$N$30 -> 0 | O19: 0 | P19: =Q19*$N$30 -> 0 | Q19: =+M19-O19 -> 0
H20: =I20*$N$30 -> 0 | L20: =M20*$N$30 -> 0 | M20: =I20*K20 -> 0 | N20: =O20*$N$30 -> 0 | O20: 0 | P20: =Q20*$N$30 -> 0 | Q20: =+M20-O20 -> 0
H21: =I21*$N$30 -> 0 | L21: =M21*$N$30 -> 0 | M21: =I21*K21 -> 0 | N21: =O21*$N$30 -> 0 | O21: 0 | P21: =Q21*$N$30 -> 0 | Q21: =+M21-O21 -> 0
H22: =I22*$N$30 -> 0 | L22: =M22*$N$30 -> 0 | M22: =I22*K22 -> 0 | N22: =O22*$N$30 -> 0 | O22: 0 | P22: =Q22*$N$30 -> 0 | Q22: =+M22-O22 -> 0
H23: =I23*$N$30 -> 0 | L23: =M23*$N$30 -> 0 | M23: =I23*K23 -> 0 | N23: =O23*$N$30 -> 0 | O23: 0 | P23: =Q23*$N$30 -> 0 | Q23: =+M23-O23 -> 0
... H27: =I27*$N$30 -> 0 | L27: =M27*$N$30 -> 0 | M27: =I27*K27 -> 0 | N27: =O27*$N$30 -> 0 | O27: 0 | P27: =Q27*$N$30 -> 0 | Q27: =+M27-O27 -> 0
A28: MINDÖSSZESEN | L28: =SUM(L9:L27) -> 2646400000 | M28: =SUM(M9:M27) -> 13232000 | N28: =SUM(N9:N27) -> 200000000 | O28: =SUM(O9:O27) -> 1000000 | P28: =SUM(P9:P27) -> 2446400000 | Q28: =SUM(Q9:Q27) -> 12232000
H30: Átváltás dátuma: | J30: 1 | K30: (deviza megnevezése) | M30: = | N30: 200 | O30: HUF
A33: Melléklet:
A34: Összesítő - aláírva, lepecsételve
A37: Kelt: | H37: PH.
P38: cégszerű aláírás

Sheet Költségterv-útmutató
B1: Tisztelt Kérelmezőnk!
B2: Kérjük, vegye figyelembe, hogy a táblázatban a színes cellák képletezve vannak, azok automatikusan töltődnek a fehér cellák kitöltése után. Kérjük, hogy ezt a sablon fájlt mentse el másként, és abban kezdjen el dolgozni, kitörölve a minta sorokat mind a Költségterv, mind a Számlaösszesítő fülből. A minta sorok adatai automatikusan átemelődnek az Összesítő fülbe, ezért előzetesen győződjön meg róla, hogy a minta sorok törlését követően az Összesítő fül adatmentes. Költségterve, illetve Számlaösszesítője elkészültekor kérjük, nyomtassa ki az Összesítő munkalapot és írja alá, pecsételje le. Egyebekben az alábbiak figyelembevételével dolgozza ki a költségtervét.
B3: KÖLTSÉGTERV - útmutató
B4: Kérelmező neve | C4: A pályázatot benyújtó és a tervezett támogatást befogadó szervezet (a továbbiakban: ”a Szervezet”) teljes és pontos nevét írja ide, amint az a támogatási kérelméhez mellékelt hivatalos jogi dokumentumokban szerepel.
B5: Kérelmező székhelye | C5: A Szervezet üzletvezetése elsődleges helyszínének a pontos és teljes címét írja ide, amely a pályázathoz csatolt hivatalos jogi dokumentumokban ekként vagy székhelyként van feltüntetve.
B6: Projekt címe | C6: A projektjavaslatának ugyanazt a megnevezését, címét írja ide, ami a pályázatban szerepel.
B7: Tervezett tevékenység időtartama | C7: A projekt tervezett kezdési és befejezési időpontját írja ide.
B8: Sorszám | C8: Minden költségvetési sornak adjon sorszámot. A bérszámfejtett munkabér és megbízási díj esetében kérjük, hogy a bruttó bért és a vonatkozó járulékot (szociális hozzájárulási adó) külön sorban tüntesse fel.
B9: Időszak | C9: Az adott költségvetési sorban feltüntetett kiadás tervezett felmerülésének dátuma, év és hónap feltüntetésével (tól-ig). Kérjük, hogy a Költségtervet e szerint az oszlop szerint időrendileg növekvő sorrendbe készítse el.
B10: Vonatkozó tevékenység megnevezése | C10: A tevékenység pontos megnevezése
B11: Tétel megnevezése | C11: Annak részletes magyarázata, hogy pontosan mit kívánnak az adott költségvetési soron elszámolni. Pl. tréner megbízási díja.
B12: Költség részletezése | C12: Adja meg az összköltség pontos számítási módját. Pl. így: 200.000 "deviza"/képző/hó 3 fő/hó 10 hó/év
B13: Költség kategóriája | C13: A legördülő menüből válassza ki a megfelelő kategóriát. Ezek részletezését és magyarázatát alább, a 29-59. sorban találja.
B14: Költség típusa | C14: A legördülő menüből válassza ki a megfelelő kategóriát. Ezek részletezését és magyarázatát alább, az 61-66. sorban találja.
B15: Egységár / HUF | C15: A Költségterv H oszlopa képletezett, az automatikusan töltődik ki.
... B26: Egyéb információ | C26: Kérjük, hogy az "Összesítő" munkalapot szíveskedjék a költségtervvel együtt kinyomtatni és aláírni. Itt Önnek csak a dátumot kell beírnia, az adatok itt automatikusan az Ön által beírtak szerint frissülnek. A Költségterv és az Összesítő együttesen nyújtandók be.
B29: Költség kategóriájának magyarázata | D29: Egyéb feltételek | E29: Igazoló dokumentumok
B30: Minden esetben szükséges a költség felmerülését alátámasztó, záradékolt számla vagy bizonylat és a pénzügyi teljesítést (kifizetést) igazoló bizonylat. Az alábbiakban az egyes kiadásokhoz további igazoló dokumentumokat gyűjtöttük össze. A bruttó 200.000,- Ft értékhatárt meghaladó értékű árubeszerzés vagy szolgáltatás megrendelés kizárólag írásban történt szerződés, elküldött és visszaigazolt megrendelés alapján vehető igénybe.
B31: Személyi juttatások | C31: Munkavállalóknak fizetett bruttó bérek (munkaviszony) | E31: Kifizetést megalapozó egyéni, havi bérjegyzék (kifizetési jegyzék) VAGY bérösszesítő, munkaszerződés (szerződésmódosítás)
C32: Egyszerűsített Foglalkoztatás keretében kifizetett munkabér | E32: Egyszerűsített foglalkoztatási szerződés, jelenléti ív, bérszámfejtést igazoló dokumentum
C33: Megbízási szerződés alapján nem munkavállalók részére fizetendő bruttó megbízási díjak (magánszeméllyel kötött megbízási/egyéb szerződés) | E33: Bérjegyzék (kifizetési jegyzék) vagy számla, megbízási szerződés, a számfejtés bizonylata
C34: Béren kívüli juttatások költségei (munkaügyi szabályzat alapján a munkavállaló részére fizetett béren kívüli juttatás, mint pl.: bérlet térítés, cafetéria, stb.) | D34: A béren kívüli juttatások (cafetéria, a munkavállaló munkába járásának költségei (bérlet, személygépkocsi használat), melyet arányosan számol el a kedvezményezett a projektben eltöltött idejének megfelelően. | E34: Kifizetést megalapozó egyéni, havi bérjegyzék (kifizetési jegyzék) VAGY bérösszesítő, munkaszerződés (szerződésmódosítás)
C35: Személyi jellegű egyéb kifizetések: napidíjak, reprezentációs költségek, stb. | D35: A kifizetés pontos megnevezését meg kell adni | E35: Napidíj számítását igazoló kiküldetési rendelvény, bérszámfejtést igazoló bérjegyzék VAGY bérösszesítő, számla
B36: Munkaadókat terhelő járulékok és szociális hozzájárulási adó | C36: Személyi jellegű kifizetések után fizetendő járulékok, hozzájárulások | D36: Amennyiben ilyen jellegű költség a célországban nincsen, kérjük, a személyi jellegű juttatás soroknál a Tétel megnevezése oszlopba magyarázatként írja ezt be | E36: A munkáltatót terhelő adókat igazoló bérszámfejtési összesítő, valamint az adók megfizetését igazoló bankszámlakivonatok
B37: Dologi kiadások | C37: Egyéb anyagok és készletek beszerzése | D37: Ezen a soron alapvetően készleteket kell tervezni, mint pl.: irodaszer, számítástechnikai fogyóeszközök (egér, billentyűzet, pendrive stb.), gyógyszer, kötszer, kutyás mentősöknek kutya-élelem, üzemanyag (saját fenntartású gépjárműbe), nem járművekbe beszerzett üzemanyag (pl.: fűnyíró, aggregátor), stb. | E37: A költség felmerülését alátámasztó, számla, valamint a gépjármű forgalmi engedély, bérleti (üzemeltetési) szerződés másolata. A szervezet tulajdonában vagy bérleményében (üzemeltetésében) lévő gépjármű üzemanyagköltségéről szóló számla mellé a menetlevelet (nyomtatványboltban kapható formanyomtatvány) is be kell nyújtani, mely az üzemanyag felhasználását támasztja alá. Csak azoknak a járműveknek a költségei számolhatóak el, melyek a szervezet tulajdonában vagy bérleményében (üzemeltetésében) vannak, vagy ingyenes átadásra kerültek, ezért minden esetben csatolni kell a forgalmi engedély vagy a bérleti szerződés, megállapodás másolatát. A támogatás terhére az üzemanyag számla összege számolható el az útnyilvántartás alapján igazolt használatra eső üzemanyag fogyasztás mértékében.
C38: Közüzemi díjak | D38: közüzemi díjakat (áram, víz, fűtés stb.), eseti jelleggel vásárolt energiaforrások (szén, fűtőolaj, tűzifa) | E38: A költség felmerülését alátámasztó számla, a pénzügyi teljesítést (kifizetést) igazoló bizonylat, számviteli bizonylatok, illetve a pénzügyi teljesítést (kifizetést) igazoló bankszámlakivonat. A költséget tartalmazó számlának a kedvezményezett szervezet nevére, székhely címére és a kedvezeményezett adószámára kell szólnia, továbbá a számlán szereplő fogyasztási helynek meg kell egyeznie a kedvezményezett székhelyével, telephelyével, fióktelepével.
C39: (A szervezet tulajdonában lévő vagy bérelt) Ingatlan, jármű, egyéb eszközök üzemeltetés költségei | D39: Ezen a költségtételen lehet elszámolni a szervezet tulajdonában lévő vagy általa bérelt ingatlanhoz kapcsolódó: közös költséget, ingatlan karbantartási, javítási költségeit, ami NEM minősül felújításnak; ingatlan bérleti díjat (terembérlet, irodabérlet, raktárbérlet stb.) | E39: A gépjármű forgalmi engedély, bérleti (üzemeltetési) szerződés másolata. (A szervezet a jármű forgalmi engedélyében tulajdonosként, illetve üzembentartóként szerepel.) Csak azoknak a járműveknek a költségei számolhatóak el, melyek a szervezet tulajdonában vagy bérleményében (üzemeltetésében) vannak, vagy ingyenes átadásra kerültek, ezért minden esetben csatolni kell a forgalmi engedély vagy a bérleti szerződés, megállapodás másolatát. Bérelt gépjármű esetén a záradékolt számla, a pénzügyi teljesítést (kifizetést) igazoló bizonylat és a bérleti szerződés másolatát kell benyújtani. Gépjármű bérleti díj csak abban az esetben támogatott költség, ha a tartós bérlet célja nem a gépjármű tulajdonba kerülése. Továbbszámlázott, közvetített szolgáltatás esetén a számla és a pénzügyi teljesítést (kifizetést) igazoló bizonylat mellett, a továbbszámlázásról szóló megállapodás másolatát is be kell nyújtani. Magánszemély tulajdonában lévő gépjármű parkolási, úthasználati díjat tartalmazó számla nem támogatható költség. Kiküldetési rendelvényhez kapcsolódó parkolási és úthasználati díj a szervezet nevére szóló záradékolt számla másolata ellenében elszámolható.
D40: Ezen a költségtételen lehet elszámolni a szervezet tulajdonában vagy bérleményében (üzemeltetésében) lévő gépjárművekhez kapcsolódó beszerzéseket, igénybevett szolgáltatásokat: bérleti díj, javítás, karbantartás költségei pl.: szervízdíj, autómosás), parkolási, úthasználati díj (parkolási díj, tárolási díj, autópálya matrica)
D41: Ezen a költségtételen lehet elszámolni a szervezet tulajdonában lévő vagy bérelt eszközökhöz (pl.: projektor, asztal, aggregátor stb.) kapcsolódó költségeket: bérleti díj, kölcsönzési díj, fenntartási, javítási költségek (szolgáltatás anyagköltséggel együtt) | E41: A költség felmerülését alátámasztó számla és a pénzügyi teljesítést (kifizetést) igazoló bizonylat, eseti jelleggel szerződés másolata. Csak azoknak az eszközöknek az üzemeltetési költségei számolhatóak el, melyek a szervezet tulajdonában vagy birtokában vannak. Továbbszámlázott, közvetített szolgáltatás esetén a záradékolt számla és a pénzügyi teljesítést (kifizetést) igazoló bizonylat mellett, a továbbszámlázásról szóló megállapodás másolatát is be kell nyújtani.
C42: Műszaki ellenőr és további építési szakértők díja | D42: Kizárólag amennyiben nem a beruházás elengedhetetlen része, ill. az üzembe helyezés feltétele. Máskülönben a felhalmozási kiadások közt jelenik meg. | E42: Beszerzés dokumentációja, visszaigazolt megrendelők, szerződések, teljesítésigazolások, számlák és azok pénzügyi teljesítését (kifizetését) igazoló bizonylatok
C43: Épület karbantartás költségei | E43: Beszerzés dokumentációja, visszaigazolt megrendelők, szerződések, teljesítésigazolások, számlák és azok pénzügyi teljesítését (kifizetését) igazoló bizonylatok
C44: Oktatással, képzéssel és továbbképzéssel kapcsolatos költségek | E44: Beszerzés dokumentációja, visszaigazolt megrendelők, szerződések, teljesítésigazolások, számlák és azok pénzügyi teljesítését (kifizetését) igazoló bizonylatok
C45: Utazással, kiküldetéssel kapcsolatos költségek (napidíj nélkül) | D45: Formanyomtatványon elszámolható kiküldetések költségei | E45: Kiküldetési rendelvény és a felmerülő költségek bizonylatainak másolata
C46: Jogi szolgáltatásokkal kapcsolatos költségek | E46: Beszerzés dokumentációja, visszaigazolt megrendelők, szerződések, teljesítésigazolások, számlák és azok pénzügyi teljesítését (kifizetését) igazoló bizonylatok
C47: Nyilvánosság biztosításának a költségei | D47: Ezen a költségtételen lehet elszámolni a hirdetési, reklámköltségeket (médiahirdetések), PR, marketing kiadványok költségeit (szervezet tevékenységét bemutató kiadványok, szóróanyagok, plakátok), arculati elemek („cégtábla”, levélpapír, mappa, névjegykártya, zászló, molinó, tagsági kártya), PR, marketingszolgáltatások (kiállítás költségei, arculat tervezés, piackutatás, szakértői szolgáltatások, tanácsadás költségei), egyéb a PR-hoz vagy a marketinghez kapcsolódó beszerzések, szolgáltatások költségeit. NEM tartoznak ide a reprezentációs céllal készített anyagok, pl. logózott tollak. | E47: Beszerzési dokumentáció, a költség felmerülését alátámasztó megjelenések, teljesítésigazolások, számla (előleg számla) és a pénzügyi teljesítést (kifizetést) igazoló bizonylat
C48: Könyvvizsgálat díja | E48: Beszerzés dokumentációja, visszaigazolt megrendelők, szerződések, teljesítésigazolások, számlák és azok pénzügyi teljesítését (kifizetését) igazoló bizonylatok
C49: Egyéb igénybe vett szolgáltatások költségei (minden más, a fentiekben nem említett szolgáltatások becsült költsége) | D49: Pl.: orvosi ellátás díja | E49: A költség felmerülését alátámasztó dokumentum (feljegyzés, a teljesítést igazoló bizonylat) számla és a pénzügyi teljesítést (kifizetést) igazoló bizonylat
C50: Biztosítási díjak | D50: biztosítási díj ( ingatlan vagyonbiztosítása,kötelező felelősségbiztosítás, casco, gépjármű-utas balesetbiztosítása), | E50: Megkötött biztosítások kötvényei, a biztosításról szóló számla vagy egyéb pénzügyi bizonylat, és azok pénzügyi teljesítését alátámasztó dokumentumok
C51: Hatósági eljárási és igazgatási szolgáltatási díjak, illetékek | D51: Hatósági díjakat, illetékeket: hatósági díjak, eljárási illetékek. | E51: Számla, valamint a kifizetéseket alátámasztó bizonylatok
C52: Bankköltségek | E52: Bankszámla kivonatok Csak a szervezet által, a Támogató felé bejelentett és inkasszóval terhelt bankszámlaszám(ok)hoz tartozó bankköltség számolható el. Felhívjuk szíves figyelmüket, hogy a kedvezményezettnek valamennyi bankszámlaszámát be kell jelenteni a Támogató felé.
B53: Felhalmozási kiadások | C53: Szellemi termékek vásárlása | D53: Az immateriális javak azok a nem anyagi (kézzel nem fogható), a szervezet számára forgalomképes dolgok vagy jogok (eszközök), amelyek várhatóan tartósan (1 éven túl) szolgálják a szervezet tevékenységét. Például: honlap (készítés, fejlesztés) | E53: A beszerzés dokumentumai, szerződés/megrendelő, a teljesítést igazoló produktum (pl: honlap elérhetőségének bemutatása), számla és a pénzügyi teljesítést (kifizetést) igazoló bizonylat, az állományba vételi (aktiválási) jegyzőkönyv vagy nyilvántartási bizonylat
C54: Vagyoni értékű jogok megszerzése | D54: Szoftverek, csatlakozási díjak, szerzői jogok | E54: A beszerzés dokumentumai, szerződés/megrendelő, számla és a pénzügyi teljesítést (kifizetést) igazoló bizonylat, az állományba vételi (aktiválási) jegyzőkönyv vagy nyilvántartási bizonylat
C55: Ingatlanok beszerzése, létesítése, felújítása | D55: Tervekkel, dokumentációval, hatósági engedélyekkel, árajánlatokkal alá kell támasztani. (Szolgalmi jog vagy földterülettel kapcsolatos, más jellegű jogok vásárlása esetén az Immateriális javak (vagyoni értékű jogok) beszerzése kategóriát jelölje meg.) Ugyanebbe a sorba írja a saját megvalósításban végzett átalakítási, bővítési és/vagy felújítási beruházásokhoz felhasznált, bármilyen jellegű építési anyagok és készletek becsült költségét, a munkabérek és közterheit, valamint a műszaki ellenőröknek és más építési szakértőknek fizetendő bármilyen díjakat, pl. műszaki ellenőri feladatok beruházáson történő elvégzésének díja (ha az üzembe helyezés feltétele). (Saját megvalósításban végzett beruházás esetén be kell mutatni a számítási szabályzatot is.) | E55: A beszerzés dokumentációja, megrendelő/szerződés, átadás-átvételi jegyzőkönyv (földhivatali bejegyzés) számla és a pénzügyi teljesítést (kifizetést) igazoló bizonylat, építési napló (amennyiben kötelező vezetni), az állományba vételi (aktiválási) jegyzőkönyv vagy eszköz-nyilvántartási bizonylat
C56: Gépek, technológiai berendezések beszerzése | D56: A program megvalósításához közvetlenül kapcsolódó gépek, berendezések költségei
C57: Kisértékű (200.000 Ft alatti) tárgyi eszközök beszerzése | D57: Leltárba vett eszköz, amelyek könyv szerinti értéke nem éri el a 200.000 Ft-ot
B58: Egyéb ráfordítások | C58: Továbbadott támogatás | D58: Célcsoport részére továbbadott támogatás (pl. higiéniás csomagok menekültek részére) | E58: A tovább utalt vagy eszközökben átadott támogatások esetében a másodlagos kedvezményezettel megkötött Támogatási szerződés példánya. Pénzbeni támogatás esetén a másodlagos kedvezményezett elszámolásának és az elszámolás elfogadásának dokumentumainak másolata.
C59: Közösségen belüli, illetve harmadik országbeli beszerzés áfája | D59: A NAV felé a Áfa tv. Alapján megfizetett ÁFA | E59: Vonatkozó ÁFA bevallás és a pénzügyi teljesítést (kifizetést) igazoló bizonylat
B61: Költség típusának magyarázata | D61: Egyéb feltételek
B62: Előkészítés | C62: A projekt megvalósítás költségeinek és hatásainak feltárásához, pontos meghatározásához és a megvalósításhoz szükséges a projektek megfelelő előkészítése. | D62: Az előkészítés teljes elszámolható költsége nem haladhatja meg a projekt költségtervben meghatározott összköltségének 5%-át
B63: Szakmai megvalósítás | C63: A projekt céljainak megvalósításához kapcsolódó költségek
B64: Projektmenedzsment | C64: A megfelelő színvonalú projekt végrehajtáshoz elengedhetetlen a felkészült projekt menedzser, menedzsment, aki(k) a projekt végrehajtásához szükséges koordinációs, adminisztratív feladatokat ellátja(ák). A projektmenedzsment tevékenység ellátásához kapcsolódóan szükséges eszköz beszerzésére, bérleti díjak, utazási és kiküldetési költségek, napidíj, bérköltség, személyi jellegű kifizetések és ezek kapcsolódó járulékai elszámolására csak abban az esetben van lehetőség, amennyiben a projektmenedzsment tag a tevékenységet munkaviszony keretében látja el. Amennyiben a projektmenedzsment tevékenység ellátása vállalkozási vagy megbízási jogviszony keretében történik, kizárólag a vállalkozási/megbízási díj elszámolására van lehetőség. A bruttó bért és kapcsolódó járulékot két sorban szükséges megadni. | D64: A projektmenedzsment költségek együttesen nem haladhatják meg a teljes megvalósítás elszámolható költségének 10%-át
B65: A célcsoport számára biztosított támogatások | C65: A célcsoport foglalkoztatásával és/vagy képzésével összefüggő költségek, valamint a célcsoport számára biztosított egyéb szolgáltatások költségei kerülhetnek elszámolásra
B66: Egyéb, kiegészítő szolgáltatások | C66: Nyilvánosság, jogi tanácsadás, könyvvizsgálat | D66: Az egyéb, kiegészítő szolgáltatások aránya nem haladhatja meg a projekt elszámolható költségének 10%-át
B69: * Az igazoló dokumentumok között nevesített bizonylatok eredeti, záradékkal ellátott dokumentumai a kedvezményezettnél tárolandó, az elszámoláshoz ezeknek a záradékkal ellátott dokumentumoknak a hitelesített másolatait kell csatolni.
B70: * A záradék és a hitelesítés kötelező szövegtartalma: Az Általános Szerződési Feltételek a honlapunkon elérhető, a záradékolásról az 5.5.2. pontban talál pontos leírást

Sheet Számlaösszesítő
A4: SZÁMLAÖSSZESÍTŐ
A6: Kérelmező neve: | C6: =+IF(ISBLANK(Költségterv!D2),"",Költségterv!D2) | L6: Szerződés iktatószáma: | N6: PMI/…-…/2024
A7: Projekt címe: | C7: =+IF(ISBLANK(Költségterv!D4),"",Költségterv!D4) | L7: Projekt száma: | N7: Pxxx
A8: Megítélt támogatás összesen/HUF: | C8: =+Költségterv!$P$28 -> 2446400000
A9: Elszámolt támogatás összesen/HUF: | C9: =$Q$62 -> 490491200
A10: Még elszámolandó támogatás összesen/HUF: | C10: =C8-$Q$62 -> 1955908800
A11: Elszámolt időszak: | C11: nap/hó/év - nap/hó /év
A14: Sorszám | B14: Költség | D14: Termék/szolgáltatás (gazdasági esemény) megnevezése | E14: A termék értékesítője/a szolgáltatás nyújtójának (számviteli bizonylat kiállítójának) megnevezése | F14: A termék értékesítője/a szolgáltatás nyújtójának (számviteli bizonylat kiállítójának) adószáma | G14: Számviteli bizonylat típusa | H14: Számviteli bizonylat sorszáma (amely a számlát kétséget kizáróan azonosítja) | I14: Számviteli bizonylat kiállításának kelte | J14: Termék/ szolgáltatás teljesítésének ideje | K14: Pénzügyi teljesítés ideje | L14: Bankszámla vagy házi pénztári bizonylat sorszáma | M14: Bizonylat bruttó összege devizában | N14: Alkalmazott árfolyam | O14: Bizonylat bruttó összege forintban | P14: Támogatás terhére elszámolandó bruttó költség | R14: Egyéb forrás terhére elszámolandó bruttó költség
B15: kategóriája | C15: típusa | P15: Deviza | Q15: HUF | R15: Deviza | S15: HUF
A16: 1 | B16: Dologi kiadások | C16: Szakmai megvalósítás | D16: oktatás | E16: Drabóczy Fanni | F16: 12345678-2-42 | G16: számla | H16: DRF-2024-01 | I16: 45488 | J16: 45488 | K16: 45492 | L16: 123 | M16: 160000 | N16: 325.56 | O16: =M16*N16 -> 52089600 | P16: 160000 | Q16: =P16*N16 -> 52089600 | R16: 0 | S16: =R16*N16 -> 0
A17: 2 | B17: Személyi juttatások | C17: Projektmenedzsment | D17: John Black 20bruttó munkabér | E17: Munkáltató megnevezése | F17: 87654321-1-41 | G17: bérkifizetési összesítő | H17: JB202501 | I17: 45688 | J17: 45688 | K17: 45693 | L17: 456 | M17: 900000 | N17: 323.05 | O17: =M17*N17 -> 290745000 | P17: 900000 | Q17: =P17*N17 -> 290745000 | R17: 0 | S17: =R17*N17 -> 0
A18: 3 | B18: Munkaadókat terhelő járulékok és szociális hozzájárulási adó | C18: Projektmenedzsment | D18: John Black bruttó munkabér járuléka | E18: Munkáltató megnevezése | F18: 87654321-1-41 | G18: bérkifizetési összesítő | H18: JB202501 | I18: 45688 | J18: 45688 | K18: 45700 | L18: 789 | M18: 455000 | N18: 324.52 | O18: =M18*N18 -> 147656600 | P18: 455000 | Q18: =P18*N18 -> 147656600 | R18: 0 | S18: =R18*N18 -> 0
N19: 0 | O19: =M19*N19 -> 0 | P19: 0 | Q19: =P19*N19 -> 0 | R19: 0 | S19: =R19*N19 -> 0
N20: 0 | O20: =M20*N20 -> 0 | P20: 0 | Q20: =P20*N20 -> 0 | R20: 0 | S20: =R20*N20 -> 0
N21: 0 | O21: =M21*N21 -> 0 | P21: 0 | Q21: =P21*N21 -> 0 | R21: 0 | S21: =R21*N21 -> 0
N22: 0 | O22: =M22*N22 -> 0 | P22: 0 | Q22: =P22*N22 -> 0 | R22: 0 | S22: =R22*N22 -> 0
N23: 0 | O23: =M23*N23 -> 0 | P23: 0 | Q23: =P23*N23 -> 0 | R23: 0 | S23: =R23*N23 -> 0
N24: 0 | O24: =M24*N24 -> 0 | P24: 0 | Q24: =P24*N24 -> 0 | R24: 0 | S24: =R24*N24 -> 0
N25: 0 | O25: =M25*N25 -> 0 | P25: 0 | Q25: =P25*N25 -> 0 | R25: 0 | S25: =R25*N25 -> 0
N26: 0 | O26: =M26*N26 -> 0 | P26: 0 | Q26: =P26*N26 -> 0 | R26: 0 | S26: =R26*N26 -> 0
N27: 0 | O27: =M27*N27 -> 0 | P27: 0 | Q27: =P27*N27 -> 0 | R27: 0 | S27: =R27*N27 -> 0
N28: 0 | O28: =M28*N28 -> 0 | P28: 0 | Q28: =P28*N28 -> 0 | R28: 0 | S28: =R28*N28 -> 0
N29: 0 | O29: =M29*N29 -> 0 | P29: 0 | Q29: =P29*N29 -> 0 | R29: 0 | S29: =R29*N29 -> 0
N30: 0 | O30: =M30*N30 -> 0 | P30: 0 | Q30: =P30*N30 -> 0 | R30: 0 | S30: =R30*N30 -> 0
... N61: 0 | O61: =M61*N61 -> 0 | P61: 0 | Q61: =P61*N61 -> 0 | R61: 0 | S61: =R61*N61 -> 0
A62: Mindösszesen | M62: =SUM(M16:M61) -> 1515000 | O62: =SUM(O16:O61) -> 490491200 | P62: =SUM(P16:P61) -> 1515000 | Q62: =SUM(Q16:Q61) -> 490491200 | R62: =SUM(R16:R61) -> 0 | S62: =SUM(S16:S61) -> 0
A65: Melléklet:
A66: Összesítő - aláírva, lepecsételve | H66: PH
A68: Kelt: | K68: ………………………………..
K69: cégszerű aláírás

Sheet Számlaösszesítő-útmutató
A1: Tisztelt Kérelmezőnk!
A2: Kérjük, vegye figyelembe, hogy a táblázatban a színes cellák képletezve vannak, azok automatikusan töltődnek a fehér cellák kitöltése után.
A3: SZÁMLAÖSSZESÍTŐ - útmutató
A4: Kérelmező neve | B4: Ez a cella automatikusan töltődik a Költségtervbe beírt adatok alapján. Önnek ide nem kell beírnia adatot.
A5: Projekt címe | B5: Ez a cella automatikusan töltődik a Költségtervbe beírt adatok alapján. Önnek ide nem kell beírnia adatot.
A6: Szerződés iktatószáma | B6: A Támogatási szerződésben szereplő PMI kezdetű iktatószámot írja ide.
A7: Projekt száma | B7: A Támogatási szerződésben szereplő projektszámot írja ide.
A8: Megítélt támogatás összege / HUF | B8: Ez a cella automatikusan töltődik a Költségtervbe beírt adatok alapján. Önnek ide nem kell beírnia adatot.
A9: Elszámolt támogatás összesen / HUF | B9: Ez a cella automatikusan töltődik a beírt adatok alapján. Önnek ide nem kell beírnia adatot.
A10: Még elszámolandó támogatás összesen / HUF | B10: Ez a cella automatikusan töltődik a beírt adatok alapján. Önnek ide nem kell beírnia adatot.
A11: Elszámolt időszak | B11: Az adott (rész-)elszámolás időszakát írja ide nap/hó/év formátumban. Ha több részletben számol el, akkor a megkezdett Számlaösszesítőt folytatva töltse ki a táblázatot, frissítve az elszámolni kívánt időszak végét.
A12: MINTA sorok | B12: A kitöltés megkönnyítése érdekében beírtunk mintasorokat a sablonba, ha ezeket nem törölte volna, úgy kérem, mindenképpen törölje, ugyanis ezek a beírt összegek az Összesítő munkalapon is megjelennek.
A13: Sorszám | B13: Kérjük, minden számviteli bizonylaton is tüntesse fel az adott sorszámot a könnyebb beazonosíthatóság érdekében.
A14: Költség kategóriája | B14: A legördülő menüből válassza ki a megfelelő kategóriát. Ezek részletezését és magyarázatát a Költségterv-útmutató 29-59. sorában találja.
A15: Költség típusa | B15: A legördülő menüből válassza ki a megfelelő kategóriát. Ezek részletezését és magyarázatát a Költségterv-útmutató 61-66. sorában találja.
... A32: Mindösszesen | B32: Az oszlop végösszege az elszámolni kívánt teljes összeg, ami a teljes felhasználás esetén a támogatási összeggel egyezik meg. Amennyiben a támogatási összegnél kevesebb került felhasználásra, a különbözetet vissza kell utalni a Támogató számára!
A33: A Támogató által biztosított költségvetési támogatási összeg felhasználásáról – a Számlaösszesítőn és Összesítőn túl – a pénzügyi elszámoláshoz csatolni kell a gazdasági esemény elszámolását alátámasztó, az eredetivel mindenben megegyező számviteli bizonylatok (számla, szerződés, megállapodás, teljesítés igazolás, kimutatás, hitelintézeti bizonylat, jogszabályi rendelkezés, egyéb ilyennek minősíthető irat, pénzügyi teljesítést igazoló bankkivonat, pénztári kiadási bizonylat) minden oldalon hitelesített másolatait. Bővebben lásd: https://storage.googleapis.com/hungary-helps-cdn/Altalanos-Szerzodesi-Feltetelek-a-palyazati-uton-megvalosulo-tamogatasokhoz.pdf
A34: Magyarországon kiállított számlák esetén követelmény, hogy a benyújtott számlák, illetve számviteli bizonylatok megfeleljenek magyar jogszabályi előírásoknak. Külföldi bizonylat akkor tekinthető szabályszerűnek, ha azt mind alakilag, mind tartalmilag a vonatkozó (adott esetben külföldi) jogszabályoknak megfelelően állították ki. A nem a magyar jogszabályoknak megfelelően kiállított külföldi számla csak abban az esetben nyújtható be elszámolásra, ha a Kedvezményezett nyilatkozik, hogy a beszámolóban lévő bizonylatok a helyi jogszabálynak megfelelően kerültek kiállításra. Ehhez ld. a "Nyilatkozat külföldi bizonylat" munkalapot.
A35: A Kedvezményezett a Számlaösszesítő aláírásával nyilatkozik egyben arról is, hogy a) a kapott költségvetési támogatás terhére elszámolt kiadások pénzügyi teljesítése a csatolt pénzügyi bizonylatokon feltüntetett időpontokban megtörtént; b) kizárólag a támogatott tevékenység időtartama alatt felmerült és a támogatott tevékenység megvalósításához kapcsolódó költségeit tüntette fel, mert csak azokat számolhatja el; c) a felmerült kiadások számviteli nyilvántartásaikban való elkülönítéséről gondoskodott; d) jelen támogatás terhére elszámolni kívánt költségek más támogató, illetve más támogatás/program terhére nem számolhatók el.
A36: A Kedvezményezett köteles a Számlaösszesítőt és az Összesítőt cégszerű aláírással és pecséttel (amennyiben van) ellátva egy eredeti példányban és digitálisan is eljuttatni a Támogató részére.

Sheet Összesítő
A1: A PROJEKT KÖLTSÉGVETÉS-ÖSSZESÍTŐJE
A3: Kérelmező neve: | B3: =+IF(ISBLANK(Költségterv!D2),"",Költségterv!D2)
A4: Kérelmező székhelye: | B4: =+IF(ISBLANK(Költségterv!D3),"",Költségterv!D3)
A5: Projekt címe: | B5: =+IF(ISBLANK(Költségterv!D4),"",Költségterv!D4)
A6: Projekt időszaka: | B6: =+IF(ISBLANK(Költségterv!D5),"",Költségterv!D5) -> nap/hó/év - nap/hó/év | D6: Projekt száma: | E6: =Költségterv!N5 -> Pxxx
A9: A kért támogatás Költségtervben szereplő költségeinek kategóriák szerinti összesítése | C9: A Számlaösszesítőben szereplő és a támogatás terhére elszámolni kívánt költségek kategóriák szerinti összesítése | E9: Összesenhez képest főkategóriánkénti max. 10% eltérés
A10: Főkategória | B10: HUF | C10: Főkategória | D10: HUF
A11: Személyi juttatások | B11: =SUMIF(Költségterv!$F$9:$F$27,"Személyi juttatások", Költségterv!$P$9:$P$27) -> 1280000000 | C11: Személyi juttatások | D11: =SUMIF(Számlaösszesítő!$B$16:$B$61, "Személyi juttatások", Számlaösszesítő!$Q$16:$Q$61) -> 290745000 | E11: =(D11-B11)/$B$16 -> -0.40437173
A12: Munkaadókat terhelő járulékok és szociális hozzájárulási adó | B12: =SUMIF(Költségterv!$F$9:$F$27, "Munkaadókat terhelő járulékok és szociális hozzájárulási adó", Költségterv!$P$9:$P$27) -> 166400000 | C12: Munkaadókat terhelő járulékok és szociális hozzájárulási adó | D12: =SUMIF(Számlaösszesítő!$B$16:$B$61, "Munkaadókat terhelő járulékok és szociális hozzájárulási adó", Számlaösszesítő!$Q$16:$Q$61) -> 147656600 | E12: =(D12-B12)/$B$16 -> -0.0076616252
A13: Dologi kiadások | B13: =SUMIF(Költségterv!$F$9:$F$27, "Dologi kiadások", Költségterv!$P$9:$P$27) -> 1000000000 | C13: Dologi kiadások | D13: =SUMIF(Számlaösszesítő!$B$16:$B$61, "Dologi kiadások", Számlaösszesítő!$Q$16:$Q$61) -> 52089600 | E13: =(D13-B13)/$B$16 -> -0.38747155
A14: Felhalmozási kiadások | B14: =SUMIF(Költségterv!$F$9:$F$27, "Felhalmozási kiadások", Költségterv!$P$9:$P$27) -> 0 | C14: Felhalmozási kiadások | D14: =SUMIF(Számlaösszesítő!$B$16:$B$61, "Felhalmozási kiadások", Számlaösszesítő!$N$16:$N$61) -> 0 | E14: =(D14-B14)/$B$16 -> 0
A15: Egyéb ráfordítások | B15: =SUMIF(Költségterv!$F$9:$F$27, "Egyéb ráfordítások", Költségterv!$P$9:$P$27) -> 0 | C15: Egyéb ráfordítások | D15: =SUMIF(Számlaösszesítő!$B$16:$B$61, "Egyéb ráfordítások", Számlaösszesítő!$N$16:$N$61) -> 0 | E15: =(D15-B15)/$B$16 -> 0
A16: Összesen | B16: =SUM(B11:B15) -> 2446400000 | C16: Összesen | D16: =SUM(D11:D15) -> 490491200 | E16: =(D16-B16)/$B$16 -> -0.79950491
A18: A projekt költségtervben a támogatás terhére tervezett költségének százalékos aránya | B18: %
A20: Előkészítés | B20: =SUMIF(Költségterv!$G$9:$G$27, "Előkészítés", Költségterv!$P$9:$P$27)/$B$16 -> 0
A21: Szakmai megvalósítás | B21: =SUMIF(Költségterv!$G$9:$G$27, "Szakmai megvalósítás", Költségterv!$P$9:$P$27)/$B$16 -> 0.4087639
A22: Projektmenedzsment | B22: =SUMIF(Költségterv!$G$9:$G$27, "Projektmenedzsment", Költségterv!$P$9:$P$27)/$B$16 -> 0.5912361
A23: A célcsoport számára biztosított támogatások | B23: =SUMIF(Költségterv!$G$9:$G$27, "A célcsoport számára biztosított támogatások", Költségterv!$P$9:$P$27)/$B$16 -> 0
A24: Egyéb, kiegészítő szolgáltatások | B24: =SUMIF(Költségterv!$G$9:$G$27, "Egyéb, kiegészítő szolgáltatások", Költségterv!$P$9:$P$27)/$B$16 -> 0
B25: =SUM(B20:B24) -> 1
A27: Projektszintű összesítés
A28: Összköltség | B28: Egyéb forrás | C28: Igényelt támogatás a projektidőszakra összesen | D28: Elszámolt támogatás | E28: Még elszámolandó támogatás
A29: =Költségterv!L28 -> 2646400000 | B29: =Költségterv!N28 -> 200000000 | C29: =Költségterv!P28 -> 2446400000 | D29: =Számlaösszesítő!O62 -> 490491200 | E29: =Számlaösszesítő!C8-Számlaösszesítő!O62 -> 1955908800
A38: Dátum:
D39: cégszerű aláírás

Sheet Nyilatkozat külföldi bizonylat
A1: NYILATKOZAT
A2: KÜLFÖLDÖN KIÁLLÍTOTT BIZONYLAT ESETÉN
A4: Alulírott [hivatalos képviselő neve], a [szervezet] képviselője a [iktatószámú] Támogatási szerződésben foglalt [támogatás összege forintban] HUF értékű támogatás terhére a Hungary Helps Ügynökség felé elszámolásra benyújtott, [ország]-ban kiállított bizonylatok a helyi jogszabályoknak megfelelően kerültek kiállításra.
A5: Nyilatkozom továbbá, hogy minden személyi jellegű kifizetés után - amennyiben az adott tétel adóköteles - az adókat és járulékokat a szervezet a helyi jogszabályoknak megfelelően bevallotta és befizette.
A6: Nyilatkozom továbbá, hogy amennyiben a támogatás terhére elszámolt tételek tekintetében a helyi jogszabályok szerint további adófizetési kötelezettség keletkezett, azoknak eleget tettem.
A9: Hely, dátum
F11: Hivatalos képviselő aláírása
G13: pecsét helye

Sheet Háttér
A1: Számviteli bizonylat típusa | B1: számla
B2: bérkifizetési összesítő
B3: szerződés
B4: kiküldetési rendelvény
B5: egyéb bizonylat
A7: Költség típusa | B7: Előkészítés
B8: Szakmai megvalósítás
B9: Projektmenedzsment
B10: A célcsoport számára biztosított támogatások
B11: Egyéb, kiegészítő szolgáltatások (pl. rezsi)
A13: Költség kategóriája | B13: Személyi juttatások
B14: Munkaadókat terhelő járulékok és szociális hozzájárulási adó
B15: Dologi kiadások
B16: Felhalmozási kiadások
B17: Egyéb ráfordítások
