Workbook

Sheet Inputs
B5: Inputs
B7: الإيجار | D7: الاحتياجات
B8: البقالة | D8: الرغبات
B9: تناول الطعام بالخارج | D9: الإدخار والاستثمار
B10: الفواتير
B11: الاستثمارت
B12: المدخارات
B13: السفر
B14: الانتقالات
B15: الاشتراكات
B16: الرياضة
B17: الرعاية الطبية
B18: التأمين
B19: الهدايا
B20: التعليم
B21: العائلة
... B25: أشياء أخرى

Sheet 1 - الميزانية
B5: ضع ميزانية شهرية - استخدم هذه الصفحة في بداية الشهر
C9: أصفر - أدخل الأرقام
B10: الدخل الشهري
B11: الدخل الشهري
B12: إجمالي الدخل الشهري | C12: =C11 -> 0
B14: النفقات الأساسية
B15: النفقات المنزلية الشهرية (مثل الإيجار، أقساط)
B16: المرافق العامة الشهرية (مثل فواتير الكهرباء، والمياه، إلخ..)
B17: المواصلات الشهرية (مثل أقساط السيارة، أو الوقود، أو تاكسي أو مترو، إلخ..)
B18: نفقات التليفون والإنترنت
B19: وأية نفقات أساسية أخرى (إن وجدت)
B20: الاحتياجات - إجمالي الميزانية | C20: =SUM(C15:C19) -> 0
B21: المبلغ المتبقي | C21: =C12-C20 -> 0
B22: الادخار والاستثمار
B23: المبلغ المدخر شهريًا
B24: المبلغ المستثمر شهريا
B25: الادخار والاستثمار - إجمالي الميزانية | C25: =SUM(C23:C24) -> 0
B26: المبلغ المتبقي | C26: =C21-C25 -> 0
B27: نفقات غير أساسية
B28: أشياء أخرى تعد مهمة بالنسبة لك
B29: الرغبات - إجمالي الميزانية | C29: =SUM(C28:C28) -> 0
B30: المبلغ المتبقي | C30: =C26-C29 -> 0
B32: =IF(C43>0,"ملحوظة: بنهاية الشهر سيتبقى لك مبلغ $"&C43&" وسيعتبر هذا جزءًا من مدخراتك","")
B34: ملخص الميزانية:
B36: بيان الدخل الشهري
B37: الدخل الشهري | C37: =C12 -> 0
B38: النفقات الأساسية | C38: =C20 -> 0
B39: صافي الدخل - لدي ما يكفي للعيش | C39: =C37-C38 -> 0
B40: الادخار والاستثمار | C40: =C25 -> 0
B41: صافي الدخل - أشعر بالأمان | C41: =C39-C40 -> 0
B42: نفقات الأشياء التي أستمتع بفعلها | C42: =C29 -> 0
B43: صافي الدخل - أنا راضٍ تمامًا | C43: =C41-C42 -> 0
E46: الاحتياجات | F46: =IFERROR((C20/C11),"-") -> -
E47: الرغبات | F47: =IFERROR(((C25+C43)/C11),"-") -> -
E48: الإدخار والاستثمار | F48: =IFERROR(C29/C11,"-") -> -

Sheet 2 - الانفاق الفعلي
B5: الأموال التي تم إنفاقها - استخدم هذه الصفحة خلال الشهر
B13: مثال: فاتورة الكهرباء | C13: أدخل الأرقام | D13: ادخل تاريخ الانفاق (اختياري) | E13: حدد الخيار | F13: حدد الخيار
B14: اسم المصروف | C14: المقدار المنفق | D14: تاريخ | E14: الفئة | F14: الفئة
B15: مثال (يمكنك حذف هذا) | C15: 100 | D15: 44822 | E15: الانتقالات | F15: الاحتياجات
B93: إجمالي الإنفاق الشهري | C93: =SUM(C15:C92) -> 100
B94: الرصيد المتبقي | C94: =F7-C93 -> -100

Sheet 3 - ملخص مصاريفك
B5: ملخص
B7: الفئة | C7: الميزانية | D7: الإنفاق الفعلي | E7: الفرق
B8: الاحتياجات | C8: ='1 - الميزانية'!C20 -> 0 | D8: =SUMIF('2 - الانفاق الفعلي'!$F$15:$F$92,'3 - ملخص مصاريفك'!B8,'2 - الانفاق الفعلي'!$C$15:$C$92) -> 100 | E8: =IFERROR(((D8-C8)/C8),"-") -> -
B9: الرغبات | C9: ='1 - الميزانية'!C29 -> 0 | D9: =SUMIF('2 - الانفاق الفعلي'!$F$15:$F$92,'3 - ملخص مصاريفك'!B9,'2 - الانفاق الفعلي'!$C$15:$C$92) -> 0 | E9: =IFERROR(((D9-C9)/C9),"-") -> -
B10: الإدخار والاستثمار | C10: ='1 - الميزانية'!C25 -> 0 | D10: =SUMIF('2 - الانفاق الفعلي'!$F$15:$F$92,'3 - ملخص مصاريفك'!B10,'2 - الانفاق الفعلي'!$C$15:$C$92) -> 0 | E10: =IFERROR(((D10-C10)/C10),"-") -> -
G35: الفئة | H35: إجمالي الإنفاق
G36: الإيجار | H36: =SUMIF('2 - الانفاق الفعلي'!$E$15:$E$92,'3 - ملخص مصاريفك'!G36,'2 - الانفاق الفعلي'!$C$15:$C$92) -> 0
G37: البقالة | H37: =SUMIF('2 - الانفاق الفعلي'!$E$15:$E$92,'3 - ملخص مصاريفك'!G37,'2 - الانفاق الفعلي'!$C$15:$C$92) -> 0
G38: تناول الطعام بالخارج | H38: =SUMIF('2 - الانفاق الفعلي'!$E$15:$E$92,'3 - ملخص مصاريفك'!G38,'2 - الانفاق الفعلي'!$C$15:$C$92) -> 0
G39: الفواتير | H39: =SUMIF('2 - الانفاق الفعلي'!$E$15:$E$92,'3 - ملخص مصاريفك'!G39,'2 - الانفاق الفعلي'!$C$15:$C$92) -> 0
G40: الاستثمارت | H40: =SUMIF('2 - الانفاق الفعلي'!$E$15:$E$92,'3 - ملخص مصاريفك'!G40,'2 - الانفاق الفعلي'!$C$15:$C$92) -> 0
G41: المدخارات | H41: =SUMIF('2 - الانفاق الفعلي'!$E$15:$E$92,'3 - ملخص مصاريفك'!G41,'2 - الانفاق الفعلي'!$C$15:$C$92) -> 0
G42: السفر | H42: =SUMIF('2 - الانفاق الفعلي'!$E$15:$E$92,'3 - ملخص مصاريفك'!G42,'2 - الانفاق الفعلي'!$C$15:$C$92) -> 0
G43: الانتقالات | H43: =SUMIF('2 - الانفاق الفعلي'!$E$15:$E$92,'3 - ملخص مصاريفك'!G43,'2 - الانفاق الفعلي'!$C$15:$C$92) -> 100
G44: الاشتراكات | H44: =SUMIF('2 - الانفاق الفعلي'!$E$15:$E$92,'3 - ملخص مصاريفك'!G44,'2 - الانفاق الفعلي'!$C$15:$C$92) -> 0
G45: الرياضة | H45: =SUMIF('2 - الانفاق الفعلي'!$E$15:$E$92,'3 - ملخص مصاريفك'!G45,'2 - الانفاق الفعلي'!$C$15:$C$92) -> 0
G46: الرعاية الطبية | H46: =SUMIF('2 - الانفاق الفعلي'!$E$15:$E$92,'3 - ملخص مصاريفك'!G46,'2 - الانفاق الفعلي'!$C$15:$C$92) -> 0
G47: التأمين | H47: =SUMIF('2 - الانفاق الفعلي'!$E$15:$E$92,'3 - ملخص مصاريفك'!G47,'2 - الانفاق الفعلي'!$C$15:$C$92) -> 0
... G54: أشياء أخرى | H54: =SUMIF('2 - الانفاق الفعلي'!$E$15:$E$92,'3 - ملخص مصاريفك'!G54,'2 - الانفاق الفعلي'!$C$15:$C$92) -> 0
