Workbook

Sheet English
B6: Financial Goal Calculator | D6: Enter values in the yellow cells
B8: First, enter the target amount of money that you'd like to reach. This could be tied to a specific goal, such as buying a house. | D8: 1000000 | F8: =IF((D15*12*D10)<D8,"","Your target amount needs to be higher than your monthly contribution")
B10: When would you like to reach this goal? | D10: 7
D11: years
B13: If you already have some money saved up for this goal, enter it here | D13: 200000
B15: How much money are you willing to contribute towards this goal every month? | D15: 4000
B17: To reach this goal, you should put your money in an investment that has an average annual return of
B18: =IFERROR(((1+RATE(D10*12,-D15,-D13,D8,0))^12)-1,"") -> 0.13020032 | G18: Starting amount | H18: =D13 -> 200000
G19: Total contributions | H19: =SUM(D28:D561) -> 336000
G20: Total interest | H20: =SUM(F28:F561) -> 464000
B27: Month | D27: Monthly Contribution | E27: Total contribution | F27: Monthly interest | G27: Total interest | H27: Balance
H28: =English!D13 -> 200000
B29: =IF('Return Calculation'!C3*'Return Calculation'!B4>0,'Return Calculation'!C3*'Return Calculation'!B4,"") -> 1 | D29: =IF('Return Calculation'!B4=1,English!$D$15*'Return Calculation'!B4,"") -> 4000 | E29: =IFERROR(('Return Calculation'!J4+D29)*'Return Calculation'!B4,"") -> 204000 | F29: =IFERROR('Return Calculation'!J4*'Return Calculation'!F4,"") -> 2050.3534 | G29: =English!F29 -> 2050.3534 | H29: =IFERROR(IF('Return Calculation'!J4+English!F29+English!D29>0,'Return Calculation'!J4+English!F29+English!D29,""),"") -> 206050.35
B30: =IF('Return Calculation'!C4*'Return Calculation'!B5>0,'Return Calculation'!C4*'Return Calculation'!B5,"") -> 2 | D30: =IF('Return Calculation'!B5=1,English!$D$15*'Return Calculation'!B5,"") -> 4000 | E30: =IFERROR(IF((E29+D30)*'Return Calculation'!B5>0,E29+D30,""),"") -> 208000 | F30: =IFERROR(IF('Return Calculation'!J5*(1+'Return Calculation'!F5)-'Return Calculation'!J5>0,'Return Calculation'!J5*(1+'Return Calculation'!F5)-'Return Calculation'!J5,""),"") -> 2112.3802 | G30: =IFERROR(IF((G29+English!F30)*'Return Calculation'!B5>0,G29+English!F30,""),"") -> 4162.7336 | H30: =IFERROR(IF('Return Calculation'!J5+English!F30+English!D30>0,'Return Calculation'!J5+English!F30+English!D30,""),"") -> 212162.73
B31: =IF('Return Calculation'!C5*'Return Calculation'!B6>0,'Return Calculation'!C5*'Return Calculation'!B6,"") -> 3 | D31: =IF('Return Calculation'!B6=1,English!$D$15*'Return Calculation'!B6,"") -> 4000 | E31: =IFERROR(IF((E30+D31)*'Return Calculation'!B6>0,E30+D31,""),"") -> 212000 | F31: =IFERROR(IF('Return Calculation'!J6*(1+'Return Calculation'!F6)-'Return Calculation'!J6>0,'Return Calculation'!J6*(1+'Return Calculation'!F6)-'Return Calculation'!J6,""),"") -> 2175.0429 | G31: =IFERROR(IF((G30+English!F31)*'Return Calculation'!B6>0,G30+English!F31,""),"") -> 6337.7765 | H31: =IFERROR(IF('Return Calculation'!J6+English!F31+English!D31>0,'Return Calculation'!J6+English!F31+English!D31,""),"") -> 218337.78
B32: =IF('Return Calculation'!C6*'Return Calculation'!B7>0,'Return Calculation'!C6*'Return Calculation'!B7,"") -> 4 | D32: =IF('Return Calculation'!B7=1,English!$D$15*'Return Calculation'!B7,"") -> 4000 | E32: =IFERROR(IF((E31+D32)*'Return Calculation'!B7>0,E31+D32,""),"") -> 216000 | F32: =IFERROR(IF('Return Calculation'!J7*(1+'Return Calculation'!F7)-'Return Calculation'!J7>0,'Return Calculation'!J7*(1+'Return Calculation'!F7)-'Return Calculation'!J7,""),"") -> 2238.348 | G32: =IFERROR(IF((G31+English!F32)*'Return Calculation'!B7>0,G31+English!F32,""),"") -> 8576.1245 | H32: =IFERROR(IF('Return Calculation'!J7+English!F32+English!D32>0,'Return Calculation'!J7+English!F32+English!D32,""),"") -> 224576.12
B33: =IF('Return Calculation'!C7*'Return Calculation'!B8>0,'Return Calculation'!C7*'Return Calculation'!B8,"") -> 5 | D33: =IF('Return Calculation'!B8=1,English!$D$15*'Return Calculation'!B8,"") -> 4000 | E33: =IFERROR(IF((E32+D33)*'Return Calculation'!B8>0,E32+D33,""),"") -> 220000 | F33: =IFERROR(IF('Return Calculation'!J8*(1+'Return Calculation'!F8)-'Return Calculation'!J8>0,'Return Calculation'!J8*(1+'Return Calculation'!F8)-'Return Calculation'!J8,""),"") -> 2302.3021 | G33: =IFERROR(IF((G32+English!F33)*'Return Calculation'!B8>0,G32+English!F33,""),"") -> 10878.427 | H33: =IFERROR(IF('Return Calculation'!J8+English!F33+English!D33>0,'Return Calculation'!J8+English!F33+English!D33,""),"") -> 230878.43
B34: =IF('Return Calculation'!C8*'Return Calculation'!B9>0,'Return Calculation'!C8*'Return Calculation'!B9,"") -> 6 | D34: =IF('Return Calculation'!B9=1,English!$D$15*'Return Calculation'!B9,"") -> 4000 | E34: =IFERROR(IF((E33+D34)*'Return Calculation'!B9>0,E33+D34,""),"") -> 224000 | F34: =IFERROR(IF('Return Calculation'!J9*(1+'Return Calculation'!F9)-'Return Calculation'!J9>0,'Return Calculation'!J9*(1+'Return Calculation'!F9)-'Return Calculation'!J9,""),"") -> 2366.9118 | G34: =IFERROR(IF((G33+English!F34)*'Return Calculation'!B9>0,G33+English!F34,""),"") -> 13245.338 | H34: =IFERROR(IF('Return Calculation'!J9+English!F34+English!D34>0,'Return Calculation'!J9+English!F34+English!D34,""),"") -> 237245.34
B35: =IF('Return Calculation'!C9*'Return Calculation'!B10>0,'Return Calculation'!C9*'Return Calculation'!B10,"") -> 7 | D35: =IF('Return Calculation'!B10=1,English!$D$15*'Return Calculation'!B10,"") -> 4000 | E35: =IFERROR(IF((E34+D35)*'Return Calculation'!B10>0,E34+D35,""),"") -> 228000 | F35: =IFERROR(IF('Return Calculation'!J10*(1+'Return Calculation'!F10)-'Return Calculation'!J10>0,'Return Calculation'!J10*(1+'Return Calculation'!F10)-'Return Calculation'!J10,""),"") -> 2432.1839 | G35: =IFERROR(IF((G34+English!F35)*'Return Calculation'!B10>0,G34+English!F35,""),"") -> 15677.522 | H35: =IFERROR(IF('Return Calculation'!J10+English!F35+English!D35>0,'Return Calculation'!J10+English!F35+English!D35,""),"") -> 243677.52
B36: =IF('Return Calculation'!C10*'Return Calculation'!B11>0,'Return Calculation'!C10*'Return Calculation'!B11,"") -> 8 | D36: =IF('Return Calculation'!B11=1,English!$D$15*'Return Calculation'!B11,"") -> 4000 | E36: =IFERROR(IF((E35+D36)*'Return Calculation'!B11>0,E35+D36,""),"") -> 232000 | F36: =IFERROR(IF('Return Calculation'!J11*(1+'Return Calculation'!F11)-'Return Calculation'!J11>0,'Return Calculation'!J11*(1+'Return Calculation'!F11)-'Return Calculation'!J11,""),"") -> 2498.1252 | G36: =IFERROR(IF((G35+English!F36)*'Return Calculation'!B11>0,G35+English!F36,""),"") -> 18175.647 | H36: =IFERROR(IF('Return Calculation'!J11+English!F36+English!D36>0,'Return Calculation'!J11+English!F36+English!D36,""),"") -> 250175.65
B37: =IF('Return Calculation'!C11*'Return Calculation'!B12>0,'Return Calculation'!C11*'Return Calculation'!B12,"") -> 9 | D37: =IF('Return Calculation'!B12=1,English!$D$15*'Return Calculation'!B12,"") -> 4000 | E37: =IFERROR(IF((E36+D37)*'Return Calculation'!B12>0,E36+D37,""),"") -> 236000 | F37: =IFERROR(IF('Return Calculation'!J12*(1+'Return Calculation'!F12)-'Return Calculation'!J12>0,'Return Calculation'!J12*(1+'Return Calculation'!F12)-'Return Calculation'!J12,""),"") -> 2564.7424 | G37: =IFERROR(IF((G36+English!F37)*'Return Calculation'!B12>0,G36+English!F37,""),"") -> 20740.39 | H37: =IFERROR(IF('Return Calculation'!J12+English!F37+English!D37>0,'Return Calculation'!J12+English!F37+English!D37,""),"") -> 256740.39
B38: =IF('Return Calculation'!C12*'Return Calculation'!B13>0,'Return Calculation'!C12*'Return Calculation'!B13,"") -> 10 | D38: =IF('Return Calculation'!B13=1,English!$D$15*'Return Calculation'!B13,"") -> 4000 | E38: =IFERROR(IF((E37+D38)*'Return Calculation'!B13>0,E37+D38,""),"") -> 240000 | F38: =IFERROR(IF('Return Calculation'!J13*(1+'Return Calculation'!F13)-'Return Calculation'!J13>0,'Return Calculation'!J13*(1+'Return Calculation'!F13)-'Return Calculation'!J13,""),"") -> 2632.0426 | G38: =IFERROR(IF((G37+English!F38)*'Return Calculation'!B13>0,G37+English!F38,""),"") -> 23372.432 | H38: =IFERROR(IF('Return Calculation'!J13+English!F38+English!D38>0,'Return Calculation'!J13+English!F38+English!D38,""),"") -> 263372.43
B39: =IF('Return Calculation'!C13*'Return Calculation'!B14>0,'Return Calculation'!C13*'Return Calculation'!B14,"") -> 11 | D39: =IF('Return Calculation'!B14=1,English!$D$15*'Return Calculation'!B14,"") -> 4000 | E39: =IFERROR(IF((E38+D39)*'Return Calculation'!B14>0,E38+D39,""),"") -> 244000 | F39: =IFERROR(IF('Return Calculation'!J14*(1+'Return Calculation'!F14)-'Return Calculation'!J14>0,'Return Calculation'!J14*(1+'Return Calculation'!F14)-'Return Calculation'!J14,""),"") -> 2700.0328 | G39: =IFERROR(IF((G38+English!F39)*'Return Calculation'!B14>0,G38+English!F39,""),"") -> 26072.465 | H39: =IFERROR(IF('Return Calculation'!J14+English!F39+English!D39>0,'Return Calculation'!J14+English!F39+English!D39,""),"") -> 270072.47
B40: =IF('Return Calculation'!C14*'Return Calculation'!B15>0,'Return Calculation'!C14*'Return Calculation'!B15,"") -> 12 | D40: =IF('Return Calculation'!B15=1,English!$D$15*'Return Calculation'!B15,"") -> 4000 | E40: =IFERROR(IF((E39+D40)*'Return Calculation'!B15>0,E39+D40,""),"") -> 248000 | F40: =IFERROR(IF('Return Calculation'!J15*(1+'Return Calculation'!F15)-'Return Calculation'!J15>0,'Return Calculation'!J15*(1+'Return Calculation'!F15)-'Return Calculation'!J15,""),"") -> 2768.72 | G40: =IFERROR(IF((G39+English!F40)*'Return Calculation'!B15>0,G39+English!F40,""),"") -> 28841.185 | H40: =IFERROR(IF('Return Calculation'!J15+English!F40+English!D40>0,'Return Calculation'!J15+English!F40+English!D40,""),"") -> 276841.19
B41: =IF('Return Calculation'!C15*'Return Calculation'!B16>0,'Return Calculation'!C15*'Return Calculation'!B16,"") -> 13 | D41: =IF('Return Calculation'!B16=1,English!$D$15*'Return Calculation'!B16,"") -> 4000 | E41: =IFERROR(IF((E40+D41)*'Return Calculation'!B16>0,E40+D41,""),"") -> 252000 | F41: =IFERROR(IF('Return Calculation'!J16*(1+'Return Calculation'!F16)-'Return Calculation'!J16>0,'Return Calculation'!J16*(1+'Return Calculation'!F16)-'Return Calculation'!J16,""),"") -> 2838.1113 | G41: =IFERROR(IF((G40+English!F41)*'Return Calculation'!B16>0,G40+English!F41,""),"") -> 31679.297 | H41: =IFERROR(IF('Return Calculation'!J16+English!F41+English!D41>0,'Return Calculation'!J16+English!F41+English!D41,""),"") -> 283679.3
... B561: =IF('Return Calculation'!C535*'Return Calculation'!B536>0,'Return Calculation'!C535*'Return Calculation'!B536,"") | D561: =IF('Return Calculation'!B536=1,English!$D$15*'Return Calculation'!B536,"") | E561: =IFERROR(IF((E560+D561)*'Return Calculation'!B536>0,E560+D561,""),"") | F561: =IFERROR(IF('Return Calculation'!J536*(1+'Return Calculation'!F536)-'Return Calculation'!J536>0,'Return Calculation'!J536*(1+'Return Calculation'!F536)-'Return Calculation'!J536,""),"") | G561: =IFERROR(IF((G560+English!F561)*'Return Calculation'!B536>0,G560+English!F561,""),"") | H561: =IFERROR(IF('Return Calculation'!J536+English!F561+English!D561>0,'Return Calculation'!J536+English!F561+English!D561,""),"")

Sheet عربى
B6: حاسبة الأهداف المالية | D6: أدخل الأرقام في الأجزاء الصفراء
B8: في البداية قم بتحديد مبلغ من المال ترغب في الوصول إليه، قد يكون هذا مربوطاً بهدف معين، مثل امتلاك منزل جديد. | D8: 1000000 | F8: =IF((D15*12*D10)<D8,"","يجب أن يكون المبلغ المستهدف أعلى من مساهمتك الشهرية")
B10: متى تريد تحقيق هذا الهدف؟ | D10: 7
D11: سنوات
B13: اذا كنت بالفعل قد ادخرت بعض المال لبلوغ هذا الهدف، اكتبه هنا | D13: 200000
B15: انت على استعداد لاستقطاعه كم من أموالك شهرياً للوصول لهذا الهدف؟ | D15: 2000
B17: من أجل تحقيق هذا الهدف عليك وضع أموالك في استثمار بمتوسط عائد سنوي
B18: =IFERROR(((1+RATE(D10*12,-D15,-D13,D8,0))^12)-1,"") -> 0.18965566 | G18: مبلغ البدء | H18: =D13 -> 200000
G19: إجمالي المساهمة | H19: =SUM(D28:D561) -> 168000
G20: اجمالي الفوائد | H20: =SUM(F28:F561) -> 464000
B27: Month | D27: Monthly Contribution | E27: Total contribution | F27: Monthly interest | G27: Total interest | H27: Balance
H28: =عربى!D13 -> 200000
B29: =IF('Return Calculation'!C3*'Return Calculation'!B4>0,'Return Calculation'!C3*'Return Calculation'!B4,"") -> 1 | D29: =IF('Return Calculation'!B4=1,عربى!$D$15*'Return Calculation'!B4,"") -> 2000 | E29: =IFERROR(('Return Calculation'!J4+D29)*'Return Calculation'!B4,"") -> 202000 | F29: =IFERROR('Return Calculation'!J4*'Return Calculation'!F4,"") -> 2050.3534 | G29: =عربى!F29 -> 2050.3534 | H29: =IFERROR(IF('Return Calculation'!J4+عربى!F29+عربى!D29>0,'Return Calculation'!J4+عربى!F29+عربى!D29,""),"") -> 204050.35
B30: =IF('Return Calculation'!C4*'Return Calculation'!B5>0,'Return Calculation'!C4*'Return Calculation'!B5,"") -> 2 | D30: =IF('Return Calculation'!B5=1,عربى!$D$15*'Return Calculation'!B5,"") -> 2000 | E30: =IFERROR(IF((E29+D30)*'Return Calculation'!B5>0,E29+D30,""),"") -> 204000 | F30: =IFERROR(IF('Return Calculation'!J5*(1+'Return Calculation'!F5)-'Return Calculation'!J5>0,'Return Calculation'!J5*(1+'Return Calculation'!F5)-'Return Calculation'!J5,""),"") -> 2112.3802 | G30: =IFERROR(IF((G29+عربى!F30)*'Return Calculation'!B5>0,G29+عربى!F30,""),"") -> 4162.7336 | H30: =IFERROR(IF('Return Calculation'!J5+عربى!F30+عربى!D30>0,'Return Calculation'!J5+عربى!F30+عربى!D30,""),"") -> 210162.73
B31: =IF('Return Calculation'!C5*'Return Calculation'!B6>0,'Return Calculation'!C5*'Return Calculation'!B6,"") -> 3 | D31: =IF('Return Calculation'!B6=1,عربى!$D$15*'Return Calculation'!B6,"") -> 2000 | E31: =IFERROR(IF((E30+D31)*'Return Calculation'!B6>0,E30+D31,""),"") -> 206000 | F31: =IFERROR(IF('Return Calculation'!J6*(1+'Return Calculation'!F6)-'Return Calculation'!J6>0,'Return Calculation'!J6*(1+'Return Calculation'!F6)-'Return Calculation'!J6,""),"") -> 2175.0429 | G31: =IFERROR(IF((G30+عربى!F31)*'Return Calculation'!B6>0,G30+عربى!F31,""),"") -> 6337.7765 | H31: =IFERROR(IF('Return Calculation'!J6+عربى!F31+عربى!D31>0,'Return Calculation'!J6+عربى!F31+عربى!D31,""),"") -> 216337.78
B32: =IF('Return Calculation'!C6*'Return Calculation'!B7>0,'Return Calculation'!C6*'Return Calculation'!B7,"") -> 4 | D32: =IF('Return Calculation'!B7=1,عربى!$D$15*'Return Calculation'!B7,"") -> 2000 | E32: =IFERROR(IF((E31+D32)*'Return Calculation'!B7>0,E31+D32,""),"") -> 208000 | F32: =IFERROR(IF('Return Calculation'!J7*(1+'Return Calculation'!F7)-'Return Calculation'!J7>0,'Return Calculation'!J7*(1+'Return Calculation'!F7)-'Return Calculation'!J7,""),"") -> 2238.348 | G32: =IFERROR(IF((G31+عربى!F32)*'Return Calculation'!B7>0,G31+عربى!F32,""),"") -> 8576.1245 | H32: =IFERROR(IF('Return Calculation'!J7+عربى!F32+عربى!D32>0,'Return Calculation'!J7+عربى!F32+عربى!D32,""),"") -> 222576.12
B33: =IF('Return Calculation'!C7*'Return Calculation'!B8>0,'Return Calculation'!C7*'Return Calculation'!B8,"") -> 5 | D33: =IF('Return Calculation'!B8=1,عربى!$D$15*'Return Calculation'!B8,"") -> 2000 | E33: =IFERROR(IF((E32+D33)*'Return Calculation'!B8>0,E32+D33,""),"") -> 210000 | F33: =IFERROR(IF('Return Calculation'!J8*(1+'Return Calculation'!F8)-'Return Calculation'!J8>0,'Return Calculation'!J8*(1+'Return Calculation'!F8)-'Return Calculation'!J8,""),"") -> 2302.3021 | G33: =IFERROR(IF((G32+عربى!F33)*'Return Calculation'!B8>0,G32+عربى!F33,""),"") -> 10878.427 | H33: =IFERROR(IF('Return Calculation'!J8+عربى!F33+عربى!D33>0,'Return Calculation'!J8+عربى!F33+عربى!D33,""),"") -> 228878.43
B34: =IF('Return Calculation'!C8*'Return Calculation'!B9>0,'Return Calculation'!C8*'Return Calculation'!B9,"") -> 6 | D34: =IF('Return Calculation'!B9=1,عربى!$D$15*'Return Calculation'!B9,"") -> 2000 | E34: =IFERROR(IF((E33+D34)*'Return Calculation'!B9>0,E33+D34,""),"") -> 212000 | F34: =IFERROR(IF('Return Calculation'!J9*(1+'Return Calculation'!F9)-'Return Calculation'!J9>0,'Return Calculation'!J9*(1+'Return Calculation'!F9)-'Return Calculation'!J9,""),"") -> 2366.9118 | G34: =IFERROR(IF((G33+عربى!F34)*'Return Calculation'!B9>0,G33+عربى!F34,""),"") -> 13245.338 | H34: =IFERROR(IF('Return Calculation'!J9+عربى!F34+عربى!D34>0,'Return Calculation'!J9+عربى!F34+عربى!D34,""),"") -> 235245.34
B35: =IF('Return Calculation'!C9*'Return Calculation'!B10>0,'Return Calculation'!C9*'Return Calculation'!B10,"") -> 7 | D35: =IF('Return Calculation'!B10=1,عربى!$D$15*'Return Calculation'!B10,"") -> 2000 | E35: =IFERROR(IF((E34+D35)*'Return Calculation'!B10>0,E34+D35,""),"") -> 214000 | F35: =IFERROR(IF('Return Calculation'!J10*(1+'Return Calculation'!F10)-'Return Calculation'!J10>0,'Return Calculation'!J10*(1+'Return Calculation'!F10)-'Return Calculation'!J10,""),"") -> 2432.1839 | G35: =IFERROR(IF((G34+عربى!F35)*'Return Calculation'!B10>0,G34+عربى!F35,""),"") -> 15677.522 | H35: =IFERROR(IF('Return Calculation'!J10+عربى!F35+عربى!D35>0,'Return Calculation'!J10+عربى!F35+عربى!D35,""),"") -> 241677.52
B36: =IF('Return Calculation'!C10*'Return Calculation'!B11>0,'Return Calculation'!C10*'Return Calculation'!B11,"") -> 8 | D36: =IF('Return Calculation'!B11=1,عربى!$D$15*'Return Calculation'!B11,"") -> 2000 | E36: =IFERROR(IF((E35+D36)*'Return Calculation'!B11>0,E35+D36,""),"") -> 216000 | F36: =IFERROR(IF('Return Calculation'!J11*(1+'Return Calculation'!F11)-'Return Calculation'!J11>0,'Return Calculation'!J11*(1+'Return Calculation'!F11)-'Return Calculation'!J11,""),"") -> 2498.1252 | G36: =IFERROR(IF((G35+عربى!F36)*'Return Calculation'!B11>0,G35+عربى!F36,""),"") -> 18175.647 | H36: =IFERROR(IF('Return Calculation'!J11+عربى!F36+عربى!D36>0,'Return Calculation'!J11+عربى!F36+عربى!D36,""),"") -> 248175.65
B37: =IF('Return Calculation'!C11*'Return Calculation'!B12>0,'Return Calculation'!C11*'Return Calculation'!B12,"") -> 9 | D37: =IF('Return Calculation'!B12=1,عربى!$D$15*'Return Calculation'!B12,"") -> 2000 | E37: =IFERROR(IF((E36+D37)*'Return Calculation'!B12>0,E36+D37,""),"") -> 218000 | F37: =IFERROR(IF('Return Calculation'!J12*(1+'Return Calculation'!F12)-'Return Calculation'!J12>0,'Return Calculation'!J12*(1+'Return Calculation'!F12)-'Return Calculation'!J12,""),"") -> 2564.7424 | G37: =IFERROR(IF((G36+عربى!F37)*'Return Calculation'!B12>0,G36+عربى!F37,""),"") -> 20740.39 | H37: =IFERROR(IF('Return Calculation'!J12+عربى!F37+عربى!D37>0,'Return Calculation'!J12+عربى!F37+عربى!D37,""),"") -> 254740.39
B38: =IF('Return Calculation'!C12*'Return Calculation'!B13>0,'Return Calculation'!C12*'Return Calculation'!B13,"") -> 10 | D38: =IF('Return Calculation'!B13=1,عربى!$D$15*'Return Calculation'!B13,"") -> 2000 | E38: =IFERROR(IF((E37+D38)*'Return Calculation'!B13>0,E37+D38,""),"") -> 220000 | F38: =IFERROR(IF('Return Calculation'!J13*(1+'Return Calculation'!F13)-'Return Calculation'!J13>0,'Return Calculation'!J13*(1+'Return Calculation'!F13)-'Return Calculation'!J13,""),"") -> 2632.0426 | G38: =IFERROR(IF((G37+عربى!F38)*'Return Calculation'!B13>0,G37+عربى!F38,""),"") -> 23372.432 | H38: =IFERROR(IF('Return Calculation'!J13+عربى!F38+عربى!D38>0,'Return Calculation'!J13+عربى!F38+عربى!D38,""),"") -> 261372.43
B39: =IF('Return Calculation'!C13*'Return Calculation'!B14>0,'Return Calculation'!C13*'Return Calculation'!B14,"") -> 11 | D39: =IF('Return Calculation'!B14=1,عربى!$D$15*'Return Calculation'!B14,"") -> 2000 | E39: =IFERROR(IF((E38+D39)*'Return Calculation'!B14>0,E38+D39,""),"") -> 222000 | F39: =IFERROR(IF('Return Calculation'!J14*(1+'Return Calculation'!F14)-'Return Calculation'!J14>0,'Return Calculation'!J14*(1+'Return Calculation'!F14)-'Return Calculation'!J14,""),"") -> 2700.0328 | G39: =IFERROR(IF((G38+عربى!F39)*'Return Calculation'!B14>0,G38+عربى!F39,""),"") -> 26072.465 | H39: =IFERROR(IF('Return Calculation'!J14+عربى!F39+عربى!D39>0,'Return Calculation'!J14+عربى!F39+عربى!D39,""),"") -> 268072.47
B40: =IF('Return Calculation'!C14*'Return Calculation'!B15>0,'Return Calculation'!C14*'Return Calculation'!B15,"") -> 12 | D40: =IF('Return Calculation'!B15=1,عربى!$D$15*'Return Calculation'!B15,"") -> 2000 | E40: =IFERROR(IF((E39+D40)*'Return Calculation'!B15>0,E39+D40,""),"") -> 224000 | F40: =IFERROR(IF('Return Calculation'!J15*(1+'Return Calculation'!F15)-'Return Calculation'!J15>0,'Return Calculation'!J15*(1+'Return Calculation'!F15)-'Return Calculation'!J15,""),"") -> 2768.72 | G40: =IFERROR(IF((G39+عربى!F40)*'Return Calculation'!B15>0,G39+عربى!F40,""),"") -> 28841.185 | H40: =IFERROR(IF('Return Calculation'!J15+عربى!F40+عربى!D40>0,'Return Calculation'!J15+عربى!F40+عربى!D40,""),"") -> 274841.19
B41: =IF('Return Calculation'!C15*'Return Calculation'!B16>0,'Return Calculation'!C15*'Return Calculation'!B16,"") -> 13 | D41: =IF('Return Calculation'!B16=1,عربى!$D$15*'Return Calculation'!B16,"") -> 2000 | E41: =IFERROR(IF((E40+D41)*'Return Calculation'!B16>0,E40+D41,""),"") -> 226000 | F41: =IFERROR(IF('Return Calculation'!J16*(1+'Return Calculation'!F16)-'Return Calculation'!J16>0,'Return Calculation'!J16*(1+'Return Calculation'!F16)-'Return Calculation'!J16,""),"") -> 2838.1113 | G41: =IFERROR(IF((G40+عربى!F41)*'Return Calculation'!B16>0,G40+عربى!F41,""),"") -> 31679.297 | H41: =IFERROR(IF('Return Calculation'!J16+عربى!F41+عربى!D41>0,'Return Calculation'!J16+عربى!F41+عربى!D41,""),"") -> 281679.3
... B561: =IF('Return Calculation'!C535*'Return Calculation'!B536>0,'Return Calculation'!C535*'Return Calculation'!B536,"") | D561: =IF('Return Calculation'!B536=1,عربى!$D$15*'Return Calculation'!B536,"") | E561: =IFERROR(IF((E560+D561)*'Return Calculation'!B536>0,E560+D561,""),"") | F561: =IFERROR(IF('Return Calculation'!J536*(1+'Return Calculation'!F536)-'Return Calculation'!J536>0,'Return Calculation'!J536*(1+'Return Calculation'!F536)-'Return Calculation'!J536,""),"") | G561: =IFERROR(IF((G560+عربى!F561)*'Return Calculation'!B536>0,G560+عربى!F561,""),"") | H561: =IFERROR(IF('Return Calculation'!J536+عربى!F561+عربى!D561>0,'Return Calculation'!J536+عربى!F561+عربى!D561,""),"")

Sheet Return Calculation
C1: Month
B2: Flag | F2: Rate | J2: Beg Balance
C3: 1
B4: =N('Return Calculation'!C3<=(English!$D$10*12)) -> 1 | C4: =C3+1 -> 2 | F4: =RATE(English!D10*12,-English!D15,-English!D13,English!D8,0) -> 0.010251767 | J4: =English!D13 -> 200000
B5: =N('Return Calculation'!C4<=(English!$D$10*12)) -> 1 | C5: =C4+1 -> 3 | F5: =F4 -> 0.010251767 | J5: =IFERROR(IF(English!H29*B5>0,English!H29*B5,""),"") -> 206050.35
B6: =N('Return Calculation'!C5<=(English!$D$10*12)) -> 1 | C6: =C5+1 -> 4 | F6: =F5 -> 0.010251767 | J6: =IFERROR(IF(English!H30*B6>0,English!H30*B6,""),"") -> 212162.73
B7: =N('Return Calculation'!C6<=(English!$D$10*12)) -> 1 | C7: =C6+1 -> 5 | F7: =F6 -> 0.010251767 | J7: =IFERROR(IF(English!H31*B7>0,English!H31*B7,""),"") -> 218337.78
B8: =N('Return Calculation'!C7<=(English!$D$10*12)) -> 1 | C8: =C7+1 -> 6 | F8: =F7 -> 0.010251767 | J8: =IFERROR(IF(English!H32*B8>0,English!H32*B8,""),"") -> 224576.12
B9: =N('Return Calculation'!C8<=(English!$D$10*12)) -> 1 | C9: =C8+1 -> 7 | F9: =F8 -> 0.010251767 | J9: =IFERROR(IF(English!H33*B9>0,English!H33*B9,""),"") -> 230878.43
B10: =N('Return Calculation'!C9<=(English!$D$10*12)) -> 1 | C10: =C9+1 -> 8 | F10: =F9 -> 0.010251767 | J10: =IFERROR(IF(English!H34*B10>0,English!H34*B10,""),"") -> 237245.34
B11: =N('Return Calculation'!C10<=(English!$D$10*12)) -> 1 | C11: =C10+1 -> 9 | F11: =F10 -> 0.010251767 | J11: =IFERROR(IF(English!H35*B11>0,English!H35*B11,""),"") -> 243677.52
B12: =N('Return Calculation'!C11<=(English!$D$10*12)) -> 1 | C12: =C11+1 -> 10 | F12: =F11 -> 0.010251767 | J12: =IFERROR(IF(English!H36*B12>0,English!H36*B12,""),"") -> 250175.65
B13: =N('Return Calculation'!C12<=(English!$D$10*12)) -> 1 | C13: =C12+1 -> 11 | F13: =F12 -> 0.010251767 | J13: =IFERROR(IF(English!H37*B13>0,English!H37*B13,""),"") -> 256740.39
B14: =N('Return Calculation'!C13<=(English!$D$10*12)) -> 1 | C14: =C13+1 -> 12 | F14: =F13 -> 0.010251767 | J14: =IFERROR(IF(English!H38*B14>0,English!H38*B14,""),"") -> 263372.43
B15: =N('Return Calculation'!C14<=(English!$D$10*12)) -> 1 | C15: =C14+1 -> 13 | F15: =F14 -> 0.010251767 | J15: =IFERROR(IF(English!H39*B15>0,English!H39*B15,""),"") -> 270072.47
B16: =N('Return Calculation'!C15<=(English!$D$10*12)) -> 1 | C16: =C15+1 -> 14 | F16: =F15 -> 0.010251767 | J16: =IFERROR(IF(English!H40*B16>0,English!H40*B16,""),"") -> 276841.19
... B535: =N('Return Calculation'!C534<=(English!$D$10*12)) -> 0 | C535: =C534+1 -> 533 | F535: =F534 -> 0.010251767 | J535: =IFERROR(IF(English!H559*B535>0,English!H559*B535,""),"")
B536: =N('Return Calculation'!C535<=(English!$D$10*12)) -> 0 | F536: =F535 -> 0.010251767 | J536: =IFERROR(IF(English!H560*B536>0,English!H560*B536,""),"")
