Workbook
Name AreasAffected: [1]Lists!$E$2:$E$3

Sheet Lists
A1: RECALL or WITHDRAWAL? | B1: Vendor Branded or Co-op Brand? | C1: Yes or No | D1: Distribution | E1: Areas Affected | F1: Action Required | G1: Action Level Required | H1: Week No | I1: Prompted by:
A2: Please Select | B2: Please Select | C2: Please Select | D2: Please Select | E2: Please Select | F2: Please Select | G2: Please Select | H2: Please Select | I2: Please Select
A3: Recall | B3: Vendor Branded | C3: Yes | D3: Ambient | E3: All Regions | F3: HOLD in distribution | G3: Legal or Legality or Quality | H3: 1 | I3: Vendor Notification
A4: Withdrawal | B4: Co-op Brand | C4: No | D4: Frozen | E4: Restricted | F4: HOLD in retail & distribution | G4: Critical or Potential Critical Risk | H4: 2 | I4: Customer Complaints
C5: Not Applicable | D5: Chilled | F5: WITHDRAWAL from distribution | H5: 3 | I5: Enforcement Action
D6: Direct to Store | F6: WITHDRAWAL from distribution & retail | H6: 4 | I6: Internal Assessment
F7: RECALL from distribution, retail & public | H7: 5 | I7: Other
H8: 6
A10: FURTHER ACTION REQUIRED AT DEPOT | B10: FURTHER ACTION REQUIRED IN STORE | H10: 7
A11: Please Select | B11: Please Select | H11: 8
A12: Isolate stock and return to Vendor | B12: Allow stock to be given to store colleagues (WITHDRAWAL ONLY) | H12: 9
A13: Destroy stock and advise count to Vendor | B13: Dispose of stock at store | H13: 10
A14: Collate stock and return to HMRC Destruction Centre (ALCOHOL ONLY) | B14: Return stock directly to Vendor | H14: 11
A15: Give Stock to Fairshare (WITHDRAWAL ONLY) | B15: Return to Warehouse (ALCOHOL & TOBACCO ONLY) | H15: 12
A16: Other | B16: Other | H16: 13
A17: Please select | H17: 14
A18: UK only | H18: 15
A19: UK, Isle of Man, Channel Islands | H19: 16
A20: Yes
A21: No
H23: 17
A24: Allergen Risks Look Up: | H24: 20
A25: Please Select | B25: 0 | H25: 21
A26: N/A | B26: 0 | H26: 22
A27: Multiple - TBC | B27: 0
A28: Peanut/Nut | B28: 3000 | H28: 23
A29: Egg | B29: 815 | H29: 24
A30: Sesame | B30: 725 | H30: 25
A31: Milk | B31: 710 | H31: 26
A32: Seafood | B32: 685 | H32: 27
A33: Fish | B33: 410 | H33: 28
A34: Shellfish | B34: 410 | H34: 29
A35: Soya | B35: 340 | H35: 30
A36: Gluten | B36: 260 | H36: 31
A37: Lupin | B37: 245 | H37: 32
A38: Mustard | B38: 250 | H38: 33
A39: Celery | B39: 235 | H39: 34
... A41: Wheat | B41: 200 | H41: 36
H42: 37
H43: 38
...

Sheet 1-PAN Form
B1: This document is for standard product recalls and withdrawals ONLY – including medicinal devices. For ALL medicinal product recalls please see separate guidance available on Co-op Supplier Hub
B2: PRODUCT ACTION NOTIFICATION (PAN) IMMEDIATE ACTION REQUIRED
B3: Last Updated: December 2025 V12
B4: PLEASE NOTE: CSC must be telephoned on one of the following numbers prior to sending this form via email
B6: Decision Rationale | C6: 1A - Decision Rationale Co-op Brand ONLY
C7: Total Cases Produced: | I7: Total Units Produced: | M7: Cases delivered to COOP: | Q7: If applicable, cases rejected at depot:
M8: Units delivered to COOP: | Q8: Total cases to be recalled/withdrawn:
C9: Product Name | M9: Is the issue an allergy risk? | P9: Please Select
C10: Prompted by: | H10: Please Select | M10: =IF(H10="Other","Please provide specific details","")
C11: If applicable, what type of allergen trace is present? | I11: Please Select | M11: If applicable, Anaphylaxis Society product alert price: (to be displayed on the vendor invoice) | Q11: =VLOOKUP(I11,Lists!A25:B41,2,FALSE) -> 0
C12: ACTION LEVEL REQUIRED (rationale detailed beneath): | M12: Critical or Potential Critical Risk
C13: RECALL: Critical or Potential Critical Risk: Action to remove a product from distribution and stores and customers for legal and quality reasons where the product presents a risk to health and/or safety of customer. | M13: WITHDRAWAL: Legal or Legality or Quality: Action to remove a product from distribution and stores for legal or quality reasons but where the product does not present a risk to health and/or safety of customers.
B15: Severity Checkpoint | C15: 1B - Severity Checkpoint CO-OP BRAND ONLY
C16: Is there potential malicious/criminal intent? Have the police been contacted? | Q16: This checkpoint should be used to consider the severity of the incident. If you answer 'YES' to any of these questions, your incident should be considered a 'severe' recall, and the Food & Non-Food RIMT group should be triggered immediately by Head of Technical.
C17: Is this an FSA issue? Have any recommendations been made?
C18: Is there a high level of media coverage around this issue?
C19: Is a heightened level of public communication potentially required? (i.e. colleagues, Co-op academies, etc.)
C20: Is there a high severity for the immediate safety of our customers and our brand reputation? (above BAU recall protocol)
B22: FairShare Rationale | C22: 1C - FareShare Rationale & Giving Stock to Store Colleagues CO-OP BRAND ONLY
C23: Is the product Co-op Brand? | Q23: =IF(O23="Yes","Continue to Question 2",IF(O23="No","STOP - Vendor Branded Stock is NOT permitted",IF(O23="Please Select","","")))
C24: Is the product a Recall? | Q24: =IF(O24="No","Continue to Question 3",IF(O24="Yes","STOP - Recall Stock is NOT permitted",IF(O24="Please Select","","")))
C25: Are you sure there are no food/product safety or allergen implications and vendor has confirmed food is fit for human consumption? | Q25: =IF(O25="Yes","Continue to Question 4",IF(O25="No","STOP - not fit for human consumption",IF(O25="Please Select","","")))
C26: Is the product beer or tobacco, or anything with duty on? | Q26: =IF(O26="No","Continue to Question 5",IF(O26="Yes","STOP - products with duty are not permitted",IF(O26="Please Select","","")))
C27: Has the product has been withdrawn for any of the following reasons: A) The durability code has been mislabelled which may cause Food Safety issues B) If a food product has been packed into the wrong pack and therefore either the ingredient declaration or the storage/cooking/preparation instructions are incorrect. C) If non-food, the product composition or the usage instructions or safety instructions on the label is incorrect. | Q27: =IF(O27="Yes","STOP - ensure the above form and Store alert states NOT FIT FOR HUMAN CONSUMPTION",IF(O27="No","Product is suitable to give to Depot-Fairshare (food only) and Store-Store Colleagues (food and non-food)",IF(O27="Please Select","","")))
U28: =SUM(U22:U27) -> 0
B29: PRODUCT INFORMATION & ACTIONS REQUIRED | C29: 1D - Product Information & Actions Required To be completed by the TECHNICAL MANAGER for CO-OP BRAND and the VENDOR for VENDOR BRANDED
C30: Co-op Technical Contact (Co-op Brand Only) | M30: Co-op Technical Contact e-mail
C31: Vendor Contact | M31: Vendor contact e-mail
C32: Recall or Withdrawal? | M32: PAN Date:
C33: Vendor or Co-op Brand? | M33: Is the product Hazardous?
C34: Vendor: | M34: =IF(Q33="Yes","As Hazardous product - Enter more details on specific tab","")
C35: Buyer: | M35: Distribution:
M36: Store Area Distribution:
M37: Has stock gone to Superdrug (Greencore FTG lines)
L38: Has stock been withdrawn from Other Primary Holdings/Distribution Centres?
C39: PLEASE NOTE: You must accurately complete all product codes and details below:
C40: NSL Code | E40: Article Number | G40: EAN Code | I40: Product Description start Product Description with Brand name if Vendor Branded or Co-op if Co-op Own Brand | O40: Unit Size / Weight | Q40: Outer Case Date / Batch Code | S40: Inner Pack Date / Batch Code | V40: Retail Line
X41: =IF(H41<>"","Enter Inner Pack Data","")
G42: =IF(C42<>"","Enter EAN Code","") | I42: =IF(C42<>"","Enter Product Description","") | O42: =IF(C42<>"","Enter Size / Weight","") | Q42: =IF(C42<>"","Enter Outer Case Data","") | S42: =IF(C42<>"","Enter Inner Pack Data","")
G43: =IF(C43<>"","Enter EAN Code","") | I43: =IF(C43<>"","Enter Product Description","") | O43: =IF(C43<>"","Enter Size / Weight","") | Q43: =IF(C43<>"","Enter Outer Case Data","") | S43: =IF(C43<>"","Enter Inner Pack Data","")
...

Sheet (1A-Hazardous)
B1: This document is for standard product recalls and withdrawals ONLY – including medicinal devices. For ALL medicinal product recalls please see separate guidance available on the OC SharePoint (internal) or Supplier Information Hub (external)
B2: PRODUCT ACTION NOTIFICATION (PAN) IMMEDIATE ACTION REQUIRED
B3: HAZARDOUS Products Only | C3: HAZARDOUS PRODUCTS ONLY
C4: COSHH Assessment available? | G4: Please Select
C5: Technical Information for Transportation and Waste Management
C6: Product specific Safety Data Sheet for any hazardous products must be embedded in the box below | F6: Please click on the embedded file below for instructions on how to embed the Safety Data Sheet

Sheet (1B-Stores)
B1: This document is for standard product recalls and withdrawals ONLY – including medicinal devices. For ALL medicinal product recalls please see separate guidance available on the OC SharePoint (internal) or Supplier Information Hub (external)
B2: PRODUCT ACTION NOTIFICATION (PAN) IMMEDIATE ACTION REQUIRED
B3: WITHDRAWALS FOR DIRECT DELIVERED PRODUCTS ONLY
B4: Please copy the store names and hub numbers that have received the affected product(s) in the columns below. This detail can be found via the Locations Database Manager (LDM) system.
B5: Store Names: | C5: Store Hub Numbers:

Sheet 2-Comm Report
B1: This document is for standard product recalls and withdrawals ONLY – including medicinal devices. For ALL medicinal product recalls please see separate guidance available on the OC SharePoint (internal) or Supplier Information Hub (external)
B2: PRODUCT ACTION NOTIFICATION (PAN) IMMEDIATE ACTION REQUIRED
B3: Communication Report | C3: COMMUNICATION REPORT To be completed by CSC
C4: Action Reference Number: (PR No.-Year) | K4: If follow up - previous action number:
C5: Should Data Management temporarily flag as 'PROHIBIT FROM SALE' on CTS? | K5: Is POS Required? If so, has this been attached?
C6: Authorised signature confirmed? | K6: NSL / Barcode Confirmed?
C7: Do you have sufficient information regarding the method of disposal for stores and depots? | K7: If the product is a Co-op Brand label withdrawal, has it been allowed for stock to be given to store colleagues? (Please check 'Further Action Required at Stores' in Section 1) If yes, please include the 'Give Stock to Store Colleagues Policy' as part of this communication >>>
C8: Send Word Now Checks
C9: Time of communication: | K9: Back office alert sent? | O9: Please Select
G10: Notice Sent | J10: Escalations Required? | M10: Final Check
C11: FRTS (Independent Societies) | G11: Please Select | J11: Please Select | M11: Please Select
C12: Depots | G12: Please Select | J12: Please Select | M12: Please Select
C13: Stores | G13: Please Select | J13: Please Select | M13: Please Select
C14: Internal | G14: Please Select
C15: PR / Digital Comms | G15: Please Select | J15: Nisa | M15: Please Select
F16: Deliveroo | G16: Please Select | L16: Starship | M16: Please Select
F17: Digital /E-commerce | G17: Please Select | L17: Superdrug | M17: Please Select
C18: Gather & Gather | G18: Please Select | J18: FoodShare | M18: Please Select
C19: Completed by: | K19: Date: | O19: Time:
B20: Next Steps:
B21: 1. Add the completed PAN form to the Product Recalls SharePoint site (link below):
B22: https://cooponline.sharepoint.com/sites/FoodProductRecalls
B23: 2. Notify the following recipients (Finance) that the PAN form is ready:
B24: Tracy.Moores@coop.co.uk; Philippa.Gayle@coop.co.uk; Lisa.White@coop.co.uk
B25: END OF SECTION 2

Sheet 3-Store Invoicing
B1: This document is for standard product recalls and withdrawals ONLY – including medicinal devices. For ALL medicinal product recalls please see separate guidance available on the OC SharePoint (internal) or Supplier Information Hub (external)
B2: PRODUCT ACTION NOTIFICATION (PAN) IMMEDIATE ACTION REQUIRED
B3: Invoicing and Waste | C3: Invoicing and Waste To be completed by ACCOUNTS RECIEVABLE
C4: Buyer Notified? | F4: Please Select | H4: Buyer Responded? (2 week SLA) | L4: Please Select | N4: Vendor Notified? | Q4: Please Select
C5: Completed by: | K5: Date: | O5: Time:
C6: Authorised by: | K6: Date: | O6: Time:
B8: Cost Summary Claim Form - Strictly Private and Confidential | C8: Cost Summary Claim Form - Strictly Private and Confidential
C9: Product 1 | D9: Buyer | F9: ='1-PAN Form'!I35 -> 0 | I9: Recall Number | K9: ='2-Comm Report'!G4 -> 0 | N9: Date | P9: ='1-PAN Form'!Q32 -> 0
D10: Category | F10: ='1-PAN Form'!Q35 -> 0 | I10: Vendor Name | K10: ='1-PAN Form'!I34 -> 0 | N10: Vendor Number
D11: NSL | F11: ='1-PAN Form'!C41 -> 0 | I11: EAN | K11: ='1-PAN Form'!G41 -> 0 | N11: Product | P11: ='1-PAN Form'!I41 -> 0
D12: DOD | F12: ='1-PAN Form'!I46 -> 0 | I12: Pack Size | N12: Number of Cases
D13: Units | I13: Reason | K13: ='1-PAN Form'!Q47 -> 0 | N13: TCG Week No | P13: Please Select
C15: Product 2 | D15: Buyer | F15: ='1-PAN Form'!I35 -> 0 | I15: Recall Number | K15: ='2-Comm Report'!G4 -> 0 | N15: Date | P15: ='1-PAN Form'!Q32 -> 0
D16: Category | F16: ='1-PAN Form'!Q35 -> 0 | I16: Vendor Name | K16: ='1-PAN Form'!I34 -> 0 | N16: Vendor Number
D17: NSL | F17: ='1-PAN Form'!C42 -> 0 | I17: EAN | K17: ='1-PAN Form'!G42 | N17: Product | P17: ='1-PAN Form'!I42
D18: DOD | F18: ='1-PAN Form'!I46 -> 0 | I18: Pack Size | N18: Number of Cases
D19: Units | I19: Reason | K19: ='1-PAN Form'!Q47 -> 0 | N19: TCG Week No | P19: Please Select
C21: Product 3 | D21: Buyer | F21: ='1-PAN Form'!I35 -> 0 | I21: Recall Number | K21: ='2-Comm Report'!G4 -> 0 | N21: Date | P21: ='1-PAN Form'!Q32 -> 0
D22: Category | F22: ='1-PAN Form'!Q35 -> 0 | I22: Vendor Name | K22: ='1-PAN Form'!I34 -> 0 | N22: Vendor Number
D23: NSL | F23: ='1-PAN Form'!C43 -> 0 | I23: EAN | K23: ='1-PAN Form'!G43 | N23: Product | P23: ='1-PAN Form'!I43
D24: DOD | F24: ='1-PAN Form'!I46 -> 0 | I24: Pack Size | N24: Number of Cases
D25: Units | I25: Reason | K25: ='1-PAN Form'!Q47 -> 0 | N25: TCG Week No | P25: Please Select
C27: Product 4 | D27: Buyer | F27: ='1-PAN Form'!I35 -> 0 | I27: Recall Number | K27: ='2-Comm Report'!G4 -> 0 | N27: Date | P27: ='1-PAN Form'!Q32 -> 0
D28: Category | F28: ='1-PAN Form'!Q35 -> 0 | I28: Vendor Name | K28: ='1-PAN Form'!I34 -> 0 | N28: Vendor Number
D29: NSL | F29: ='1-PAN Form'!C44 -> 0 | I29: EAN | K29: ='1-PAN Form'!G44 -> 0 | N29: Product | P29: ='1-PAN Form'!I44
D30: DOD | F30: ='1-PAN Form'!I46 -> 0 | I30: Pack Size | N30: Number of Cases
D31: Units | I31: Reason | K31: ='1-PAN Form'!Q47 -> 0 | N31: TCG Week No | P31: Please Select
B34: Administration Charges Matrix | C34: Administration Charges Matrix | Q34: TOTAL
C35: Fixed Costs | I35: Quality Assurance (Co-op Brand only) | K35: =IF('1-PAN Form'!O23="Yes",1000,IF('1-PAN Form'!O23="No","Vendor Branded Line","")) | M35: Finance | O35: 250 | Q35: =IFERROR(SUM(O35,K35),"") -> 250
M36: Anaphylaxis Society Charge: (if applicable) | Q36: =SUM('1-PAN Form'!Q11:T11) -> 0
C37: Costs Per Store | E37: Product Recall | I37: Cost Per Store | K37: 12 | M37: Number of Stores | Q37: =IFERROR(K37*O37,"Incorrect Value Entered") -> 0
E38: Product Withdrawal | I38: Cost Per Store | K38: 8.5 | M38: Number of Stores | Q38: =IFERROR(K38*O38,"Incorrect Value Entered") -> 0
C39: Costs Per Case | E39: Warehouse Handling | I39: Cost Per Case | K39: 0.6 | M39: Number of Cases | Q39: =IFERROR(K39*O39,"Incorrect Value Entered") -> 0
E40: Distribution: Duty | I40: Cost Per Case (Only choose one of these) | K40: 1.96 | M40: Number of Cases (Only choose one of these) | Q40: =IFERROR(K40*O40,"Incorrect Value Entered") -> 0
E41: Distribution: Ambient | K41: 0.98 | Q41: =IFERROR(K41*O41,"Incorrect Value Entered") -> 0
E42: Distribution: Chilled | K42: 1 | Q42: =IFERROR(K42*O42,"Incorrect Value Entered") -> 0
E43: Distribution: Frozen | K43: 1.6 | Q43: =IFERROR(K43*O43,"Incorrect Value Entered") -> 0
C44: Total to be invoiced: | Q44: =IFERROR(SUM(Q35:R43),"Incorrect Value Entered") -> 250
B46: Stock Removed / DaS | C46: Stock Removed / Destroyed at Store - TCG | M46: TCG Total Claim
C47: Stock - Retail (unit price) | F47: Stock - Cost (unit price) | I47: Stock Quantity | K47: Product VAT Code | M47: Stock - Retail VAT | P47: Stock - Cost
...

Sheet (3A-Store Invoice Back-Up)
B1: This document is for standard product recalls and withdrawals ONLY – including medicinal devices. For ALL medicinal product recalls please see separate guidance available on the OC SharePoint (internal) or Supplier Information Hub (external)
B2: PRODUCT ACTION NOTIFICATION (PAN) IMMEDIATE ACTION REQUIRED
B3: Invoicing and Waste To be completed by ACCOUNTS RECIEVABLE All recalls and withdrawals to be processed on cost centre 140498 & nominal code 2903

Sheet 4-Depot Invoicing
B1: This document is for standard product recalls and withdrawals ONLY – including medicinal devices. For ALL medicinal product recalls please see separate guidance available on the OC SharePoint (internal) or Supplier Information Hub (external)
B2: PRODUCT ACTION NOTIFICATION (PAN)
B3: Depot Invoicing To be completed by Stock & Duty team
B4: Please insert a clear copy/screenshot of the debit note(s) associated to this incident below:
B31: Next Steps (for Depot Invoicing):
B32: 1. Add the completed PAN form to the Product Recalls SharePoint site (link below):
B33: FoodProductRecalls - Home (sharepoint.com)
B34: 2. Notify the Safe & Secure team of your completion:
B35: SafeandSecure@coop.co.uk
B36: END OF SECTION 4

Sheet 5-Safe and Secure
B1: This document is for standard product recalls and withdrawals ONLY – including medicinal devices. For ALL medicinal product recalls please see separate guidance available on the OC SharePoint (internal) or Supplier Information Hub (external)
B2: PRODUCT ACTION NOTIFICATION (PAN) IMMEDIATE ACTION REQUIRED
B3: Compliance and Closure | C3: COMPLIANCE AND CLOSURE To be completed by Safe and Secure
C4: Action Reference Number: | G4: ='2-Comm Report'!G4:J4 -> 0 | K4: PAN Issue Date: | O4: ='1-PAN Form'!Q32:T32 -> #VALUE!
C5: 1 - Product Information & Actions Required Completed By: | G5: ='1-PAN Form'!I54:L54 -> #VALUE! | K5: Completed Date: | M5: ='1-PAN Form'!O54:P54 -> #VALUE! | O5: Completed Time: | Q5: ='1-PAN Form'!S54:T54 -> #VALUE!
C6: 2 - CSC Comms Report Completed By: | G6: ='2-Comm Report'!G19:J19 -> 0 | K6: Completed Date: | M6: ='2-Comm Report'!M19:N19 -> 0 | O6: Completed Time: | Q6: ='2-Comm Report'!Q19:R19 -> 0
C7: 3 - Invoicing & Waste Completed By: | G7: ='3-Store Invoicing'!G5:J5 -> 0 | K7: Completed Date: | M7: ='3-Store Invoicing'!M5:N5 -> 0 | O7: Completed Time: | Q7: ='3-Store Invoicing'!Q5:R5 -> 0
C8: 4 - Invoicing & Waste Checked By: | G8: ='3-Store Invoicing'!G6:J6 -> 0 | K8: Completed Date: | M8: ='3-Store Invoicing'!M6:N6 -> 0 | O8: Completed Time: | Q8: ='3-Store Invoicing'!Q6:R6 -> 0
C9: 6 - Depot Invoicing Completed By: | K9: Completed Date: | O9: Completed Time:
C10: Has the vendor responded that the issue has been resolved? | K10: Please Select
C11: Has the Root Cause Analysis form been completed?
C12: What action has been taken?
C13: If production was halted, has approval been given to re-start? | K13: Please Select
C14: Has the Root Cause Analysis been sent to the Primary Authority? | K14: Please Select
C15: Enforcement response(S) sent by:
C16: Overall Store compliance rate in actioning?
C17: Details of follow up action in Stores
C18: If Data Management were asked to flag as 'prohibit from sale' on CTS, has this been followed up with confirmation to remove the flag once the affected stock has been cleared? If not yet confirmed, is there a plan in place for this?
C19: Was Process Management team review completed? | K19: Please Select
C20: Outcome / Recommendations of Process Management team review meeting?
C21: If recommendations were made, have these been actioned? | K21: Please Select
B22: Final Steps:
B23: To complete the incident, add the completed PAN form to the Product Recalls SharePoint site (link below):
B24: FoodProductRecalls - Home (sharepoint.com)
B25: END OF FORM
