Workbook

Sheet 갑지
M1: 2025년 10월 | P1: 담당 | S1: 팀장 | V1: 과장
A6: 춘향골 나무향기 활력센터 건축설계용역 | M6: =A6 -> 춘향골 나무향기 활력센터 건축설계용역
M9: 설 계 개 요 | S9: 사 업 비
N10: ○ 건축규모 | S10: ○ 총 용 역 비 : | U10: =설계내역서!G17 -> 412588000 | V10: 원정
N11: - 연면적 : 2,200m2
S12: - 손해배상보험 : | U12: =설계내역서!G14 -> 666622 | V12: 원정
S13: - 공급가액 : | U13: =설계내역서!G15 -> 375080000 | V13: 원정
S14: - 부 가 세 : | U14: =설계내역서!G16 -> 37508000 | V14: 원정

Sheet 설계내역서
A1: 공 종 별 산 출 내 역
A3: 구 분 | B3: 규 격 | C3: 단 위 | D3: 수 량 | E3: 단 가 산 출 | F3: 단 가 적 용 | G3: 예 정 금 액
A4: 1. 건 축 부 문 | B4: 기본설계(계획20,중간30%) | C4: 0.5 | D4: 1 | F4: =F6*C4 -> 1.6259091e+08 | G4: =F4 -> 1.6259091e+08
B5: 실시설계 | C5: 0.5 | D5: 1 | F5: =F6*C5 -> 1.6259091e+08 | G5: =F5 -> 1.6259091e+08
B6: 소 계 | F6: ='건축부문(직선보간)'!G17 -> 3.2518182e+08 | G6: =F6 -> 3.2518182e+08
A7: 2. 인 증 부 문 | B7: 제로에너지(4등급) | C7: 식 | D7: 1 | E7: 0.085
B8: 녹색건축 | C8: 식 | D8: 1
B9: 소 계 | F9: 0.085 | G9: =G6*F9 -> 27640455
A10: 3.추 가 부 문 | B10: 장애물없는생활환경(BF) | C10: 식 | D10: 1 | E10: 견적 | G10: 12000000
B11: 설계안전성검토 | C11: 식 | D11: 1 | E11: 견적 | G11: 7000000
B12: 안전보건대장 | C12: 식 | D12: 1 | E12: 견적 | G12: 2600000
B13: 소 계 | G13: =G10+G12+G11 -> 21600000
A14: 4. 손해배상보험 | B14: 0.0041 | G14: =TRUNC(G5*B14,0) -> 666622
A15: 5. 공 급 가 액 | G15: =TRUNC(G6+G9+G13+G14,-4) -> 375080000
A16: 6. 부 가 세 | B16: 0.1 | G16: =G15*B16 -> 37508000
A17: 7. 합 계 | G17: =ROUND(I18,-3) -> 412588000
A18: * 녹색건축물인증 3,000㎡이상, 제로에너지인증은 연면적500㎡이상 대상임. | I18: =TRUNC(SUM(G15+G16),-3) -> 412588000
A19: * 공사비 100억이상 설계용역은 별도 설계VE 계약 대상임.

Sheet 수수료산출내역
A1: 수 수 료 산 출 내 역
A2: 구 분 | B2: 규 격 | C2: 단 위 | D2: 수 량 | E2: 단 가 산 출 | F2: 단 가 적 용 | G2: 예 정 금 액
A3: 1. 수수료 (예비인증) | B3: 녹색건축물 | C3: 식 | D3: 1
B4: 제로에너지(4등급) | C4: 식 | D4: 1 | E4: 1000㎡이상 3000㎡미만 | G4: 3900000
B5: 설계의안전성검토 | C5: 식 | D5: 1 | G5: 3000000
B6: 에너지절약 계획서
B7: 장애물없는생활환경(BF) | C7: 식 | D7: 1 | E7: 4030000 | F7: 1 | G7: =E7*F7 -> 4030000
B8: 소 계 | G8: =SUM(G3:G7) -> 10930000
A9: 2. 수수료 (본인증) | B9: 녹색건축물 | C9: 식 | D9: 1
B10: 제로에너지(4등급) | C10: 식 | D10: 1 | E10: 1000㎡이상 3000㎡미만 | G10: 3900000
B11: 장애물없는생활환경(BF) | C11: 식 | D11: 1 | E11: 2060000 | F11: 1 | G11: =E11*F11 -> 2060000
B12: 소 계 | G12: =SUM(G9:G11) -> 5960000
A13: 합 계 | G13: =G8+G12 -> 16890000

Sheet 건축부문(직선보간)
A1: 계획중간 및 실시설계비 산출서(건축부문) - 제2종(보통)상급적용
A3: 구 분 | B3: 산 출 근 거
A4: 1. 적용기준 | B4: ○ 공공발주사업에대한 국토해양부 업무범위와 대가기준 (국토교통부고시 제2020-635호) | G4: 금 액(원)
B5: ○ 총 공사비 : 약 70억 | G5: 7000000000
A6: 2. 부가세제외
G7: =G5/1.1 -> 6.3636364e+09
A8: 3. 적용요율 | B8: ○ 직선보간법 적용
B9: 적용요율(Y) = Y1 - [(X-X2)(Y1-Y2)/(X1-X2)]
C10: 구 분 | D10: 기본설계(원) | E10: 실시설계(원) | F10: 비 고
C11: X : 당해금액(원) | E11: =G7 -> 6.3636364e+09
C12: X1 : 큰 금액(원) | E12: 10000000000
C13: X2 : 작은금액(원) | E13: 5000000000
C14: Y1 : 작은금액 요율(%) | E14: 0.052 | F14: 50억원 | G14: 제2종(보통) 상급적용
C15: Y2 : 큰금액 요율(%) | E15: 0.0507 | F15: 100억원 | G15: =G14 -> 제2종(보통) 상급적용
C16: Y : 적용요율(%) | E16: =E14-((E11-E13)*(E14-E15)/(E12-E13)) -> 0.051645455 | G16: =(5.11*G7)/100 -> 3.2518182e+08
A17: 4.산출용역비 | B17: 기본설계비 50%(계획20%+중간설계30%), 실시설계비 50%-지방자치단체 예산편성 | G17: =G16 -> 3.2518182e+08
A19: *"공사비"라 함은 발주자의 공사비 총예정금액(자제대 포함) 중 용지비, 보상비, 법률수속비 및 부가가치세를 제외한 일체의 금액을 말한다.

Sheet 건축설계요율
A1: 별첨1) 건축설계 및 감리 대가요율
A2: ※근거 : 공공발주사업에 대한 건축사의 업무범위와 대가기준[국토교통부고시 제2020-635호]
B3: 종 별 | C3: 제 3종(복잡) | G3: 제 2 종(보통) | K3: 제 1 종(단순)
B5: 도서의양 | C5: 상급 | D5: 중급 | E5: 기본 | F5: 감리 | G5: 상급 | H5: 중급 | I5: 기본 | J5: 감리 | K5: 상급 | L5: 중급 | M5: 기본 | N5: 감리
A6: 공사비
A7: 5000만원 | C7: 12.55 | D7: 10.46 | E7: 8.36 | F7: 2.46 | G7: 11.41 | H7: 9.51 | I7: 7.61 | J7: 2.24 | K7: 10.22 | L7: 8.51 | M7: 6.81 | N7: 2.02
A8: 1억원 | C8: 11.48 | D8: 9.56 | E8: 7.65 | F8: 2.32 | G8: 10.43 | H8: 8.69 | I8: 6.95 | J8: 2.11 | K8: 9.38 | L8: 7.82 | M8: 6.25 | N8: 1.9
A9: 2억원 | C9: 9.99 | D9: 8.33 | E9: 6.66 | F9: 1.85 | G9: 9.08 | H9: 7.57 | I9: 6.05 | J9: 1.68 | K9: 8.16 | L9: 6.8 | M9: 5.44 | N9: 1.51
A10: 3억원 | C10: 8.68 | D10: 7.23 | E10: 5.78 | F10: 1.7 | G10: 7.88 | H10: 6.57 | I10: 5.26 | J10: 1.54 | K10: 7.08 | L10: 5.9 | M10: 4.72 | N10: 1.39
A11: 5억원 | C11: 7.9 | D11: 6.58 | E11: 5.26 | F11: 1.57 | G11: 7.18 | H11: 5.98 | I11: 4.79 | J11: 1.43 | K11: 6.46 | L11: 5.38 | M11: 4.3 | N11: 1.29
A12: 10억원 | C12: 7.03 | D12: 5.86 | E12: 4.68 | F12: 1.35 | G12: 6.39 | H12: 5.32 | I12: 4.26 | J12: 1.23 | K12: 5.75 | L12: 4.79 | M12: 3.83 | N12: 1.11
A13: 20억원 | C13: 6.22 | D13: 5.19 | E13: 4.15 | F13: 1.24 | G13: 5.66 | H13: 4.72 | I13: 3.77 | J13: 1.13 | K13: 5.09 | L13: 4.24 | M13: 3.4 | N13: 1.02
A14: 30억원 | C14: 5.91 | D14: 4.93 | E14: 3.94 | F14: 1.2 | G14: 5.38 | H14: 4.48 | I14: 3.58 | J14: 1.09 | K14: 4.84 | L14: 4.03 | M14: 3.23 | N14: 0.98
A15: 50억원 | C15: 5.72 | D15: 4.76 | E15: 3.81 | F15: 1.18 | G15: 5.2 | H15: 4.33 | I15: 3.46 | J15: 1.07 | K15: 4.68 | L15: 3.9 | M15: 3.12 | N15: 0.96
A16: 100억원 | C16: 5.58 | D16: 4.65 | E16: 3.72 | F16: 1.14 | G16: 5.07 | H16: 4.22 | I16: 3.38 | J16: 1.04 | K16: 4.56 | L16: 3.8 | M16: 3.04 | N16: 0.94
A17: 200억원 | C17: 5.42 | D17: 4.51 | E17: 3.61 | F17: 1.11 | G17: 4.92 | H17: 4.1 | I17: 3.28 | J17: 1.01 | K17: 4.43 | L17: 3.69 | M17: 2.96 | N17: 0.91
A18: 300억원 | C18: 5.32 | D18: 4.44 | E18: 3.55 | F18: 1.1 | G18: 4.84 | H18: 4.03 | I18: 3.23 | J18: 1 | K18: 4.36 | L18: 3.63 | M18: 2.91 | N18: 0.9
... A23: 5000억원 | C23: 4.93 | D23: 4.11 | E23: 3.28 | F23: 1.02 | G23: 4.48 | H23: 3.73 | I23: 2.99 | J23: 0.93 | K23: 4.03 | L23: 3.36 | M23: 2.69 | N23: 0.84
A25: 종 별 | B25: 건축물의 종류
A26: 1 종 | B26: ․가설건축물
A27: (단순) | B27: ․창고시설(하역장)
B28: ․자동차관련시설(정비공장, 운전학원․정비학원 제외)
B29: ․동물 및 식물관련시설(가축용 창고, 관리사, 가축시장, 버섯재배사)
B30: ․기타 제1종 용도와 유사한 것
B31: ※ 제1종 시설로서 공기조화 설비 등 특수설비를 요하는 시설은 제2종을 적용
A32: 2 종 | B32: ․공작물(굴뚝․옹벽․고가수조 등)
A33: (보통) | B33: ․단독주택
B34: ․공동주택
B35: ․제1종 근린생활시설
B36: ․제2종 근린생활시설
B37: ․판매시설
B38: ․장례식장
B39: ․교육연구시설(도서관 제외)
B40: ․노유자시설
B41: ․수련시설
B42: ․업무시설
B43: ․숙박시설(관광숙박시설 제외)
B44: ․위락시설
B45: ․공장
... B55: ※ 제2종 시설로서 특수구조 또는 공기조화 설비 등 특수설비를 요하는 시설은 제3종을 적용
...

Sheet 실시설계(손배) 공제요율
A1: ㅁ 실시설계 공제요율

Sheet BF법률

Sheet BF견적서

Sheet 설계안전성검토 및 설계안전보건대장 견적 

Sheet 제로인증에너지 인증설계 대가

Sheet 제로에너지인증 대상건축물 및 인증 수수료
