Workbook
Name _____p1: #REF!
Name ____6: #REF!
Name ____7: #REF!
Name ____p1: #REF!
Name ___11: #REF!
Name ___6: #REF!
Name ___7: #REF!
Name ___8: #REF!
Name ___9: #REF!
Name ___C: #REF!
Name ___IL1: #REF!
Name ___p1: #REF!
Name ___t3: #REF!
Name ___T4: #REF!
Name __10: #REF!
Name __11: #REF!
Name __6: #REF!
Name __7: #REF!
Name __8: #REF!
Name __9: #REF!
Name __B2: '[1]단면 (2)'!$K$55
Name __C: #REF!
Name __IL1: #REF!
Name __p1: #REF!
Name __p1: #REF!
Name __PH2: '[2]기둥(원형)'!#REF!
Name __PH2: '[2]기둥(원형)'!#REF!
Name __SBB1: #REF!
Name __SBB1: #REF!
Name __SBB2: #REF!
Name __SBB2: #REF!
Name __SBB3: #REF!
Name __SBB3: #REF!
Name __SBB4: #REF!
Name __SBB4: #REF!
Name __SBB5: #REF!
Name __SBB5: #REF!
Name __SHH1: #REF!
Name __SHH1: #REF!
Name __SHH2: #REF!
Name __SHH2: #REF!
Name __SHH3: #REF!
Name __SHH3: #REF!
Name __t3: #REF!
Name __T4: #REF!
Name _1: #REF!
Name _1: #REF!
Name _1._PANEL_BD.__LP___1: #REF!
Name _1._PANEL_BD.__LP___1: #REF!
Name _1_: [3]공사비증감!#REF!
Name _10: #REF!
Name _10A_: #REF!
Name _10A_: #REF!
Name _10A_1: #REF!
Name _10A_1: #REF!
Name _10A_10: #REF!
Name _10A_10: #REF!
Name _10A_11: #REF!
Name _10A_11: #REF!
Name _10A_12: #REF!

Sheet 표지
D3: =YEAR(TODAY())&"년도" -> 2025년도 | AI3: 위치 | AK3: : | AL3: 서산시 해미면 읍내리 353-1번지 외 23필지
AI5: 용역명 | AK5: : | AL5: 해미면 농촌중심지활성화사업 다가치일상센터 건립 실시설계용역
D6: =AL5 -> 해미면 농촌중심지활성화사업 다가치일상센터 건립 실시설계용역
AI7: 공기 | AK7: : | AM7: 8 | AO7: 개월
N16: 서 산 시
N17: (농업정책과)
B21: 과 장 | I21: 팀 장 | P21: 담 당 자 | W21: 설 계 자
E23: =YEAR(TODAY()) -> 2025 | G23: . | H23: =MONTH(TODAY()) -> 10 | I23: .
K24: 위 | L24: 치 | M24: : | N24: ="충청남도 서산시 "&AL3 -> 충청남도 서산시 서산시 해미면 읍내리 353-1번지 외 23필지
D27: =AL5&" 용역 내역서" -> 해미면 농촌중심지활성화사업 다가치일상센터 건립 실시설계용역 용역 내역서
G37: 용역비 | J37: : 일금 | L37: =W37 -> 355522000 | R37: 원정 | V37: (\ | W37: =내역!E4 -> 355522000 | AA37: 원)

Sheet 설명서
A1: □ 설 계 설 명 서
A3: 1. 과 업 명 : | C3: 해미면 다가치일상센터 건립 실시설계용역
A5: 2. 위 치 : | C5: 서산시 해미면 읍내리 353-1번지 외 23필지
A7: 3. 목 적 : | C7: 본 설계는 중심지 및 마을에 주민생활의 필요한 기반 시설을 확충하고 활성화를 위해 해미면 다가치일상센터
C8: 건립을 추진코자 신축설계용역을 시행하는데 목적이 있음
A10: 4. 과업의 개요 : | C10: 신축설계 용역 1식, 과업내용서 참조
A14: 5. 과업의 기간
B15: 가. 본 과업은 착수일로부터 240일간으로 한다.
B16: 단, 발주처의 지시에 의거 과업이 중단되었을 경우에는 그 기간을 연장할 수 있다.
B17: 나. 이하 과업에 대한 사항은 과업내용서 참조

Sheet 예정공정표
B2: 예 정 공 정 표
B4: 1. 건 명 : | C4: =표지!AL5 -> 해미면 농촌중심지활성화사업 다가치일상센터 건립 실시설계용역
B5: 2. 용역기간 : | C5: 착수일로부터 | D5: 240 | E5: 일
B7: 공 종 | D7: 보할 | E7: 착 수 일 로 부 터 | M7: 비 고
E9: 30 | F9: 60 | G9: 90 | H9: 120 | I9: 150 | J9: 180 | K9: 210 | L9: 240
B10: 착수 및 현장조사
D11: 10
B13: 기본(계획/중간)설계
D14: 20
B16: 실시설계
D17: 60
B19: 관계기관 협의(인허가 등)
D20: 10

Sheet 내역
A1: 공 종 | B1: 규 격 | C1: 수 량 | D1: 단위 | E1: 계 | G1: 재 료 비 | I1: 노 무 비 | K1: 경 비 | M1: 비 고
E2: 단 가 | F2: 금 액 | G2: 단 가 | H2: 금 액 | I2: 단 가 | J2: 금 액 | K2: 단 가 | L2: 금 액
A3: =표지!AL5 -> 해미면 농촌중심지활성화사업 다가치일상센터 건립 실시설계용역
A4: 총 용역비 | E4: =ROUNDDOWN(F13,-3) -> 355522000 | L4: 천원이하 절사
F5: =H5+J5+L5 -> 0
A6: 1. 기본 및 실시설계비 | C6: 1 | D6: 식 | F6: =H6+J6+L6 -> 291754710 | H6: =H21 -> 0 | J6: =J21 -> 0 | L6: =L21 -> 291754710
A7: 2. 인증비 | C7: 1 | D7: 식
A8: - 제로에너지 인증(4등급) | F8: =F6*0.085 -> 24799150
A9: 3. 추가과업 | C9: 1 | D9: 식
A10: - 설계안전검토보고서 및 보건대장 작성비 | F10: 5300000 | M10: 견적서
A11: 4. 손해배상보험료 | C11: 1 | D11: 식 | F11: =손해보험료!G15 -> 1348000
A12: 5. 부가세 | F12: =SUM(F6,F8,F10,F11)*0.1 -> 32320186
A13: 6. 합 계 | F13: =SUM(F6,F8,F10,F11,F12) -> 3.5552205e+08
A21: 1. 기본 및 실시설계 | E21: =G21+I21+K21 -> 0 | F21: =H21+J21+L21 -> 291754710 | H21: =SUM(H22) -> 0 | J21: =SUM(J22) -> 0 | L21: =SUM(L22) -> 291754710
A22: 기본 및 실시설계비 | C22: 1 | D22: 식 | E22: =G22+I22+K22 -> 291754710 | F22: =H22+J22+L22 -> 291754710 | H22: =INT($C22*G22) -> 0 | K22: ='일위대가 '!K20 -> 291754710 | L22: =INT($C22*K22) -> 291754710 | M22: 제1호표

Sheet 일위대가(간지)
A1: 일 위 대 가

Sheet 일위대가 
A3: 제 1 호표 실시설계비 : １식
A4: ※ 근거자료 : 『 공공발주사업에 대한 건축사의 업무범위와 대가기준(국토교통부 고시 제2020-635호, 2020. 9. 14.) 』
A6: ■ 실시설계비
C7: ⇒ 적 용 : | E7: 0.0429
A8: 1) 공 사 비
A9: - 공 사 비 계 : | C9: =제1호표!K7 -> 7480890000 | F9: (VAT 포함) ⇒ | G9: =" "&C9&" ÷ 1.1 =" -> 7480890000 ÷ 1.1 = | J9: =C9/1.1 -> 6.8008091e+09 | L9: (VAT 제외)
B11: Y = Y1 － [ ( X － X2 ) / ( X1 － X2 ) ] × ( Y1 － Y2 )
B13: = 5.20% － [ (6,800,809,091원 －5,000,000,000원 ) / ( 1,000,000,000원 － 500,000,000원 ) ] × ( 5.2% －5.07% )
B14: =" = "&ROUND((J16-((E15-E17)/(E16-E17))*(J16-J17))*100,3)&"%" -> = 4.29% | C14: ⇒ 적 용 : | E14: 0.0429
B15: X : 당 해 공 사 비 ( | E15: =J9 -> 6.8008091e+09 | G15: ) | H15: Y : 당회 설계 요율 ( | J15: =E14 -> 0.0429 | K15: )
B16: X1 : 큰 공사 금액 | D16: ( | E16: 10000000000 | G16: ) | H16: Y1 : 작은 금액 요율 ( | J16: 0.0433 | K16: )
B17: X2 : 작은 공사 금액 ( | E17: 5000000000 | G17: ) | H17: Y2 : 큰 금액 요율 ( | J17: 0.0422 | K17: )
A20: ∴ 실시설계비 | C20: =" = "&ROUNDDOWN(J9,-3)&"원 x "&E7*100&"% =" -> = 6800809000원 x 4.29% = | H20: =INT(J9*E7) -> 291754710 | I20: ⇒ 적 용 : | K20: =H20 -> 291754710
A23: 제 2 호표 수도노선 측량 (교외시가지) | D23: km
A24: 고급기술자(측량) | C24: 1 | D24: 인 | E24: =I24+G24+K24 -> #VALUE! | I24: 비계공 | J24: =INT($C24*I24) -> #VALUE! | L24: =INT($C24*K24) -> 0
A25: 중급기술자(측량) | C25: 2.7 | D25: 인 | E25: =I25+G25+K25 -> #VALUE! | I25: 형틀목공 | J25: =INT($C25*I25) -> #VALUE! | L25: =INT($C25*K25) -> 0
A26: 초급기술자(측량) | C26: 3.9 | D26: 인 | E26: =I26+G26+K26 -> #VALUE! | I26: 철근공 | J26: =INT($C26*I26) -> #VALUE! | L26: =INT($C26*K26) -> 0
A27: 초급기능사(측량) | C27: 6.8 | D27: 인 | E27: =I27+G27+K27 -> #VALUE! | I27: 철골공 | J27: =INT($C27*I27) -> #VALUE! | L27: =INT($C27*K27) -> 0
A28: 보통인부 | C28: 2.2 | D28: 인 | E28: =I28+G28+K28 -> #VALUE! | I28: 콘크리트공 | J28: =INT($C28*I28) -> #VALUE! | L28: =INT($C28*K28) -> 0
A29: 소계 | F29: =J29+H29+L29 -> #VALUE! | H29: =SUM(H24:H28) -> 0 | J29: =SUM(J24:J28) -> #VALUE! | L29: =SUM(L24:L28) -> 0
A30: 제 경 비 | B30: 110 | C30: 110 | D30: % | F30: =J30+H30+L30 -> #VALUE! | L30: =INT(J29*C30/100) -> #VALUE!
A31: 기 술 료 | B31: 20 | C31: 20 | D31: % | F31: =J31+H31+L31 -> #VALUE! | L31: =INT((J29+L30)*C31/100) -> #VALUE!
A32: 계 | F32: =J32+H32+L32 -> #VALUE! | H32: =SUM(H29:H31) -> 0 | J32: =SUM(J29:J31) -> #VALUE! | L32: =SUM(L29:L31) -> #VALUE!
A33: 적용 금액 | F33: =J33+H33+L33 -> #VALUE! | J33: =ROUNDDOWN(J32,-4) -> #VALUE! | L33: =ROUNDDOWN(L32,-4) -> #VALUE!

Sheet 산출근거(간지)
A1: 산 출 근 거

Sheet 실시설계요율
A1: [별표4] 건축설계 대가요율
I2: (단위 : %)
B3: 종 별 | C3: 제3종(복잡) | F3: 제2종(보통) | I3: 제1종(단순)
A4: 공사비 | B4: 도서의양 | C4: 상급 | D4: 중급 | E4: 기본 | F4: 상급 | G4: 중급 | H4: 기본 | I4: 상급 | J4: 중급 | K4: 기본
A5: 5000만원 | C5: 12.55 | D5: 10.46 | E5: 8.36 | F5: 11.41 | G5: 9.51 | H5: 7.61 | I5: 10.22 | J5: 8.51 | K5: 6.81
A6: 1억원 | C6: 11.48 | D6: 9.56 | E6: 7.65 | F6: 10.43 | G6: 8.69 | H6: 6.95 | I6: 9.38 | J6: 7.82 | K6: 6.25
A7: 2억원 | C7: 9.99 | D7: 8.33 | E7: 6.66 | F7: 9.08 | G7: 7.57 | H7: 6.05 | I7: 8.16 | J7: 6.8 | K7: 5.44
A8: 3억원 | C8: 8.68 | D8: 7.23 | E8: 5.78 | F8: 7.88 | G8: 6.57 | H8: 5.26 | I8: 7.08 | J8: 5.9 | K8: 4.72
A9: 5억원 | C9: 7.9 | D9: 6.58 | E9: 5.26 | F9: 7.18 | G9: 5.98 | H9: 4.79 | I9: 6.46 | J9: 5.38 | K9: 4.3
A10: 10억원 | C10: 7.03 | D10: 5.86 | E10: 4.68 | F10: 6.39 | G10: 5.32 | H10: 4.26 | I10: 5.75 | J10: 4.79 | K10: 3.83
A11: 20억원 | C11: 6.22 | D11: 5.19 | E11: 4.15 | F11: 5.66 | G11: 4.72 | H11: 3.77 | I11: 5.09 | J11: 4.24 | K11: 3.4
A12: 30억원 | C12: 5.91 | D12: 4.93 | E12: 3.94 | F12: 5.38 | G12: 4.48 | H12: 3.58 | I12: 4.84 | J12: 4.03 | K12: 3.23
A13: 50억원 | C13: 5.72 | D13: 4.76 | E13: 3.81 | F13: 5.2 | G13: 4.33 | H13: 3.46 | I13: 4.68 | J13: 3.9 | K13: 3.12
A14: 100억원 | C14: 5.58 | D14: 4.65 | E14: 3.72 | F14: 5.07 | G14: 4.22 | H14: 3.38 | I14: 4.56 | J14: 3.8 | K14: 3.04
A15: 200억원 | C15: 5.42 | D15: 4.51 | E15: 3.61 | F15: 4.92 | G15: 4.1 | H15: 3.28 | I15: 4.43 | J15: 3.69 | K15: 2.96
A16: 「공공발주사업에 대한 건축사의 업무범위와 대가기준」(2025-0314제29069호)
A17: 주) "공사비"라 함은 발주자의 공사비 총예정금액(자재대 포함) 중 용지비, 보상비, 법률수속비 및 부가가치세를 제외한 일체의 금액을 말한다.

Sheet 제1호표
A1: <제1호표 산출기초>
A3: 사업비 및 공사개요
B4: 가. 사업비
B5: 구 분 | K5: 사 업 비(원)
B6: 계 | K6: =SUM(K7:N12) -> 7480890000
B7: 해미면 농촌중심지활성화사업 다가치일상센터 건립공사 | F7: 1식 | K7: 7480890000
B14: 나. 공사개요
B15: 사 업 명 | F15: 위 치 | K15: 사업량 | O15: 사업비(원)
B16: 계 | O16: =SUM(O17:R22) -> 7480890000
B17: =B7 -> 해미면 농촌중심지활성화사업 다가치일상센터 건립공사 | K17: 1식 | O17: =K7 -> 7480890000

Sheet 인증비
C1: 인증비 산정
A3: 공공발주사업에 대한 건축사의 업무범위와 대가기준
A4: 공공발주사업에 대한 건축사의 업무범위와 대가기준[국토교통부고시제2020-635호]
A6: 설계업무의 대가는 제 2항에 따라 산출된 대가에 에너지효율 및 제로에너지건축물 인증등급에 따라 다음 각 목의 비율을 추가로 산정한 값을 더하여 산출한다. * 다만, 제로에너지 건축물 인증을 적용할 경우 가목의 대가는 적용하지 않는다 가. 에너지효율등급 인증 나. 제로에너지효율등급인증 4) 4등급: 대가의 8.5%

Sheet 손해보험료
A1: <손해배상보험료 산정>
A2: : 국토해양부고시 제2009-385호에 근거
A3: ○ 순용역금액 | D3: : | E3: =내역!F6+내역!F8+내역!F10 -> 3.2185386e+08 | H3: 원
A4: ○ 적용요율 | D4: : | E4: 기본요율 + 적용가산요율
A5: ○ 적용가산요율 | D5: : | E5: 가산요율 x 표준공사기간초과일수/365일
A6: ○ 공제요율 | D6: : | E6: 제1종근린생활시설 요율적용
A7: 구분 | B7: 용역금액 | F7: 단위 | G7: 기본요율 | H7: 가산요율 | I7: 표준요율기간 | K7: =L7/M7 -> 0.5 | L7: 6 | M7: 12
A8: 기본중간 | B8: =E3/2 -> 1.6092693e+08 | F8: % | G8: 0.346 | H8: 0.056 | I8: 3년
A9: 실시설계 | B9: =E3/2 -> 1.6092693e+08 | F9: % | G9: 0.492 | H9: 0.078 | I9: 3년
A10: ○ 예정용역기간 : | D10: : | E10: =K7 -> 0.5 | F10: 년
A11: ○ 보험료산정
A12: 기본중간 | B12: =B8 -> 1.6092693e+08 | D12: x | E12: ="( "&G8&"% ) =" -> ( 0.346% ) = | I12: =B12*((G8/100)) -> 556807.18
A13: 실시설계 | B13: =B9 -> 1.6092693e+08 | D13: x | E13: ="( "&G9&"%) =" -> ( 0.492%) = | I13: =B13*((G9/100)) -> 791760.5
A15: ○ 손해배상보험료 | F15: = | G15: =ROUNDDOWN(I12+I13,-3) -> 1348000

Sheet 손보공제요율(계획중간실시)
