Workbook
Name _: #N/A
Name _________DAN1: #REF!
Name _________DAN1: #REF!
Name _________DAN1: #REF!
Name _________DAN1: #REF!
Name _________DAN10: #REF!
Name _________DAN10: #REF!
Name _________DAN10: #REF!
Name _________DAN10: #REF!
Name _________DAN100: #REF!
Name _________DAN100: #REF!
Name _________DAN100: #REF!
Name _________DAN100: #REF!
Name _________DAN101: #REF!
Name _________DAN101: #REF!
Name _________DAN101: #REF!
Name _________DAN101: #REF!
Name _________DAN102: #REF!
Name _________DAN102: #REF!
Name _________DAN102: #REF!
Name _________DAN102: #REF!
Name _________DAN103: #REF!
Name _________DAN103: #REF!
Name _________DAN103: #REF!
Name _________DAN103: #REF!
Name _________DAN104: #REF!
Name _________DAN104: #REF!
Name _________DAN104: #REF!
Name _________DAN104: #REF!
Name _________DAN105: #REF!
Name _________DAN105: #REF!
Name _________DAN105: #REF!
Name _________DAN105: #REF!
Name _________DAN106: #REF!
Name _________DAN106: #REF!
Name _________DAN106: #REF!
Name _________DAN106: #REF!
Name _________DAN107: #REF!
Name _________DAN107: #REF!
Name _________DAN107: #REF!
Name _________DAN107: #REF!
Name _________DAN108: #REF!
Name _________DAN108: #REF!
Name _________DAN108: #REF!
Name _________DAN108: #REF!
Name _________DAN109: #REF!
Name _________DAN109: #REF!
Name _________DAN109: #REF!
Name _________DAN109: #REF!
Name _________DAN11: #REF!
Name _________DAN11: #REF!
Name _________DAN11: #REF!
Name _________DAN11: #REF!
Name _________DAN110: #REF!
Name _________DAN110: #REF!
Name _________DAN110: #REF!
Name _________DAN110: #REF!
Name _________DAN111: #REF!
Name _________DAN111: #REF!
Name _________DAN111: #REF!

Sheet 갑지
A2: 2025년도
A7: 남원시 대산면 기초생활거점조성사업 실시설계 용역
A14: 남 원 시

Sheet 을지
A1: 설계년월일 | C1: 2025. 10. | E1: 설 계 자 | G1: 심 사 자 | I1: 팀 장 | K1: 과 장
A5: 2025년도
A9: =갑지!A7 -> 남원시 대산면 기초생활거점조성사업 실시설계 용역
A15: ■ 과 업 개 요 : 연면적 881㎡ / 지상2층
B19: 설계용역비 | E19: : | F19: ='1.총괄내역'!G13 -> 236600000 | I19: ="(금"&NUMBERSTRING(F19,1)&"원)" -> (금이억삼천육백육십만원)

Sheet 1.총괄내역
A1: 1. 총괄내역서
A2: 공 종 | B2: 규 격 | C2: 단 위 | D2: 수 량 | E2: 단가산출 | F2: 단 가 | G2: 금 액 | H2: 비 고
A3: 1. 건축부문 | B3: 기본 및 실시설계 | C3: 1 | D3: 1 | F3: ='2. 기본및실시설계'!X20 -> 185903000 | G3: =F3*D3 -> 185903000
B4: 기본설계(계획20%, 중간30%) | C4: 0.5 | D4: 1 | F4: =F3*C4 -> 92951500 | G4: =D4*F4 -> 92951500
B5: 실시설계(50%) | C5: 0.5 | D5: 1 | F5: =F3*C5 -> 92951500 | G5: =F5*D5 -> 92951500
A6: 2. 인증부문(추가업무) | B6: 제로에너지건축물인증 | C6: 식 | D6: 1 | E6: 0.085 | F6: =G3*E6 -> 15801755 | G6: =F6*D6 -> 15801755
B7: 장애물없는생활환경인증(BF) | C7: 식 | D7: 1 | E7: 견적 | F7: 6000000 | G7: =F7 -> 6000000 | H7: *견적서 첨부
A8: 3. 기타부문(추가업무) | B8: 설계안정성검토 | C8: 식 | D8: 1 | E8: 견적 | F8: 7000000 | G8: =F8 -> 7000000 | H8: *견적서 첨부
A9: 소 계 | B9: 건축+인증+기타 | G9: =ROUNDDOWN(SUM(G4:G8),-4) -> 214700000
A10: 4. 손해배상보험료 | C10: 식 | D10: 1 | F10: ='3.손해보험'!K4 -> 457321.38 | G10: =F10 -> 457321.38
A11: 5. 공급가액 | G11: =G10+G9 -> 2.1515732e+08
A12: 6. 부 가 세 | B12: 0.1 | D12: 1 | F12: =G11 -> 2.1515732e+08 | G12: =B12*F12 -> 21515732
A13: 7. 합 계 | G13: =ROUNDDOWN(SUM(G11,G12),-5) -> 236600000 | H13: (천원이하절사)

Sheet 2. 기본및실시설계
B1: 2. 설계비 산출
B3: 기본 및 실시설계비 산출
C4: 과 목 | D4: 대 상 액 | T4: 비 율 | V4: 설 계 비
B5: 구 분 | D5: 추정공사비 | H5: 부가세제외 금액 | P5: 설계 적용공사비
B6: 설계비산출 | D6: ='B. 공사비 집계'!D26 -> 3832350000 | H6: / | I6: 1.1 | P6: =I7 -> 3.4839545e+09 | T6: =T21 -> 5.336 | V6: =P6 -> 3.4839545e+09 | Y6: × | Z6: =T21 -> 5.336 | AB6: ％
H7: = | I7: =D6/I6 -> 3.4839545e+09 | V7: = | X7: =ROUNDDOWN(V6*Z6/100,0) -> 185903814 | AD7: =X7 -> 185903814
AD8: 5.524
B9: 1) 추정공사비 산출 : 제2종(보통), 중급(도서의양)
W10: (단위 : 원)
B11: 공 종 | G11: 규 격 | K11: 수 량 | N11: 단 위 | P11: 단 가 | S11: 공 사 비 | W11: 비 고
B12: 근린생활시설 | G12: 건설부문 | K12: 1 | N12: 건 | P12: =P6 -> 3.4839545e+09 | S12: =P6 -> 3.4839545e+09
B15: 2) 기본및실시설계 용역비 산출(직선보간법 적용)
C17: 과 목 | D17: 대 상 액 | T17: 비 율 | V17: 설 계 비
B18: 구 분 | D18: 추정공사비 | H18: 부가세제외 금액 | P18: 설계 적용공사비
B19: 설계비산출 | D19: =D6 -> 3832350000 | H19: / | I19: 1.1 | P19: =I20 -> 3.4839545e+09 | T19: =T21/100 -> 0.05336 | V19: =P19 -> 3.4839545e+09 | Y19: × | Z19: =T21 -> 5.336 | AB19: ％
H20: = | I20: =D19/I19 -> 3.4839545e+09 | V20: = | X20: =ROUNDDOWN(V19*Z19/100,-3) -> 185903000
B21: 비 율(Y) = | D21: =T28 -> 5.38 | E21: - | F21: ( | G21: =P6 -> 3.4839545e+09 | J21: - | K21: =G29 -> 3000000000 | N21: )×( | O21: =T28 -> 5.38 | P21: - | Q21: =T29 -> 5.2 | R21: ) | S21: = | T21: =ROUND(D21-(((G21-K21)*(O21-Q21))/(I22-M22)),3) -> 5.336 | V21: %
I22: =G28 -> 5000000000 | L22: - | M22: =G29 -> 3000000000
C24: Y = | D24: Y1 | E24: - | F24: (X - X2) | H24: × | I24: (Y1 - Y2)
F25: X1 | H25: - | I25: X2
C26: ◈ 사 업 비 | G26: 건설 | O26: ◈ 적용요율
C27: - X : 당해금액 : | G27: =P19 -> 3.4839545e+09 | O27: - Y : 당해공사비 요율 : | T27: 건설
C28: - X1 : 큰 금 액 : | G28: 5000000000 | O28: - Y1 : 작은금액 요율 : | T28: 5.38
C29: - X2 : 작은금액 : | G29: 3000000000 | O29: - Y2 : 큰 금 액 요율 : | T29: 5.2
B31: 3) 제로에너지건축물인증 추가대가요율
B32: 0.454 | D32: = | E32: 5.336*0.085
B33: ※ 제로에너지건축물 인증 4등급 8.5%적용
B34: ※ 공공발주사업에 대한 건축사의 업무범위와 대가기준에 따름

Sheet 2-1. 설계대가요율
B1: 2-1. 건축설계 대가요율
B3: 공사비 (용지비, 보상비, 부가가치세 제외) | C3: 종 별 | D3: 제3종(복잡) | G3: 제2종(보통) | J3: 제1종(단순)
C4: 도서의양 | D4: 상급 | E4: 중급 | F4: 기본 | G4: 상급 | H4: 중급 | I4: 기본 | J4: 상급 | K4: 중급 | L4: 기본
B5: 5000만원 | D5: 12.55 | E5: 10.46 | F5: 8.36 | G5: 11.41 | H5: 9.51 | I5: 7.61 | J5: 10.22 | K5: 8.51 | L5: 6.81
B6: 1억원 | D6: 11.48 | E6: 9.56 | F6: 7.65 | G6: 10.43 | H6: 8.69 | I6: 6.95 | J6: 9.38 | K6: 7.82 | L6: 6.25
B7: 2억원 | D7: 9.99 | E7: 8.33 | F7: 6.66 | G7: 9.08 | H7: 7.57 | I7: 6.05 | J7: 8.16 | K7: 6.8 | L7: 5.44
B8: 3억원 | D8: 8.68 | E8: 7.23 | F8: 5.78 | G8: 7.88 | H8: 6.57 | I8: 5.26 | J8: 7.08 | K8: 5.9 | L8: 4.72
B9: 5억원 | D9: 7.9 | E9: 6.58 | F9: 5.26 | G9: 7.18 | H9: 5.98 | I9: 4.79 | J9: 6.46 | K9: 5.38 | L9: 4.3
B10: 10억원 | D10: 7.03 | E10: 5.86 | F10: 4.68 | G10: 6.39 | H10: 5.32 | I10: 4.26 | J10: 5.75 | K10: 4.79 | L10: 3.83
B11: 20억원 | D11: 6.22 | E11: 5.19 | F11: 4.15 | G11: 5.66 | H11: 4.72 | I11: 3.77 | J11: 5.09 | K11: 4.24 | L11: 3.4
B12: 30억원 | D12: 5.91 | E12: 4.93 | F12: 3.94 | G12: 5.38 | H12: 4.48 | I12: 3.58 | J12: 4.84 | K12: 4.03 | L12: 3.23
B13: 50억원 | D13: 5.72 | E13: 4.76 | F13: 3.81 | G13: 5.2 | H13: 4.33 | I13: 3.46 | J13: 4.68 | K13: 3.9 | L13: 3.12
B14: 100억원 | D14: 5.58 | E14: 4.65 | F14: 3.72 | G14: 5.07 | H14: 4.22 | I14: 3.38 | J14: 4.56 | K14: 3.8 | L14: 3.04
B15: 200억원 | D15: 5.42 | E15: 4.51 | F15: 3.61 | G15: 4.92 | H15: 4.1 | I15: 3.28 | J15: 4.43 | K15: 3.69 | L15: 2.96
B16: 300억원 | D16: 5.32 | E16: 4.44 | F16: 3.55 | G16: 4.84 | H16: 4.03 | I16: 3.23 | J16: 4.36 | K16: 3.63 | L16: 2.91
... B21: 5000억원 | D21: 4.93 | E21: 4.11 | F21: 3.28 | G21: 4.48 | H21: 3.73 | I21: 2.99 | J21: 4.03 | K21: 3.36 | L21: 2.69

Sheet 2-2 제로에너지건축물 인증
A1: 4. 제로에너지건축물인증(예비인증)
A3: 공 종 | B3: 견적1 | C3: 견적2 | D3: 견적3 | E3: 적용금액 | F3: 비고
A4: 제로에너지건축물인증 | B4: 6000000 | C4: 8000000 | D4: 5000000 | E4: =D4 -> 5000000 | F4: 부가세제외

Sheet 2-3 장애물없는생활환경인증-해당없음
A1: 4. 장애물 없는 생활환경 인증(예비인증)
A3: 공 종 | B3: 견적1 | C3: 견적2 | D3: 견적3 | E3: 적용금액 | F3: 비고
A4: 장애물없는 생활환경 인증 | B4: 5000000 | C4: 6000000 | D4: 4000000 | E4: 4000000 | F4: 부가세제외

Sheet 3.손해보험
A1: 3. 용역손해배상보험 또는 공제 요율
A2: 설계용역비 | C2: ='1.총괄내역'!G3 -> 185903000
A3: 계획·중간설계(50%) | C3: =C2*0.5 -> 92951500 | E3: 기본설계공제요율 | G3: 0.346 | I3: 기본설계공제료 | K3: =C3*G3/100 -> 321612.19 | L3: 제외
A4: 실시설계(50%) | C4: =C2*0.5 -> 92951500 | E4: 실시설계공제요율 | G4: 0.492 | I4: 실시설계공제료 | K4: =C4*G4/100 -> 457321.38 | L4: 적용
A6: [설계 건설사업관리 용역손해배상보험 또는 공제 업무요령] 제6조 제1항 제1호 규정에 따라 기본설계 및 실시설계를 같은 업자가 수행하도록 하는 경우 기본설계 해당 금액 제외 | O6: 제6조(보험 또는 공제 가입금액) ① 보험 또는 공제의 가입금액은 용역계약금액에서 부가가치세와 손해배상보험료 또는 공제료를 제외한 금액(이하 "순계약금액" 이라 한다)으로 한다. 다만, 다음 각 호로 정하는 금액을 보험 또는 공제 가입금액에서 제외하여야 한다.
O7: 1. 기본설계 및 실시설계를 같은 건설기술용역업자가 수행하도록 하는 경우 : 기본설계에 해당하는 계약금액

Sheet 3-1.손해배상 공제요율
A1: 3-1. 손해배상 공제요율
A2: (※ 관련자료 : 대한건축사협회 건축사공제조합)

Sheet 4. BF인증
A1: 4. BF 인증
A3: 내용 | B3: 견적1 | C3: 견적2 | E3: 적용금액 | F3: 비고
A4: BF 예비인증 | B4: 6000000 | C4: 7000000 | E4: =B4 -> 6000000 | F4: 부가세제외

Sheet 5. 설계안전성검토
A1: 5. 설계안전성검토
A3: 내용 | B3: 견적1 | C3: 견적2 | E3: 적용금액 | F3: 비고
A4: 설계안전성 검토 | B4: 7000000 | C4: 9000000 | E4: =B4 -> 7000000 | F4: 부가세제외

Sheet B. 공사비 집계
A1: 대산면 기초생활거점조성사업
A2: 건축공사비 산출기준
A3: 가. 2024 공공건축물 건립공사비 책정가이드라인
A4: 용도구분 | B4: 연면적(㎡) | C4: 신축 | D4: 증축(수평) | E4: 증축(수직)
A5: 주민공동이용시설 | B5: 200㎡ 미만 | C5: 4578000 | D5: 4380000 | E5: 4014000
B6: 200~400㎡ | C6: 4501000 | D6: 4305000 | E6: -
B7: 400㎡초과 | C7: 4365000 | D7: 4174000 | E7: -
B8: 평균 | C8: 4497000 | D8: 4302000 | E8: -
A9: 대산면 해당값 | C9: =C7 -> 4365000 | E9: -
A10: 공사비 보정 | C10: =ROUND(C9/129.74*130.59,-3) -> 4394000 | D10: 2025년 7월 건설공사비지수 반영
A12: 나. 유사사례
A13: 용도 | B13: 구분 | C13: 연면적(㎡) | D13: 층수 | E13: 공사비/㎡ | F13: 공사비보정/㎡ | G13: 구조 | H13: 착공연도
A14: 1종근린생활시설 (마을공동이용시설) | B14: 홍천군 서면 온새미 행복꿈센터 | C14: 1385.85 | D14: 1층 | E14: 4309000 | F14: 4320000 | G14: 철근콘크리트구조 | H14: 2024년 9월
A15: 1종 근린생활시설(주민공동시설) | B15: 문산읍 주민자치센터 어울마당 | C15: 208 | D15: 1층 | E15: 3900000 | F15: 4180000 | G15: 목구조(NLT)+철골+경골목구조 | H15: 2021년 2월
A16: 1종 근린생활시설(주민공동시설) | B16: 명석면 주민복합문화센터 | C16: 270 | D16: 1층 | E16: 4060000 | F16: 4331000 | G16: 목구조(LVL)+글루램+ 철골+경골목구조 | H16: 2020년 11월
A17: 1종 근린생활시설(휴게음식점) | B17: 사봉농공단지 근로자지원시설 | C17: 535.48 | D17: 1층 | E17: 4200000 | F17: 4345000 | G17: 일반목구조물 | H17: 2023년 05월 | J17: =ROUNDDOWN(SUM(F14:F17)/4,-3) -> 4294000
A18: 가, 나 평균값 | F18: =ROUNDDOWN((C10+F14+F15+F16+F17)/5,-3) -> 4314000 | G18: - | H18: -
A20: 다. 제곱미터당 건축공사비 산정
A21: 구분 | B21: 공사비평균 | C21: 24.07 - 25.07 상승비율 | D21: 적용공사비
A22: 주민공동이용시설 | B22: =F18 -> 4314000 | C22: 0.0084 | D22: =ROUNDDOWN(B22+(B22*C22),-3) -> 4350000
A24: 라.건축공사비 산정
A25: 사업구분 | B25: 연면적(㎡) | C25: ㎡/원 | D25: 건축총공사비
A26: 대산면 기초생활거점 | B26: 881 | C26: =D22 -> 4350000 | D26: =B26*C26 -> 3832350000
A28: 마. 토목공사비
A29: 사업구분 | B29: 단가(원) | C29: 면적(㎡) | D29: 공사비(원) | E29: 비고
A30: 토공 | B30: 18461 | C30: 550 | D30: 135153550 | E30: 옹벽공사비(50m) 포함
A31: 상수공 | B31: 3910 | C31: 550 | D31: =B31*C31 -> 2150500
A32: 오수공 | B32: 3854 | C32: 550 | D32: =B32*C32 -> 2119700
A33: 우수공 | B33: 10613 | C33: 550 | D33: =B33*C33 -> 5837150
A34: 포장공 | B34: 18340 | C34: 200 | D34: =B34*C34 -> 3668000
A35: 전기통신공 | B35: 16270 | C35: 550 | D35: =B35*C35 -> 8948500
A36: 합계 | D36: =SUM(D30:D35) -> 157877400
A38: 바.기존시설 철거비 산정
A39: 구분 | B39: 철거규모(㎡) | C39: 가산공사비(원/㎡) | D39: 예상철거비(원) | E39: 중간처리비 | F39: 운반비 | G39: 예상폐기물발생량
A40: 행정복지센터 | B40: 669 | C40: 91700 | D40: =B40*C40 -> 61347300 | E40: 72532000 | F40: 28223000 | G40: 건설폐재류:938TON / 혼합건설폐기물 : 159 TON
A41: 창고 | B41: 130 | C41: 91700 | D41: =B41*C41 -> 11921000 | E41: 14094000 | F41: 5484000 | G41: 건설폐재류:182TON / 혼합건설폐기물 : 31 TON | S41: 0.0264
A42: 합계 | B42: =SUM(B40:B41) -> 799 | D42: =SUM(D40:D41) -> 73268300 | E42: =SUM(E40:E41) -> 86626000 | F42: =SUM(F40:F41) -> 33707000 | G42: =SUM(D42:F42) -> 193601300 | Q42: 수량 | R42: 단가 | S42: 단가조정
A43: ※ 위 자료는 [공공건축물 건립 공사비 책정 가이드라인(2024, 서울특별시 기술심사담당관)]을 참조하여 산출함. | Q43: 40 | R43: 4200000 | S43: =ROUNDDOWN(R43+(R43*$S$41),-3) -> 4310000 | T43: =Q43*S43 -> 172400000
A44: ※ 해당 가이드라인은 서울시에서 시행된 공공건축물 공사의 설계가를 평균 공사비로 산정하여 물가상승률 등을 감안하여 보정한 자료로서, 사업계획 수립 시 개략적인 공사비 추정을 통해 예산편성에 참고할 수 있도록 작성된 자료임. | Q44: 40 | R44: 750000 | S44: =ROUNDDOWN(R44+(R44*$S$41),-3) -> 769000 | T44: =Q44*S44 -> 30760000
Q45: 40 | R45: 240000 | S45: =ROUNDDOWN(R45+(R45*$S$41),-3) -> 246000 | T45: =Q45*S45 -> 9840000
Q46: 284 | R46: 13000 | S46: =ROUNDDOWN(R46+(R46*$S$41),-3) -> 13000 | T46: =Q46*S46 -> 3692000
Q47: 5 | R47: 950000 | S47: =ROUNDDOWN(R47+(R47*$S$41),-3) -> 975000 | T47: =Q47*S47 -> 4875000
A48: 총 공사비 산출 | Q48: 5 | R48: 650000 | S48: =ROUNDDOWN(R48+(R48*$S$41),-3) -> 667000 | T48: =Q48*S48 -> 3335000
A49: 대분류 | B49: 소분류 | C49: 금액 | Q49: 40 | R49: 1140000 | S49: =ROUNDDOWN(R49+(R49*$S$41),-3) -> 1170000 | T49: =Q49*S49 -> 46800000
A50: B. 공사비 | B50: 건축공사비 | D50: =D26 -> 3832350000 | T50: =SUM(T43:T49) -> 271702000
B51: 토목공사비 | D51: =D36 -> 157877400
B52: 기존 시설 철거비 | D52: =G42 -> 193601300
B53: 합계 | D53: =ROUNDDOWN(SUM(D50:D52),-5) -> 4183800000 | E53: (부가세 포함)

Sheet C.설계비 D.부대비집계
A1: 설계비 및 부대비 집계
A3: 공종 | B3: 품 명 | C3: 규 격 | D3: 수 량(비율) | E3: 단 위 | F3: 합 계 | H3: 비 고 | K3: 공사비 | L3: 부가세제외
F4: 단 가 | G4: 금 액 | K4: ='2. 기본및실시설계'!D6 -> 3832350000 | L4: ='2. 기본및실시설계'!I7 -> 3.4839545e+09
A5: C. 설 계 비
A6: 가. | B6: 설계공모비
B7: 설계공모비 | C7: 예정설계용역비의 10% | D7: 10 | E7: % | G7: =SUM(G11:G13)*0.1 -> 21515732 | H7: 건축설계공모운영지침 제21조3항
B8: 부가세 | D8: 10 | E8: % | G8: =G7*0.1 -> 2151573.2
A9: 소 계 | G9: =ROUNDDOWN(SUM(G7:G8),-5) -> 23600000
A10: 나. | B10: 설계용역비
B11: 설계비 | C11: 계획,중간,실시설계 | D11: 5.992 | E11: % | G11: ='1.총괄내역'!G9 -> 214700000 | H11: 공공발주사업에 대한 건축사의 업무범위와 대가기준 별표4
C12: 손해보험료 | G12: ='1.총괄내역'!G10 -> 457321.38
B14: 부가세 | D14: 10 | E14: % | G14: =SUM(G11:G13)*0.1 -> 21515732
B15: *2종(보통)중급
A16: 소 계 | G16: =ROUNDDOWN(SUM(G11:G15),-5) -> 236600000 | H16: VAT 포함
A17: 설계 용역 및 공모비 합계 | G17: =G9+G16 -> 260200000 | H17: VAT 포함
A19: D. 부 대 비
A20: 가 | B20: 설계의도구현비용
B21: 설계의도구현비용 | C21: 설계비의 8% | D21: 8 | E21: % | G21: ='1.총괄내역'!G11*0.08 -> 17212586 | H21: 2024년 공공건축물 건립 공사비 책정 가이드라인
B22: 부가세 | D22: 10 | E22: % | G22: =G21*0.1 -> 1721258.6
B23: *2종(보통)
A24: 소 계 | G24: =ROUNDDOWN(SUM(G21:G22),-5) -> 18900000 | H24: VAT 포함
A25: 나. | B25: 신축공사 감리비
B26: 신축공사 감리비 | D26: 1.11 | E26: % | G26: ='(참고)감리,부대비,설계공모 의도구현비'!D71 -> 37806497 | H26: 공공발주사업에 대한 건축사의 업무범위와 대가기준 별표5
B27: 부가세 | D27: 10 | E27: % | G27: =G26*0.1 -> 3780649.7
B28: *2종(보통) 중급
A29: 소 계 | G29: =ROUNDDOWN(SUM(G26:G28),-5) -> 41500000 | H29: VAT 포함
A30: 다. | B30: 인허가 인증관련 비용
B31: 제로에너지인증 심사수수료(예비) | C31: *별첨 참조 | G31: 1900000
B32: 제로에너지인증 심사수수료(본) | G32: ='(참고)감리,부대비,설계공모 의도구현비'!E76 -> 1900000
B33: 장애물 없는 생활환경 인증(예비) | G33: 1648000
B34: 장애물 없는 생활환경 인증(본) | G34: 3224000
B35: 부가세 | D35: 10 | E35: % | G35: =SUM(G31:G34)*0.1 -> 867200
A36: 소 계 | G36: =SUM(G31:G35) -> 9539200 | H36: VAT 포함
A37: 라. | B37: 평가 및 조사 관련 비용
B40: 부가세 | D40: 10 | E40: % | G40: =SUM(G38:G39)*0.1 -> 0
A42: 소 계 | G42: =SUM(G38:G41) -> 0 | H42: VAT 포함 | K42: =G42+G47 -> 0
A47: 소 계 | G47: =SUM(G44:G46) -> 0 | H47: VAT 포함
A48: 마. | B48: 기타 부대비용 (예비비용)
B49: 시설부대비 | C49: 2025년도 예산안 편성 및 기금운용계획안 | D49: 0.36 | E49: % | G49: ='(참고)감리,부대비,설계공모 의도구현비'!G72 -> 12900000
B50: 예비비 | C50: 필지분할비용 및 기타잡비 | G50: 9220000
A52: 소 계 | G52: =SUM(G49:G51) -> 22120000 | H52: VAT 포함
A53: 부대비 합계 | G53: =G29+G24+G36+G42+G47+G52 -> 92059200 | H53: VAT 포함
A55: C.설계비 + D.부대비 총액 | G55: =G17+G53 -> 352259200 | H55: VAT 포함

Sheet (참고)감리,부대비,설계공모 의도구현비
A1: ■ 건축공사감리 대가요율 / 지방자치단체 예산안 편성 및 기금운영계획안 작성 세부지침(시설부대비)
A2: 구분 | B2: 1000000000 | C2: 2000000000 | D2: 3000000000 | E2: 5000000000 | F2: 10000000000 | G2: 20000000000 | H2: 비고
B3: 억이하 | C3: 억원 | D3: 억원 | E3: 억원 | F3: 억원 | G3: 억원 | H3: 도로부문
A4: 공사감리 제3종 복잡 | B4: 1.35 | C4: 1.24 | D4: 1.2 | E4: 1.18 | F4: 1.14 | G4: 1.11
A5: 공사감리 제2종 보통 | B5: 1.23 | C5: 1.13 | D5: 1.09 | E5: 1.07 | F5: 1.04 | G5: 1.01
A6: 시설부대비 | B6: 0.63 | C6: 0.36 | D6: 0.36 | E6: 0.27 | F6: 0.25 | G6: 0.23
A10: ■ 건축설계대가 요율 | J10: (단위:억원, %)
A11: 구분 공사비 | B11: 제3종(복잡) | E11: 제2종(보통) | H11: 제1종(단순)
B12: 상급 | C12: 중급 | D12: 기본 | E12: 상급 | F12: 중급 | G12: 기본 | H12: 상급 | I12: 중급 | J12: 기본
A13: 10 | B13: 7.03 | C13: 5.86 | D13: 4.68 | E13: 6.39 | F13: 5.32 | G13: 4.26 | H13: 5.75 | I13: 4.79 | J13: 3.83
A14: 20 | B14: 6.22 | C14: 5.19 | D14: 4.15 | E14: 5.66 | F14: 4.72 | G14: 3.77 | H14: 5.09 | I14: 4.24 | J14: 3.4
A15: 30 | B15: 5.91 | C15: 4.93 | D15: 3.94 | E15: 5.38 | F15: 4.48 | G15: 3.58 | H15: 4.84 | I15: 4.03 | J15: 3.23
A16: 50 | B16: 5.72 | C16: 4.76 | D16: 3.81 | E16: 5.2 | F16: 4.33 | G16: 3.46 | H16: 4.68 | I16: 3.9 | J16: 3.12
A17: 100 | B17: 5.58 | C17: 4.65 | D17: 3.72 | E17: 5.07 | F17: 4.22 | G17: 3.38 | H17: 4.56 | I17: 3.8 | J17: 3.04
A18: 200 | B18: 5.42 | C18: 4.51 | D18: 3.61 | E18: 4.92 | F18: 4.1 | G18: 3.28 | H18: 4.43 | I18: 3.69 | J18: 2.96
A19: 300 | B19: 5.32 | C19: 4.44 | D19: 3.55 | E19: 4.84 | F19: 4.03 | G19: 3.23 | H19: 4.36 | I19: 3.63 | J19: 2.91
A20: 500 | B20: 5.25 | C20: 4.38 | D20: 3.5 | E20: 4.77 | F20: 3.98 | G20: 3.18 | H20: 4.3 | I20: 3.58 | J20: 2.87
A21: 1000 | B21: 5.14 | C21: 4.29 | D21: 3.43 | E21: 4.68 | F21: 3.9 | G21: 3.12 | H21: 4.21 | I21: 3.5 | J21: 2.8
A22: ※ 관련법 : 공공발주사업에 대한 건축사의 업무범위와 대가기준 (별표4. 건축설계 대가요율)
A24: 설계의도 구현 대가 요율
A25: 공사비 | B25: 제3종(복잡) | C25: 제2종(보통) | D25: 제1종(단순)
A26: 50000000 | B26: 19.9 | C26: 19.32 | D26: 18.9
A27: 100000000 | B27: 19.36 | C27: 18.91 | D27: 18.46
A28: 200000000 | B28: 18.89 | C28: 18.19 | D28: 17.92
A29: 300000000 | B29: 18.34 | C29: 17.81 | D29: 17.4
A30: 500000000 | B30: 17.86 | C30: 17.21 | D30: 16.79
A31: 1000000000 | B31: 17.05 | C31: 15.94 | D31: 15.53
A32: 2000000000 | B32: 14.24 | C32: 13.43 | D32: 12.43
A33: 3000000000 | B33: 12.76 | C33: 11.6 | D33: 10.32
A34: 5000000000 | B34: 9.59 | C34: 8.72 | D34: 7.84
A35: 10000000000 | B35: 9.34 | C35: 8.5 | D35: 7.64
A36: 20000000000 | B36: 9.05 | C36: 8.23 | D36: 7.41
A37: ※ 관련법 : 서울특별시 공공건축 품격향상을 위한 설계의도 구현 시행 계획 (2024,10)
A39: ■ 제로에너지건축물인증수수료 | D39: ■ 장애물없는생활환경인증수수료
A40: 연면적 | B40: 인증수수료금액 | D40: 구분 | F40: 300㎡미만 | G40: 300㎡이상~ 1,000㎡미만 | H40: 1,000㎡이상~ 3,000㎡미만 | I40: 3,000㎡이상~ 10,000㎡미만 | J40: 10,000㎡ 이상
A41: 1천㎡ 미만 | B41: 1900000 | F41: (1구간) | G41: (2구간) | H41: (3구간) | I41: (4구간) | J41: (5구간)
A42: 1천㎡ 이상 3천㎡ 미만 | B42: 3900000 | D42: 본인증 | E42: 기준 수수료 | F42: 4030000
A43: 3천㎡ 이상 5천㎡ 미만 | B43: 5900000 | E43: 적용 요율 | F43: 0.5 | G43: 0.8 | H43: 1 | I43: 1.2 | J43: 1.5
A44: 5천㎡ 이상 1만㎡ 미만 | B44: 7900000 | E44: 수수료 | F44: 2015000 | G44: 3224000 | H44: 4030000 | I44: 4836000 | J44: 6045000
A45: 1만㎡ 이상 1만5천㎡ 미만 | B45: 9900000 | D45: 예비인증 | E45: 기준 수수료 | F45: 2060000
A46: 1만5천㎡ 이상 2만㎡ 미만 | B46: 11900000 | E46: 적용 요율 | F46: 0.5 | G46: 0.8 | H46: 1 | I46: 1.2 | J46: 1.5
A47: 2만㎡ 이상 3만㎡ 미만 | B47: 13900000 | E47: 수수료 | F47: 1030000 | G47: 1648000 | H47: 2060000 | I47: 2472000 | J47: 3090000
A48: 3만㎡ 이상 4만㎡ 미만 | B48: 15900000 | D48: ※ 관련법 : 장애물없는생활환경인증기준(시행 2022.4.1.)
A49: 4만㎡ 미만 6만㎡ 미만 | B49: 17800000
A50: 6만㎡ 이상 | B50: 19800000
A51: ※ 관련법 : 제로에너지건축물인증기준(시행 2025.1.1)
A53: ■ 대상공사비 산출
A54: 기능별 | B54: 순공사비 | G54: 비고
A56: 합 계 | B56: ='2. 기본및실시설계'!I7 -> 3.4839545e+09
A60: ■ 세부설계비, 공사감독비, 사업관리비 산출 요율
A61: 구분 | B61: 대상액 | C61: 순공사비(부가세제외) | E61: 용지매수비 | F61: 요율(%) | H61: 비고
C62: H/W | D62: S/W
A63: 공사감리비 | B63: =C63+D63+E63 -> 3.4839545e+09 | C63: =B56 -> 3.4839545e+09 | D63: 0 | F63: =(D5-(((B56-D2)*(D5-E5))/(E2-D2))) -> 1.0851605
A64: 시설부대비 | B64: =C64+D64+E64 -> 3.4839545e+09 | C64: =B56 -> 3.4839545e+09 | F64: =(D6-(((B56-D2)*(D6-E6))/(E2-D2))) -> 0.33822205
A65: ※ 설계의도구현 | B65: =B64 -> 3.4839545e+09 | C65: =B65 -> 3.4839545e+09 | F65: 8
A69: ■ 부대비 산출 | G69: (단위:원)
A70: 구분 | B70: 대상액 | C70: 요율(%) | D70: 산출금액 | E70: 단위조정 | F70: 할증 | G70: 최종 금액
A71: 공사감리비 | B71: =B63 -> 3.4839545e+09 | C71: =F63 -> 1.0851605 | D71: =B71*(C71/100) -> 37806497 | E71: =ROUNDUP(D71,-5) -> 37900000 | F71: 부가세포함 | G71: =ROUNDDOWN(E71*1.1,-5) -> 41600000
A72: 시설부대비 | B72: =B64 -> 3.4839545e+09 | C72: =F64 -> 0.33822205 | D72: =B72*(C72/100) -> 11783502 | E72: =ROUNDDOWN(D72,-4) -> 11780000 | F72: 부가세포함 | G72: =ROUNDDOWN(E72*1.1,-5) -> 12900000
A73: 설계공모비 | B73: ='1.총괄내역'!G12 -> 21515732 | C73: 10 | D73: =B73*(C73/100) -> 2151573.2 | E73: =ROUNDDOWN(D73,-4) -> 2150000 | F73: 부가세포함 | G73: =ROUNDDOWN(E73*1.1,-5) -> 2300000
A74: 설계의도구현 | B74: =B73 -> 21515732 | C74: =F65 -> 8 | D74: =(B74*(C74/100)) -> 1721258.6 | E74: =ROUNDDOWN(D74,-4) -> 1720000 | F74: 부가세포함 | G74: =ROUNDDOWN(E74*1.1,-5) -> 1800000
A75: 제로에너지 본인증 | B75: =B41 -> 1900000 | C75: 100 | D75: =(B75*(C75/100)) -> 1900000 | E75: =ROUNDDOWN(D75,-5) -> 1900000 | F75: 부가세포함 | G75: =E75*1.1 -> 2090000
A76: 제로에너지 예비인증 | B76: =B75 -> 1900000 | C76: 100 | D76: =(B76*(C76/100)) -> 1900000 | E76: =ROUNDDOWN(D76,-5) -> 1900000 | F76: 부가세포함 | G76: =E76*1.1 -> 2090000
A77: 장애물 없는 생활환경 인증 (본인증) | B77: 4030000 | C77: 0.8 | D77: =B77*C77 -> 3224000 | E77: =D77 -> 3224000 | F77: 부가세포함 | G77: =ROUNDDOWN(E77*1.1,-4) -> 3540000
A78: 장애물 없는 생활환경 인증 (예비인증) | B78: 2060000 | C78: 0.8 | D78: =B78*C78 -> 1648000 | E78: =D78 -> 1648000 | F78: 부가세포함 | G78: =ROUNDDOWN(E78*1.1,-4) -> 1810000

Sheet 인증수수료집계
A1: 인허가 인증 수수료 집계표
A3: 공종 | B3: 품 명 | C3: 세부내용 | D3: 합 계 | G3: 비 고 | J3: 공사비
D4: 수수료 | E4: 부가가치세 | F4: 금 액 | J4: 2497300000
A5: 1. 장애물없는생활환경인증(BF인증)
B6: 예비인증 | C6: 장애인노인임산부편의증진법 10조의2 에서 정한 용도 | E6: =D6*0.1 -> 0 | F6: =D6+E6 -> 0
B7: 본인증 | E7: =D7*0.1 -> 0 | F7: =D7+E7 -> 0
A9: 소 계 | F9: =SUM(F6:F8) -> 0
A11: 2. 제로에너지건축물인증
B12: 예비인증 | C12: 500㎡이상 인증의무 | D12: 1900000 | E12: =D12*0.1 -> 190000 | F12: =D12+E12 -> 2090000
B13: 본인증 | D13: 1900000 | E13: =D13*0.1 -> 190000 | F13: =D13+E13 -> 2090000
B14: *2025년 건축물에너지효율등급 과 제로에너지건축물인증 통합
A15: 소 계 | F15: =SUM(F12:F14) -> 4180000
A17: 3. 녹색건축인증
C18: 3000㎡이상 인증의무 (해당없음) | E18: =D18*0.1 -> 0 | F18: =D18+E18 -> 0
E19: =D19*0.1 -> 0 | F19: =D19+E19 -> 0
A21: 소 계 | F21: =SUM(F18:F20) -> 0
A23: 4. 에너지절약계획서 제출
B24: 성능지표 수수료 | C24: 500㎡이상 의무 | E24: =D24*0.1 -> 0 | F24: =D24+E24 -> 0
E25: =D25*0.1 -> 0 | F25: =D25+E25 -> 0
A27: 소 계 | F27: =SUM(F24:F26) -> 0
A29: 5. 지능형 건축물 인증
B30: 예비인증 | C30: 해당없음 | E30: =D30*0.1 -> 0 | F30: =D30+E30 -> 0
B31: 본인증 | E31: =D31*0.1 -> 0 | F31: =D31+E31 -> 0
A33: 소 계 | F33: =SUM(F30:F32) -> 0
A35: 인증 심사수수료 총액 | F35: =F9+F15+F21+F27+F33 -> 4180000 | G35: VAT포함
A36: [비고] - 인증 및 수수료는 인허가 접수 및 건축물 사용승인 시점, 시설물의 최종 규모 및 시설 종별에 따라 변경 될 수 있음. - 인허가권자가 제시하는 행정절차 및 설계 변경 요청에 따라 변동 가능한 금액임.

Sheet 서울시 설계의도구현 보간
B1: 서울시 설계의도 구현 대가요율 용역비 산출(직선보간법 적용)
C3: 과 목 | D3: 대 상 액 | T3: 비 율 | V3: 설 계 비
B4: 구 분 | D4: 예정설계비 | H4: 부가세제외 금액 | P4: 설계 적용공사비
B5: 설계비산출 | D5: ='2. 기본및실시설계'!D6 -> 3832350000 | H5: / | I5: 1.1 | P5: =I6 -> 3.4839545e+09 | T5: =T7/100 -> 0.10714 | V5: =#REF! -> #REF! | Y5: × | Z5: =T7 -> 10.714 | AB5: ％
H6: = | I6: ='2. 기본및실시설계'!I7:K7 -> 3.4839545e+09 | V6: = | X6: =ROUNDDOWN(V5*Z5/100,-3) -> #REF!
B7: 비 율(Y) = | D7: =T15 -> 13.43 | E7: - | F7: ( | G7: =P5 -> 3.4839545e+09 | J7: - | K7: =G15 -> 2000000000 | N7: )×( | O7: =T15 -> 13.43 | P7: - | Q7: =T14 -> 11.6 | R7: ) | S7: = | T7: =ROUND(D7-(((G7-K7)*(O7-Q7))/(I8-M8)),3) -> 10.714 | V7: %
I8: =G14 -> 3000000000 | L8: - | M8: =G15 -> 2000000000
C10: Y = | D10: Y1 | E10: - | F10: (X - X2) | H10: × | I10: (Y1 - Y2)
F11: X1 | H11: - | I11: X2
C12: ◈ 사 업 비 | G12: 건설 | O12: ◈ 적용요율
C13: - X : 당해금액 : | G13: =P5 -> 3.4839545e+09 | O13: - Y : 당해공사비 요율 : | T13: 2종보통
C14: - X1 : 큰 금 액 : | G14: 3000000000 | O14: - Y1 : 작은금액 요율 : | T14: 11.6
C15: - X2 : 작은금액 : | G15: 2000000000 | O15: - Y2 : 큰 금 액 요율 : | T15: 13.43
