{"text_format":"1","workbook":"xlsx","n_sheets":19,"sheets":["Sheet1","Data Collection Notes_Sheena","Data Collection Notes_Evan","GHG Summary_local","GHG Summary_regional","Scope 1 Utilities","Other Scope 1","Scope 2 Utilities","Scope 3 Commuting","Other Scope 3 Sources","Water and Waste","Offsets","Green Construction","Summary Scope GHG Benchmarks","Scope GHG Benchmarks","Scope 1 Conversion","Institutional Data","Attributes","Questionnaire"],"not_rendered":{"charts":12,"images":2,"macros":1,"external_links":2,"defined_names":9,"comments":11,"pivot_tables":0},"unopened":[],"bounds":{"document_bytes":16777216,"sheet_cells":100000,"rows_first":2000,"rows_last":500,"rows_between":2000,"halvings":0,"cell_chars":16384,"cell_head_chars":4096},"cells_cut":0,"cells_raw":0,"read":"whole","date_system":"1900"}

{"sheet":"Sheet1","index":0,"n_rows":144,"n_cols":14,"rows_kept":144,"cut":false,"hidden":false,"merged":[]}
["Total Emissions Regional","FY2004","FY2005","FY2006","FY2007","FY2008","FY2009","FY2010","FY2011","FY2012","FY2014"]
["Scope 1",29938.397986755837,26253.094526568766,25563.004719201908,24927.111273926836,26745.345362543121,25875.455581604772,23864.433847508717,22788.600000000002,24235]
["Scope 2",18188.099999999999,18848.099999999999,21380.600000000002,27173,27656.3,26429.3,27420.799999999999,28633.7,29421]
["Scope 3",30125.712847683499,31551.312847683501,29446.812847683505,31602.912847683499,33296.712847683499,39214.6128476835,36461.781773131202,37485.87422964329,39769.100000000006]
[]
[]
[]
[]
[]
[]
[]
[]
[]
[]
[]
[]
[]
[]
[]
[]
[]
[]
[]
[]
[]
[]
[]
[]
[]
[]
[]
[]
[]
[]
[null,null,"FY2004","FY2005","FY2006","FY2007","FY2008","FY2009","FY2010","FY2011","FY2012","FY2014"]
["Total Gross GHG Emissions","Metric Tons Carbon Dioxide Equivalent (MTCDE)",78252.210834439335,76652.507374252265,76390.417566885415,83703.024121610331,87698.358210226608,91519.368429288268,87747.015620639926,88908.174229643293,93425.1]
[null,"GSF",5930710,6004131,6327716,6352151,6441734,6298056,6507873,7374796,7800628]
[null,"MTCDE/GSF",{"$f":"C36/C37","v":1.3194408567345113E-2},{"$f":"D36/D37","v":1.2766628072280945E-2},1.2072352420191649E-2,1.3177114983823643E-2,1.361409182841555E-2,1.4531367842599093E-2,1.3483209586394805E-2,1.2055679130601482E-2,1.1976612652212105E-2]
[null,"FTE",23677.8,24178.86286919831,24195.716066098146,24131.57237377765,23860.5,24779,25751.5,27967,28867]
[null,"MTCDE/FTE",{"$f":"C36/C39","v":3.3048767552069593},{"$f":"D36/D39","v":3.170227970972971},3.1571877169578761,3.4686104504555804,3.6754618809424198,3.6934246107303874,3.4074525996792393,3.179038660909046,3.2363979630720201]
[]
[]
[]
[]
[]
[]
[]
[]
[]
[]
[]
[]
[]
[]
[]
[]
[]
[]
[]
[]
[]
[null,null,null,null,"FY2004","FY2005","FY2006","FY2007","FY2008","FY2009","FY2010","FY2011","FY2012","FY2014"]
[null,null,"Purchased Electricity",null,34544.60583637021,35358.527654142461,38058.642897085221,37356.927140446591,37538.196205526714,38500.933656518864,38670.200525335538,35697.589683836675,34094.787840414901]
[null,null,"Stationary Sources",null,90564.901664789038,77851.987565291463,71844.779056515981,70919.928060964085,75238.801927085617,74762.179232842042,67437.951078493352,56759.776371150765,56935.440531198255]
[]
[null,null,null,null,{"$f":"SUM(E63:E64)","v":125109.50750115924},{"$f":"SUM(F63:F64)","v":113210.51521943393},109903.42195360121,108276.85520141068,112776.99813261232,113263.1128893609,106108.15160382888,92457.366054987448,91030.228371613164]
[]
[]
[]
[]
[]
[]
[]
[]
[]
[]
[]
[]
[]
[]
[]
[null,null,null,null,"FY2004","FY2005","FY2006","FY2007","FY2008","FY2009","FY2010","FY2011","FY2012","FY2014"]
[null,null,null,"Purchased Electricity",{"$f":"E86/E89","v":10.037105912333701},{"$f":"F86/F89","v":10.276508494366091},11.060984481949399,10.842059480717634,10.858203323297733,11.080261196931243,11.117877648426758,10.190602560396247,9.8305499249547594]
[null,null,null,"Cogenerated Electricity",{"$f":"E88/E89","v":1.2565106032835867},{"$f":"F88/F89","v":0.98365608611804112},0.65269079712174183,0.78790318429143136,0.65068660084381003,0.7329483891537325,0.25261248951846477,0,0]
[]
[null,null,null,null,59527164.405336604,61701503.222786769,69990768.48218292,68870398.972499996,69945657.526600003,69784105.512899995,72353735.765499994,75153615,76684463]
[]
[null,null,null,null,7452000,5906000,4130042,5004880,4191550,4616150,1643970,0,0]
[null,null,null,null,5930710,6004131,6327716,6352151,6441734,6298056,6507873,7374796,7800628]
[]
[]
["Total Emissions Local","FY2004","FY2005","FY2006","FY2007","FY2008","FY2009","FY2010","FY2011","FY2012","FY2014"]
["Scope 1",28528.058783510001,25130.329804942339,24759.65628552491,24123.237033638063,25881.790478749481,25106.139816316085,23511.894523834588,21275.4,24235]
["Scope 2",3849.8827779940393,4038.7340855092361,4439.7702620419495,4390.8314890547044,4401.1534388750806,4418.5957659373498,4311.0782187556024,3614.1339704254738,2252.6]
["Scope 3",27783.412847683499,29156.112847683504,26797.412847683499,28405.212847683502,30071.812847683494,36141.212847683506,33381.881773131201,36009.274229643292,35582.1]
[null,{"$f":"SUM(B93:B95)","v":60161.354409187537},{"$f":"SUM(C93:C95)","v":58325.17673813508},55996.839395250354,56919.281370376266,60354.756765308055,65665.948429936936,61204.854515721396,60898.808200068772,62069.7]
[]
[]
[null,"FY2004","FY2005","FY2006","FY2007","FY2008","FY2009","FY2010","FY2011","FY2012","FY2014"]
[null,60029.773306957541,58186.88576917148,55906.417785174053,56820.703270921964,60262.803889773058,65017.45173160694,59961.382718927249,60229.330807146922,60900.611603967496]
["FTE",23677.8,24178.86286919831,24195.716066098146,24131.57237377765,23860.5,24779,25751.5,27967,28867]
["MTCDE/FTE",{"$f":"B100/B101","v":2.5352766433941305},2.4065187053646069,2.3105915787922222,2.3546208423892701,2.5256303887082443,2.6238932859117372,2.3284617485943442,2.1535856833820906,2.109696594864984]
["GSF",5930710,6004131,6327716,6352151,6441734,6298056,6507873,7374796,7800628]
["MTCDE/GSF",{"$f":"B100/B103","v":1.0121852747303027E-2},{"$f":"C100/C103","v":9.6911419436337218E-3},8.8351654507209318E-3,8.9451121786811999E-3,9.3550593504440043E-3,1.0323415944794224E-2,9.2136682321439355E-3,8.1669148281724568E-3,7.8071421434232598E-3]
[]
[null,"FY2004","FY2005","FY2006","FY2007","FY2008","FY2009","FY2010","FY2011","FY2012"]
[null,{"$f":"B102","v":2.5352766433941305},{"$f":"C102","v":2.4065187053646069},2.3105915787922222,2.3546208423892701,2.5256303887082443,2.6238932859117372,2.3284617485943442,2.1535856833820906,2.109696594864984]
[null,"FY2004","FY2005","FY2006","FY2007","FY2008","FY2009","FY2010","FY2011","FY2012"]
[null,{"$f":"B104","v":1.0121852747303027E-2},{"$f":"C104","v":9.6911419436337218E-3},8.8351654507209318E-3,8.9451121786811999E-3,9.3550593504440043E-3,1.0323415944794224E-2,9.2136682321439355E-3,8.1669148281724568E-3,7.8071421434232598E-3]
[]
[]
[]
[]
[]
[]
[]
[]
[]
[]
[]
[]
[]
[]
[]
[]
[]
[]
[]
[]
[]
[]
[]
[]
[]
[null,"FY2004","FY2005","FY2006","FY2007","FY2008","FY2009","FY2010","FY2011","FY2012","FY2014"]
[null,3.3114686237064461,3.1313775771417762,3.0181745541969089,3.1068437119766346,3.3426636054308676,3.3478790191323387,2.9801878297475923,2.6933353652910403,2.6990671337787195]
[]
[]
[]
[]
[]
["Scope 1",{"$f":"J93","v":24235}]
["Scope 2",2252.6]
["Scope 3",{"$f":"J95","v":35582.1}]

{"sheet":"Data Collection Notes_Sheena","index":1,"n_rows":104,"n_cols":7,"rows_kept":104,"cut":false,"hidden":false,"merged":[[4,1,4,6],[9,1,12,1],[9,3,12,3],[9,4,12,4],[9,5,12,5],[9,6,12,6],[5,1,8,1],[5,3,8,3],[5,4,8,4],[5,5,8,5],[5,6,8,6],[14,1,17,1],[14,3,17,3],[14,4,17,4],[14,5,17,5],[14,6,17,6],[18,1,21,1],[18,3,21,3],[18,4,21,4],[18,5,21,5],[18,6,21,6],[15,2,16,2],[22,1,25,1],[22,3,25,3],[22,4,25,4],[22,5,25,5],[22,6,25,6],[30,1,33,1],[30,3,33,3],[30,4,33,4],[30,5,33,5],[30,6,33,6],[26,1,29,1],[26,3,29,3],[26,4,29,4],[26,5,29,5],[26,6,29,6],[56,6,59,6],[43,1,46,1],[43,3,46,3],[43,4,46,4],[43,5,46,5],[43,6,46,6],[48,1,51,1],[48,3,51,3],[48,4,51,4],[48,5,51,5],[48,6,51,6],[13,1,13,6],[34,1,34,6],[47,1,47,6],[35,1,38,1],[68,1,71,1],[68,3,71,3],[68,4,71,4],[68,5,71,5],[68,6,71,6],[35,5,38,5],[39,5,42,5],[35,6,38,6],[39,6,42,6],[64,5,67,5],[64,6,67,6],[52,1,55,1],[52,3,55,3],[52,4,55,4],[52,5,55,5],[52,6,55,6],[56,1,59,1],[56,3,59,3],[56,4,59,4],[56,5,59,5],[39,1,42,1],[35,3,38,3],[39,3,42,3],[35,4,38,4],[39,4,42,4],[89,1,92,1],[89,3,92,3],[89,4,92,4],[89,5,92,5],[72,1,75,1],[72,3,75,3],[72,4,75,4],[72,5,75,5],[76,1,79,1],[80,1,83,1],[76,5,79,5],[80,5,83,5],[36,2,37,2],[72,6,75,6],[60,1,63,1],[60,3,63,3],[60,4,63,4],[60,5,63,5],[60,6,63,6],[64,1,67,1],[64,3,67,3],[64,4,67,4],[76,6,79,6],[80,6,83,6],[93,1,93,6],[94,1,97,1],[94,3,97,3],[94,4,97,4],[94,5,97,5],[94,6,97,6],[84,1,84,6],[85,1,88,1],[85,3,88,3],[85,4,88,4],[85,5,88,5],[85,6,88,6],[76,3,79,3],[80,3,83,3],[76,4,79,4],[80,4,83,4],[89,6,92,6],[98,1,101,1],[98,3,101,3],[98,4,101,4],[98,5,101,5],[98,6,101,6],[102,1,105,1],[102,3,105,3],[102,4,105,4],[102,5,105,5],[102,6,105,6]]}
[{"$f":"'Institutional Data'!D8","v":"University of Oregon"}]
["Go-Green Measurement, Benchmarking and Analysis Summary"]
[]
[null,null,"Received Data From","File Names","File Format","Assumptions or Calculations","Notes and Future Issues"]
[null,"Institutional Data"]
[null,"Population",null,null,null,null,"ROPA numberes"]
[]
[]
[]
[null,"Physical Size",null,null,null,null,"From ROPA building inventory; but including entire campus"]
[]
[]
[]
[null,"Scope 1"]
[null,"On Campus Stationary Sources",null,null,"multiple",null,"All base data of fossil fuels in the scope 1 file in the fossil fuel folder.  Multiple sources and are listed in the Data collect Process and Update in the base data folder.  Conversion from Therms to mmbtu is in the U of O Fossil Fuel Conversions FY10 most recent document"]
[null,null,"Multiple Sources- listed in base data data contact and collection "]
[]
[]
[null,"University Fleet",null,"DAS report; FY2010#s from email from Evan; Email:  RE;Ground travel expl + more fuel data","PDF and excel, Email PDFed",null,"Split out of the athletics vehicle in Ground Travel e-mail.  Not including the DAS report because on concern that it is double counted with Carolyn's numbers for the Reimbursement motorpool numbers"]
[null,null,"OUS - DAS report"]
[null,null,"Evan Lewis - from Bill Kasper and Athletics"]
[]
[null,"Refrigerants & Chemicals",null,null,null,null,"N/A"]
[]
[]
[]
[null,"Fertilizer Application",null,"FY 2010 Fertilizer Usage; FY10 Fertilizer Data","PDF and excel",null,"All pounds and nitrogen % provided"]
[null,null,"Evan - from Jeff Ziglinski"]
[]
[]
[null,"Animal Husbandry"]
[]
[]
[]
[null,"Scope 2"]
[null,"Purchased Electric",null,null,"multiple",null,"All base data of fossil fuels in the scope 2 file in the electricity folder.  Multiple sources and are listed in the Data collect Process and Update in the base data folder"]
[null,null,"Multiple Sources- listed in base data data contact and collection "]
[]
[]
[null,"Purchased Steam"]
[null,null,"Baker - in base data folder"]
[]
[]
[null,"Purchased Chilled Water"]
[]
[]
[]
[null,"Scope 3"]
[null,"Faculty/Staff Commuting",null,null,null,null,"Used last years numbers"]
[null,null,"Steve Mital"]
[]
[]
[null,"Student Commuting",null,null,null,null,"Used last years numbers"]
[null,null,"Steve Mital"]
[]
[]
[null,"Faculty/Staff Air Travel"]
[null,null,"Evan - "]
[]
[]
[null,"Student Air Travel"]
[]
[]
[]
[null,"Other Travel/ Motorpool ","Justin Fleming - OSU","UofO Carbon","Excel"]
[]
[]
[]
[null,"Study Abroad Travel"]
[]
[]
[]
[null,"Solid Waste",null,"campus Reycling total","Excel",null,"In the Chart number tab"]
[null,null,"Evan"]
[]
[]
[null,"Wastewater",null,"Wastewater and Water FY10 Facilities Services Input"]
[null,null,"Trafton Bean & Teri Jones"]
[]
[]
[null,"Paper","Tim Gray","RE_U of O - paper purchases; Paper calucations 2_fy10","PDF of e-mail and excel ","calculations in the excel calculation sheet, using the base data as 60% of entire purchases","data contact from Office max, used in Fy09.  confirmed from purchasing department and Office Max that they sell 60% of campuses paper a year.  "]
[]
[]
[]
[null,"Offsets"]
[null,"Offsets - Additionality",null,"offsets/ WARM;  FY10 #s","PDF"]
[null,null,"Steve Mital / Evan"]
[]
[]
[null,"Offsets - Non Additionality"]
[]
[null,null,"Steve Mital / Evan"]
[]
[null,"Miscellaneous"]
[null,"LEED / Green Building",null,null,null,null,"Same as last year"]
[]
[]
[]
[null,"Personal Water Use",null,"Wastewater and Water FY10 Facilities Services Input;  OIMB - Utilities Track fo UO III","Excel","Calculations made in the spreadsheet and adds in the OIMB water consumption","OIMB data in the Scope 1&2 folder in the electricity folder.  "]
[null,null,"Trafton Bean & Teri Jones"]
[null,null,"Joyce Croes"]
[]
[null,"Recycling",null,"campus Reycling total","Excel",null,"In the Chart number tab"]
[null,null,"Evan"]

{"sheet":"Data Collection Notes_Evan","index":2,"n_rows":49,"n_cols":13,"rows_kept":49,"cut":false,"hidden":false,"merged":[]}
["Scope 1 ","Original File Name","Data Source","Notes"]
["Cogen Electric GHG","Scope 1.xlsx","??? (contact Sheena Salsberry) "]
["Cogen Steam GHG","Scope 1.xlsx","??? (contact Sheena Salsberry) "]
["Other On-Campus Stationary GHG","Scope 1 distillate oils and propane.xlsx","??? (contact Sheena Salsberry) "]
["Direct Transportation GHG","Other scope 1 fleet.xlsx","FY04-FY09: Oregon DAS Reports + fleet fuel data from Bill Kasper. FY10 data came from Bill Kasper and Ryan Stock.  ","See notes about data collection. FY 06 Totals extrapolated back to FY04. All years except FY10 included gasoline totals from DAS reports. FY10 only included gasoline data from UO Facilities and Athletics. Large decline in fuel consumption is due to the way data was tracked, not due to actual decline in consumption.  "]
["Agriculture GHG","Scope 1.xlsx","Jeff Ziglinski, UO Campus Operations"]
[]
[]
["Scope 2"]
["Purchased Electricity ","Scope 2 raw data by bill.xlsx"]
["Purchased Steam","Scope 2 raw data by bill.xlsx"]
[]
["Scope 2  Contacts"]
["Energy Type","Inventory needed","FY010Utility","FY10 Data Tab","FY10 Orignial Data","Contact  ","Contact Number","Contact Email","FY04-FY10 Data Name","FY04-FY10 Orginial File","Date received","Additional Notes","Source"]
["Electricity","FY04-FY10","Athletics","Athletics ","All athletic documents in Atheltics folder","Teri  ","541-346-6859","terij@uoregon.edu","Athletics ","UO49201; UO80022; UO80062; UO80113","2010-09-09",null,"EWEB"]
["Electricity","FY10","Baker","Baker",null,"Teri  ","541-346-6859","terij@uoregon.edu","In tab","Uo 3953; UO 5293"]
["Electricity","FY04-FY10","East Campus","Spence-Ugrad-East C","230 tab","Teri  ","541-346-6859","terij@uoregon.edu","UO Housing Master Bill","UO Housing Master Bill","2010-09-27",null,"EWEB"]
["Electricity","FY10","EC Cares","EC Cares",null,"Teri  ","541-346-6859","terij@uoregon.edu","EC Cares","EC Cares - mark numbers"]
["Electricity","FY10","EWEB HV","EWEB HV",null,"Teri  ","541-346-6859","terij@uoregon.edu","EWEB HV Master Input","EWEB HV Master Input","2010-09-08"]
["Electricity","FY10","EWEB Unified","EWEB Unified","in unified tab","Teri  ","541-346-6859","terij@uoregon.edu","EWEB HV Master Input","EWEB HV Master Input","2010-09-08"]
["Electricity","FY04-FY10","Graduate Village","Spence-Ugrad-East C","217 tab","Teri  ","541-346-6859","terij@uoregon.edu","UO Housing Master Bill","UO Housing Master bill","2010-09-27",null,"EWEB"]
["Electricity","FY04-FY10","Housing Department EWEB Bill","Eletricity 2009-10","Housing","Allen Gidley  Received from Teri Jones","541-346-6859","agidley@uoregon.edu","Housing Combined - in tab","UO3953 (Barnhart); UO5293 (Riley)","2010-09-09"]
["Electricity","FY10","OIMB","OIMB- Utilities Tracking for UO Key",null,"Joyce Croes",null," jcroes@uoregon.edu","OIMB- utilities Track for UO III","OIMB- utilities Track for UO III","Sept. "]
["Electricity","FY10","Pine Mt. Observatory","Pine Mt. Observatory_SS","1706_013; 1706_023, 1706_001","Deanna Tarango",null,"dtarango@uoregon.edu","Pine Mt. 1 of 2, Pine Mt. 2 of 2","2344_013; 2344_001 ","2010-07-13"]
["Electricity","FY04-FY10","Rainer Building ","Rainer Building ",null,"Teri  ","541-346-6859","terij@uoregon.edu","Rainier Building Combined","54582, 54583, 54584","2010-08-18"]
["Electricity","FY04-FY10","River Front","RiverFront_Combined documents","all riverfront documents (1600 Millrace) in RiverFront Folder combioned in 1600 millrace_SS","Deneane Southern - EWEB","801.583.8811/  541-685-7000 Customer Serivce #","deneanesouthern@rpa.utah.edu","data was hand processed.  Didn't have electronic version.  Information is in this tab","Information on contact number in Riverfront - EWEB info message 7-15",null,"***54.17% is owned by U of O -- only Jul 13 - Was only able to provide charges.  Will ask if I can have permission to gather the information directly from EWEB.  Jul 15- received permission to contact EWEB by phone only.  Additional meter notes in other tab.  8/5 Contacted and will send data"]
["Electricity","FY04-FY10","Spencer View","Housing","286 tab","Teri  ","541-346-6859","terij@uoregon.edu","UO Housing Master Bill",null,"2010-09-27",null,"EWEB"]
["Electricity","FY10","White Stag Building","White Stag Building _SS","PGE_white Stag  (PDF)","Margaret Teasdale ","503-943-6095","margaret@venerableproperties.com","Combined PGE FY10","PDF copy of billing - White Stag PGE","2010-07-28"]
["Natural Gas","FY04-FY10","White Stag Block","White Stag Building _SS","NW Tab","Margaret Teasdale ","503-943-6095","margaret@venerableproperties.com","Combined NWNatural FY10","PDF copy of billing - White Stag NW Natural","2010-07-28"]
["Natural Gas","FY10","Northwest Natural Gas to CPS","NWN Transportation Input",null,"Teri  ",null,"terij@uoregon.edu",null,null,null,"Received FY10 report"]
["Natural Gas","FY10","NWN Individual Input","NWN Individual Output Sightlines",null,"Teri  ",null,"terij@uoregon.edu",null,null,null,"Received FY10 report"]
["Natural Gas","FY04-FY10","Erb Memorial Building","EMU","EMUNatgas ","Teri  ",null,"terij@uoregon.edu","NWN - housing and EMU combined","Doc.PDF","2010-09-09","Followed up on data collection 7/28.  Scheduled time to meet on 8/19 during FMB&A campus visit","NWN"]
["Natural Gas","FY04-FY10","Athletics Department Northwest Natural Bill","Athletics NW Natural Gas FY04-FY09",null,"Teri  ",null,"terij@uoregon.edu",null,null,null,"Followed up on data collection 7/28.  Scheduled time to meet on 8/19 during FMB&A campus visit"]
["Natural Gas","FY04-FY10","Housing  NWNG","Housing","Gas tab","Teri  ",null,"terij@uoregon.edu","NWN - housing and EMU combined","Doc.PDF","2010-09-09","Followed up on data collection 7/28.  Scheduled time to meet on 8/19 during FMB&A campus visit","NWN"]
["Propane","FY10","OIMB","OIMB- Utilities Tracking for UO Key","propane pivot tab","Joyce Croes",null," jcroes@uoregon.edu","OIMB- utilities Track for UO III","OIMB- utilities Track for UO III","Sept. ","Jul13 - says it might take next fall.  Emailed back to see if she needed help gathering the data"]
["Oil","FY10","OIMB","OIMB- Utilities Tracking for UO Key","oil pivot tab","Joyce Croes",null," jcroes@uoregon.edu","OIMB- utilities Track for UO III","OIMB- utilities Track for UO III","Sept. ","Jul13 - says it might take next fall.  Emailed back to see if she needed help gathering the data"]
["Electricity","FY04-FY07","Westmoreland ",null,null,"Allen Gidley ",null,"agidley@uoregon.edu",null,null,null,"Data wasn't available.  Used kwh/GSF comparable to spencer village and applied to total space.  "]
["Natural Gas","FY04-FY08","Willamette Block Building",null,null,null,"Angela Mercer     503-412-3744","mercer@uoregon.edu","Energy consumption",null,"2010-09-24"]
["Electricity","FY04-FY08","Willamette Block Building",null,null,null,"Angela Mercer     503-412-3744","mercer@uoregon.edu","Energy consumption","Energy consumption","2010-09-24"]
["Fuel Oil",null,"CPS NWNG",null,null,null,null,null,null,"6/1/2010 LRAPA Report 25"]
[]
["Scope 3","Original File Name","Contact","Contact #","Contact Email","Notes","Source"]
["Faculty and Staff Commuting","Scope 3","Steve Mital (2009 Commute Survey)"]
["Student Commuting","Scope 3","Steve Mital (2009 Commute Survey)"]
["Outsourced Travel: Directly Financed Air Travel","Scope 3","Carolyn Wooley (reimburesements, travel egency reports, charter planes),  Lynn Harrel (procurement cards) ","Carolyn Wooley: 541-346-3158,      Lynn Harrell: 541-346-3220","Carolyn Wooley: cwooley@uoregon.edu, Lynn Harrell: lharrell@uoregon.edu  ","Travel booked through 4 travel agencies, reimburesements, and procurement cards, + charter flights for athletics (get through Carolyn- Colleen Minard in Athletics Business Office is Original Source of charter data). See air travel ghg collection summary for more detail","UO Business Office and UO Procurement and Contracting Services "]
["Other Directly Financed Travel","Scope 3","Carolyn Wooley (reimburesements) , Justin Flemming for Motor Pool: ","Carolyn Wooley: 541-346-3158,  Justin Flemming: 541-346-2000","Carolyn Wooley: cwooley@uoregon.edu, Justin Flemming: justin.fleming@oregonstate.edu ","FY10 motor pool totals included Enterprise rental vehicles- these will not be included in the future.","UO Business Office and OSU Motor Pool- Eugene "]
["Solid Waste","Scope 3","Karyn Kaplan","Karyn Kaplan: (541) 346-1545 ","Karyn Kaplan: knowaste@uoregon.edu ","Contact Karyn for updated spreadsheet on landfileld vs. recycled waste in FY11","UO Campus Recycling"]
["Wastewater","Scope 3","Teri Jones, UO Facilities Services"]
["Paper","Scope 3","Tim Gray  (Office Max)","Tim Gray: 877-969-6629  ","Tim Gray: timgray@officemax.com  ","Get updated data from Mark Dixon (UO Printing and Mailing Services) for FY11","Office Max"]

{"sheet":"GHG Summary_local","index":3,"n_rows":72,"n_cols":47,"rows_kept":72,"cut":false,"hidden":false,"merged":[]}
[{"$f":"'Institutional Data'!$D$8","v":"University of Oregon"}]
[{"$f":"'Water and Waste'!A2","v":"Go-Green Measurement, Benchmarking and Analysis Summary"}]
[]
["GHG Summary"]
[]
[null,"Total Emissions",null,null,"FY1995","FY1996","FY1997","FY1998","FY1999","FY2000","FY2001","FY2002","FY2003","FY2004","FY2005","FY2006","FY2007","FY2008","FY2009","FY2010","FY2011","FY2012","FY2014"]
[null,"Scope 1"]
[null,null,"Scope 1 Utilities","MTCDE",{"$f":"'Scope 1 Utilities'!E50","v":0},{"$f":"'Scope 1 Utilities'!F50","v":0},{"$f":"'Scope 1 Utilities'!G50","v":0},{"$f":"'Scope 1 Utilities'!H50","v":0},{"$f":"'Scope 1 Utilities'!I50","v":0},{"$f":"'Scope 1 Utilities'!J50","v":0},{"$f":"'Scope 1 Utilities'!K50","v":0},{"$f":"'Scope 1 Utilities'!L50","v":0},{"$f":"'Scope 1 Utilities'!M50","v":0},27189.483320085175,23775.254341517513,23422.880822100084,23215.819201243434,24993.757384294455,24185.372522984395,23078.669590801939,20790.599999999999,{"$f":"'Scope 1 Utilities'!V46","v":23677},{"$f":"'Scope 1 Utilities'!W46","v":50311}]
[null,null,"Vehicle Fleet","MTCDE",{"$f":"'Other Scope 1'!E50","v":0},{"$f":"'Other Scope 1'!F50","v":0},{"$f":"'Other Scope 1'!G50","v":0},{"$f":"'Other Scope 1'!H50","v":0},{"$f":"'Other Scope 1'!I50","v":0},{"$f":"'Other Scope 1'!J50","v":0},{"$f":"'Other Scope 1'!K50","v":0},{"$f":"'Other Scope 1'!L50","v":0},{"$f":"'Other Scope 1'!M50","v":0},{"$f":"'Other Scope 1'!N50","v":1316.1},{"$f":"'Other Scope 1'!O50","v":1332.6},{"$f":"'Other Scope 1'!P50","v":1314.3},{"$f":"'Other Scope 1'!Q50","v":883.7},{"$f":"'Other Scope 1'!R50","v":866.8},{"$f":"'Other Scope 1'!S50","v":890.9},{"$f":"'Other Scope 1'!T50","v":426},{"$f":"'Other Scope 1'!U50","v":477.4},{"$f":"'Other Scope 1'!V50","v":553},{"$f":"'Other Scope 1'!W50","v":537}]
[null,null,"Refrigerants and Chemicals","MTCDE",{"$f":"'Other Scope 1'!E51","v":0},{"$f":"'Other Scope 1'!F51","v":0},{"$f":"'Other Scope 1'!G51","v":0},{"$f":"'Other Scope 1'!H51","v":0},{"$f":"'Other Scope 1'!I51","v":0},{"$f":"'Other Scope 1'!J51","v":0},{"$f":"'Other Scope 1'!K51","v":0},{"$f":"'Other Scope 1'!L51","v":0},{"$f":"'Other Scope 1'!M51","v":0},{"$f":"'Other Scope 1'!N51","v":0},{"$f":"'Other Scope 1'!O51","v":0},{"$f":"'Other Scope 1'!P51","v":0},{"$f":"'Other Scope 1'!Q51","v":0},{"$f":"'Other Scope 1'!R51","v":0},{"$f":"'Other Scope 1'!S51","v":0},{"$f":"'Other Scope 1'!T51","v":0},{"$f":"'Other Scope 1'!U51","v":0},{"$f":"'Other Scope 1'!V51","v":0},{"$f":"'Other Scope 1'!W51","v":0}]
[null,null,"Agricutlure","MTCDE",{"$f":"'Other Scope 1'!E52","v":0},{"$f":"'Other Scope 1'!F52","v":0},{"$f":"'Other Scope 1'!G52","v":0},{"$f":"'Other Scope 1'!H52","v":0},{"$f":"'Other Scope 1'!I52","v":0},{"$f":"'Other Scope 1'!J52","v":0},{"$f":"'Other Scope 1'!K52","v":0},{"$f":"'Other Scope 1'!L52","v":0},{"$f":"'Other Scope 1'!M52","v":0},{"$f":"'Other Scope 1'!N52","v":22.475463424826657},{"$f":"'Other Scope 1'!O52","v":22.475463424826657},{"$f":"'Other Scope 1'!P52","v":22.475463424826657},{"$f":"'Other Scope 1'!Q52","v":23.7178323946275},{"$f":"'Other Scope 1'!R52","v":21.23309445502581},{"$f":"'Other Scope 1'!S52","v":29.867293331686611},{"$f":"'Other Scope 1'!T52","v":7.2249330326476064},{"$f":"'Other Scope 1'!U52","v":7.4},{"$f":"'Other Scope 1'!V52","v":5},{"$f":"'Other Scope 1'!W52","v":3}]
[null,null,"Total Scope 1","MTCDE",{"$f":"SUM(E8:E11)","v":0},{"$f":"SUM(F8:F11)","v":0},0,0,0,0,0,0,0,28528.058783510001,25130.329804942339,24759.65628552491,24123.237033638063,25881.790478749481,25106.139816316085,23511.894523834588,{"$f":"SUM(U8:U11)","v":21275.4},{"$f":"SUM(V8:V11)","v":24235},{"$f":"SUM(W8:W11)","v":50851}]
[null,"Scope 2"]
[null,null,"Purchased Electricity","MTCDE",{"$f":"'Scope 2 Utilities'!E46","v":0},{"$f":"'Scope 2 Utilities'!F46","v":0},{"$f":"'Scope 2 Utilities'!G46","v":0},{"$f":"'Scope 2 Utilities'!H46","v":0},{"$f":"'Scope 2 Utilities'!I46","v":0},{"$f":"'Scope 2 Utilities'!J46","v":0},{"$f":"'Scope 2 Utilities'!K46","v":0},{"$f":"'Scope 2 Utilities'!L46","v":0},{"$f":"'Scope 2 Utilities'!M46","v":0},3729.5827779940391,3918.434085509236,4302.8702620419499,4232.2314890547041,4181.0534388750802,4109.2957659373496,3972.0782187556024,3126.1339704254738,1949,1339]
[null,null,"Purchased Steam","MTCDE",{"$f":"'Scope 2 Utilities'!E47","v":0},{"$f":"'Scope 2 Utilities'!F47","v":0},{"$f":"'Scope 2 Utilities'!G47","v":0},{"$f":"'Scope 2 Utilities'!H47","v":0},{"$f":"'Scope 2 Utilities'!I47","v":0},{"$f":"'Scope 2 Utilities'!J47","v":0},{"$f":"'Scope 2 Utilities'!K47","v":0},{"$f":"'Scope 2 Utilities'!L47","v":0},{"$f":"'Scope 2 Utilities'!M47","v":0},{"$f":"'Scope 2 Utilities'!N47","v":120.3},{"$f":"'Scope 2 Utilities'!O47","v":120.3},{"$f":"'Scope 2 Utilities'!P47","v":136.9},{"$f":"'Scope 2 Utilities'!Q47","v":158.6},{"$f":"'Scope 2 Utilities'!R47","v":220.1},{"$f":"'Scope 2 Utilities'!S47","v":309.3},{"$f":"'Scope 2 Utilities'!T47","v":339},{"$f":"'Scope 2 Utilities'!U47","v":488},{"$f":"'Scope 2 Utilities'!V47","v":303.60000000000002},0]
[null,null,"Purchased Chilled Water","MTCDE",{"$f":"'Scope 2 Utilities'!E48","v":0},{"$f":"'Scope 2 Utilities'!F48","v":0},{"$f":"'Scope 2 Utilities'!G48","v":0},{"$f":"'Scope 2 Utilities'!H48","v":0},{"$f":"'Scope 2 Utilities'!I48","v":0},{"$f":"'Scope 2 Utilities'!J48","v":0},{"$f":"'Scope 2 Utilities'!K48","v":0},{"$f":"'Scope 2 Utilities'!L48","v":0},{"$f":"'Scope 2 Utilities'!M48","v":0},{"$f":"'Scope 2 Utilities'!N48","v":0},{"$f":"'Scope 2 Utilities'!O48","v":0},{"$f":"'Scope 2 Utilities'!P48","v":0},{"$f":"'Scope 2 Utilities'!Q48","v":0},{"$f":"'Scope 2 Utilities'!R48","v":0},{"$f":"'Scope 2 Utilities'!S48","v":0},{"$f":"'Scope 2 Utilities'!T48","v":0},{"$f":"'Scope 2 Utilities'!U48","v":0},{"$f":"'Scope 2 Utilities'!V48","v":0},{"$f":"'Scope 2 Utilities'!W48","v":0}]
[null,null,"Total Scope 2","MTCDE",{"$f":"SUM(E14:E16)","v":0},0,0,0,0,0,0,0,0,3849.8827779940393,4038.7340855092361,4439.7702620419495,4390.8314890547044,4401.1534388750806,4418.5957659373498,4311.0782187556024,{"$f":"SUM(U14:U16)","v":3614.1339704254738},{"$f":"SUM(V14:V16)","v":2252.6},{"$f":"SUM(W14:W16)","v":1339}]
[null,"Scope 3"]
[null,null,"Faculty / Staff Commuting","MTCDE",{"$f":"'Scope 3 Commuting'!E125","v":0},{"$f":"'Scope 3 Commuting'!F125","v":0},{"$f":"'Scope 3 Commuting'!G125","v":0},{"$f":"'Scope 3 Commuting'!H125","v":0},{"$f":"'Scope 3 Commuting'!I125","v":0},{"$f":"'Scope 3 Commuting'!J125","v":0},{"$f":"'Scope 3 Commuting'!K125","v":0},{"$f":"'Scope 3 Commuting'!L125","v":0},{"$f":"'Scope 3 Commuting'!M125","v":0},{"$f":"'Scope 3 Commuting'!N125","v":1230.5999999999999},{"$f":"'Scope 3 Commuting'!O125","v":1285.5},{"$f":"'Scope 3 Commuting'!P125","v":1272.0999999999999},{"$f":"'Scope 3 Commuting'!Q125","v":1244.5999999999999},{"$f":"'Scope 3 Commuting'!R125","v":1440.2},{"$f":"'Scope 3 Commuting'!S125","v":2529.1},{"$f":"'Scope 3 Commuting'!T125","v":2739.9},{"$f":"'Scope 3 Commuting'!U125","v":2838.3},{"$f":"'Scope 3 Commuting'!V125","v":2895.9},{"$f":"'Scope 3 Commuting'!W125","v":2903.7}]
[null,null,"Student Commuting","MTCDE",{"$f":"'Scope 3 Commuting'!E126","v":0},{"$f":"'Scope 3 Commuting'!F126","v":0},{"$f":"'Scope 3 Commuting'!G126","v":0},{"$f":"'Scope 3 Commuting'!H126","v":0},{"$f":"'Scope 3 Commuting'!I126","v":0},{"$f":"'Scope 3 Commuting'!J126","v":0},{"$f":"'Scope 3 Commuting'!K126","v":0},{"$f":"'Scope 3 Commuting'!L126","v":0},{"$f":"'Scope 3 Commuting'!M126","v":0},{"$f":"'Scope 3 Commuting'!N126","v":4801.2},{"$f":"'Scope 3 Commuting'!O126","v":4899.3999999999996},{"$f":"'Scope 3 Commuting'!P126","v":4375.7},{"$f":"'Scope 3 Commuting'!Q126","v":4247},{"$f":"'Scope 3 Commuting'!R126","v":4351.6000000000004},{"$f":"'Scope 3 Commuting'!S126","v":5318.8},{"$f":"'Scope 3 Commuting'!T126","v":5243.1},{"$f":"'Scope 3 Commuting'!U126","v":5734.3},{"$f":"'Scope 3 Commuting'!V126","v":3163.5},{"$f":"'Scope 3 Commuting'!W126","v":2903.7}]
[null,null,"Directly Financed Air Travel","MTCDE",{"$f":"'Other Scope 3 Sources'!E65","v":0},{"$f":"'Other Scope 3 Sources'!F65","v":0},{"$f":"'Other Scope 3 Sources'!G65","v":0},{"$f":"'Other Scope 3 Sources'!H65","v":0},{"$f":"'Other Scope 3 Sources'!I65","v":0},{"$f":"'Other Scope 3 Sources'!J65","v":0},{"$f":"'Other Scope 3 Sources'!K65","v":0},{"$f":"'Other Scope 3 Sources'!L65","v":0},{"$f":"'Other Scope 3 Sources'!M65","v":0},{"$f":"'Other Scope 3 Sources'!N65","v":14520.3},{"$f":"'Other Scope 3 Sources'!O65","v":14478.6},{"$f":"'Other Scope 3 Sources'!P65","v":13082.7},{"$f":"'Other Scope 3 Sources'!Q65","v":15317.6},{"$f":"'Other Scope 3 Sources'!R65","v":16527},{"$f":"'Other Scope 3 Sources'!S65","v":20580.599999999999},{"$f":"'Other Scope 3 Sources'!T65","v":18243},{"$f":"'Other Scope 3 Sources'!U65","v":18055.400000000001},{"$f":"'Other Scope 3 Sources'!V65","v":19841},{"$f":"'Other Scope 3 Sources'!W65","v":26201},null,{"$f":"SUM(V19:V20)","v":6059.4}]
[null,null,"Other Directly Financed Travel","MTCDE",{"$f":"'Other Scope 3 Sources'!E66","v":0},{"$f":"'Other Scope 3 Sources'!F66","v":0},{"$f":"'Other Scope 3 Sources'!G66","v":0},{"$f":"'Other Scope 3 Sources'!H66","v":0},{"$f":"'Other Scope 3 Sources'!I66","v":0},{"$f":"'Other Scope 3 Sources'!J66","v":0},{"$f":"'Other Scope 3 Sources'!K66","v":0},{"$f":"'Other Scope 3 Sources'!L66","v":0},{"$f":"'Other Scope 3 Sources'!M66","v":0},{"$f":"'Other Scope 3 Sources'!N66","v":1327.6},{"$f":"'Other Scope 3 Sources'!O66","v":1343.4},{"$f":"'Other Scope 3 Sources'!P66","v":1321.5},{"$f":"'Other Scope 3 Sources'!Q66","v":1290.2},{"$f":"'Other Scope 3 Sources'!R66","v":1276.7},{"$f":"'Other Scope 3 Sources'!S66","v":1281},{"$f":"'Other Scope 3 Sources'!T66","v":1155},{"$f":"'Other Scope 3 Sources'!U66","v":1113.5999999999999},{"$f":"'Other Scope 3 Sources'!V66","v":1071},{"$f":"'Other Scope 3 Sources'!W66","v":870.1}]
[null,null,"Study Abroad Air Travel","MTCDE",{"$f":"'Other Scope 3 Sources'!E67","v":0},{"$f":"'Other Scope 3 Sources'!F67","v":0},{"$f":"'Other Scope 3 Sources'!G67","v":0},{"$f":"'Other Scope 3 Sources'!H67","v":0},{"$f":"'Other Scope 3 Sources'!I67","v":0},{"$f":"'Other Scope 3 Sources'!J67","v":0},{"$f":"'Other Scope 3 Sources'!K67","v":0},{"$f":"'Other Scope 3 Sources'!L67","v":0},{"$f":"'Other Scope 3 Sources'!M67","v":0},{"$f":"'Other Scope 3 Sources'!N67","v":4084.5},{"$f":"'Other Scope 3 Sources'!O67","v":5325.7},{"$f":"'Other Scope 3 Sources'!P67","v":4920.8999999999996},{"$f":"'Other Scope 3 Sources'!Q67","v":4467.5},{"$f":"'Other Scope 3 Sources'!R67","v":4638.1000000000004},{"$f":"'Other Scope 3 Sources'!S67","v":4578.5},{"$f":"'Other Scope 3 Sources'!T67","v":4281.6000000000004},6401,{"$f":"'Other Scope 3 Sources'!V67","v":4946.8},{"$f":"'Other Scope 3 Sources'!W67","v":6693.9}]
[null,null,"Solid Waste","MTCDE",{"$f":"'Other Scope 3 Sources'!E69","v":0},{"$f":"'Other Scope 3 Sources'!F69","v":0},{"$f":"'Other Scope 3 Sources'!G69","v":0},{"$f":"'Other Scope 3 Sources'!H69","v":0},{"$f":"'Other Scope 3 Sources'!I69","v":0},{"$f":"'Other Scope 3 Sources'!J69","v":0},{"$f":"'Other Scope 3 Sources'!K69","v":0},{"$f":"'Other Scope 3 Sources'!L69","v":0},{"$f":"'Other Scope 3 Sources'!M69","v":0},{"$f":"'Other Scope 3 Sources'!N69","v":333.06810000000002},{"$f":"'Other Scope 3 Sources'!O69","v":328.16230000000002},{"$f":"'Other Scope 3 Sources'!P69","v":331.512},{"$f":"'Other Scope 3 Sources'!Q69","v":325.4871},{"$f":"'Other Scope 3 Sources'!R69","v":314.56970000000001},{"$f":"'Other Scope 3 Sources'!S69","v":307.8057},{"$f":"'Other Scope 3 Sources'!T69","v":298.3},{"$f":"'Other Scope 3 Sources'!U69","v":293.0351},{"$f":"'Other Scope 3 Sources'!V69","v":284.24},{"$f":"'Other Scope 3 Sources'!W69","v":427.5}]
[null,null,"Wastewater","MTCDE",{"$f":"'Other Scope 3 Sources'!E70","v":0},{"$f":"'Other Scope 3 Sources'!F70","v":0},{"$f":"'Other Scope 3 Sources'!G70","v":0},{"$f":"'Other Scope 3 Sources'!H70","v":0},{"$f":"'Other Scope 3 Sources'!I70","v":0},{"$f":"'Other Scope 3 Sources'!J70","v":0},{"$f":"'Other Scope 3 Sources'!K70","v":0},{"$f":"'Other Scope 3 Sources'!L70","v":0},{"$f":"'Other Scope 3 Sources'!M70","v":0},{"$f":"'Other Scope 3 Sources'!N70","v":1588.5128476834998},{"$f":"'Other Scope 3 Sources'!O70","v":1588.5128476834998},{"$f":"'Other Scope 3 Sources'!P70","v":1588.5128476834998},{"$f":"'Other Scope 3 Sources'!Q70","v":1588.5128476834998},{"$f":"'Other Scope 3 Sources'!R70","v":1588.5128476834998},{"$f":"'Other Scope 3 Sources'!S70","v":1588.5128476834998},{"$f":"'Other Scope 3 Sources'!T70","v":1346.4817731311998},{"$f":"'Other Scope 3 Sources'!U70","v":1271.5742296433},{"$f":"'Other Scope 3 Sources'!V70","v":1254.5},{"$f":"'Other Scope 3 Sources'!W70","v":1319}]
[null,null,"Paper","MTCDE",{"$f":"'Other Scope 3 Sources'!E71","v":0},{"$f":"'Other Scope 3 Sources'!F71","v":0},{"$f":"'Other Scope 3 Sources'!G71","v":0},{"$f":"'Other Scope 3 Sources'!H71","v":0},{"$f":"'Other Scope 3 Sources'!I71","v":0},{"$f":"'Other Scope 3 Sources'!J71","v":0},{"$f":"'Other Scope 3 Sources'!K71","v":0},{"$f":"'Other Scope 3 Sources'!L71","v":0},{"$f":"'Other Scope 3 Sources'!M71","v":0},{"$f":"'Other Scope 3 Sources'!N71","v":236.3},{"$f":"'Other Scope 3 Sources'!O71","v":236.3},{"$f":"'Other Scope 3 Sources'!P71","v":236.3},{"$f":"'Other Scope 3 Sources'!Q71","v":236.3},{"$f":"'Other Scope 3 Sources'!R71","v":236.3},{"$f":"'Other Scope 3 Sources'!S71","v":236.3},{"$f":"'Other Scope 3 Sources'!T71","v":329.9},{"$f":"'Other Scope 3 Sources'!U71","v":549.70000000000005},{"$f":"'Other Scope 3 Sources'!V71","v":595},{"$f":"'Other Scope 3 Sources'!W71","v":403.5}]
[null,null,"Scope 2 T&D Losses","MTCDE",{"$f":"'Other Scope 3 Sources'!E72","v":0},{"$f":"'Other Scope 3 Sources'!F72","v":0},{"$f":"'Other Scope 3 Sources'!G72","v":0},{"$f":"'Other Scope 3 Sources'!H72","v":0},{"$f":"'Other Scope 3 Sources'!I72","v":0},{"$f":"'Other Scope 3 Sources'!J72","v":0},{"$f":"'Other Scope 3 Sources'!K72","v":0},{"$f":"'Other Scope 3 Sources'!L72","v":0},{"$f":"'Other Scope 3 Sources'!M72","v":0},47,50.5,52,64.900000000000006,63.1,77,84.2,91.7,78.099999999999994,{"$f":"'Scope 2 Utilities'!W55","v":1569.7}]
[null,null,"Other Scope 3","MTCDE",{"$f":"'Other Scope 3 Sources'!E73","v":0},{"$f":"'Other Scope 3 Sources'!F73","v":0},{"$f":"'Other Scope 3 Sources'!G73","v":0},{"$f":"'Other Scope 3 Sources'!H73","v":0},{"$f":"'Other Scope 3 Sources'!I73","v":0},{"$f":"'Other Scope 3 Sources'!J73","v":0},{"$f":"'Other Scope 3 Sources'!K73","v":0},{"$f":"'Other Scope 3 Sources'!L73","v":0},{"$f":"'Other Scope 3 Sources'!M73","v":0},{"$f":"'Other Scope 3 Sources'!N73","v":0},{"$f":"'Other Scope 3 Sources'!O73","v":0},{"$f":"'Other Scope 3 Sources'!P73","v":0},{"$f":"'Other Scope 3 Sources'!Q73","v":0},{"$f":"'Other Scope 3 Sources'!R73","v":0},{"$f":"'Other Scope 3 Sources'!S73","v":0},{"$f":"'Other Scope 3 Sources'!T73","v":0},{"$f":"'Other Scope 3 Sources'!U73","v":0},{"$f":"'Other Scope 3 Sources'!V73","v":0},{"$f":"'Other Scope 3 Sources'!W73","v":0}]
[null,null,"Total Scope 3","MTCDE",{"$f":"SUM(E19:E28)","v":0},{"$f":"SUM(F19:F28)","v":0},0,0,0,0,0,0,0,28169.080947683495,29536.075147683503,27181.224847683498,28782.099947683502,30436.082547683498,36497.618547683502,33721.4817731312,{"$f":"SUM(U19:U28)","v":36348.609329643295},{"$f":"SUM(V19:V28)","v":34130.04},{"$f":"SUM(W19:W28)","v":43292.1}]
[]
[null,"Total Gross GHG Emissions",null,null,"FY1995","FY1996","FY1997","FY1998","FY1999","FY2000","FY2001","FY2002","FY2003","FY2004","FY2005","FY2006","FY2007","FY2008","FY2009","FY2010","FY2011","FY2012","FY2014"]
[null,null,"Total Gross GHG Emissions","MTCDE",{"$f":"E12+E17+E29","v":0},{"$f":"F12+F17+F29","v":0},0,0,0,0,0,0,0,60547.022509187533,58705.139038135079,56380.651395250359,57296.168470376273,60719.026465308059,66022.354129936939,{"$f":"T12+T17+T29","v":61544.454515721387},{"$f":"U12+U17+U29","v":61238.143300068768},{"$f":"V12+V17+V29","v":60617.64},{"$f":"W12+W17+W29","v":95482.1}]
[]
[null,"Offsets",null,null,"FY1995","FY1996","FY1997","FY1998","FY1999","FY2000","FY2001","FY2002","FY2003","FY2004","FY2005","FY2006","FY2007","FY2008","FY2009","FY2010","FY2011","FY2012","FY2014",null,null,null,null,null,null,null,"Total Air Travel"]
[null,null,"Total Additional","MTCDE",{"$f":"Offsets!E29","v":0},{"$f":"Offsets!F29","v":0},{"$f":"Offsets!G29","v":0},{"$f":"Offsets!H29","v":0},{"$f":"Offsets!I29","v":0},{"$f":"Offsets!J29","v":0},{"$f":"Offsets!K29","v":0},{"$f":"Offsets!L29","v":0},{"$f":"Offsets!M29","v":0},{"$f":"Offsets!N29","v":-131.58110223},{"$f":"Offsets!O29","v":-138.29096896359999},{"$f":"Offsets!P29","v":-90.421610076300013},{"$f":"Offsets!Q29","v":-98.578099454300016},{"$f":"Offsets!R29","v":-91.952875535000004},{"$f":"Offsets!S29","v":-648.49669832999996},{"$f":"Offsets!T29","v":-1243.4717967941501},{"$f":"Offsets!U29","v":-669.47739292184997},{"$f":"Offsets!V29","v":-1259.0883960325},{"$f":"Offsets!W29","v":-647.20000000000005}]
[null,null,"Total Non-Additional","MTCDE",{"$f":"Offsets!E30","v":0},{"$f":"Offsets!F30","v":0},{"$f":"Offsets!G30","v":0},{"$f":"Offsets!H30","v":0},{"$f":"Offsets!I30","v":0},{"$f":"Offsets!J30","v":0},{"$f":"Offsets!K30","v":0},{"$f":"Offsets!L30","v":0},{"$f":"Offsets!M30","v":0},{"$f":"Offsets!N30","v":0},{"$f":"Offsets!O30","v":0},{"$f":"Offsets!P30","v":0},{"$f":"Offsets!Q30","v":0},{"$f":"Offsets!R30","v":0},{"$f":"Offsets!S30","v":0},{"$f":"Offsets!T30","v":0},{"$f":"Offsets!U30","v":0},{"$f":"Offsets!V30","v":0},{"$f":"Offsets!W30","v":700},null,null,null,null,null,null,null,"FY2004","FY2005","FY2006","FY2007","FY2008","FY2009","FY2010","FY2011","FY2012"]
[null,null,"Total Offsets","MTCDE",{"$f":"SUM(E35:E36)","v":0},{"$f":"SUM(F35:F36)","v":0},0,0,0,0,0,0,0,-131.58110223,-138.29096896359999,-90.421610076300013,-98.578099454300016,-91.952875535000004,-648.49669832999996,-1243.4717967941501,{"$f":"SUM(U35:U36)","v":-669.47739292184997},{"$f":"SUM(V35:V36)","v":-1259.0883960325},{"$f":"SUM(W35:W36)","v":52.799999999999955},null,null,null,null,null,null,null,14520.3,14478.6,13082.7,15317.6,16527,20580.599999999999,18243,18055.400000000001,19732]
[null,null,null,null,null,null,null,null,null,null,null,null,null,null,null,null,null,null,null,null,null,null,null,null,null,null,null,null,null,null,4084.5,5325.7,4920.8999999999996,4467.5,4638.1000000000004,4578.5,4281.6000000000004,6401,4946.8]
[null,"Total Net GHG Emissions",null,null,"FY1995","FY1996","FY1997","FY1998","FY1999","FY2000","FY2001","FY2002","FY2003","FY2004","FY2005","FY2006","FY2007","FY2008","FY2009","FY2010","FY2011","FY2012","FY2014",null,null,null,null,null,null,null,{"$f":"SUM(AE37:AE38)","v":18604.8},19804.3,18003.599999999999,19785.099999999999,21165.1,25159.1,22524.6,24456.400000000001,24678.799999999999]
[null,null,"Total Net GHG Emissions","MTCDE",{"$f":"E32+E37","v":0},0,0,0,0,0,0,0,0,60415.441406957536,58566.848069171479,56290.229785174059,57197.590370921971,60627.073589773063,65373.857431606943,{"$f":"T32+T37","v":60300.98271892724},{"$f":"U32+U37","v":60568.665907146918},{"$f":"V32+V37","v":59358.551603967499},{"$f":"W32+W37","v":95534.900000000009}]
[null,null,null,null,null,null,null,null,null,null,null,null,null,null,null,null,null,null,null,null,null,null,null,null,null,null,null,null,null,null,{"$f":"AE39/N40","v":0.30794776247149031},0.33814863959572755,0.31983525504708205,0.34590792849305624,0.34910311098324648,0.38484955589963521,0.37353620097687046,{"$f":"AL39/U40","v":0.40377973715802484},{"$f":"AM39/V40","v":0.41575812301913512}]
[null,null,"GSF",null,null,null,null,null,null,null,null,null,null,5930710,6004131,6327716,6352151,6441734,6298056,6507873,{"$f":"'Institutional Data'!Y8","v":7374796},7800628,7800628]
[]
[null,null,"Stationary/1000GSF",null,null,null,null,null,null,null,null,null,null,{"$f":"N8/N42*1000","v":4.5845241665981264},{"$f":"O8/O42*1000","v":3.9598160568977447},3.7016327569221001,3.6547964935410753,3.8799735264285138,3.8401329748392832,3.5462692020575597,{"$f":"U8/U42*1000","v":2.8191423871250132},{"$f":"V8/V42*1000","v":3.0352684424895022},{"$f":"W8/W42*1000","v":6.4496089289221326}]
[null,null,"Electricityi/1000gsf",null,null,null,null,null,null,null,null,null,null,{"$f":"N14/N42*1000","v":0.62885940772589444},{"$f":"O14/O42*1000","v":0.65262301663791744},0.68000369517878967,0.66626745633954609,0.64905713878826421,0.65247050295160125,0.61034968241629828,{"$f":"U14/U42*1000","v":0.423894297608432},{"$f":"V14/V42*1000","v":0.24985167860844026},{"$f":"W14/W42*1000","v":0.17165284641185299}]
[null,null,null,null,null,null,null,null,null,null,null,null,null,{"$f":"SUM(N44:N45)","v":5.2133835743240207},{"$f":"SUM(O44:O45)","v":4.6124390735356622},4.3816364521008895,4.3210639498806209,4.5290306652167782,4.4926034777908841,4.1566188844738576,{"$f":"SUM(U44:U45)","v":3.2430366847334451},{"$f":"SUM(V44:V45)","v":3.2851201210979424},{"$f":"SUM(W44:W45)","v":6.621261775333986}]
[]
[null,null,null,null,null,null,null,null,null,null,null,null,null,null,null,null,null,null,null,{"$f":"N46-T46","v":1.056764689850163},{"$f":"O46-U46","v":1.3694023888022171},{"$f":"P46-V46","v":1.0965163310029471},{"$f":"Q46-W46","v":-2.300197825453365}]
[null,null,null,null,null,null,null,null,null,null,null,null,null,null,null,null,null,null,null,{"$f":"T42/1000","v":6507.8729999999996},{"$f":"U42/1000","v":7374.7960000000003},{"$f":"V42/1000","v":7800.6279999999997},{"$f":"W42/1000","v":7800.6279999999997}]
[null,null,null,null,null,null,null,null,null,null,null,null,null,null,null,null,null,null,null,{"$f":"T49*T48","v":6877.2903924292496},{"$f":"U49*U48","v":10099.063259329036},{"$f":"V49*V48","v":8553.5159940788562},{"$f":"W49*W48","v":-17942.987562770631}]
[]
[]
[null,null,null,null,null,null,null,null,null,null,null,null,null,{"$f":"N40/N42*1000","v":10.18688174045899},9.7544254229582066,8.895821143865188,9.004444379694684,9.4116077425384326,10.380005740121545,9.2658511803975347,8.2129276399166731,7.6094580595264247,12.247078055766794]
[]
[null,null,"Students",null,null,null,null,null,null,null,null,null,null,19300.8,19749.5,19697.2,19608.599999999999,19279,20762,21689,{"$f":"'Institutional Data'!Y21","v":23721},{"$f":"'Institutional Data'!Z21","v":24548},{"$f":"'Institutional Data'!AA21","v":23771}]
[null,null,null,null,null,null,null,null,null,null,null,null,null,{"$f":"N40/N55","v":3.1302040022671358},2.9654851043910719,2.8577782519938904,2.9169645140867768,3.1447208667344295,3.1487263958966833,2.7802564765054747,2.5533774253676875,2.4180605998031406,4.0189684910184686,null,null,null,null,null,null,null,null,null,null,null,null,null,null,null,null,null,null,null,null,null,null,null,{"$f":"48+1+8+1","v":58}]
[]
[]
[null,null,null,"MTCDE/1000GSF"]
[null,null,null,"Scope 1",null,null,null,null,null,null,null,null,null,{"$f":"N12/N$42*1000","v":4.8102265636846182},{"$f":"O12/O$42*1000","v":4.1855065795437074},3.9128899409399711,3.7976485498594195,4.0178297456475969,3.9863316261900632,3.6128385608991738,{"$f":"U12/U$42*1000","v":2.8848797987090085},{"$f":"V12/V$42*1000","v":3.1068011447283475},{"$f":"W12/W$42*1000","v":6.5188341246371442}]
[null,null,null,"scope 2",null,null,null,null,null,null,null,null,null,{"$f":"N17/N$42*1000","v":0.64914365699790399},{"$f":"O17/O$42*1000","v":0.6726592217107249},0.70163867373977429,0.69123537665504242,0.68322495757742874,0.70158089511070554,0.66244043464824875,{"$f":"U17/U$42*1000","v":0.49006561949991212},{"$f":"V17/V$42*1000","v":0.28877162197710238},{"$f":"W17/W$42*1000","v":0.17165284641185299}]
[null,null,null,"scope 3",null,null,null,null,null,null,null,null,null,{"$f":"N29/N42*1000","v":4.7496979194200186},{"$f":"O29/O42*1000","v":4.9192922585605645},4.2955822997877116,4.5310793064716979,4.7248275926456289,5.7950609755904834,5.1816441060130094,{"$f":"U29/U42*1000","v":4.9287613284005811},{"$f":"V29/V42*1000","v":4.3752938865947719},{"$f":"W29/W42*1000","v":5.5498223989145483}]
[null,null,null,null,null,null,null,null,null,null,null,null,null,{"$f":"SUM(N60:N62)","v":10.209068140102541},{"$f":"SUM(O60:O62)","v":9.7774580598149967},8.910110914467456,9.0199632329861608,9.4258822958706538,10.482973496891251,9.4569231015604309,{"$f":"SUM(U60:U62)","v":8.3037067466095014},{"$f":"SUM(V60:V62)","v":7.7708666533002217},{"$f":"SUM(W60:W62)","v":12.240309369963546}]
[]
[null,null,null,"MTCDE/Students"]
[null,null,null,"Scope 1",null,null,null,null,null,null,null,null,null,{"$f":"N12/N55","v":1.4780764933842121},{"$f":"O12/O55","v":1.272453976300278},1.2570140063321136,1.2302376015441217,1.3424861496316967,1.2092351322760855,1.0840469603870435,{"$f":"U12/U55","v":0.89690147970153034},{"$f":"V12/V55","v":0.98724947042528921},{"$f":"W12/W55","v":2.1392032308274787}]
[null,null,null,"scope 2",null,null,null,null,null,null,null,null,null,{"$f":"N17/N55","v":0.19946752352203223},{"$f":"O17/O55","v":0.20449804225470194},0.22540108553712962,0.22392376248455803,0.22828743393718973,0.21282129688552884,0.19876795697153407,{"$f":"U17/U55","v":0.15236010161567698},{"$f":"V17/V55","v":9.1763076421704406E-2},{"$f":"W17/W55","v":5.6329140549408942E-2}]
[null,null,null,"scope 3",null,null,null,null,null,null,null,null,null,{"$f":"N29/N55","v":1.4594773764654054},{"$f":"O29/O55","v":1.4955353374861897},1.3799537420386399,1.4678304390769104,1.5787168705681569,1.7579047561739476,1.5547734691839734,{"$f":"U29/U55","v":1.5323388276060577},{"$f":"V29/V55","v":1.3903389278148932},{"$f":"W29/W55","v":1.8212149257498633}]
[]
[]
[null,null,"net/1000GSF",null,null,null,null,null,null,null,null,null,null,{"$f":"N40/N42*1000","v":10.18688174045899},9.7544254229582066,8.895821143865188,9.004444379694684,9.4116077425384326,10.380005740121545,9.2658511803975347,8.2129276399166731,7.6094580595264247,12.247078055766794]
[null,null,"Net /Student",null,null,null,null,null,null,null,null,null,null,{"$f":"N40/N55","v":3.1302040022671358},2.9654851043910719,2.8577782519938904,2.9169645140867768,3.1447208667344295,3.1487263958966833,2.7802564765054747,2.5533774253676875,2.4180605998031406,4.0189684910184686]

{"sheet":"GHG Summary_regional","index":4,"n_rows":42,"n_cols":26,"rows_kept":42,"cut":false,"hidden":false,"merged":[[41,12,52,18]]}
[{"$f":"'Institutional Data'!$D$8","v":"University of Oregon"}]
[{"$f":"'Water and Waste'!A2","v":"Go-Green Measurement, Benchmarking and Analysis Summary"}]
[]
["GHG Summary"]
[]
[null,"Total Emissions",null,null,"FY1995","FY1996","FY1997","FY1998","FY1999","FY2000","FY2001","FY2002","FY2003","FY2004","FY2005","FY2006","FY2007","FY2008","FY2009","FY2010","FY2011","FY2012","FY2014"]
[null,"Scope 1"]
[null,null,"Scope 1 Utilities","MTCDE",{"$f":"'Scope 1 Utilities'!E50","v":0},{"$f":"'Scope 1 Utilities'!F50","v":0},{"$f":"'Scope 1 Utilities'!G50","v":0},{"$f":"'Scope 1 Utilities'!H50","v":0},{"$f":"'Scope 1 Utilities'!I50","v":0},{"$f":"'Scope 1 Utilities'!J50","v":0},{"$f":"'Scope 1 Utilities'!K50","v":0},{"$f":"'Scope 1 Utilities'!L50","v":0},{"$f":"'Scope 1 Utilities'!M50","v":0},{"$f":"'Scope 1 Utilities'!N50","v":28599.822523331011},{"$f":"'Scope 1 Utilities'!O50","v":24898.01906314394},{"$f":"'Scope 1 Utilities'!P50","v":24226.229255777082},{"$f":"'Scope 1 Utilities'!Q50","v":24019.693441532207},{"$f":"'Scope 1 Utilities'!R50","v":25857.312268088095},{"$f":"'Scope 1 Utilities'!S50","v":24954.688288273082},{"$f":"'Scope 1 Utilities'!T50","v":23431.208914476068},{"$f":"'Scope 1 Utilities'!U50","v":22303.8},{"$f":"'Scope 1 Utilities'!V50","v":23677},{"$f":"'Scope 1 Utilities'!W50","v":68919.5}]
[null,null,"Vehicle Fleet","MTCDE",{"$f":"'Other Scope 1'!E50","v":0},{"$f":"'Other Scope 1'!F50","v":0},{"$f":"'Other Scope 1'!G50","v":0},{"$f":"'Other Scope 1'!H50","v":0},{"$f":"'Other Scope 1'!I50","v":0},{"$f":"'Other Scope 1'!J50","v":0},{"$f":"'Other Scope 1'!K50","v":0},{"$f":"'Other Scope 1'!L50","v":0},{"$f":"'Other Scope 1'!M50","v":0},{"$f":"'Other Scope 1'!N50","v":1316.1},{"$f":"'Other Scope 1'!O50","v":1332.6},{"$f":"'Other Scope 1'!P50","v":1314.3},{"$f":"'Other Scope 1'!Q50","v":883.7},{"$f":"'Other Scope 1'!R50","v":866.8},{"$f":"'Other Scope 1'!S50","v":890.9},{"$f":"'Other Scope 1'!T50","v":426},{"$f":"'Other Scope 1'!U50","v":477.4},{"$f":"'Other Scope 1'!V50","v":553},{"$f":"'Other Scope 1'!W50","v":537}]
[null,null,"Refrigerants and Chemicals","MTCDE",{"$f":"'Other Scope 1'!E51","v":0},{"$f":"'Other Scope 1'!F51","v":0},{"$f":"'Other Scope 1'!G51","v":0},{"$f":"'Other Scope 1'!H51","v":0},{"$f":"'Other Scope 1'!I51","v":0},{"$f":"'Other Scope 1'!J51","v":0},{"$f":"'Other Scope 1'!K51","v":0},{"$f":"'Other Scope 1'!L51","v":0},{"$f":"'Other Scope 1'!M51","v":0},{"$f":"'Other Scope 1'!N51","v":0},{"$f":"'Other Scope 1'!O51","v":0},{"$f":"'Other Scope 1'!P51","v":0},{"$f":"'Other Scope 1'!Q51","v":0},{"$f":"'Other Scope 1'!R51","v":0},{"$f":"'Other Scope 1'!S51","v":0},{"$f":"'Other Scope 1'!T51","v":0},{"$f":"'Other Scope 1'!U51","v":0},{"$f":"'Other Scope 1'!V51","v":0},{"$f":"'Other Scope 1'!W51","v":0}]
[null,null,"Agricutlure","MTCDE",{"$f":"'Other Scope 1'!E52","v":0},{"$f":"'Other Scope 1'!F52","v":0},{"$f":"'Other Scope 1'!G52","v":0},{"$f":"'Other Scope 1'!H52","v":0},{"$f":"'Other Scope 1'!I52","v":0},{"$f":"'Other Scope 1'!J52","v":0},{"$f":"'Other Scope 1'!K52","v":0},{"$f":"'Other Scope 1'!L52","v":0},{"$f":"'Other Scope 1'!M52","v":0},{"$f":"'Other Scope 1'!N52","v":22.475463424826657},{"$f":"'Other Scope 1'!O52","v":22.475463424826657},{"$f":"'Other Scope 1'!P52","v":22.475463424826657},{"$f":"'Other Scope 1'!Q52","v":23.7178323946275},{"$f":"'Other Scope 1'!R52","v":21.23309445502581},{"$f":"'Other Scope 1'!S52","v":29.867293331686611},{"$f":"'Other Scope 1'!T52","v":7.2249330326476064},{"$f":"'Other Scope 1'!U52","v":7.4},{"$f":"'Other Scope 1'!V52","v":5},{"$f":"'Other Scope 1'!W52","v":3}]
[null,null,"Total Scope 1","MTCDE",{"$f":"SUM(E8:E11)","v":0},{"$f":"SUM(F8:F11)","v":0},0,0,0,0,0,0,0,29938.397986755837,26253.094526568766,25563.004719201908,24927.111273926836,26745.345362543121,25875.455581604772,{"$f":"SUM(T8:T11)","v":23864.433847508717},{"$f":"SUM(U8:U11)","v":22788.600000000002},{"$f":"SUM(V8:V11)","v":24235},{"$f":"SUM(W8:W11)","v":69459.5}]
[null,"Scope 2"]
[null,null,"Purchased Electricity","MTCDE",{"$f":"'Scope 2 Utilities'!E46","v":0},{"$f":"'Scope 2 Utilities'!F46","v":0},{"$f":"'Scope 2 Utilities'!G46","v":0},{"$f":"'Scope 2 Utilities'!H46","v":0},{"$f":"'Scope 2 Utilities'!I46","v":0},{"$f":"'Scope 2 Utilities'!J46","v":0},{"$f":"'Scope 2 Utilities'!K46","v":0},{"$f":"'Scope 2 Utilities'!L46","v":0},{"$f":"'Scope 2 Utilities'!M46","v":0},{"$f":"'Scope 2 Utilities'!N46","v":18067.8},{"$f":"'Scope 2 Utilities'!O46","v":18727.8},{"$f":"'Scope 2 Utilities'!P46","v":21243.7},{"$f":"'Scope 2 Utilities'!Q46","v":27014.400000000001},{"$f":"'Scope 2 Utilities'!R46","v":27436.2},{"$f":"'Scope 2 Utilities'!S46","v":26120},{"$f":"'Scope 2 Utilities'!T46","v":27081.8},{"$f":"'Scope 2 Utilities'!U46","v":28129.7},{"$f":"'Scope 2 Utilities'!V46","v":28917},{"$f":"'Scope 2 Utilities'!W46","v":21379}]
[null,null,"Purchased Steam","MTCDE",{"$f":"'Scope 2 Utilities'!E47","v":0},{"$f":"'Scope 2 Utilities'!F47","v":0},{"$f":"'Scope 2 Utilities'!G47","v":0},{"$f":"'Scope 2 Utilities'!H47","v":0},{"$f":"'Scope 2 Utilities'!I47","v":0},{"$f":"'Scope 2 Utilities'!J47","v":0},{"$f":"'Scope 2 Utilities'!K47","v":0},{"$f":"'Scope 2 Utilities'!L47","v":0},{"$f":"'Scope 2 Utilities'!M47","v":0},{"$f":"'Scope 2 Utilities'!N47","v":120.3},{"$f":"'Scope 2 Utilities'!O47","v":120.3},{"$f":"'Scope 2 Utilities'!P47","v":136.9},{"$f":"'Scope 2 Utilities'!Q47","v":158.6},{"$f":"'Scope 2 Utilities'!R47","v":220.1},{"$f":"'Scope 2 Utilities'!S47","v":309.3},{"$f":"'Scope 2 Utilities'!T47","v":339},504,504,{"$f":"'Scope 2 Utilities'!W47","v":0}]
[null,null,"Purchased Chilled Water","MTCDE",{"$f":"'Scope 2 Utilities'!E48","v":0},{"$f":"'Scope 2 Utilities'!F48","v":0},{"$f":"'Scope 2 Utilities'!G48","v":0},{"$f":"'Scope 2 Utilities'!H48","v":0},{"$f":"'Scope 2 Utilities'!I48","v":0},{"$f":"'Scope 2 Utilities'!J48","v":0},{"$f":"'Scope 2 Utilities'!K48","v":0},{"$f":"'Scope 2 Utilities'!L48","v":0},{"$f":"'Scope 2 Utilities'!M48","v":0},{"$f":"'Scope 2 Utilities'!N48","v":0},{"$f":"'Scope 2 Utilities'!O48","v":0},{"$f":"'Scope 2 Utilities'!P48","v":0},{"$f":"'Scope 2 Utilities'!Q48","v":0},{"$f":"'Scope 2 Utilities'!R48","v":0},{"$f":"'Scope 2 Utilities'!S48","v":0},{"$f":"'Scope 2 Utilities'!T48","v":0},{"$f":"'Scope 2 Utilities'!U48","v":0},{"$f":"'Scope 2 Utilities'!V48","v":0},{"$f":"'Scope 2 Utilities'!W48","v":0}]
[null,null,"Total Scope 2","MTCDE",{"$f":"SUM(E14:E16)","v":0},0,0,0,0,0,0,0,0,18188.099999999999,18848.099999999999,21380.600000000002,27173,27656.3,26429.3,{"$f":"SUM(T14:T16)","v":27420.799999999999},{"$f":"SUM(U14:U16)","v":28633.7},{"$f":"SUM(V14:V16)","v":29421},{"$f":"SUM(W14:W16)","v":21379}]
[null,"Scope 3"]
[null,null,"Faculty / Staff Commuting","MTCDE",{"$f":"'Scope 3 Commuting'!E125","v":0},{"$f":"'Scope 3 Commuting'!F125","v":0},{"$f":"'Scope 3 Commuting'!G125","v":0},{"$f":"'Scope 3 Commuting'!H125","v":0},{"$f":"'Scope 3 Commuting'!I125","v":0},{"$f":"'Scope 3 Commuting'!J125","v":0},{"$f":"'Scope 3 Commuting'!K125","v":0},{"$f":"'Scope 3 Commuting'!L125","v":0},{"$f":"'Scope 3 Commuting'!M125","v":0},{"$f":"'Scope 3 Commuting'!N125","v":1230.5999999999999},{"$f":"'Scope 3 Commuting'!O125","v":1285.5},{"$f":"'Scope 3 Commuting'!P125","v":1272.0999999999999},{"$f":"'Scope 3 Commuting'!Q125","v":1244.5999999999999},{"$f":"'Scope 3 Commuting'!R125","v":1440.2},{"$f":"'Scope 3 Commuting'!S125","v":2529.1},{"$f":"'Scope 3 Commuting'!T125","v":2739.9},{"$f":"'Scope 3 Commuting'!U125","v":2838.3},{"$f":"'Scope 3 Commuting'!V125","v":2895.9},{"$f":"'Scope 3 Commuting'!W125","v":2903.7},{"$f":"SUM(V19:V20)","v":6059.4}]
[null,null,"Student Commuting","MTCDE",{"$f":"'Scope 3 Commuting'!E126","v":0},{"$f":"'Scope 3 Commuting'!F126","v":0},{"$f":"'Scope 3 Commuting'!G126","v":0},{"$f":"'Scope 3 Commuting'!H126","v":0},{"$f":"'Scope 3 Commuting'!I126","v":0},{"$f":"'Scope 3 Commuting'!J126","v":0},{"$f":"'Scope 3 Commuting'!K126","v":0},{"$f":"'Scope 3 Commuting'!L126","v":0},{"$f":"'Scope 3 Commuting'!M126","v":0},{"$f":"'Scope 3 Commuting'!N126","v":4801.2},{"$f":"'Scope 3 Commuting'!O126","v":4899.3999999999996},{"$f":"'Scope 3 Commuting'!P126","v":4375.7},{"$f":"'Scope 3 Commuting'!Q126","v":4247},{"$f":"'Scope 3 Commuting'!R126","v":4351.6000000000004},{"$f":"'Scope 3 Commuting'!S126","v":5318.8},{"$f":"'Scope 3 Commuting'!T126","v":5243.1},{"$f":"'Scope 3 Commuting'!U126","v":5734.3},{"$f":"'Scope 3 Commuting'!V126","v":3163.5},{"$f":"'Scope 3 Commuting'!W126","v":2903.7}]
[null,null,"Directly Financed Air Travel","MTCDE",{"$f":"'Other Scope 3 Sources'!E65","v":0},{"$f":"'Other Scope 3 Sources'!F65","v":0},{"$f":"'Other Scope 3 Sources'!G65","v":0},{"$f":"'Other Scope 3 Sources'!H65","v":0},{"$f":"'Other Scope 3 Sources'!I65","v":0},{"$f":"'Other Scope 3 Sources'!J65","v":0},{"$f":"'Other Scope 3 Sources'!K65","v":0},{"$f":"'Other Scope 3 Sources'!L65","v":0},{"$f":"'Other Scope 3 Sources'!M65","v":0},{"$f":"'Other Scope 3 Sources'!N65","v":14520.3},{"$f":"'Other Scope 3 Sources'!O65","v":14478.6},{"$f":"'Other Scope 3 Sources'!P65","v":13082.7},{"$f":"'Other Scope 3 Sources'!Q65","v":15317.6},{"$f":"'Other Scope 3 Sources'!R65","v":16527},{"$f":"'Other Scope 3 Sources'!S65","v":20580.599999999999},{"$f":"'Other Scope 3 Sources'!T65","v":18243},{"$f":"'Other Scope 3 Sources'!U65","v":18055.400000000001},{"$f":"'Other Scope 3 Sources'!V65","v":19841},{"$f":"'Other Scope 3 Sources'!W65","v":26201},{"$f":"SUM(V21:V22)","v":20912}]
[null,null,"Other Directly Financed Travel","MTCDE",{"$f":"'Other Scope 3 Sources'!E66","v":0},{"$f":"'Other Scope 3 Sources'!F66","v":0},{"$f":"'Other Scope 3 Sources'!G66","v":0},{"$f":"'Other Scope 3 Sources'!H66","v":0},{"$f":"'Other Scope 3 Sources'!I66","v":0},{"$f":"'Other Scope 3 Sources'!J66","v":0},{"$f":"'Other Scope 3 Sources'!K66","v":0},{"$f":"'Other Scope 3 Sources'!L66","v":0},{"$f":"'Other Scope 3 Sources'!M66","v":0},{"$f":"'Other Scope 3 Sources'!N66","v":1327.6},{"$f":"'Other Scope 3 Sources'!O66","v":1343.4},{"$f":"'Other Scope 3 Sources'!P66","v":1321.5},{"$f":"'Other Scope 3 Sources'!Q66","v":1290.2},{"$f":"'Other Scope 3 Sources'!R66","v":1276.7},{"$f":"'Other Scope 3 Sources'!S66","v":1281},{"$f":"'Other Scope 3 Sources'!T66","v":1155},{"$f":"'Other Scope 3 Sources'!U66","v":1113.5999999999999},{"$f":"'Other Scope 3 Sources'!V66","v":1071},{"$f":"'Other Scope 3 Sources'!W66","v":870.1},null,null,{"$f":"(V19+V20)/V32","v":6.6892726119802376E-2}]
[null,null,"Study Abroad Air Travel","MTCDE",{"$f":"'Other Scope 3 Sources'!E67","v":0},{"$f":"'Other Scope 3 Sources'!F67","v":0},{"$f":"'Other Scope 3 Sources'!G67","v":0},{"$f":"'Other Scope 3 Sources'!H67","v":0},{"$f":"'Other Scope 3 Sources'!I67","v":0},{"$f":"'Other Scope 3 Sources'!J67","v":0},{"$f":"'Other Scope 3 Sources'!K67","v":0},{"$f":"'Other Scope 3 Sources'!L67","v":0},{"$f":"'Other Scope 3 Sources'!M67","v":0},{"$f":"'Other Scope 3 Sources'!N67","v":4084.5},{"$f":"'Other Scope 3 Sources'!O67","v":5325.7},{"$f":"'Other Scope 3 Sources'!P67","v":4920.8999999999996},{"$f":"'Other Scope 3 Sources'!Q67","v":4467.5},{"$f":"'Other Scope 3 Sources'!R67","v":4638.1000000000004},{"$f":"'Other Scope 3 Sources'!S67","v":4578.5},{"$f":"'Other Scope 3 Sources'!T67","v":4281.6000000000004},{"$f":"'Other Scope 3 Sources'!U67","v":4502.8},{"$f":"'Other Scope 3 Sources'!V67","v":4946.8},{"$f":"'Other Scope 3 Sources'!W67","v":6693.9},{"$f":"SUM(V23,V25:V28)","v":9672.2000000000007}]
[null,null,"Solid Waste","MTCDE",{"$f":"'Other Scope 3 Sources'!E69","v":0},{"$f":"'Other Scope 3 Sources'!F69","v":0},{"$f":"'Other Scope 3 Sources'!G69","v":0},{"$f":"'Other Scope 3 Sources'!H69","v":0},{"$f":"'Other Scope 3 Sources'!I69","v":0},{"$f":"'Other Scope 3 Sources'!J69","v":0},{"$f":"'Other Scope 3 Sources'!K69","v":0},{"$f":"'Other Scope 3 Sources'!L69","v":0},{"$f":"'Other Scope 3 Sources'!M69","v":0},{"$f":"'Other Scope 3 Sources'!N69","v":333.06810000000002},{"$f":"'Other Scope 3 Sources'!O69","v":328.16230000000002},{"$f":"'Other Scope 3 Sources'!P69","v":331.512},{"$f":"'Other Scope 3 Sources'!Q69","v":325.4871},{"$f":"'Other Scope 3 Sources'!R69","v":314.56970000000001},{"$f":"'Other Scope 3 Sources'!S69","v":307.8057},{"$f":"'Other Scope 3 Sources'!T69","v":298.3},{"$f":"'Other Scope 3 Sources'!U69","v":293.0351},{"$f":"'Other Scope 3 Sources'!V69","v":284.24},{"$f":"'Other Scope 3 Sources'!W69","v":427.5}]
[null,null,"Wastewater","MTCDE",{"$f":"'Other Scope 3 Sources'!E70","v":0},{"$f":"'Other Scope 3 Sources'!F70","v":0},{"$f":"'Other Scope 3 Sources'!G70","v":0},{"$f":"'Other Scope 3 Sources'!H70","v":0},{"$f":"'Other Scope 3 Sources'!I70","v":0},{"$f":"'Other Scope 3 Sources'!J70","v":0},{"$f":"'Other Scope 3 Sources'!K70","v":0},{"$f":"'Other Scope 3 Sources'!L70","v":0},{"$f":"'Other Scope 3 Sources'!M70","v":0},{"$f":"'Other Scope 3 Sources'!N70","v":1588.5128476834998},{"$f":"'Other Scope 3 Sources'!O70","v":1588.5128476834998},{"$f":"'Other Scope 3 Sources'!P70","v":1588.5128476834998},{"$f":"'Other Scope 3 Sources'!Q70","v":1588.5128476834998},{"$f":"'Other Scope 3 Sources'!R70","v":1588.5128476834998},{"$f":"'Other Scope 3 Sources'!S70","v":1588.5128476834998},{"$f":"'Other Scope 3 Sources'!T70","v":1346.4817731311998},{"$f":"'Other Scope 3 Sources'!U70","v":1271.5742296433},{"$f":"'Other Scope 3 Sources'!V70","v":1254.5},{"$f":"'Other Scope 3 Sources'!W70","v":1319}]
[null,null,"Paper","MTCDE",{"$f":"'Other Scope 3 Sources'!E71","v":0},{"$f":"'Other Scope 3 Sources'!F71","v":0},{"$f":"'Other Scope 3 Sources'!G71","v":0},{"$f":"'Other Scope 3 Sources'!H71","v":0},{"$f":"'Other Scope 3 Sources'!I71","v":0},{"$f":"'Other Scope 3 Sources'!J71","v":0},{"$f":"'Other Scope 3 Sources'!K71","v":0},{"$f":"'Other Scope 3 Sources'!L71","v":0},{"$f":"'Other Scope 3 Sources'!M71","v":0},{"$f":"'Other Scope 3 Sources'!N71","v":236.3},{"$f":"'Other Scope 3 Sources'!O71","v":236.3},{"$f":"'Other Scope 3 Sources'!P71","v":236.3},{"$f":"'Other Scope 3 Sources'!Q71","v":236.3},{"$f":"'Other Scope 3 Sources'!R71","v":236.3},{"$f":"'Other Scope 3 Sources'!S71","v":236.3},{"$f":"'Other Scope 3 Sources'!T71","v":329.9},{"$f":"'Other Scope 3 Sources'!U71","v":549.70000000000005},{"$f":"'Other Scope 3 Sources'!V71","v":595},{"$f":"'Other Scope 3 Sources'!W71","v":403.5}]
[null,null,"Scope 2 T&D Losses","MTCDE",{"$f":"'Other Scope 3 Sources'!E72","v":0},{"$f":"'Other Scope 3 Sources'!F72","v":0},{"$f":"'Other Scope 3 Sources'!G72","v":0},{"$f":"'Other Scope 3 Sources'!H72","v":0},{"$f":"'Other Scope 3 Sources'!I72","v":0},{"$f":"'Other Scope 3 Sources'!J72","v":0},{"$f":"'Other Scope 3 Sources'!K72","v":0},{"$f":"'Other Scope 3 Sources'!L72","v":0},{"$f":"'Other Scope 3 Sources'!M72","v":0},{"$f":"'Other Scope 3 Sources'!N72","v":1793.3},{"$f":"'Other Scope 3 Sources'!O72","v":1858.5},{"$f":"'Other Scope 3 Sources'!P72","v":2108.1999999999998},{"$f":"'Other Scope 3 Sources'!Q72","v":2680.1},{"$f":"'Other Scope 3 Sources'!R72","v":2725.1},{"$f":"'Other Scope 3 Sources'!S72","v":2599.6},{"$f":"'Other Scope 3 Sources'!T72","v":2696.3},2942.1,2875.9,{"$f":"'Scope 2 Utilities'!W55","v":1569.7}]
[null,null,"Other Scope 3","MTCDE",{"$f":"'Other Scope 3 Sources'!E73","v":0},{"$f":"'Other Scope 3 Sources'!F73","v":0},{"$f":"'Other Scope 3 Sources'!G73","v":0},{"$f":"'Other Scope 3 Sources'!H73","v":0},{"$f":"'Other Scope 3 Sources'!I73","v":0},{"$f":"'Other Scope 3 Sources'!J73","v":0},{"$f":"'Other Scope 3 Sources'!K73","v":0},{"$f":"'Other Scope 3 Sources'!L73","v":0},{"$f":"'Other Scope 3 Sources'!M73","v":0},{"$f":"'Other Scope 3 Sources'!N73","v":0},{"$f":"'Other Scope 3 Sources'!O73","v":0},{"$f":"'Other Scope 3 Sources'!P73","v":0},{"$f":"'Other Scope 3 Sources'!Q73","v":0},{"$f":"'Other Scope 3 Sources'!R73","v":0},{"$f":"'Other Scope 3 Sources'!S73","v":0},{"$f":"'Other Scope 3 Sources'!T73","v":0},{"$f":"'Other Scope 3 Sources'!U73","v":0},{"$f":"'Other Scope 3 Sources'!V73","v":0},{"$f":"'Other Scope 3 Sources'!W73","v":0}]
[null,null,"Total Scope 3","MTCDE",{"$f":"SUM(E19:E28)","v":0},{"$f":"SUM(F19:F28)","v":0},0,0,0,0,0,0,0,29915.380947683494,31344.075147683503,29237.424847683498,31397.299947683499,33098.082547683502,39020.2185476835,{"$f":"SUM(T19:T28)","v":36333.581773131205},{"$f":"SUM(U19:U28)","v":37300.809329643293},{"$f":"SUM(V19:V28)","v":36927.840000000004},{"$f":"SUM(W19:W28)","v":43292.1}]
[]
[null,"Total Gross GHG Emissions",null,null,"FY1995","FY1996","FY1997","FY1998","FY1999","FY2000","FY2001","FY2002","FY2003","FY2004","FY2005","FY2006","FY2007","FY2008","FY2009","FY2010","FY2011","FY2012","FY2014"]
[null,null,"Total Gross GHG Emissions","MTCDE",{"$f":"E12+E17+E29","v":0},{"$f":"F12+F17+F29","v":0},0,0,0,0,0,0,0,78041.87893443933,76445.269674252268,76181.029566885409,83497.411221610339,87499.727910226618,91324.974129288268,{"$f":"T12+T17+T29","v":87618.815620639914},{"$f":"U12+U17+U29","v":88723.109329643295},{"$f":"V12+V17+V29","v":90583.84},{"$f":"W12+W17+W29","v":134130.6}]
[null,null,null,null,null,null,null,null,null,null,null,null,null,null,null,null,null,null,null,null,null,null,null,null,null,{"$f":"5/V32","v":5.5197483348023227E-5}]
[null,"Offsets",null,null,"FY1995","FY1996","FY1997","FY1998","FY1999","FY2000","FY2001","FY2002","FY2003","FY2004","FY2005","FY2006","FY2007","FY2008","FY2009","FY2010","FY2011","FY2012","FY2014"]
[null,null,"Total Additional","MTCDE",{"$f":"Offsets!E29","v":0},{"$f":"Offsets!F29","v":0},{"$f":"Offsets!G29","v":0},{"$f":"Offsets!H29","v":0},{"$f":"Offsets!I29","v":0},{"$f":"Offsets!J29","v":0},{"$f":"Offsets!K29","v":0},{"$f":"Offsets!L29","v":0},{"$f":"Offsets!M29","v":0},{"$f":"Offsets!N29","v":-131.58110223},{"$f":"Offsets!O29","v":-138.29096896359999},{"$f":"Offsets!P29","v":-90.421610076300013},{"$f":"Offsets!Q29","v":-98.578099454300016},{"$f":"Offsets!R29","v":-91.952875535000004},{"$f":"Offsets!S29","v":-648.49669832999996},{"$f":"Offsets!T29","v":-1243.4717967941501},{"$f":"Offsets!U29","v":-669.47739292184997},{"$f":"Offsets!V29","v":-1259.0883960325},{"$f":"Offsets!W29","v":-647.20000000000005}]
[null,null,"Total Non-Additional","MTCDE",{"$f":"Offsets!E30","v":0},{"$f":"Offsets!F30","v":0},{"$f":"Offsets!G30","v":0},{"$f":"Offsets!H30","v":0},{"$f":"Offsets!I30","v":0},{"$f":"Offsets!J30","v":0},{"$f":"Offsets!K30","v":0},{"$f":"Offsets!L30","v":0},{"$f":"Offsets!M30","v":0},{"$f":"Offsets!N30","v":0},{"$f":"Offsets!O30","v":0},{"$f":"Offsets!P30","v":0},{"$f":"Offsets!Q30","v":0},{"$f":"Offsets!R30","v":0},{"$f":"Offsets!S30","v":0},{"$f":"Offsets!T30","v":0},{"$f":"Offsets!U30","v":0},{"$f":"Offsets!V30","v":0},{"$f":"Offsets!W30","v":700}]
[null,null,"Total Offsets","MTCDE",{"$f":"SUM(E35:E36)","v":0},{"$f":"SUM(F35:F36)","v":0},0,0,0,0,0,0,0,-131.58110223,-138.29096896359999,-90.421610076300013,-98.578099454300016,-91.952875535000004,-648.49669832999996,{"$f":"SUM(T35:T36)","v":-1243.4717967941501},{"$f":"SUM(U35:U36)","v":-669.47739292184997},{"$f":"SUM(V35:V36)","v":-1259.0883960325},{"$f":"SUM(W35:W36)","v":52.799999999999955}]
[]
[null,"Total Net GHG Emissions",null,null,"FY1995","FY1996","FY1997","FY1998","FY1999","FY2000","FY2001","FY2002","FY2003","FY2004","FY2005","FY2006","FY2007","FY2008","FY2009","FY2010","FY2011","FY2012","FY2014"]
[null,null,"Total Net GHG Emissions","MTCDE",{"$f":"E32+E37","v":0},0,0,0,0,0,0,0,0,77910.297832209326,76306.978705288668,76090.607956809108,83398.833122156037,87407.775034691615,90676.477430958272,{"$f":"T32+T37","v":86375.34382384576},{"$f":"U32+U37","v":88053.631936721446},{"$f":"V32+V37","v":89324.751603967496},{"$f":"W32+W37","v":134183.4}]
[]
[null,null,null,null,null,null,null,null,null,null,null,null,"Notes"]

{"sheet":"Scope 1 Utilities","index":5,"n_rows":69,"n_cols":23,"rows_kept":69,"cut":false,"hidden":false,"merged":[[68,12,79,18]]}
[{"$f":"'Institutional Data'!$D$8","v":"University of Oregon"}]
[{"$f":"'Data Collection Notes_Sheena'!A2","v":"Go-Green Measurement, Benchmarking and Analysis Summary"}]
[]
["Scope 1: Utilities"]
[]
[null,"On-Campus Cogeneration Plant",null,null,"FY1995","FY1996","FY1997","FY1998","FY1999","FY2000","FY2001","FY2002","FY2003","FY2004","FY2005","FY2006","FY2007","FY2008","FY2009","FY2010","FY2011","FY2012","FY2014"]
[null,"Input"]
[null,null,"Residual Oil #5 and #6","Gallons",null,null,null,null,null,null,null,null,null,0,0,0,0,0,0,0,0,0,0]
[null,null,"Distilate Oil #1 - #4","Gallons",null,null,null,null,null,null,null,null,null,0,0,0,0,0,0,0,0,0,0]
[null,null,"Natural Gas","MMBTU",null,null,null,null,null,null,null,null,null,25441,20163,14158,14158,14309.9517,15759.536099999999,5612.5135799999998,0,0,350311]
[null,null,"LPG Propane","Gallons",null,null,null,null,null,null,null,null,null,0,0,0,0,0,0,0,0,0,0]
[null,null,"Coal (Steam Coal)","Short Tons",null,null,null,null,null,null,null,null,null,0,0,0,0,0,0,0,0,0,0]
[null,null,"Incinerated Waste","Short Tons",null,null,null,null,null,null,null,null,null,0,0,0,0,0,0,0,0,0,0]
[null,null,"Wood Chips","Short Tons",null,null,null,null,null,null,null,null,null,0,0,0,0,0,0,0,0,0,0]
[null,null,"Wood Pellets","Short Tons",null,null,null,null,null,null,null,null,null,0,0,0,0,0,0,0,0,0,0]
[null,null,"Grass Pellets","Short Tons",null,null,null,null,null,null,null,null,null,0,0,0,0,0,0,0,0,0,0]
[null,null,"Residual BioHeat","Gallons",null,null,null,null,null,null,null,null,null,0,0,0,0,0,0,0,0,0,0]
[null,null,"Distilate BioHeat","Gallons",null,null,null,null,null,null,null,null,null,0,0,0,0,0,0,0,0,0,0]
[null,null,"Other","MMBTU",null,null,null,null,null,null,null,null,null,0,0,0,0,0,0,0,0,0,0]
[null,"Output"]
[null,null,"Electricity","kWh",null,null,null,null,null,null,null,null,null,7452000,5906000,4130042,5004880,4191550,4616150,1643970,0,0,28339972]
[null,null,"Steam/Heat","MMBTU",null,null,null,null,null,null,null,null,null,1,1,1,1,1,1,1,0,0,1]
[null,null,"Electric Efficiency","%",null,null,null,null,null,null,null,null,null,0.8,0.8,0.8,0.8,0.8,0.8,0.8,0,0,0.85]
[null,null,"Steam Efficiency","%",null,null,null,null,null,null,null,null,null,0.01,0.01,0.01,0.01,0.01,0.01,0.01,0,0,0.01]
[]
[]
[null,"Other On-Campus Stationary Sources",null,null,"FY1995","FY1996","FY1997","FY1998","FY1999","FY2000","FY2001","FY2002","FY2003","FY2004","FY2005","FY2006","FY2007","FY2008","FY2009","FY2010","FY2011","FY2012","FY2014"]
[null,"Input"]
[null,null,"Residual Oil #5 and #6","Gallons",null,null,null,null,null,null,null,null,null,0,0,0,0,0,0,0,0,0,0]
[null,null,"Distilate Oil #1 - #4","Gallons",null,null,null,null,null,null,null,null,null,10974.5,12328.5,15745.5,19983.5,9837.5,10617.4,29827.599999999999,12867.7,12378.2,1099]
[null,null,"Natural Gas","MMBTU",null,null,null,null,null,null,null,null,null,509698.87800000003,445109.39000000007,437822.67000000004,433118.56000000006,468541.01284059195,453228.3,428788.70000000007,416398.85000000003,442424,265348]
[null,null,"LPG Propane","Gallons",null,null,null,null,null,null,null,null,null,5334.8000000000011,5334.8000000000011,5334.8000000000011,5334.8000000000011,5334.8000000000011,4679.7999999999993,4179.1000000000004,4840.2,3724.1,8330]
[null,null,"Coal (Steam Coal)","Short Tons",null,null,null,null,null,null,null,null,null,0,0,0,0,0,0,0,0,0,0]
[null,null,"Incinerated Waste","Short Tons",null,null,null,null,null,null,null,null,null,0,0,0,0,0,0,0,0,0,0]
[null,null,"Wood Chips","Short Tons",null,null,null,null,null,null,null,null,null,0,0,0,0,0,0,0,0,0,0]
[null,null,"Wood Pellets","Short Tons",null,null,null,null,null,null,null,null,null,0,0,0,0,0,0,0,0,0,0]
[null,null,"Grass Pellets","Short Tons",null,null,null,null,null,null,null,null,null,0,0,0,0,0,0,0,0,0,0]
[null,null,"Residual BioHeat","Gallons",null,null,null,null,null,null,null,null,null,0,0,0,0,0,0,0,0,0,0]
[null,null,"Distilate BioHeat","Gallons",null,null,null,null,null,null,null,null,null,0,0,0,0,0,0,0,0,0,0]
[null,null,"Solar","MMBTU",null,null,null,null,null,null,null,null,null,0,0,0,0,0,0,0,0,0,252.8]
[]
[]
[null,"GHG Emissions",null,null,"FY1995","FY1996","FY1997","FY1998","FY1999","FY2000","FY2001","FY2002","FY2003","FY2004","FY2005","FY2006","FY2007","FY2008","FY2009","FY2010","FY2011","FY2012","FY2014"]
[null,null,"Cogen Electric GHG","MTCDE",null,null,null,null,null,null,null,null,null,1348.8,1068.0999999999999,748.7,749.5,756.8,833.9,294.95805294971001,0,0,18608.5]
[null,null,"Cogen Steam GHG","MTCDE",null,null,null,null,null,null,null,null,null,4.222523331013357,4.2190631439404358,4.2292557770836776,3.4934415322043519,4.2122680880961445,4.2144243628465157,2.0508615263585215,0,0,0]
[null,null,"Other On-Campus Stationary GHG","MTCDE",null,null,null,null,null,null,null,null,null,27246.799999999999,23825.7,23473.3,23266.7,25096.3,24116.573863910235,23134.2,22303.8,23677,50311]
[null,null,"Stationary Biogenic Emissions","MTCDE",null,null,null,null,null,null,null,null,null,0,0,0,0,0,0,0,0,0,0]
[null,null,"Total Cogen Plant","MTCDE",{"$f":"SUM(E44:E45)","v":0},0,0,0,0,0,0,0,0,1353.0225233310134,1072.3190631439404,752.92925577708377,752.99344153220432,761.01226808809611,838.11442436284653,{"$f":"SUM(T44:T45)","v":297.00891447606853},{"$f":"SUM(U44:U45)","v":0},{"$f":"SUM(V44:V45)","v":0},{"$f":"SUM(W44:W45)","v":18608.5}]
[null,null,"Total Non Cogen Plant","MTCDE",{"$f":"SUM(E46:E46)","v":0},0,0,0,0,0,0,0,0,27246.799999999999,23825.7,23473.3,23266.7,25096.3,24116.573863910235,{"$f":"SUM(T46:T46)","v":23134.2},{"$f":"SUM(U46:U46)","v":22303.8},{"$f":"SUM(V46:V46)","v":23677},{"$f":"SUM(W46:W46)","v":50311}]
[null,null,"Scope 1 Utilities GHG","MTCDE",{"$f":"E48+E49","v":0},0,0,0,0,0,0,0,0,28599.822523331011,24898.01906314394,24226.229255777082,24019.693441532207,25857.312268088095,24954.688288273082,{"$f":"T48+T49","v":23431.208914476068},{"$f":"U48+U49","v":22303.8},{"$f":"V48+V49","v":23677},{"$f":"W48+W49","v":68919.5}]
[]
[]
[null,"Qualification Assistant",null,null,"FY1995","FY1996","FY1997","FY1998","FY1999","FY2000","FY2001","FY2002","FY2003","FY2004","FY2005","FY2006","FY2007","FY2008","FY2009","FY2010","FY2011","FY2012","FY2014"]
[null,null,"Stationary MMBTU Total","MMBTU",{"$f":"E10+E31+E19+E40+((E8+E29)*'Scope 1 Conversion'!$D$3)+((E9+E30)*'Scope 1 Conversion'!$D$4)+((E11+E32)*'Scope 1 Conversion'!B17)+((E12+E33)*'Scope 1 Conversion'!B24)+((E13+E34)*'Scope 1 Conversion'!$D$6)+((E14+E35)*'Scope 1 Conversion'!$D$7)+((E15+E36)*'Scope 1 Conversion'!$D$8)+((E16+E37)*'Scope 1 Conversion'!$D$9)+((E17+E38)*'Scope 1 Conversion'!$D$10)+((E18+E39)*'Scope 1 Conversion'!$D$11)","v":0},{"$f":"F10+F31+F19+F40+(F8*'Scope 1 Conversion'!$D$3)+(F9*'Scope 1 Conversion'!$D$4)+(F11*'Scope 1 Conversion'!C17)+(F12*'Scope 1 Conversion'!C24)+(F29*'Scope 1 Conversion'!$D$3)+(F30*'Scope 1 Conversion'!$D$4)+(F32*'Scope 1 Conversion'!C17)+(F33*'Scope 1 Conversion'!C24)+(F13*'Scope 1 Conversion'!$D$6)+(F14*'Scope 1 Conversion'!$D$7)+(F15*'Scope 1 Conversion'!$D$8)+(F16*'Scope 1 Conversion'!$D$9)+(F17*'Scope 1 Conversion'!$D$10)+(F18*'Scope 1 Conversion'!$D$11)+(F34*'Scope 1 Conversion'!$D$6)+(F35*'Scope 1 Conversion'!$D$7)+(F36*'Scope 1 Conversion'!$D$8)+(F37*'Scope 1 Conversion'!$D$9)+(F38*'Scope 1 Conversion'!$D$10)+(F39*'Scope 1 Conversion'!$D$11)","v":0},{"$f":"G10+G31+G19+G40+(G8*'Scope 1 Conversion'!$D$3)+(G9*'Scope 1 Conversion'!$D$4)+(G11*'Scope 1 Conversion'!D17)+(G12*'Scope 1 Conversion'!D24)+(G29*'Scope 1 Conversion'!$D$3)+(G30*'Scope 1 Conversion'!$D$4)+(G32*'Scope 1 Conversion'!D17)+(G33*'Scope 1 Conversion'!D24)+(G13*'Scope 1 Conversion'!$D$6)+(G14*'Scope 1 Conversion'!$D$7)+(G15*'Scope 1 Conversion'!$D$8)+(G16*'Scope 1 Conversion'!$D$9)+(G17*'Scope 1 Conversion'!$D$10)+(G18*'Scope 1 Conversion'!$D$11)+(G34*'Scope 1 Conversion'!$D$6)+(G35*'Scope 1 Conversion'!$D$7)+(G36*'Scope 1 Conversion'!$D$8)+(G37*'Scope 1 Conversion'!$D$9)+(G38*'Scope 1 Conversion'!$D$10)+(G39*'Scope 1 Conversion'!$D$11)","v":0},{"$f":"H10+H31+H19+H40+(H8*'Scope 1 Conversion'!$D$3)+(H9*'Scope 1 Conversion'!$D$4)+(H11*'Scope 1 Conversion'!E17)+(H12*'Scope 1 Conversion'!E24)+(H29*'Scope 1 Conversion'!$D$3)+(H30*'Scope 1 Conversion'!$D$4)+(H32*'Scope 1 Conversion'!E17)+(H33*'Scope 1 Conversion'!E24)+(H13*'Scope 1 Conversion'!$D$6)+(H14*'Scope 1 Conversion'!$D$7)+(H15*'Scope 1 Conversion'!$D$8)+(H16*'Scope 1 Conversion'!$D$9)+(H17*'Scope 1 Conversion'!$D$10)+(H18*'Scope 1 Conversion'!$D$11)+(H34*'Scope 1 Conversion'!$D$6)+(H35*'Scope 1 Conversion'!$D$7)+(H36*'Scope 1 Conversion'!$D$8)+(H37*'Scope 1 Conversion'!$D$9)+(H38*'Scope 1 Conversion'!$D$10)+(H39*'Scope 1 Conversion'!$D$11)","v":0},{"$f":"I10+I31+I19+I40+(I8*'Scope 1 Conversion'!$D$3)+(I9*'Scope 1 Conversion'!$D$4)+(I11*'Scope 1 Conversion'!F17)+(I12*'Scope 1 Conversion'!F24)+(I29*'Scope 1 Conversion'!$D$3)+(I30*'Scope 1 Conversion'!$D$4)+(I32*'Scope 1 Conversion'!F17)+(I33*'Scope 1 Conversion'!F24)+(I13*'Scope 1 Conversion'!$D$6)+(I14*'Scope 1 Conversion'!$D$7)+(I15*'Scope 1 Conversion'!$D$8)+(I16*'Scope 1 Conversion'!$D$9)+(I17*'Scope 1 Conversion'!$D$10)+(I18*'Scope 1 Conversion'!$D$11)+(I34*'Scope 1 Conversion'!$D$6)+(I35*'Scope 1 Conversion'!$D$7)+(I36*'Scope 1 Conversion'!$D$8)+(I37*'Scope 1 Conversion'!$D$9)+(I38*'Scope 1 Conversion'!$D$10)+(I39*'Scope 1 Conversion'!$D$11)","v":0},{"$f":"J10+J31+J19+J40+(J8*'Scope 1 Conversion'!$D$3)+(J9*'Scope 1 Conversion'!$D$4)+(J11*'Scope 1 Conversion'!G17)+(J12*'Scope 1 Conversion'!G24)+(J29*'Scope 1 Conversion'!$D$3)+(J30*'Scope 1 Conversion'!$D$4)+(J32*'Scope 1 Conversion'!G17)+(J33*'Scope 1 Conversion'!G24)+(J13*'Scope 1 Conversion'!$D$6)+(J14*'Scope 1 Conversion'!$D$7)+(J15*'Scope 1 Conversion'!$D$8)+(J16*'Scope 1 Conversion'!$D$9)+(J17*'Scope 1 Conversion'!$D$10)+(J18*'Scope 1 Conversion'!$D$11)+(J34*'Scope 1 Conversion'!$D$6)+(J35*'Scope 1 Conversion'!$D$7)+(J36*'Scope 1 Conversion'!$D$8)+(J37*'Scope 1 Conversion'!$D$9)+(J38*'Scope 1 Conversion'!$D$10)+(J39*'Scope 1 Conversion'!$D$11)","v":0},{"$f":"K10+K31+K19+K40+(K8*'Scope 1 Conversion'!$D$3)+(K9*'Scope 1 Conversion'!$D$4)+(K11*'Scope 1 Conversion'!H17)+(K12*'Scope 1 Conversion'!H24)+(K29*'Scope 1 Conversion'!$D$3)+(K30*'Scope 1 Conversion'!$D$4)+(K32*'Scope 1 Conversion'!H17)+(K33*'Scope 1 Conversion'!H24)+(K13*'Scope 1 Conversion'!$D$6)+(K14*'Scope 1 Conversion'!$D$7)+(K15*'Scope 1 Conversion'!$D$8)+(K16*'Scope 1 Conversion'!$D$9)+(K17*'Scope 1 Conversion'!$D$10)+(K18*'Scope 1 Conversion'!$D$11)+(K34*'Scope 1 Conversion'!$D$6)+(K35*'Scope 1 Conversion'!$D$7)+(K36*'Scope 1 Conversion'!$D$8)+(K37*'Scope 1 Conversion'!$D$9)+(K38*'Scope 1 Conversion'!$D$10)+(K39*'Scope 1 Conversion'!$D$11)","v":0},{"$f":"L10+L31+L19+L40+(L8*'Scope 1 Conversion'!$D$3)+(L9*'Scope 1 Conversion'!$D$4)+(L11*'Scope 1 Conversion'!I17)+(L12*'Scope 1 Conversion'!I24)+(L29*'Scope 1 Conversion'!$D$3)+(L30*'Scope 1 Conversion'!$D$4)+(L32*'Scope 1 Conversion'!I17)+(L33*'Scope 1 Conversion'!I24)+(L13*'Scope 1 Conversion'!$D$6)+(L14*'Scope 1 Conversion'!$D$7)+(L15*'Scope 1 Conversion'!$D$8)+(L16*'Scope 1 Conversion'!$D$9)+(L17*'Scope 1 Conversion'!$D$10)+(L18*'Scope 1 Conversion'!$D$11)+(L34*'Scope 1 Conversion'!$D$6)+(L35*'Scope 1 Conversion'!$D$7)+(L36*'Scope 1 Conversion'!$D$8)+(L37*'Scope 1 Conversion'!$D$9)+(L38*'Scope 1 Conversion'!$D$10)+(L39*'Scope 1 Conversion'!$D$11)","v":0},{"$f":"M10+M31+M19+M40+(M8*'Scope 1 Conversion'!$D$3)+(M9*'Scope 1 Conversion'!$D$4)+(M11*'Scope 1 Conversion'!J17)+(M12*'Scope 1 Conversion'!J24)+(M29*'Scope 1 Conversion'!$D$3)+(M30*'Scope 1 Conversion'!$D$4)+(M32*'Scope 1 Conversion'!J17)+(M33*'Scope 1 Conversion'!J24)+(M13*'Scope 1 Conversion'!$D$6)+(M14*'Scope 1 Conversion'!$D$7)+(M15*'Scope 1 Conversion'!$D$8)+(M16*'Scope 1 Conversion'!$D$9)+(M17*'Scope 1 Conversion'!$D$10)+(M18*'Scope 1 Conversion'!$D$11)+(M34*'Scope 1 Conversion'!$D$6)+(M35*'Scope 1 Conversion'!$D$7)+(M36*'Scope 1 Conversion'!$D$8)+(M37*'Scope 1 Conversion'!$D$9)+(M38*'Scope 1 Conversion'!$D$10)+(M39*'Scope 1 Conversion'!$D$11)","v":0},{"$f":"N10+N31+N19+N40+(N8*'Scope 1 Conversion'!$D$3)+(N9*'Scope 1 Conversion'!$D$4)+(N11*'Scope 1 Conversion'!K17)+(N12*'Scope 1 Conversion'!K24)+(N29*'Scope 1 Conversion'!$D$3)+(N30*'Scope 1 Conversion'!$D$4)+(N32*'Scope 1 Conversion'!K17)+(N33*'Scope 1 Conversion'!K24)+(N13*'Scope 1 Conversion'!$D$6)+(N14*'Scope 1 Conversion'!$D$7)+(N15*'Scope 1 Conversion'!$D$8)+(N16*'Scope 1 Conversion'!$D$9)+(N17*'Scope 1 Conversion'!$D$10)+(N18*'Scope 1 Conversion'!$D$11)+(N34*'Scope 1 Conversion'!$D$6)+(N35*'Scope 1 Conversion'!$D$7)+(N36*'Scope 1 Conversion'!$D$8)+(N37*'Scope 1 Conversion'!$D$9)+(N38*'Scope 1 Conversion'!$D$10)+(N39*'Scope 1 Conversion'!$D$11)","v":537114.16795238096},{"$f":"O10+O31+O19+O40+(O8*'Scope 1 Conversion'!$D$3)+(O9*'Scope 1 Conversion'!$D$4)+(O11*'Scope 1 Conversion'!L17)+(O12*'Scope 1 Conversion'!L24)+(O29*'Scope 1 Conversion'!$D$3)+(O30*'Scope 1 Conversion'!$D$4)+(O32*'Scope 1 Conversion'!L17)+(O33*'Scope 1 Conversion'!L24)+(O13*'Scope 1 Conversion'!$D$6)+(O14*'Scope 1 Conversion'!$D$7)+(O15*'Scope 1 Conversion'!$D$8)+(O16*'Scope 1 Conversion'!$D$9)+(O17*'Scope 1 Conversion'!$D$10)+(O18*'Scope 1 Conversion'!$D$11)+(O34*'Scope 1 Conversion'!$D$6)+(O35*'Scope 1 Conversion'!$D$7)+(O36*'Scope 1 Conversion'!$D$8)+(O37*'Scope 1 Conversion'!$D$9)+(O38*'Scope 1 Conversion'!$D$10)+(O39*'Scope 1 Conversion'!$D$11)","v":467433.53195238102},{"$f":"P10+P31+P19+P40+(P8*'Scope 1 Conversion'!$D$3)+(P9*'Scope 1 Conversion'!$D$4)+(P11*'Scope 1 Conversion'!M17)+(P12*'Scope 1 Conversion'!M24)+(P29*'Scope 1 Conversion'!$D$3)+(P30*'Scope 1 Conversion'!$D$4)+(P32*'Scope 1 Conversion'!M17)+(P33*'Scope 1 Conversion'!M24)+(P13*'Scope 1 Conversion'!$D$6)+(P14*'Scope 1 Conversion'!$D$7)+(P15*'Scope 1 Conversion'!$D$8)+(P16*'Scope 1 Conversion'!$D$9)+(P17*'Scope 1 Conversion'!$D$10)+(P18*'Scope 1 Conversion'!$D$11)+(P34*'Scope 1 Conversion'!$D$6)+(P35*'Scope 1 Conversion'!$D$7)+(P36*'Scope 1 Conversion'!$D$8)+(P37*'Scope 1 Conversion'!$D$9)+(P38*'Scope 1 Conversion'!$D$10)+(P39*'Scope 1 Conversion'!$D$11)","v":454613.35795238102},{"$f":"Q10+Q31+Q19+Q40+(Q8*'Scope 1 Conversion'!$D$3)+(Q9*'Scope 1 Conversion'!$D$4)+(Q11*'Scope 1 Conversion'!N17)+(Q12*'Scope 1 Conversion'!N24)+(Q29*'Scope 1 Conversion'!$D$3)+(Q30*'Scope 1 Conversion'!$D$4)+(Q32*'Scope 1 Conversion'!N17)+(Q33*'Scope 1 Conversion'!N24)+(Q13*'Scope 1 Conversion'!$D$6)+(Q14*'Scope 1 Conversion'!$D$7)+(Q15*'Scope 1 Conversion'!$D$8)+(Q16*'Scope 1 Conversion'!$D$9)+(Q17*'Scope 1 Conversion'!$D$10)+(Q18*'Scope 1 Conversion'!$D$11)+(Q34*'Scope 1 Conversion'!$D$6)+(Q35*'Scope 1 Conversion'!$D$7)+(Q36*'Scope 1 Conversion'!$D$8)+(Q37*'Scope 1 Conversion'!$D$9)+(Q38*'Scope 1 Conversion'!$D$10)+(Q39*'Scope 1 Conversion'!$D$11)","v":450494.09195238102},{"$f":"R10+R31+R19+R40+(R8*'Scope 1 Conversion'!$D$3)+(R9*'Scope 1 Conversion'!$D$4)+(R11*'Scope 1 Conversion'!O17)+(R12*'Scope 1 Conversion'!O24)+(R29*'Scope 1 Conversion'!$D$3)+(R30*'Scope 1 Conversion'!$D$4)+(R32*'Scope 1 Conversion'!O17)+(R33*'Scope 1 Conversion'!O24)+(R13*'Scope 1 Conversion'!$D$6)+(R14*'Scope 1 Conversion'!$D$7)+(R15*'Scope 1 Conversion'!$D$8)+(R16*'Scope 1 Conversion'!$D$9)+(R17*'Scope 1 Conversion'!$D$10)+(R18*'Scope 1 Conversion'!$D$11)+(R34*'Scope 1 Conversion'!$D$6)+(R35*'Scope 1 Conversion'!$D$7)+(R36*'Scope 1 Conversion'!$D$8)+(R37*'Scope 1 Conversion'!$D$9)+(R38*'Scope 1 Conversion'!$D$10)+(R39*'Scope 1 Conversion'!$D$11)","v":484668.3484929729},{"$f":"S10+S31+S19+S40+(S8*'Scope 1 Conversion'!$D$3)+(S9*'Scope 1 Conversion'!$D$4)+(S11*'Scope 1 Conversion'!P17)+(S12*'Scope 1 Conversion'!P24)+(S29*'Scope 1 Conversion'!$D$3)+(S30*'Scope 1 Conversion'!$D$4)+(S32*'Scope 1 Conversion'!P17)+(S33*'Scope 1 Conversion'!P24)+(S13*'Scope 1 Conversion'!$D$6)+(S14*'Scope 1 Conversion'!$D$7)+(S15*'Scope 1 Conversion'!$D$8)+(S16*'Scope 1 Conversion'!$D$9)+(S17*'Scope 1 Conversion'!$D$10)+(S18*'Scope 1 Conversion'!$D$11)+(S34*'Scope 1 Conversion'!$D$6)+(S35*'Scope 1 Conversion'!$D$7)+(S36*'Scope 1 Conversion'!$D$8)+(S37*'Scope 1 Conversion'!$D$9)+(S38*'Scope 1 Conversion'!$D$10)+(S39*'Scope 1 Conversion'!$D$11)","v":470856.39149047621},{"$f":"T10+T31+T19+T40+(T8*'Scope 1 Conversion'!$D$3)+(T9*'Scope 1 Conversion'!$D$4)+(T11*'Scope 1 Conversion'!Q17)+(T12*'Scope 1 Conversion'!Q24)+(T29*'Scope 1 Conversion'!$D$3)+(T30*'Scope 1 Conversion'!$D$4)+(T32*'Scope 1 Conversion'!Q17)+(T33*'Scope 1 Conversion'!Q24)+(T13*'Scope 1 Conversion'!$D$6)+(T14*'Scope 1 Conversion'!$D$7)+(T15*'Scope 1 Conversion'!$D$8)+(T16*'Scope 1 Conversion'!$D$9)+(T17*'Scope 1 Conversion'!$D$10)+(T18*'Scope 1 Conversion'!$D$11)+(T34*'Scope 1 Conversion'!$D$6)+(T35*'Scope 1 Conversion'!$D$7)+(T36*'Scope 1 Conversion'!$D$8)+(T37*'Scope 1 Conversion'!$D$9)+(T38*'Scope 1 Conversion'!$D$10)+(T39*'Scope 1 Conversion'!$D$11)","v":438877.62099904777},{"$f":"U10+U31+U19+U40+(U8*'Scope 1 Conversion'!$D$3)+(U9*'Scope 1 Conversion'!$D$4)+(U11*'Scope 1 Conversion'!R17)+(U12*'Scope 1 Conversion'!R24)+(U29*'Scope 1 Conversion'!$D$3)+(U30*'Scope 1 Conversion'!$D$4)+(U32*'Scope 1 Conversion'!R17)+(U33*'Scope 1 Conversion'!R24)+(U13*'Scope 1 Conversion'!$D$6)+(U14*'Scope 1 Conversion'!$D$7)+(U15*'Scope 1 Conversion'!$D$8)+(U16*'Scope 1 Conversion'!$D$9)+(U17*'Scope 1 Conversion'!$D$10)+(U18*'Scope 1 Conversion'!$D$11)+(U34*'Scope 1 Conversion'!$D$6)+(U35*'Scope 1 Conversion'!$D$7)+(U36*'Scope 1 Conversion'!$D$8)+(U37*'Scope 1 Conversion'!$D$9)+(U38*'Scope 1 Conversion'!$D$10)+(U39*'Scope 1 Conversion'!$D$11)","v":418591.77174285718},{"$f":"V10+V31+V19+V40+(V8*'Scope 1 Conversion'!$D$3)+(V9*'Scope 1 Conversion'!$D$4)+(V11*'Scope 1 Conversion'!S17)+(V12*'Scope 1 Conversion'!S24)+(V29*'Scope 1 Conversion'!$D$3)+(V30*'Scope 1 Conversion'!$D$4)+(V32*'Scope 1 Conversion'!S17)+(V33*'Scope 1 Conversion'!S24)+(V13*'Scope 1 Conversion'!$D$6)+(V14*'Scope 1 Conversion'!$D$7)+(V15*'Scope 1 Conversion'!$D$8)+(V16*'Scope 1 Conversion'!$D$9)+(V17*'Scope 1 Conversion'!$D$10)+(V18*'Scope 1 Conversion'!$D$11)+(V34*'Scope 1 Conversion'!$D$6)+(V35*'Scope 1 Conversion'!$D$7)+(V36*'Scope 1 Conversion'!$D$8)+(V37*'Scope 1 Conversion'!$D$9)+(V38*'Scope 1 Conversion'!$D$10)+(V39*'Scope 1 Conversion'!$D$11)","v":444132.19160000002},{"$f":"W10+W31+W19+W40+(W8*'Scope 1 Conversion'!$D$3)+(W9*'Scope 1 Conversion'!$D$4)+(W11*'Scope 1 Conversion'!T17)+(W12*'Scope 1 Conversion'!T24)+(W29*'Scope 1 Conversion'!$D$3)+(W30*'Scope 1 Conversion'!$D$4)+(W32*'Scope 1 Conversion'!T17)+(W33*'Scope 1 Conversion'!T24)+(W13*'Scope 1 Conversion'!$D$6)+(W14*'Scope 1 Conversion'!$D$7)+(W15*'Scope 1 Conversion'!$D$8)+(W16*'Scope 1 Conversion'!$D$9)+(W17*'Scope 1 Conversion'!$D$10)+(W18*'Scope 1 Conversion'!$D$11)+(W34*'Scope 1 Conversion'!$D$6)+(W35*'Scope 1 Conversion'!$D$7)+(W36*'Scope 1 Conversion'!$D$8)+(W37*'Scope 1 Conversion'!$D$9)+(W38*'Scope 1 Conversion'!$D$10)+(W39*'Scope 1 Conversion'!$D$11)","v":616063.46200000006}]
[null,null,"Stationary Fuel Carbon Intensity","MTCDE/1,000 MMBTU",{"$f":"E50/E54*1000","v":{"$error":"#DIV/0!"}},{"$error":"#DIV/0!"},{"$error":"#DIV/0!"},{"$error":"#DIV/0!"},{"$error":"#DIV/0!"},{"$error":"#DIV/0!"},{"$error":"#DIV/0!"},{"$error":"#DIV/0!"},{"$error":"#DIV/0!"},53.247194413733268,53.265367931884661,53.289743541400043,53.318553718283134,53.35052794037157,52.998512368665232,{"$f":"T50/T54*1000","v":53.388935305331749},{"$f":"U50/U54*1000","v":53.282939383006614},{"$f":"V50/V54*1000","v":53.310704442978725},{"$f":"W50/W54*1000","v":111.87077996195138}]
[null,null,"Stationary Fuel Consumption","BTU/GSF",{"$f":"(E54*1000000)/'Institutional Data'!I9","v":{"$error":"#DIV/0!"}},{"$f":"(F54*1000000)/'Institutional Data'!J9","v":{"$error":"#DIV/0!"}},{"$f":"(G54*1000000)/'Institutional Data'!K9","v":{"$error":"#DIV/0!"}},{"$f":"(H54*1000000)/'Institutional Data'!L9","v":{"$error":"#DIV/0!"}},{"$f":"(I54*1000000)/'Institutional Data'!M9","v":{"$error":"#DIV/0!"}},{"$f":"(J54*1000000)/'Institutional Data'!N9","v":{"$error":"#DIV/0!"}},{"$f":"(K54*1000000)/'Institutional Data'!O9","v":{"$error":"#DIV/0!"}},{"$f":"(L54*1000000)/'Institutional Data'!P9","v":{"$error":"#DIV/0!"}},{"$f":"(M54*1000000)/'Institutional Data'!Q9","v":{"$error":"#DIV/0!"}},{"$f":"(N54*1000000)/'Institutional Data'!R9","v":90564.901664789038},{"$f":"(O54*1000000)/'Institutional Data'!S9","v":77851.987565291463},{"$f":"(P54*1000000)/'Institutional Data'!T9","v":71844.779056515981},{"$f":"(Q54*1000000)/'Institutional Data'!U9","v":70919.928060964085},{"$f":"(R54*1000000)/'Institutional Data'!V9","v":75238.801927085617},{"$f":"(S54*1000000)/'Institutional Data'!W9","v":74762.179232842042},{"$f":"(T54*1000000)/'Institutional Data'!X9","v":67437.951078493352},{"$f":"(U54*1000000)/'Institutional Data'!Y9","v":56759.776371150765},{"$f":"(V54*1000000)/'Institutional Data'!Z9","v":56935.440531198255},{"$f":"(W54*1000000)/'Institutional Data'!AA9","v":77533.025162915845}]
[null,null,"Residual Oil (#5-6)","% of Total Stationary",{"$f":"('Scope 1 Utilities'!E8+'Scope 1 Utilities'!E29)*'Scope 1 Conversion'!$D$3/'Scope 1 Utilities'!E54","v":{"$error":"#DIV/0!"}},{"$f":"('Scope 1 Utilities'!F8+'Scope 1 Utilities'!F29)*'Scope 1 Conversion'!$D$3/'Scope 1 Utilities'!F54","v":{"$error":"#DIV/0!"}},{"$f":"('Scope 1 Utilities'!G8+'Scope 1 Utilities'!G29)*'Scope 1 Conversion'!$D$3/'Scope 1 Utilities'!G54","v":{"$error":"#DIV/0!"}},{"$f":"('Scope 1 Utilities'!H8+'Scope 1 Utilities'!H29)*'Scope 1 Conversion'!$D$3/'Scope 1 Utilities'!H54","v":{"$error":"#DIV/0!"}},{"$f":"('Scope 1 Utilities'!I8+'Scope 1 Utilities'!I29)*'Scope 1 Conversion'!$D$3/'Scope 1 Utilities'!I54","v":{"$error":"#DIV/0!"}},{"$f":"('Scope 1 Utilities'!J8+'Scope 1 Utilities'!J29)*'Scope 1 Conversion'!$D$3/'Scope 1 Utilities'!J54","v":{"$error":"#DIV/0!"}},{"$f":"('Scope 1 Utilities'!K8+'Scope 1 Utilities'!K29)*'Scope 1 Conversion'!$D$3/'Scope 1 Utilities'!K54","v":{"$error":"#DIV/0!"}},{"$f":"('Scope 1 Utilities'!L8+'Scope 1 Utilities'!L29)*'Scope 1 Conversion'!$D$3/'Scope 1 Utilities'!L54","v":{"$error":"#DIV/0!"}},{"$f":"('Scope 1 Utilities'!M8+'Scope 1 Utilities'!M29)*'Scope 1 Conversion'!$D$3/'Scope 1 Utilities'!M54","v":{"$error":"#DIV/0!"}},{"$f":"('Scope 1 Utilities'!N8+'Scope 1 Utilities'!N29)*'Scope 1 Conversion'!$D$3/'Scope 1 Utilities'!N54","v":0},{"$f":"('Scope 1 Utilities'!O8+'Scope 1 Utilities'!O29)*'Scope 1 Conversion'!$D$3/'Scope 1 Utilities'!O54","v":0},{"$f":"('Scope 1 Utilities'!P8+'Scope 1 Utilities'!P29)*'Scope 1 Conversion'!$D$3/'Scope 1 Utilities'!P54","v":0},{"$f":"('Scope 1 Utilities'!Q8+'Scope 1 Utilities'!Q29)*'Scope 1 Conversion'!$D$3/'Scope 1 Utilities'!Q54","v":0},{"$f":"('Scope 1 Utilities'!R8+'Scope 1 Utilities'!R29)*'Scope 1 Conversion'!$D$3/'Scope 1 Utilities'!R54","v":0},{"$f":"('Scope 1 Utilities'!S8+'Scope 1 Utilities'!S29)*'Scope 1 Conversion'!$D$3/'Scope 1 Utilities'!S54","v":0},{"$f":"('Scope 1 Utilities'!T8+'Scope 1 Utilities'!T29)*'Scope 1 Conversion'!$D$3/'Scope 1 Utilities'!T54","v":0},{"$f":"('Scope 1 Utilities'!U8+'Scope 1 Utilities'!U29)*'Scope 1 Conversion'!$D$3/'Scope 1 Utilities'!U54","v":0},{"$f":"('Scope 1 Utilities'!V8+'Scope 1 Utilities'!V29)*'Scope 1 Conversion'!$D$3/'Scope 1 Utilities'!V54","v":0},{"$f":"('Scope 1 Utilities'!W8+'Scope 1 Utilities'!W29)*'Scope 1 Conversion'!$D$3/'Scope 1 Utilities'!W54","v":0}]
[null,null,"Distillate Oil (#1-4)","% of Total Stationary",{"$f":"('Scope 1 Utilities'!E9+'Scope 1 Utilities'!E30)*'Scope 1 Conversion'!$D$4/'Scope 1 Utilities'!E54","v":{"$error":"#DIV/0!"}},{"$f":"('Scope 1 Utilities'!F9+'Scope 1 Utilities'!F30)*'Scope 1 Conversion'!$D$4/'Scope 1 Utilities'!F54","v":{"$error":"#DIV/0!"}},{"$f":"('Scope 1 Utilities'!G9+'Scope 1 Utilities'!G30)*'Scope 1 Conversion'!$D$4/'Scope 1 Utilities'!G54","v":{"$error":"#DIV/0!"}},{"$f":"('Scope 1 Utilities'!H9+'Scope 1 Utilities'!H30)*'Scope 1 Conversion'!$D$4/'Scope 1 Utilities'!H54","v":{"$error":"#DIV/0!"}},{"$f":"('Scope 1 Utilities'!I9+'Scope 1 Utilities'!I30)*'Scope 1 Conversion'!$D$4/'Scope 1 Utilities'!I54","v":{"$error":"#DIV/0!"}},{"$f":"('Scope 1 Utilities'!J9+'Scope 1 Utilities'!J30)*'Scope 1 Conversion'!$D$4/'Scope 1 Utilities'!J54","v":{"$error":"#DIV/0!"}},{"$f":"('Scope 1 Utilities'!K9+'Scope 1 Utilities'!K30)*'Scope 1 Conversion'!$D$4/'Scope 1 Utilities'!K54","v":{"$error":"#DIV/0!"}},{"$f":"('Scope 1 Utilities'!L9+'Scope 1 Utilities'!L30)*'Scope 1 Conversion'!$D$4/'Scope 1 Utilities'!L54","v":{"$error":"#DIV/0!"}},{"$f":"('Scope 1 Utilities'!M9+'Scope 1 Utilities'!M30)*'Scope 1 Conversion'!$D$4/'Scope 1 Utilities'!M54","v":{"$error":"#DIV/0!"}},{"$f":"('Scope 1 Utilities'!N9+'Scope 1 Utilities'!N30)*'Scope 1 Conversion'!$D$4/'Scope 1 Utilities'!N54","v":2.8196631002559403E-3},{"$f":"('Scope 1 Utilities'!O9+'Scope 1 Utilities'!O30)*'Scope 1 Conversion'!$D$4/'Scope 1 Utilities'!O54","v":3.639732461840843E-3},{"$f":"('Scope 1 Utilities'!P9+'Scope 1 Utilities'!P30)*'Scope 1 Conversion'!$D$4/'Scope 1 Utilities'!P54","v":4.7796197845721925E-3},{"$f":"('Scope 1 Utilities'!Q9+'Scope 1 Utilities'!Q30)*'Scope 1 Conversion'!$D$4/'Scope 1 Utilities'!Q54","v":6.1215519787360551E-3},{"$f":"('Scope 1 Utilities'!R9+'Scope 1 Utilities'!R30)*'Scope 1 Conversion'!$D$4/'Scope 1 Utilities'!R54","v":2.8010391110152785E-3},{"$f":"('Scope 1 Utilities'!S9+'Scope 1 Utilities'!S30)*'Scope 1 Conversion'!$D$4/'Scope 1 Utilities'!S54","v":3.1117793588018778E-3},{"$f":"('Scope 1 Utilities'!T9+'Scope 1 Utilities'!T30)*'Scope 1 Conversion'!$D$4/'Scope 1 Utilities'!T54","v":9.3789443868885058E-3},{"$f":"('Scope 1 Utilities'!U9+'Scope 1 Utilities'!U30)*'Scope 1 Conversion'!$D$4/'Scope 1 Utilities'!U54","v":4.242182288023681E-3},{"$f":"('Scope 1 Utilities'!V9+'Scope 1 Utilities'!V30)*'Scope 1 Conversion'!$D$4/'Scope 1 Utilities'!V54","v":3.8461332736233035E-3},{"$f":"('Scope 1 Utilities'!W9+'Scope 1 Utilities'!W30)*'Scope 1 Conversion'!$D$4/'Scope 1 Utilities'!W54","v":2.4617918340367345E-4}]
[null,null,"Natural Gas","% of Total Stationary",{"$f":"('Scope 1 Utilities'!E10+'Scope 1 Utilities'!E31)/'Scope 1 Utilities'!E54","v":{"$error":"#DIV/0!"}},{"$f":"('Scope 1 Utilities'!F10+'Scope 1 Utilities'!F31)/'Scope 1 Utilities'!F54","v":{"$error":"#DIV/0!"}},{"$f":"('Scope 1 Utilities'!G10+'Scope 1 Utilities'!G31)/'Scope 1 Utilities'!G54","v":{"$error":"#DIV/0!"}},{"$f":"('Scope 1 Utilities'!H10+'Scope 1 Utilities'!H31)/'Scope 1 Utilities'!H54","v":{"$error":"#DIV/0!"}},{"$f":"('Scope 1 Utilities'!I10+'Scope 1 Utilities'!I31)/'Scope 1 Utilities'!I54","v":{"$error":"#DIV/0!"}},{"$f":"('Scope 1 Utilities'!J10+'Scope 1 Utilities'!J31)/'Scope 1 Utilities'!J54","v":{"$error":"#DIV/0!"}},{"$f":"('Scope 1 Utilities'!K10+'Scope 1 Utilities'!K31)/'Scope 1 Utilities'!K54","v":{"$error":"#DIV/0!"}},{"$f":"('Scope 1 Utilities'!L10+'Scope 1 Utilities'!L31)/'Scope 1 Utilities'!L54","v":{"$error":"#DIV/0!"}},{"$f":"('Scope 1 Utilities'!M10+'Scope 1 Utilities'!M31)/'Scope 1 Utilities'!M54","v":{"$error":"#DIV/0!"}},{"$f":"('Scope 1 Utilities'!N10+'Scope 1 Utilities'!N31)/'Scope 1 Utilities'!N54","v":0.9963242638712968},{"$f":"('Scope 1 Utilities'!O10+'Scope 1 Utilities'!O31)/'Scope 1 Utilities'!O54","v":0.99537657911841659},{"$f":"('Scope 1 Utilities'!P10+'Scope 1 Utilities'!P31)/'Scope 1 Utilities'!P54","v":0.99420895161497491},{"$f":"('Scope 1 Utilities'!Q10+'Scope 1 Utilities'!Q31)/'Scope 1 Utilities'!Q54","v":0.99285777103438444},{"$f":"('Scope 1 Utilities'!R10+'Scope 1 Utilities'!R31)/'Scope 1 Utilities'!R54","v":0.99625025244988263},{"$f":"('Scope 1 Utilities'!S10+'Scope 1 Utilities'!S31)/'Scope 1 Utilities'!S54","v":0.99603158112697299},{"$f":"('Scope 1 Utilities'!T10+'Scope 1 Utilities'!T31)/'Scope 1 Utilities'!T54","v":0.98980032882775448},{"$f":"('Scope 1 Utilities'!U10+'Scope 1 Utilities'!U31)/'Scope 1 Utilities'!U54","v":0.9947611924292572},{"$f":"('Scope 1 Utilities'!V10+'Scope 1 Utilities'!V31)/'Scope 1 Utilities'!V54","v":0.99615386672637662},{"$f":"('Scope 1 Utilities'!W10+'Scope 1 Utilities'!W31)/'Scope 1 Utilities'!W54","v":0.99934347348130825}]
[null,null,"Propane","% of Total Stationary",{"$f":"('Scope 1 Utilities'!E11+'Scope 1 Utilities'!E32)*'Scope 1 Conversion'!B17/'Scope 1 Utilities'!E54","v":{"$error":"#DIV/0!"}},{"$f":"('Scope 1 Utilities'!F11+'Scope 1 Utilities'!F32)*'Scope 1 Conversion'!C17/'Scope 1 Utilities'!F54","v":{"$error":"#DIV/0!"}},{"$f":"('Scope 1 Utilities'!G11+'Scope 1 Utilities'!G32)*'Scope 1 Conversion'!D17/'Scope 1 Utilities'!G54","v":{"$error":"#DIV/0!"}},{"$f":"('Scope 1 Utilities'!H11+'Scope 1 Utilities'!H32)*'Scope 1 Conversion'!E17/'Scope 1 Utilities'!H54","v":{"$error":"#DIV/0!"}},{"$f":"('Scope 1 Utilities'!I11+'Scope 1 Utilities'!I32)*'Scope 1 Conversion'!F17/'Scope 1 Utilities'!I54","v":{"$error":"#DIV/0!"}},{"$f":"('Scope 1 Utilities'!J11+'Scope 1 Utilities'!J32)*'Scope 1 Conversion'!G17/'Scope 1 Utilities'!J54","v":{"$error":"#DIV/0!"}},{"$f":"('Scope 1 Utilities'!K11+'Scope 1 Utilities'!K32)*'Scope 1 Conversion'!H17/'Scope 1 Utilities'!K54","v":{"$error":"#DIV/0!"}},{"$f":"('Scope 1 Utilities'!L11+'Scope 1 Utilities'!L32)*'Scope 1 Conversion'!I17/'Scope 1 Utilities'!L54","v":{"$error":"#DIV/0!"}},{"$f":"('Scope 1 Utilities'!M11+'Scope 1 Utilities'!M32)*'Scope 1 Conversion'!J17/'Scope 1 Utilities'!M54","v":{"$error":"#DIV/0!"}},{"$f":"('Scope 1 Utilities'!N11+'Scope 1 Utilities'!N32)*'Scope 1 Conversion'!K17/'Scope 1 Utilities'!N54","v":8.5607302844731108E-4},{"$f":"('Scope 1 Utilities'!O11+'Scope 1 Utilities'!O32)*'Scope 1 Conversion'!L17/'Scope 1 Utilities'!O54","v":9.8368841974262708E-4},{"$f":"('Scope 1 Utilities'!P11+'Scope 1 Utilities'!P32)*'Scope 1 Conversion'!M17/'Scope 1 Utilities'!P54","v":1.0114286004528615E-3},{"$f":"('Scope 1 Utilities'!Q11+'Scope 1 Utilities'!Q32)*'Scope 1 Conversion'!N17/'Scope 1 Utilities'!Q54","v":1.0206769868794552E-3},{"$f":"('Scope 1 Utilities'!R11+'Scope 1 Utilities'!R32)*'Scope 1 Conversion'!O17/'Scope 1 Utilities'!R54","v":9.4870843910208242E-4},{"$f":"('Scope 1 Utilities'!S11+'Scope 1 Utilities'!S32)*'Scope 1 Conversion'!P17/'Scope 1 Utilities'!S54","v":8.5663951422511135E-4},{"$f":"('Scope 1 Utilities'!T11+'Scope 1 Utilities'!T32)*'Scope 1 Conversion'!Q17/'Scope 1 Utilities'!T54","v":8.2072678535686974E-4},{"$f":"('Scope 1 Utilities'!U11+'Scope 1 Utilities'!U32)*'Scope 1 Conversion'!R17/'Scope 1 Utilities'!U54","v":9.9662528271916894E-4},{"$f":"('Scope 1 Utilities'!V11+'Scope 1 Utilities'!V32)*'Scope 1 Conversion'!S17/'Scope 1 Utilities'!V54","v":0},{"$f":"('Scope 1 Utilities'!W11+'Scope 1 Utilities'!W32)*'Scope 1 Conversion'!T17/'Scope 1 Utilities'!W54","v":0}]
[null,null,"Coal","% of Total Stationary",{"$f":"('Scope 1 Utilities'!E12+'Scope 1 Utilities'!E33)*'Scope 1 Conversion'!B24/'Scope 1 Utilities'!E54","v":{"$error":"#DIV/0!"}},{"$f":"('Scope 1 Utilities'!F12+'Scope 1 Utilities'!F33)*'Scope 1 Conversion'!C24/'Scope 1 Utilities'!F54","v":{"$error":"#DIV/0!"}},{"$f":"('Scope 1 Utilities'!G12+'Scope 1 Utilities'!G33)*'Scope 1 Conversion'!D24/'Scope 1 Utilities'!G54","v":{"$error":"#DIV/0!"}},{"$f":"('Scope 1 Utilities'!H12+'Scope 1 Utilities'!H33)*'Scope 1 Conversion'!E24/'Scope 1 Utilities'!H54","v":{"$error":"#DIV/0!"}},{"$f":"('Scope 1 Utilities'!I12+'Scope 1 Utilities'!I33)*'Scope 1 Conversion'!F24/'Scope 1 Utilities'!I54","v":{"$error":"#DIV/0!"}},{"$f":"('Scope 1 Utilities'!J12+'Scope 1 Utilities'!J33)*'Scope 1 Conversion'!G24/'Scope 1 Utilities'!J54","v":{"$error":"#DIV/0!"}},{"$f":"('Scope 1 Utilities'!K12+'Scope 1 Utilities'!K33)*'Scope 1 Conversion'!H24/'Scope 1 Utilities'!K54","v":{"$error":"#DIV/0!"}},{"$f":"('Scope 1 Utilities'!L12+'Scope 1 Utilities'!L33)*'Scope 1 Conversion'!I24/'Scope 1 Utilities'!L54","v":{"$error":"#DIV/0!"}},{"$f":"('Scope 1 Utilities'!M12+'Scope 1 Utilities'!M33)*'Scope 1 Conversion'!J24/'Scope 1 Utilities'!M54","v":{"$error":"#DIV/0!"}},{"$f":"('Scope 1 Utilities'!N12+'Scope 1 Utilities'!N33)*'Scope 1 Conversion'!K24/'Scope 1 Utilities'!N54","v":0},{"$f":"('Scope 1 Utilities'!O12+'Scope 1 Utilities'!O33)*'Scope 1 Conversion'!L24/'Scope 1 Utilities'!O54","v":0},{"$f":"('Scope 1 Utilities'!P12+'Scope 1 Utilities'!P33)*'Scope 1 Conversion'!M24/'Scope 1 Utilities'!P54","v":0},{"$f":"('Scope 1 Utilities'!Q12+'Scope 1 Utilities'!Q33)*'Scope 1 Conversion'!N24/'Scope 1 Utilities'!Q54","v":0},{"$f":"('Scope 1 Utilities'!R12+'Scope 1 Utilities'!R33)*'Scope 1 Conversion'!O24/'Scope 1 Utilities'!R54","v":0},{"$f":"('Scope 1 Utilities'!S12+'Scope 1 Utilities'!S33)*'Scope 1 Conversion'!P24/'Scope 1 Utilities'!S54","v":0},{"$f":"('Scope 1 Utilities'!T12+'Scope 1 Utilities'!T33)*'Scope 1 Conversion'!Q24/'Scope 1 Utilities'!T54","v":0},{"$f":"('Scope 1 Utilities'!U12+'Scope 1 Utilities'!U33)*'Scope 1 Conversion'!R24/'Scope 1 Utilities'!U54","v":0},{"$f":"('Scope 1 Utilities'!V12+'Scope 1 Utilities'!V33)*'Scope 1 Conversion'!S24/'Scope 1 Utilities'!V54","v":0},{"$f":"('Scope 1 Utilities'!W12+'Scope 1 Utilities'!W33)*'Scope 1 Conversion'!T24/'Scope 1 Utilities'!W54","v":0}]
[null,null,"Incinerated Waste","% of Total Stationary",{"$f":"('Scope 1 Utilities'!E13+'Scope 1 Utilities'!E34)*'Scope 1 Conversion'!$D$6/'Scope 1 Utilities'!E54","v":{"$error":"#DIV/0!"}},{"$f":"('Scope 1 Utilities'!F13+'Scope 1 Utilities'!F34)*'Scope 1 Conversion'!$D$6/'Scope 1 Utilities'!F54","v":{"$error":"#DIV/0!"}},{"$f":"('Scope 1 Utilities'!G13+'Scope 1 Utilities'!G34)*'Scope 1 Conversion'!$D$6/'Scope 1 Utilities'!G54","v":{"$error":"#DIV/0!"}},{"$f":"('Scope 1 Utilities'!H13+'Scope 1 Utilities'!H34)*'Scope 1 Conversion'!$D$6/'Scope 1 Utilities'!H54","v":{"$error":"#DIV/0!"}},{"$f":"('Scope 1 Utilities'!I13+'Scope 1 Utilities'!I34)*'Scope 1 Conversion'!$D$6/'Scope 1 Utilities'!I54","v":{"$error":"#DIV/0!"}},{"$f":"('Scope 1 Utilities'!J13+'Scope 1 Utilities'!J34)*'Scope 1 Conversion'!$D$6/'Scope 1 Utilities'!J54","v":{"$error":"#DIV/0!"}},{"$f":"('Scope 1 Utilities'!K13+'Scope 1 Utilities'!K34)*'Scope 1 Conversion'!$D$6/'Scope 1 Utilities'!K54","v":{"$error":"#DIV/0!"}},{"$f":"('Scope 1 Utilities'!L13+'Scope 1 Utilities'!L34)*'Scope 1 Conversion'!$D$6/'Scope 1 Utilities'!L54","v":{"$error":"#DIV/0!"}},{"$f":"('Scope 1 Utilities'!M13+'Scope 1 Utilities'!M34)*'Scope 1 Conversion'!$D$6/'Scope 1 Utilities'!M54","v":{"$error":"#DIV/0!"}},{"$f":"('Scope 1 Utilities'!N13+'Scope 1 Utilities'!N34)*'Scope 1 Conversion'!$D$6/'Scope 1 Utilities'!N54","v":0},{"$f":"('Scope 1 Utilities'!O13+'Scope 1 Utilities'!O34)*'Scope 1 Conversion'!$D$6/'Scope 1 Utilities'!O54","v":0},{"$f":"('Scope 1 Utilities'!P13+'Scope 1 Utilities'!P34)*'Scope 1 Conversion'!$D$6/'Scope 1 Utilities'!P54","v":0},{"$f":"('Scope 1 Utilities'!Q13+'Scope 1 Utilities'!Q34)*'Scope 1 Conversion'!$D$6/'Scope 1 Utilities'!Q54","v":0},{"$f":"('Scope 1 Utilities'!R13+'Scope 1 Utilities'!R34)*'Scope 1 Conversion'!$D$6/'Scope 1 Utilities'!R54","v":0},{"$f":"('Scope 1 Utilities'!S13+'Scope 1 Utilities'!S34)*'Scope 1 Conversion'!$D$6/'Scope 1 Utilities'!S54","v":0},{"$f":"('Scope 1 Utilities'!T13+'Scope 1 Utilities'!T34)*'Scope 1 Conversion'!$D$6/'Scope 1 Utilities'!T54","v":0},{"$f":"('Scope 1 Utilities'!U13+'Scope 1 Utilities'!U34)*'Scope 1 Conversion'!$D$6/'Scope 1 Utilities'!U54","v":0},{"$f":"('Scope 1 Utilities'!V13+'Scope 1 Utilities'!V34)*'Scope 1 Conversion'!$D$6/'Scope 1 Utilities'!V54","v":0},{"$f":"('Scope 1 Utilities'!W13+'Scope 1 Utilities'!W34)*'Scope 1 Conversion'!$D$6/'Scope 1 Utilities'!W54","v":0}]
[null,null,"Biomass","% of Total Stationary",{"$f":"(SUM('Scope 1 Utilities'!E14:E16)+SUM('Scope 1 Utilities'!E35:E37))*'Scope 1 Conversion'!$D$7/'Scope 1 Utilities'!E54","v":{"$error":"#DIV/0!"}},{"$f":"(SUM('Scope 1 Utilities'!F14:F16)+SUM('Scope 1 Utilities'!F35:F37))*'Scope 1 Conversion'!$D$7/'Scope 1 Utilities'!F54","v":{"$error":"#DIV/0!"}},{"$f":"(SUM('Scope 1 Utilities'!G14:G16)+SUM('Scope 1 Utilities'!G35:G37))*'Scope 1 Conversion'!$D$7/'Scope 1 Utilities'!G54","v":{"$error":"#DIV/0!"}},{"$f":"(SUM('Scope 1 Utilities'!H14:H16)+SUM('Scope 1 Utilities'!H35:H37))*'Scope 1 Conversion'!$D$7/'Scope 1 Utilities'!H54","v":{"$error":"#DIV/0!"}},{"$f":"(SUM('Scope 1 Utilities'!I14:I16)+SUM('Scope 1 Utilities'!I35:I37))*'Scope 1 Conversion'!$D$7/'Scope 1 Utilities'!I54","v":{"$error":"#DIV/0!"}},{"$f":"(SUM('Scope 1 Utilities'!J14:J16)+SUM('Scope 1 Utilities'!J35:J37))*'Scope 1 Conversion'!$D$7/'Scope 1 Utilities'!J54","v":{"$error":"#DIV/0!"}},{"$f":"(SUM('Scope 1 Utilities'!K14:K16)+SUM('Scope 1 Utilities'!K35:K37))*'Scope 1 Conversion'!$D$7/'Scope 1 Utilities'!K54","v":{"$error":"#DIV/0!"}},{"$f":"(SUM('Scope 1 Utilities'!L14:L16)+SUM('Scope 1 Utilities'!L35:L37))*'Scope 1 Conversion'!$D$7/'Scope 1 Utilities'!L54","v":{"$error":"#DIV/0!"}},{"$f":"(SUM('Scope 1 Utilities'!M14:M16)+SUM('Scope 1 Utilities'!M35:M37))*'Scope 1 Conversion'!$D$7/'Scope 1 Utilities'!M54","v":{"$error":"#DIV/0!"}},{"$f":"(SUM('Scope 1 Utilities'!N14:N16)+SUM('Scope 1 Utilities'!N35:N37))*'Scope 1 Conversion'!$D$7/'Scope 1 Utilities'!N54","v":0},{"$f":"(SUM('Scope 1 Utilities'!O14:O16)+SUM('Scope 1 Utilities'!O35:O37))*'Scope 1 Conversion'!$D$7/'Scope 1 Utilities'!O54","v":0},{"$f":"(SUM('Scope 1 Utilities'!P14:P16)+SUM('Scope 1 Utilities'!P35:P37))*'Scope 1 Conversion'!$D$7/'Scope 1 Utilities'!P54","v":0},{"$f":"(SUM('Scope 1 Utilities'!Q14:Q16)+SUM('Scope 1 Utilities'!Q35:Q37))*'Scope 1 Conversion'!$D$7/'Scope 1 Utilities'!Q54","v":0},{"$f":"(SUM('Scope 1 Utilities'!R14:R16)+SUM('Scope 1 Utilities'!R35:R37))*'Scope 1 Conversion'!$D$7/'Scope 1 Utilities'!R54","v":0},{"$f":"(SUM('Scope 1 Utilities'!S14:S16)+SUM('Scope 1 Utilities'!S35:S37))*'Scope 1 Conversion'!$D$7/'Scope 1 Utilities'!S54","v":0},{"$f":"(SUM('Scope 1 Utilities'!T14:T16)+SUM('Scope 1 Utilities'!T35:T37))*'Scope 1 Conversion'!$D$7/'Scope 1 Utilities'!T54","v":0},{"$f":"(SUM('Scope 1 Utilities'!U14:U16)+SUM('Scope 1 Utilities'!U35:U37))*'Scope 1 Conversion'!$D$7/'Scope 1 Utilities'!U54","v":0},{"$f":"(SUM('Scope 1 Utilities'!V14:V16)+SUM('Scope 1 Utilities'!V35:V37))*'Scope 1 Conversion'!$D$7/'Scope 1 Utilities'!V54","v":0},{"$f":"(SUM('Scope 1 Utilities'!W14:W16)+SUM('Scope 1 Utilities'!W35:W37))*'Scope 1 Conversion'!$D$7/'Scope 1 Utilities'!W54","v":0}]
[null,null,"Residual BioHeat","% of Total Stationary",{"$f":"('Scope 1 Utilities'!E17+'Scope 1 Utilities'!E38)*'Scope 1 Conversion'!$D$10/'Scope 1 Utilities'!E54","v":{"$error":"#DIV/0!"}},{"$f":"('Scope 1 Utilities'!F17+'Scope 1 Utilities'!F38)*'Scope 1 Conversion'!$D$10/'Scope 1 Utilities'!F54","v":{"$error":"#DIV/0!"}},{"$f":"('Scope 1 Utilities'!G17+'Scope 1 Utilities'!G38)*'Scope 1 Conversion'!$D$10/'Scope 1 Utilities'!G54","v":{"$error":"#DIV/0!"}},{"$f":"('Scope 1 Utilities'!H17+'Scope 1 Utilities'!H38)*'Scope 1 Conversion'!$D$10/'Scope 1 Utilities'!H54","v":{"$error":"#DIV/0!"}},{"$f":"('Scope 1 Utilities'!I17+'Scope 1 Utilities'!I38)*'Scope 1 Conversion'!$D$10/'Scope 1 Utilities'!I54","v":{"$error":"#DIV/0!"}},{"$f":"('Scope 1 Utilities'!J17+'Scope 1 Utilities'!J38)*'Scope 1 Conversion'!$D$10/'Scope 1 Utilities'!J54","v":{"$error":"#DIV/0!"}},{"$f":"('Scope 1 Utilities'!K17+'Scope 1 Utilities'!K38)*'Scope 1 Conversion'!$D$10/'Scope 1 Utilities'!K54","v":{"$error":"#DIV/0!"}},{"$f":"('Scope 1 Utilities'!L17+'Scope 1 Utilities'!L38)*'Scope 1 Conversion'!$D$10/'Scope 1 Utilities'!L54","v":{"$error":"#DIV/0!"}},{"$f":"('Scope 1 Utilities'!M17+'Scope 1 Utilities'!M38)*'Scope 1 Conversion'!$D$10/'Scope 1 Utilities'!M54","v":{"$error":"#DIV/0!"}},{"$f":"('Scope 1 Utilities'!N17+'Scope 1 Utilities'!N38)*'Scope 1 Conversion'!$D$10/'Scope 1 Utilities'!N54","v":0},{"$f":"('Scope 1 Utilities'!O17+'Scope 1 Utilities'!O38)*'Scope 1 Conversion'!$D$10/'Scope 1 Utilities'!O54","v":0},{"$f":"('Scope 1 Utilities'!P17+'Scope 1 Utilities'!P38)*'Scope 1 Conversion'!$D$10/'Scope 1 Utilities'!P54","v":0},{"$f":"('Scope 1 Utilities'!Q17+'Scope 1 Utilities'!Q38)*'Scope 1 Conversion'!$D$10/'Scope 1 Utilities'!Q54","v":0},{"$f":"('Scope 1 Utilities'!R17+'Scope 1 Utilities'!R38)*'Scope 1 Conversion'!$D$10/'Scope 1 Utilities'!R54","v":0},{"$f":"('Scope 1 Utilities'!S17+'Scope 1 Utilities'!S38)*'Scope 1 Conversion'!$D$10/'Scope 1 Utilities'!S54","v":0},{"$f":"('Scope 1 Utilities'!T17+'Scope 1 Utilities'!T38)*'Scope 1 Conversion'!$D$10/'Scope 1 Utilities'!T54","v":0},{"$f":"('Scope 1 Utilities'!U17+'Scope 1 Utilities'!U38)*'Scope 1 Conversion'!$D$10/'Scope 1 Utilities'!U54","v":0},{"$f":"('Scope 1 Utilities'!V17+'Scope 1 Utilities'!V38)*'Scope 1 Conversion'!$D$10/'Scope 1 Utilities'!V54","v":0},{"$f":"('Scope 1 Utilities'!W17+'Scope 1 Utilities'!W38)*'Scope 1 Conversion'!$D$10/'Scope 1 Utilities'!W54","v":0}]
[null,null,"Distillate BioHeat","% of Total Stationary",{"$f":"('Scope 1 Utilities'!E18+'Scope 1 Utilities'!E39)*'Scope 1 Conversion'!$D$11/'Scope 1 Utilities'!E54","v":{"$error":"#DIV/0!"}},{"$f":"('Scope 1 Utilities'!F18+'Scope 1 Utilities'!F39)*'Scope 1 Conversion'!$D$11/'Scope 1 Utilities'!F54","v":{"$error":"#DIV/0!"}},{"$f":"('Scope 1 Utilities'!G18+'Scope 1 Utilities'!G39)*'Scope 1 Conversion'!$D$11/'Scope 1 Utilities'!G54","v":{"$error":"#DIV/0!"}},{"$f":"('Scope 1 Utilities'!H18+'Scope 1 Utilities'!H39)*'Scope 1 Conversion'!$D$11/'Scope 1 Utilities'!H54","v":{"$error":"#DIV/0!"}},{"$f":"('Scope 1 Utilities'!I18+'Scope 1 Utilities'!I39)*'Scope 1 Conversion'!$D$11/'Scope 1 Utilities'!I54","v":{"$error":"#DIV/0!"}},{"$f":"('Scope 1 Utilities'!J18+'Scope 1 Utilities'!J39)*'Scope 1 Conversion'!$D$11/'Scope 1 Utilities'!J54","v":{"$error":"#DIV/0!"}},{"$f":"('Scope 1 Utilities'!K18+'Scope 1 Utilities'!K39)*'Scope 1 Conversion'!$D$11/'Scope 1 Utilities'!K54","v":{"$error":"#DIV/0!"}},{"$f":"('Scope 1 Utilities'!L18+'Scope 1 Utilities'!L39)*'Scope 1 Conversion'!$D$11/'Scope 1 Utilities'!L54","v":{"$error":"#DIV/0!"}},{"$f":"('Scope 1 Utilities'!M18+'Scope 1 Utilities'!M39)*'Scope 1 Conversion'!$D$11/'Scope 1 Utilities'!M54","v":{"$error":"#DIV/0!"}},{"$f":"('Scope 1 Utilities'!N18+'Scope 1 Utilities'!N39)*'Scope 1 Conversion'!$D$11/'Scope 1 Utilities'!N54","v":0},{"$f":"('Scope 1 Utilities'!O18+'Scope 1 Utilities'!O39)*'Scope 1 Conversion'!$D$11/'Scope 1 Utilities'!O54","v":0},{"$f":"('Scope 1 Utilities'!P18+'Scope 1 Utilities'!P39)*'Scope 1 Conversion'!$D$11/'Scope 1 Utilities'!P54","v":0},{"$f":"('Scope 1 Utilities'!Q18+'Scope 1 Utilities'!Q39)*'Scope 1 Conversion'!$D$11/'Scope 1 Utilities'!Q54","v":0},{"$f":"('Scope 1 Utilities'!R18+'Scope 1 Utilities'!R39)*'Scope 1 Conversion'!$D$11/'Scope 1 Utilities'!R54","v":0},{"$f":"('Scope 1 Utilities'!S18+'Scope 1 Utilities'!S39)*'Scope 1 Conversion'!$D$11/'Scope 1 Utilities'!S54","v":0},{"$f":"('Scope 1 Utilities'!T18+'Scope 1 Utilities'!T39)*'Scope 1 Conversion'!$D$11/'Scope 1 Utilities'!T54","v":0},{"$f":"('Scope 1 Utilities'!U18+'Scope 1 Utilities'!U39)*'Scope 1 Conversion'!$D$11/'Scope 1 Utilities'!U54","v":0},{"$f":"('Scope 1 Utilities'!V18+'Scope 1 Utilities'!V39)*'Scope 1 Conversion'!$D$11/'Scope 1 Utilities'!V54","v":0},{"$f":"('Scope 1 Utilities'!W18+'Scope 1 Utilities'!W39)*'Scope 1 Conversion'!$D$11/'Scope 1 Utilities'!W54","v":0}]
[null,null,"Other","% of Total Stationary",{"$f":"('Scope 1 Utilities'!E19+'Scope 1 Utilities'!E40)/'Scope 1 Utilities'!E54","v":{"$error":"#DIV/0!"}},{"$f":"('Scope 1 Utilities'!F19+'Scope 1 Utilities'!F40)/'Scope 1 Utilities'!F54","v":{"$error":"#DIV/0!"}},{"$f":"('Scope 1 Utilities'!G19+'Scope 1 Utilities'!G40)/'Scope 1 Utilities'!G54","v":{"$error":"#DIV/0!"}},{"$f":"('Scope 1 Utilities'!H19+'Scope 1 Utilities'!H40)/'Scope 1 Utilities'!H54","v":{"$error":"#DIV/0!"}},{"$f":"('Scope 1 Utilities'!I19+'Scope 1 Utilities'!I40)/'Scope 1 Utilities'!I54","v":{"$error":"#DIV/0!"}},{"$f":"('Scope 1 Utilities'!J19+'Scope 1 Utilities'!J40)/'Scope 1 Utilities'!J54","v":{"$error":"#DIV/0!"}},{"$f":"('Scope 1 Utilities'!K19+'Scope 1 Utilities'!K40)/'Scope 1 Utilities'!K54","v":{"$error":"#DIV/0!"}},{"$f":"('Scope 1 Utilities'!L19+'Scope 1 Utilities'!L40)/'Scope 1 Utilities'!L54","v":{"$error":"#DIV/0!"}},{"$f":"('Scope 1 Utilities'!M19+'Scope 1 Utilities'!M40)/'Scope 1 Utilities'!M54","v":{"$error":"#DIV/0!"}},{"$f":"('Scope 1 Utilities'!N19+'Scope 1 Utilities'!N40)/'Scope 1 Utilities'!N54","v":0},{"$f":"('Scope 1 Utilities'!O19+'Scope 1 Utilities'!O40)/'Scope 1 Utilities'!O54","v":0},{"$f":"('Scope 1 Utilities'!P19+'Scope 1 Utilities'!P40)/'Scope 1 Utilities'!P54","v":0},{"$f":"('Scope 1 Utilities'!Q19+'Scope 1 Utilities'!Q40)/'Scope 1 Utilities'!Q54","v":0},{"$f":"('Scope 1 Utilities'!R19+'Scope 1 Utilities'!R40)/'Scope 1 Utilities'!R54","v":0},{"$f":"('Scope 1 Utilities'!S19+'Scope 1 Utilities'!S40)/'Scope 1 Utilities'!S54","v":0},{"$f":"('Scope 1 Utilities'!T19+'Scope 1 Utilities'!T40)/'Scope 1 Utilities'!T54","v":0},{"$f":"('Scope 1 Utilities'!U19+'Scope 1 Utilities'!U40)/'Scope 1 Utilities'!U54","v":0},{"$f":"('Scope 1 Utilities'!V19+'Scope 1 Utilities'!V40)/'Scope 1 Utilities'!V54","v":0},{"$f":"('Scope 1 Utilities'!W19+'Scope 1 Utilities'!W40)/'Scope 1 Utilities'!W54","v":4.1034733528799993E-4}]
[]
[]
[null,null,null,null,null,null,null,null,null,null,null,null,"Notes:  Main Natural gas bill on campus comes from the CPS NWNG.  Large drop in FY04 to FY05 in that account which reflects the drop in the MMBTU.  Propane use from the OIMB report. .  DIstilate oil from OIMB.   2014-Did not consume all of the energy generated at the CPS. See \"Summary-HVElectricBills-FromTerriJones.xlsx\""]

{"sheet":"Other Scope 1","index":6,"n_rows":58,"n_cols":23,"rows_kept":58,"cut":false,"hidden":false,"merged":[[57,12,68,18]]}
[{"$f":"'Institutional Data'!D8","v":"University of Oregon"}]
[{"$f":"'Scope 1 Utilities'!A2","v":"Go-Green Measurement, Benchmarking and Analysis Summary"}]
[]
["Other Scope 1 Sources"]
[]
[null,"University Fleet",null,null,"FY1995","FY1996","FY1997","FY1998","FY1999","FY2000","FY2001","FY2002","FY2003","FY2004","FY2005","FY2006","FY2007","FY2008","FY2009","FY2010","FY2011","FY2012","FY2014"]
[null,"Fuel Consumed"]
[null,null,"Gasoline Fleet","Gallons",null,null,null,null,null,null,null,null,null,141162.9,142717.20000000001,141442.5,92550.102000000014,89663.85,90783,40718.400000000001,45736,49200,{"$f":"49232+572.312","v":49804.311999999998}]
[null,null,"Diesel Fleet","Gallons",null,null,null,null,null,null,null,null,null,3643.6,3932,2721.5,3020.4,3974.4,5376,861.7,862,1302.2,8135]
[null,null,"Natural Gas Fleet","MMBTU",null,null,null,null,null,null,null,null,null,0,0,0,63.806788168799997,84.349655713200008,73,0,0,0,0]
[null,null,"E85 Fleet","Gallons",null,null,null,null,null,null,null,null,null,0,0,0,2181.61,4545.5,4554,15.14,0,0,0]
[null,null,"B5 Fleet","Gallons",null,null,null,null,null,null,null,null,null,0,0,0,0,0,0,0,0,220,0]
[null,null,"B20 Fleet","Gallons",null,null,null,null,null,null,null,null,null,0,0,0,0,0,0,5707.7,6409,6800,0]
[null,null,"B100","Gallons",null,null,null,null,null,null,null,null,null,500,500,500,500,500,0,125,0,0,0]
[null,null,"Hydrogen","MMBTU",null,null,null,null,null,null,null,null,null,0,0,0,0,0,0,0,0,0,0]
[null,null,"Propane","Gallons",null,null,null,null,null,null,null,null,null,0,0,0,0,0,0,0,0,0,1005.7]
[null,"Electric Fleet (Reference Only)"]
[null,null,"Electric Fleet","kWh",null,null,null,null,null,null,null,null,null,0,0,0,0,0,0,1120,3471,2461,0]
[null,null,"Electric Fleet GHG","MTCDE",null,null,null,null,null,null,null,null,null,0,0,0,0,0,0,0.7,2,1.4,0]
[]
[]
[null,"Refrigerants and  Chemicals",null,null,"FY1995","FY1996","FY1997","FY1998","FY1999","FY2000","FY2001","FY2002","FY2003","FY2004","FY2005","FY2006","FY2007","FY2008","FY2009","FY2010","FY2011","FY2012","FY2014"]
[null,"Type (Please List)"]
[null,null,"HFC-134a","Pounds",null,null,null,null,null,null,null,null,null,0,0,0,0,0,0,0,0,0,0]
[null,null,"HFC-404a","Pounds",null,null,null,null,null,null,null,null,null,0,0,0,0,0,0,0,0,0,0]
[null,null,"HCFC-22","Pounds",null,null,null,null,null,null,null,null,null,0,0,0,0,0,0,0,0,0,0]
[null,null,null,"Pounds",null,null,null,null,null,null,null,null,null,0,0,0,0,0,0,0,0,0,0]
[null,null,null,"Pounds",null,null,null,null,null,null,null,null,null,0,0,0,0,0,0,0,0,0,0]
[null,null,"Total","Pounds",{"$f":"SUM(E24:E28)","v":0},0,0,0,0,0,0,0,0,0,0,0,0,0,0,{"$f":"SUM(T24:T28)","v":0},{"$f":"SUM(U24:U28)","v":0},{"$f":"SUM(V24:V28)","v":0},{"$f":"SUM(W24:W28)","v":0}]
[]
[]
[null,"Agriculture",null,null,"FY1995","FY1996","FY1997","FY1998","FY1999","FY2000","FY2001","FY2002","FY2003","FY2004","FY2005","FY2006","FY2007","FY2008","FY2009","FY2010","FY2011","FY2012","FY2014"]
[null,"Fertilizer Application"]
[null,null,"Synthetic Amount","Pounds",null,null,null,null,null,null,null,null,null,350,350,350,350,350,1900,7850,8050,5400,3275]
[null,null,"Synthetic % N","%",null,null,null,null,null,null,null,null,null,0.5,0.5,0.5,0.5,0.5,0.5,0.21,0.21,0.22,0.218]
[null,null,"Organic Amount","Pounds",null,null,null,null,null,null,null,null,null,10500,10500,10500,11100,9900,12500,750,900,300,350]
[null,null,"Organic % N","%",null,null,null,null,null,null,null,null,null,0.5,0.5,0.5,0.5,0.5,0.5,0.1,0.08,0.05,6]
[null,"Animal Husbandry"]
[null,null,"Dairy Cows","Headcount",null,null,null,null,null,null,null,null,null,0,0,0,0,0,0,0,0,0,0]
[null,null,"Beef Cows","Headcount",null,null,null,null,null,null,null,null,null,0,0,0,0,0,0,0,0,0,0]
[null,null,"Swine","Headcount",null,null,null,null,null,null,null,null,null,0,0,0,0,0,0,0,0,0,0]
[null,null,"Goats","Headcount",null,null,null,null,null,null,null,null,null,0,0,0,0,0,0,0,0,0,0]
[null,null,"Sheep","Headcount",null,null,null,null,null,null,null,null,null,0,0,0,0,0,0,0,0,0,0]
[null,null,"Horses","Headcount",null,null,null,null,null,null,null,null,null,0,0,0,0,0,0,0,0,0,0]
[null,null,"Poultry","Headcount",null,null,null,null,null,null,null,null,null,0,0,0,0,0,0,0,0,0,0]
[null,null,"Other Animals","Headcount",null,null,null,null,null,null,null,null,null,0,0,0,0,0,0,0,0,0,0]
[]
[]
[null,"GHG Emissions",null,null,"FY1995","FY1996","FY1997","FY1998","FY1999","FY2000","FY2001","FY2002","FY2003","FY2004","FY2005","FY2006","FY2007","FY2008","FY2009","FY2010","FY2011","FY2012","FY2014"]
[null,null,"Direct Transportation GHG","MTCDE",null,null,null,null,null,null,null,null,null,1316.1,1332.6,1314.3,883.7,866.8,890.9,426,477.4,553,537]
[null,null,"Refrigerants and Chemicals GHG","MTCDE",null,null,null,null,null,null,null,null,null,0,0,0,0,0,0,0,0,0,0]
[null,null,"Agriculture GHG","MTCDE",null,null,null,null,null,null,null,null,null,22.475463424826657,22.475463424826657,22.475463424826657,23.7178323946275,21.23309445502581,29.867293331686611,7.2249330326476064,7.4,5,3]
[null,null,"Mobile Combustion  Biogenic Emissions","MTCDE",null,null,null,null,null,null,null,null,null,4.7300000000000004,4.7300000000000004,4.7300000000000004,15.040288859999999,26.212032999999995,21.522203999999999,12.05302004,12,12,0]
[null,null,"Other Scope 1 Sources","MTCDE",{"$f":"E50+E51+E52","v":0},{"$f":"F50+F51+F52","v":0},0,0,0,0,0,0,0,1338.5754634248265,1355.0754634248265,1336.7754634248265,907.41783239462757,888.03309445502578,920.76729333168657,{"$f":"T50+T51+T52","v":433.22493303264758},{"$f":"U50+U51+U52","v":484.79999999999995},{"$f":"V50+V51+V52","v":558},{"$f":"W50+W51+W52","v":540}]
[null,null,"Fleet Fuel Carbon Intensity","MTCDE/1,000 GGE",{"$f":"'Other Scope 1'!E50/('Other Scope 1'!E8*'Scope 1 Conversion'!$C$30+'Other Scope 1'!E9*'Scope 1 Conversion'!$C$31+'Other Scope 1'!E10*'Scope 1 Conversion'!$C$32+'Other Scope 1'!E11*'Scope 1 Conversion'!$C$33+'Other Scope 1'!E12*'Scope 1 Conversion'!$C$34+'Other Scope 1'!E13*'Scope 1 Conversion'!$C$35+'Other Scope 1'!E14*'Scope 1 Conversion'!$C$36+'Other Scope 1'!E15*'Scope 1 Conversion'!$C$37+'Other Scope 1'!E16*'Scope 1 Conversion'!$C$38)*1000","v":{"$error":"#DIV/0!"}},{"$f":"'Other Scope 1'!F50/('Other Scope 1'!F8*'Scope 1 Conversion'!$C$30+'Other Scope 1'!F9*'Scope 1 Conversion'!$C$31+'Other Scope 1'!F10*'Scope 1 Conversion'!$C$32+'Other Scope 1'!F11*'Scope 1 Conversion'!$C$33+'Other Scope 1'!F12*'Scope 1 Conversion'!$C$34+'Other Scope 1'!F13*'Scope 1 Conversion'!$C$35+'Other Scope 1'!F14*'Scope 1 Conversion'!$C$36+'Other Scope 1'!F15*'Scope 1 Conversion'!$C$37+'Other Scope 1'!F16*'Scope 1 Conversion'!$C$38)*1000","v":{"$error":"#DIV/0!"}},{"$f":"'Other Scope 1'!G50/('Other Scope 1'!G8*'Scope 1 Conversion'!$C$30+'Other Scope 1'!G9*'Scope 1 Conversion'!$C$31+'Other Scope 1'!G10*'Scope 1 Conversion'!$C$32+'Other Scope 1'!G11*'Scope 1 Conversion'!$C$33+'Other Scope 1'!G12*'Scope 1 Conversion'!$C$34+'Other Scope 1'!G13*'Scope 1 Conversion'!$C$35+'Other Scope 1'!G14*'Scope 1 Conversion'!$C$36+'Other Scope 1'!G15*'Scope 1 Conversion'!$C$37+'Other Scope 1'!G16*'Scope 1 Conversion'!$C$38)*1000","v":{"$error":"#DIV/0!"}},{"$f":"'Other Scope 1'!H50/('Other Scope 1'!H8*'Scope 1 Conversion'!$C$30+'Other Scope 1'!H9*'Scope 1 Conversion'!$C$31+'Other Scope 1'!H10*'Scope 1 Conversion'!$C$32+'Other Scope 1'!H11*'Scope 1 Conversion'!$C$33+'Other Scope 1'!H12*'Scope 1 Conversion'!$C$34+'Other Scope 1'!H13*'Scope 1 Conversion'!$C$35+'Other Scope 1'!H14*'Scope 1 Conversion'!$C$36+'Other Scope 1'!H15*'Scope 1 Conversion'!$C$37+'Other Scope 1'!H16*'Scope 1 Conversion'!$C$38)*1000","v":{"$error":"#DIV/0!"}},{"$f":"'Other Scope 1'!I50/('Other Scope 1'!I8*'Scope 1 Conversion'!$C$30+'Other Scope 1'!I9*'Scope 1 Conversion'!$C$31+'Other Scope 1'!I10*'Scope 1 Conversion'!$C$32+'Other Scope 1'!I11*'Scope 1 Conversion'!$C$33+'Other Scope 1'!I12*'Scope 1 Conversion'!$C$34+'Other Scope 1'!I13*'Scope 1 Conversion'!$C$35+'Other Scope 1'!I14*'Scope 1 Conversion'!$C$36+'Other Scope 1'!I15*'Scope 1 Conversion'!$C$37+'Other Scope 1'!I16*'Scope 1 Conversion'!$C$38)*1000","v":{"$error":"#DIV/0!"}},{"$f":"'Other Scope 1'!J50/('Other Scope 1'!J8*'Scope 1 Conversion'!$C$30+'Other Scope 1'!J9*'Scope 1 Conversion'!$C$31+'Other Scope 1'!J10*'Scope 1 Conversion'!$C$32+'Other Scope 1'!J11*'Scope 1 Conversion'!$C$33+'Other Scope 1'!J12*'Scope 1 Conversion'!$C$34+'Other Scope 1'!J13*'Scope 1 Conversion'!$C$35+'Other Scope 1'!J14*'Scope 1 Conversion'!$C$36+'Other Scope 1'!J15*'Scope 1 Conversion'!$C$37+'Other Scope 1'!J16*'Scope 1 Conversion'!$C$38)*1000","v":{"$error":"#DIV/0!"}},{"$f":"'Other Scope 1'!K50/('Other Scope 1'!K8*'Scope 1 Conversion'!$C$30+'Other Scope 1'!K9*'Scope 1 Conversion'!$C$31+'Other Scope 1'!K10*'Scope 1 Conversion'!$C$32+'Other Scope 1'!K11*'Scope 1 Conversion'!$C$33+'Other Scope 1'!K12*'Scope 1 Conversion'!$C$34+'Other Scope 1'!K13*'Scope 1 Conversion'!$C$35+'Other Scope 1'!K14*'Scope 1 Conversion'!$C$36+'Other Scope 1'!K15*'Scope 1 Conversion'!$C$37+'Other Scope 1'!K16*'Scope 1 Conversion'!$C$38)*1000","v":{"$error":"#DIV/0!"}},{"$f":"'Other Scope 1'!L50/('Other Scope 1'!L8*'Scope 1 Conversion'!$C$30+'Other Scope 1'!L9*'Scope 1 Conversion'!$C$31+'Other Scope 1'!L10*'Scope 1 Conversion'!$C$32+'Other Scope 1'!L11*'Scope 1 Conversion'!$C$33+'Other Scope 1'!L12*'Scope 1 Conversion'!$C$34+'Other Scope 1'!L13*'Scope 1 Conversion'!$C$35+'Other Scope 1'!L14*'Scope 1 Conversion'!$C$36+'Other Scope 1'!L15*'Scope 1 Conversion'!$C$37+'Other Scope 1'!L16*'Scope 1 Conversion'!$C$38)*1000","v":{"$error":"#DIV/0!"}},{"$f":"'Other Scope 1'!M50/('Other Scope 1'!M8*'Scope 1 Conversion'!$C$30+'Other Scope 1'!M9*'Scope 1 Conversion'!$C$31+'Other Scope 1'!M10*'Scope 1 Conversion'!$C$32+'Other Scope 1'!M11*'Scope 1 Conversion'!$C$33+'Other Scope 1'!M12*'Scope 1 Conversion'!$C$34+'Other Scope 1'!M13*'Scope 1 Conversion'!$C$35+'Other Scope 1'!M14*'Scope 1 Conversion'!$C$36+'Other Scope 1'!M15*'Scope 1 Conversion'!$C$37+'Other Scope 1'!M16*'Scope 1 Conversion'!$C$38)*1000","v":{"$error":"#DIV/0!"}},{"$f":"'Other Scope 1'!N50/('Other Scope 1'!N8*'Scope 1 Conversion'!$C$30+'Other Scope 1'!N9*'Scope 1 Conversion'!$C$31+'Other Scope 1'!N10*'Scope 1 Conversion'!$C$32+'Other Scope 1'!N11*'Scope 1 Conversion'!$C$33+'Other Scope 1'!N12*'Scope 1 Conversion'!$C$34+'Other Scope 1'!N13*'Scope 1 Conversion'!$C$35+'Other Scope 1'!N14*'Scope 1 Conversion'!$C$36+'Other Scope 1'!N15*'Scope 1 Conversion'!$C$37+'Other Scope 1'!N16*'Scope 1 Conversion'!$C$38)*1000","v":9.085996899894587},{"$f":"'Other Scope 1'!O50/('Other Scope 1'!O8*'Scope 1 Conversion'!$C$30+'Other Scope 1'!O9*'Scope 1 Conversion'!$C$31+'Other Scope 1'!O10*'Scope 1 Conversion'!$C$32+'Other Scope 1'!O11*'Scope 1 Conversion'!$C$33+'Other Scope 1'!O12*'Scope 1 Conversion'!$C$34+'Other Scope 1'!O13*'Scope 1 Conversion'!$C$35+'Other Scope 1'!O14*'Scope 1 Conversion'!$C$36+'Other Scope 1'!O15*'Scope 1 Conversion'!$C$37+'Other Scope 1'!O16*'Scope 1 Conversion'!$C$38)*1000","v":9.0864856697270415},{"$f":"'Other Scope 1'!P50/('Other Scope 1'!P8*'Scope 1 Conversion'!$C$30+'Other Scope 1'!P9*'Scope 1 Conversion'!$C$31+'Other Scope 1'!P10*'Scope 1 Conversion'!$C$32+'Other Scope 1'!P11*'Scope 1 Conversion'!$C$33+'Other Scope 1'!P12*'Scope 1 Conversion'!$C$34+'Other Scope 1'!P13*'Scope 1 Conversion'!$C$35+'Other Scope 1'!P14*'Scope 1 Conversion'!$C$36+'Other Scope 1'!P15*'Scope 1 Conversion'!$C$37+'Other Scope 1'!P16*'Scope 1 Conversion'!$C$38)*1000","v":9.1070087034538165},{"$f":"'Other Scope 1'!Q50/('Other Scope 1'!Q8*'Scope 1 Conversion'!$C$30+'Other Scope 1'!Q9*'Scope 1 Conversion'!$C$31+'Other Scope 1'!Q10*'Scope 1 Conversion'!$C$32+'Other Scope 1'!Q11*'Scope 1 Conversion'!$C$33+'Other Scope 1'!Q12*'Scope 1 Conversion'!$C$34+'Other Scope 1'!Q13*'Scope 1 Conversion'!$C$35+'Other Scope 1'!Q14*'Scope 1 Conversion'!$C$36+'Other Scope 1'!Q15*'Scope 1 Conversion'!$C$37+'Other Scope 1'!Q16*'Scope 1 Conversion'!$C$38)*1000","v":8.9508761003377888},{"$f":"'Other Scope 1'!R50/('Other Scope 1'!R8*'Scope 1 Conversion'!$C$30+'Other Scope 1'!R9*'Scope 1 Conversion'!$C$31+'Other Scope 1'!R10*'Scope 1 Conversion'!$C$32+'Other Scope 1'!R11*'Scope 1 Conversion'!$C$33+'Other Scope 1'!R12*'Scope 1 Conversion'!$C$34+'Other Scope 1'!R13*'Scope 1 Conversion'!$C$35+'Other Scope 1'!R14*'Scope 1 Conversion'!$C$36+'Other Scope 1'!R15*'Scope 1 Conversion'!$C$37+'Other Scope 1'!R16*'Scope 1 Conversion'!$C$38)*1000","v":8.6706720530803949},{"$f":"'Other Scope 1'!S50/('Other Scope 1'!S8*'Scope 1 Conversion'!$C$30+'Other Scope 1'!S9*'Scope 1 Conversion'!$C$31+'Other Scope 1'!S10*'Scope 1 Conversion'!$C$32+'Other Scope 1'!S11*'Scope 1 Conversion'!$C$33+'Other Scope 1'!S12*'Scope 1 Conversion'!$C$34+'Other Scope 1'!S13*'Scope 1 Conversion'!$C$35+'Other Scope 1'!S14*'Scope 1 Conversion'!$C$36+'Other Scope 1'!S15*'Scope 1 Conversion'!$C$37+'Other Scope 1'!S16*'Scope 1 Conversion'!$C$38)*1000","v":8.7469829585129872},{"$f":"'Other Scope 1'!T50/('Other Scope 1'!T8*'Scope 1 Conversion'!$C$30+'Other Scope 1'!T9*'Scope 1 Conversion'!$C$31+'Other Scope 1'!T10*'Scope 1 Conversion'!$C$32+'Other Scope 1'!T11*'Scope 1 Conversion'!$C$33+'Other Scope 1'!T12*'Scope 1 Conversion'!$C$34+'Other Scope 1'!T13*'Scope 1 Conversion'!$C$35+'Other Scope 1'!T14*'Scope 1 Conversion'!$C$36+'Other Scope 1'!T15*'Scope 1 Conversion'!$C$37+'Other Scope 1'!T16*'Scope 1 Conversion'!$C$38)*1000","v":9.111389183864766},{"$f":"'Other Scope 1'!U50/('Other Scope 1'!U8*'Scope 1 Conversion'!$C$30+'Other Scope 1'!U9*'Scope 1 Conversion'!$C$31+'Other Scope 1'!U10*'Scope 1 Conversion'!$C$32+'Other Scope 1'!U11*'Scope 1 Conversion'!$C$33+'Other Scope 1'!U12*'Scope 1 Conversion'!$C$34+'Other Scope 1'!U13*'Scope 1 Conversion'!$C$35+'Other Scope 1'!U14*'Scope 1 Conversion'!$C$36+'Other Scope 1'!U15*'Scope 1 Conversion'!$C$37+'Other Scope 1'!U16*'Scope 1 Conversion'!$C$38)*1000","v":9.1346288152956632},{"$f":"'Other Scope 1'!V50/('Other Scope 1'!V8*'Scope 1 Conversion'!$C$30+'Other Scope 1'!V9*'Scope 1 Conversion'!$C$31+'Other Scope 1'!V10*'Scope 1 Conversion'!$C$32+'Other Scope 1'!V11*'Scope 1 Conversion'!$C$33+'Other Scope 1'!V12*'Scope 1 Conversion'!$C$34+'Other Scope 1'!V13*'Scope 1 Conversion'!$C$35+'Other Scope 1'!V14*'Scope 1 Conversion'!$C$36+'Other Scope 1'!V15*'Scope 1 Conversion'!$C$37+'Other Scope 1'!V16*'Scope 1 Conversion'!$C$38)*1000","v":9.7597106296979401},{"$f":"'Other Scope 1'!W50/('Other Scope 1'!W8*'Scope 1 Conversion'!$C$30+'Other Scope 1'!W9*'Scope 1 Conversion'!$C$31+'Other Scope 1'!W10*'Scope 1 Conversion'!$C$32+'Other Scope 1'!W11*'Scope 1 Conversion'!$C$33+'Other Scope 1'!W12*'Scope 1 Conversion'!$C$34+'Other Scope 1'!W13*'Scope 1 Conversion'!$C$35+'Other Scope 1'!W14*'Scope 1 Conversion'!$C$36+'Other Scope 1'!W15*'Scope 1 Conversion'!$C$37+'Other Scope 1'!W16*'Scope 1 Conversion'!$C$38)*1000","v":9.4082175450684886}]
[]
[]
[null,null,null,null,null,null,null,null,null,null,null,null,"Notes:  Historical ferilizer information is not avilable.                                                  Utilizing the average consumption for FY2007 and FY2008 for analysis.    Fleet vehicle use is determined by the fuel use of University owned vehicles as well as DAS rental vehicles. DAS reports were provided for FY2007 and FY2008, and a partial FY2006. FY2006 was extrapolated for. FY2004 and FY2005 were estimated based on the total milage traveled in those years compared to the later. All fuel use for these years is applied to gasoline."]

{"sheet":"Scope 2 Utilities","index":7,"n_rows":64,"n_cols":23,"rows_kept":64,"cut":false,"hidden":false,"merged":[[63,12,74,18]]}
[{"$f":"'Institutional Data'!$D$8","v":"University of Oregon"}]
[{"$f":"'Other Scope 1'!A2","v":"Go-Green Measurement, Benchmarking and Analysis Summary"}]
[]
["Scope 2: Utilities"]
[]
[null,"Electric Purchases",null,null,"FY1995","FY1996","FY1997","FY1998","FY1999","FY2000","FY2001","FY2002","FY2003","FY2004","FY2005","FY2006","FY2007","FY2008","FY2009","FY2010","FY2011","FY2012","FY2014"]
[null,"Units Purchased"]
[null,null,"Electricity Purchased","kWh",null,null,null,null,null,null,null,null,null,59527164.405336604,61701503.222786769,69990768.48218292,68870398.972499996,69945657.526600003,69784105.512899995,72353735.765499994,75153615,76684463,55543404]
[null,"Custom Fuel Mix (If Applicable)"]
[null,null,"Coal","%",0,0,0,0,0,0,0,0,0,0,0,0,0,0,0,0,0,0]
[null,null,"Natural Gas","%",0,0,0,0,0,0,0,0,0,0,0,0,0,0,0,0,0,0]
[null,null,"Distillate Oil (#1-#4)","%",0,0,0,0,0,0,0,0,0,0,0,0,0,0,0,0,0,0]
[null,null,"Residual Oil (#5-#6)","%",0,0,0,0,0,0,0,0,0,0,0,0,0,0,0,0,0,0]
[null,null,"Nuclear","%",0,0,0,0,0,0,0,0,0,0,0,0,0,0,0,0,0,0]
[null,null,"Waste to Energy","%",0,0,0,0,0,0,0,0,0,0,0,0,0,0,0,0,0,0]
[null,null,"Net Purchased","%",0,0,0,0,0,0,0,0,0,0,0,0,0,0,0,0,0,0]
[null,null,"Hydro-Electric","%",0,0,0,0,0,0,0,0,0,0,0,0,0,0,0,0,0,0]
[null,null,"Renewable (wind, solar)","%",0,0,0,0,0,0,0,0,0,0,0,0,0,0,0,0,0,0]
[null,null,"Biomass","%",0,0,0,0,0,0,0,0,0,0,0,0,0,0,0,0,0,0]
[null,null,"Total","%",{"$f":"SUM(E10:E19)","v":0},{"$f":"SUM(F10:F19)","v":0},0,0,0,0,0,0,0,0,0,0,0,0,{"$f":"SUM(S10:S19)","v":0},{"$f":"SUM(T10:T19)","v":0},{"$f":"SUM(U10:U19)","v":0},{"$f":"SUM(V10:V19)","v":0},{"$f":"SUM(W10:W19)","v":0}]
[]
[]
[null,"Steam",null,null,"FY1995","FY1996","FY1997","FY1998","FY1999","FY2000","FY2001","FY2002","FY2003","FY2004","FY2005","FY2006","FY2007","FY2008","FY2009","FY2010","FY2011","FY2012","FY2014"]
[null,"Units Purchased"]
[null,null,"Steam","MMBTU",null,null,null,null,null,null,null,null,null,1648.3,1648.3,1875.8,2173.3000000000002,3016.6,4238.1000000000004,4645.1000000000004,6688,4160,0]
[null,"Custom Fuel Mix (If Applicable)"]
[null,null,"Coal","%",0,0,0,0,0,0,0,0,0,0,0,0,0,0,0,0,0,0]
[null,null,"Natural Gas","%",0,0,0,0,0,0,0,0,0,0,0,0,0,0,0,0,0,0]
[null,null,"Distillate Oil (#1-#4)","%",0,0,0,0,0,0,0,0,0,0,0,0,0,0,0,0,0,0]
[null,null,"Residual Oil (#5-#6)","%",0,0,0,0,0,0,0,0,0,0,0,0,0,0,0,0,0,0]
[null,null,"Total","%",{"$f":"SUM(E27:E30)","v":0},0,0,0,0,0,0,0,0,0,0,0,0,0,0,{"$f":"SUM(T27:T30)","v":0},{"$f":"SUM(U27:U30)","v":0},{"$f":"SUM(V27:V30)","v":0},{"$f":"SUM(W27:W30)","v":0}]
[]
[]
[null,"Chilled Water",null,null,"FY1995","FY1996","FY1997","FY1998","FY1999","FY2000","FY2001","FY2002","FY2003","FY2004","FY2005","FY2006","FY2007","FY2008","FY2009","FY2010","FY2011","FY2012","FY2014"]
[null,"Units Purchased"]
[null,null,"Chilled Water","MMBTU",null,null,null,null,null,null,null,null,null,0,0,0,0,0,0,0,{"$f":"-X3","v":0},{"$f":"-Y3","v":0},{"$f":"-Z3","v":0}]
[null,"Custom Fuel Mix (If Applicable)"]
[null,null,"Coal","%",0,0,0,0,0,0,0,0,0,0,0,0,0,0,0,0,0,0]
[null,null,"Natural Gas","%",0,0,0,0,0,0,0,0,0,0,0,0,0,0,0,0,0,0]
[null,null,"Distillate Oil (#1-#4)","%",0,0,0,0,0,0,0,0,0,0,0,0,0,0,0,0,0,0]
[null,null,"Residual Oil (#5-#6)","%",0,0,0,0,0,0,0,0,0,0,0,0,0,0,0,0,0,0]
[null,null,"Total","%",{"$f":"SUM(E38:E41)","v":0},0,0,0,0,0,0,0,0,0,0,0,0,0,0,{"$f":"SUM(T38:T41)","v":0},{"$f":"SUM(U38:U41)","v":0},{"$f":"SUM(V38:V41)","v":0},{"$f":"SUM(W38:W41)","v":0}]
[]
[]
[null,"GHG Emissions",null,null,"FY1995","FY1996","FY1997","FY1998","FY1999","FY2000","FY2001","FY2002","FY2003","FY2004","FY2005","FY2006","FY2007","FY2008","FY2009","FY2010","FY2011","FY2012","FY2014"]
[null,null,"Purchased Electricity GHG","MTCDE",null,null,null,null,null,null,null,null,null,18067.8,18727.8,21243.7,27014.400000000001,27436.2,26120,27081.8,28129.7,28917,21379]
[null,null,"Purchased Steam GHG","MTCDE",null,null,null,null,null,null,null,null,null,120.3,120.3,136.9,158.6,220.1,309.3,339,488,303.60000000000002,0]
[null,null,"Purchased Chilled Water GHG","MTCDE",null,null,null,null,null,null,null,null,null,0,0,0,0,0,0,0,0,0,0]
[null,null,"eGrid National Average (USA Grid)","MTCDE",{"$f":"0.00064008326707052*E8","v":0},{"$f":"0.00064008326707052*F8","v":0},0,0,0,0,0,0,0,38102.341872011821,39494.099766003579,44799.919754852024,{"$f":"0.00060570275691002*Q8","v":41714.990527136251},42366.277597745713,42268.425097663247,43824.857225902459,45520.751797254234,46447.990651264423,{"$f":"0.00060570275691002*W8","v":33642.792930967029}]
[null,null,"Scope 2 Utilities","MTCDE",{"$f":"E46+E47+E48","v":0},0,0,0,0,0,0,0,0,18188.099999999999,18848.099999999999,21380.600000000002,27173,27656.3,26429.3,{"$f":"T46+T47+T48","v":27420.799999999999},{"$f":"U46+U47+U48","v":28617.7},{"$f":"V46+V47+V48","v":29220.6},{"$f":"W46+W47+W48","v":21379}]
[]
[]
[null,"Electric Losses (Reference Only)",null,null,"FY1995","FY1996","FY1997","FY1998","FY1999","FY2000","FY2001","FY2002","FY2003","FY2004","FY2005","FY2006","FY2007","FY2008","FY2009","FY2010","FY2011","FY2012","FY2014"]
[null,"Scope 2 T&D Losses"]
[null,null,"Scope 2 T&D Losses","MTCDE",{"$f":"'Other Scope 3 Sources'!E72","v":0},{"$f":"'Other Scope 3 Sources'!F72","v":0},{"$f":"'Other Scope 3 Sources'!G72","v":0},{"$f":"'Other Scope 3 Sources'!H72","v":0},{"$f":"'Other Scope 3 Sources'!I72","v":0},{"$f":"'Other Scope 3 Sources'!J72","v":0},{"$f":"'Other Scope 3 Sources'!K72","v":0},{"$f":"'Other Scope 3 Sources'!L72","v":0},{"$f":"'Other Scope 3 Sources'!M72","v":0},{"$f":"'Other Scope 3 Sources'!N72","v":1793.3},{"$f":"'Other Scope 3 Sources'!O72","v":1858.5},{"$f":"'Other Scope 3 Sources'!P72","v":2108.1999999999998},{"$f":"'Other Scope 3 Sources'!Q72","v":2680.1},{"$f":"'Other Scope 3 Sources'!R72","v":2725.1},{"$f":"'Other Scope 3 Sources'!S72","v":2599.6},{"$f":"'Other Scope 3 Sources'!T72","v":2696.3},2807,2875.9,1569.7]
[]
[]
[null,"Qualification Assistant",null,null,"FY1995","FY1996","FY1997","FY1998","FY1999","FY2000","FY2001","FY2002","FY2003","FY2004","FY2005","FY2006","FY2007","FY2008","FY2009","FY2010","FY2011","FY2012","FY2014"]
[null,null,"Purchased Electricity Consumption","kWh/GSF",{"$f":"(E8+'Scope 1 Utilities'!E21)/'Institutional Data'!I9","v":{"$error":"#DIV/0!"}},{"$f":"F8/'Institutional Data'!J9","v":{"$error":"#DIV/0!"}},{"$f":"G8/'Institutional Data'!K9","v":{"$error":"#DIV/0!"}},{"$f":"H8/'Institutional Data'!L9","v":{"$error":"#DIV/0!"}},{"$f":"I8/'Institutional Data'!M9","v":{"$error":"#DIV/0!"}},{"$f":"J8/'Institutional Data'!N9","v":{"$error":"#DIV/0!"}},{"$f":"K8/'Institutional Data'!O9","v":{"$error":"#DIV/0!"}},{"$f":"L8/'Institutional Data'!P9","v":{"$error":"#DIV/0!"}},{"$f":"M8/'Institutional Data'!Q9","v":{"$error":"#DIV/0!"}},{"$f":"N8/'Institutional Data'!R9","v":10.037105912333701},{"$f":"O8/'Institutional Data'!S9","v":10.276508494366091},{"$f":"P8/'Institutional Data'!T9","v":11.060984481949399},{"$f":"Q8/'Institutional Data'!U9","v":10.842059480717634},{"$f":"R8/'Institutional Data'!V9","v":10.858203323297733},{"$f":"S8/'Institutional Data'!W9","v":11.080261196931243},{"$f":"T8/'Institutional Data'!X9","v":11.117877648426758},{"$f":"U8/'Institutional Data'!Y9","v":10.190602560396247},{"$f":"V8/'Institutional Data'!Z9","v":9.8305499249547594},{"$f":"W8/'Institutional Data'!AA9","v":6.9902670838252066}]
[null,null,"Total Electricity Consumption","kWh/GSF",{"$f":"E9/'Institutional Data'!I10","v":{"$error":"#DIV/0!"}},{"$f":"F9/'Institutional Data'!J10","v":{"$error":"#DIV/0!"}},{"$f":"G9/'Institutional Data'!K10","v":{"$error":"#DIV/0!"}},{"$f":"H9/'Institutional Data'!L10","v":{"$error":"#DIV/0!"}},{"$f":"I9/'Institutional Data'!M10","v":{"$error":"#DIV/0!"}},{"$f":"J9/'Institutional Data'!N10","v":{"$error":"#DIV/0!"}},{"$f":"K9/'Institutional Data'!O10","v":{"$error":"#DIV/0!"}},{"$f":"L9/'Institutional Data'!P10","v":{"$error":"#DIV/0!"}},{"$f":"M9/'Institutional Data'!Q10","v":{"$error":"#DIV/0!"}},{"$f":"N9/'Institutional Data'!R10","v":0},{"$f":"O9/'Institutional Data'!S10","v":0},{"$f":"P9/'Institutional Data'!T10","v":0},{"$f":"Q9/'Institutional Data'!U10","v":0},{"$f":"R9/'Institutional Data'!V10","v":0},{"$f":"S9/'Institutional Data'!W10","v":0},{"$f":"(T9+'Scope 1 Utilities'!T21)/'Institutional Data'!X10","v":6575.88},{"$f":"(U9+'Scope 1 Utilities'!U21)/'Institutional Data'!Y10","v":0},{"$f":"(V9+'Scope 1 Utilities'!V21)/'Institutional Data'!Z10","v":0},{"$f":"(W9+'Scope 1 Utilities'!W31)/'Institutional Data'!AA10","v":1061.3920000000001}]
[null,null,"Scope 2 Energy Usage","MMBTU",{"$f":"(E8*0.003414)+E25+E36","v":0},{"$f":"(F8*0.003414)+F25+F36","v":0},0,0,0,0,0,0,0,204874.03927981915,212297.23200259401,240824.28359817248,237296.84209211497,241811.07479581243,242481.03622104059,{"$f":"(T8*0.003414)+T25+T36","v":251660.75390341697},{"$f":"(U8*0.003414)+U25+U36","v":263262.44160999998},{"$f":"(V8*0.003414)+V25+V36","v":265960.75668200001},{"$f":"(W8*0.003414)+W25+W36","v":189625.18125600001}]
[null,null,"Scope 2 Energy Consumption","BTU/GSF",{"$f":"E61*1000000/'Institutional Data'!I9","v":{"$error":"#DIV/0!"}},{"$f":"F61*1000000/'Institutional Data'!J9","v":{"$error":"#DIV/0!"}},{"$f":"G61*1000000/'Institutional Data'!K9","v":{"$error":"#DIV/0!"}},{"$f":"H61*1000000/'Institutional Data'!L9","v":{"$error":"#DIV/0!"}},{"$f":"I61*1000000/'Institutional Data'!M9","v":{"$error":"#DIV/0!"}},{"$f":"J61*1000000/'Institutional Data'!N9","v":{"$error":"#DIV/0!"}},{"$f":"K61*1000000/'Institutional Data'!O9","v":{"$error":"#DIV/0!"}},{"$f":"L61*1000000/'Institutional Data'!P9","v":{"$error":"#DIV/0!"}},{"$f":"M61*1000000/'Institutional Data'!Q9","v":{"$error":"#DIV/0!"}},{"$f":"N61*1000000/'Institutional Data'!R9","v":34544.60583637021},{"$f":"O61*1000000/'Institutional Data'!S9","v":35358.527654142461},{"$f":"P61*1000000/'Institutional Data'!T9","v":38058.642897085221},{"$f":"Q61*1000000/'Institutional Data'!U9","v":37356.927140446591},{"$f":"R61*1000000/'Institutional Data'!V9","v":37538.196205526714},{"$f":"S61*1000000/'Institutional Data'!W9","v":38500.933656518864},{"$f":"T61*1000000/'Institutional Data'!X9","v":38670.200525335538},{"$f":"U61*1000000/'Institutional Data'!Y9","v":35697.589683836675},{"$f":"V61*1000000/'Institutional Data'!Z9","v":34094.787840414901},{"$f":"W61*1000000/'Institutional Data'!AA9","v":23864.771824179254}]
[]
[null,null,null,null,null,null,null,null,null,null,null,null,"Notes:   Steam comes from the Baker building (and, from 2011, from the Matt Knight Arena)"]

{"sheet":"Scope 3 Commuting","index":8,"n_rows":161,"n_cols":32,"rows_kept":161,"cut":false,"hidden":false,"merged":[[160,12,171,18]]}
[{"$f":"'Institutional Data'!D8","v":"University of Oregon"}]
[{"$f":"'Scope 2 Utilities'!A2","v":"Go-Green Measurement, Benchmarking and Analysis Summary"}]
[]
["Commuting"]
[]
[null,"Student Commuting",null,null,"FY1995","FY1996","FY1997","FY1998","FY1999","FY2000","FY2001","FY2002","FY2003","FY2004","FY2005","FY2006","FY2007","FY2008","FY2009","FY2010","FY2011","FY2012","FY2014"]
[null,"Student Commuting - Personal Vehicle/Carpool"]
[null,null,"Student % Personal Vehicle","%",null,null,null,null,null,null,null,null,null,0.37,0.37,0.31,0.31,0.31,0.13,0.13,0.13,0.1188,0.11799999999999999,null,null,"ADD WALK and BIKE FiGURES"]
[null,null,"Student % Carpool","%",null,null,null,null,null,null,null,null,null,0.06,0.06,0.06,0.06,0.06,0.08,0.08,0.08,1.66E-2,1.2999999999999999E-2,null,null,"Update Carpooling with Getting Dropped Off?"]
[null,null,"Trips/Week","Trips",null,null,null,null,null,null,null,null,null,10,10,10,10,10,10,10,10,10,10]
[null,null,"Weeks/Year","Weeks",null,null,null,null,null,null,null,null,null,36,36,36,36,36,36,36,36,36,36]
[null,null,"Miles/Trip","Miles",null,null,null,null,null,null,null,null,null,3,3,3,3,3,7.1573901727344049,7.1573901727344049,7,2.8,5]
[null,"Student Commuting - Bus"]
[null,null,"Student % Bus","%",0,0,0,0,0,0,0,0,0,0.22,0.22,0.22,0.22,0.22,0.23,0.23,0.23,0.16120000000000001,0.193]
[null,null,"Passenger Trips/Week","Trips",0,0,0,0,0,0,0,0,0,10,10,10,10,10,10,10,10,10,10]
[null,null,"Passenger Weeks/Year","Weeks",0,0,0,0,0,0,0,0,0,36,36,36,36,36,36,36,36,36,36]
[null,null,"Passenger Miles/Trip","Miles",0,0,0,0,0,0,0,0,0,3,3,3,3,3,3,3,3,2.8,3]
[null,"Student Commuting - Light Rail"]
[null,null,"Student % Light Rail","%",0,0,0,0,0,0,0,0,0,0,0,0,0,0,0,0,0,0,0]
[null,null,"Passenger Trips/Week","Trips",0,0,0,0,0,0,0,0,0,0,0,0,0,0,0,0,0,0,0]
[null,null,"Passenger Weeks/Year","Weeks",0,0,0,0,0,0,0,0,0,0,0,0,0,0,0,0,0,0,0]
[null,null,"Passenger Miles/Trip","Miles",0,0,0,0,0,0,0,0,0,0,0,0,0,0,0,0,0,0,0]
[null,"Student Commuting - Commuter Rail"]
[null,null,"Student % Commuter Rail","%",0,0,0,0,0,0,0,0,0,0,0,0,0,0,0,0,0,0,0]
[null,null,"Passenger Trips/Week","Trips",0,0,0,0,0,0,0,0,0,0,0,0,0,0,0,0,0,0,0]
[null,null,"Passenger Weeks/Year","Weeks",0,0,0,0,0,0,0,0,0,0,0,0,0,0,0,0,0,0,0]
[null,null,"Passenger Miles/Trip","Miles",0,0,0,0,0,0,0,0,0,0,0,0,0,0,0,0,0,0,0]
[null,"Student Commuting - Summary"]
[null,null,"Total Automobile Passenger Miles","Miles",{"$f":"((E8*'Institutional Data'!I21)+('Scope 3 Commuting'!E9*'Institutional Data'!I21))*E10*E11*E12","v":0},{"$f":"((F8*'Institutional Data'!J21)+('Scope 3 Commuting'!F9*'Institutional Data'!J21))*F10*F11*F12","v":0},{"$f":"((G8*'Institutional Data'!K21)+('Scope 3 Commuting'!G9*'Institutional Data'!K21))*G10*G11*G12","v":0},{"$f":"((H8*'Institutional Data'!L21)+('Scope 3 Commuting'!H9*'Institutional Data'!L21))*H10*H11*H12","v":0},{"$f":"((I8*'Institutional Data'!M21)+('Scope 3 Commuting'!I9*'Institutional Data'!M21))*I10*I11*I12","v":0},{"$f":"((J8*'Institutional Data'!N21)+('Scope 3 Commuting'!J9*'Institutional Data'!N21))*J10*J11*J12","v":0},{"$f":"((K8*'Institutional Data'!O21)+('Scope 3 Commuting'!K9*'Institutional Data'!O21))*K10*K11*K12","v":0},{"$f":"((L8*'Institutional Data'!P21)+('Scope 3 Commuting'!L9*'Institutional Data'!P21))*L10*L11*L12","v":0},{"$f":"((M8*'Institutional Data'!Q21)+('Scope 3 Commuting'!M9*'Institutional Data'!Q21))*M10*M11*M12","v":0},{"$f":"((N8*'Institutional Data'!R21)+('Scope 3 Commuting'!N9*'Institutional Data'!R21))*N10*N11*N12","v":8963291.5199999977},{"$f":"((O8*'Institutional Data'!S21)+('Scope 3 Commuting'!O9*'Institutional Data'!S21))*O10*O11*O12","v":9171667.8000000007},{"$f":"((P8*'Institutional Data'!T21)+('Scope 3 Commuting'!P9*'Institutional Data'!T21))*P10*P11*P12","v":7871001.120000001},{"$f":"((Q8*'Institutional Data'!U21)+('Scope 3 Commuting'!Q9*'Institutional Data'!U21))*Q10*Q11*Q12","v":7835596.5599999987},{"$f":"((R8*'Institutional Data'!V21)+('Scope 3 Commuting'!R9*'Institutional Data'!V21))*R10*R11*R12","v":7703888.3999999994},1675859.9646047244,1624996.6870812045,{"$f":"(U8*'Institutional Data'!Y21)+(U9*'Institutional Data'!Y21)*U10*U11*U12","v":4785237.33},{"$f":"(V8*'Institutional Data'!Z21)+(V9*'Institutional Data'!Z21)*V10*V11*V12","v":413673.07679999998},{"$f":"(W8*'Institutional Data'!AA21)+(W9*'Institutional Data'!AA21)*W10*W11*W12","v":559046.37799999991},null,null,null,null,null,2010,2011,2012,2014]
[null,null,"Total Automobile Vehicle Miles","Miles",{"$f":"((E8*'Institutional Data'!I21)+(E9*'Institutional Data'!I21/2))*E10*E11*E12","v":0},{"$f":"((F8*'Institutional Data'!J21)+(F9*'Institutional Data'!J21/2))*F10*F11*F12","v":0},{"$f":"((G8*'Institutional Data'!K21)+(G9*'Institutional Data'!K21/2))*G10*G11*G12","v":0},{"$f":"((H8*'Institutional Data'!L21)+(H9*'Institutional Data'!L21/2))*H10*H11*H12","v":0},{"$f":"((I8*'Institutional Data'!M21)+(I9*'Institutional Data'!M21/2))*I10*I11*I12","v":0},{"$f":"((J8*'Institutional Data'!N21)+(J9*'Institutional Data'!N21/2))*J10*J11*J12","v":0},{"$f":"((K8*'Institutional Data'!O21)+(K9*'Institutional Data'!O21/2))*K10*K11*K12","v":0},{"$f":"((L8*'Institutional Data'!P21)+(L9*'Institutional Data'!P21/2))*L10*L11*L12","v":0},{"$f":"((M8*'Institutional Data'!Q21)+(M9*'Institutional Data'!Q21/2))*M10*M11*M12","v":0},{"$f":"((N8*'Institutional Data'!R21)+(N9*'Institutional Data'!R21/2))*N10*N11*N12","v":8337945.5999999996},{"$f":"((O8*'Institutional Data'!S21)+(O9*'Institutional Data'!S21/2))*O10*O11*O12","v":8531784},{"$f":"((P8*'Institutional Data'!T21)+(P9*'Institutional Data'!T21/2))*P10*P11*P12","v":7232811.8400000008},{"$f":"((Q8*'Institutional Data'!U21)+(Q9*'Institutional Data'!U21/2))*Q10*Q11*Q12","v":7200277.919999999},{"$f":"((R8*'Institutional Data'!V21)+(R9*'Institutional Data'!V21/2))*R10*R11*R12","v":7079248.7999999989},936576,908150.39999999991,{"$f":"(U8*'Institutional Data'!Y21)+(U9*'Institutional Data'!Y21/2)*U10*U11*U12","v":2394160.5299999998},{"$f":"(V8*'Institutional Data'!Z21)+(V9*'Institutional Data'!Z21/2)*V10*V11*V12","v":208294.68959999998},{"$f":"(W8*'Institutional Data'!AA21)+(W9*'Institutional Data'!AA21/2)*W10*W11*W12","v":280925.67799999996},null,null,null,null,"student gasoline",{"$f":"T31","v":41092.778280542982},{"$f":"U31","v":108333.05565610858},{"$f":"V31","v":9425.0990769230757}]
[null,null,"Total Gallons of Gasoline","Gallons",{"$f":"E30/20.4307976517914","v":0},{"$f":"F30/20.4226203594574","v":0},{"$f":"G30/20.5611024430327","v":0},{"$f":"H30/20.6270155060466","v":0},{"$f":"I30/20.4193778857909","v":0},{"$f":"J30/20.8376150534165","v":0},{"$f":"K30/20.0618036298116","v":0},{"$f":"L30/20.9097170033507","v":0},{"$f":"M30/21.1865958602399","v":0},{"$f":"N30/22.1","v":377282.60633484158},386053.57466063346,327276.55384615384,325804.4307692307,320327.99999999994,42379.004524886877,41092.778280542982,{"$f":"U30/22.1","v":108333.05565610858},{"$f":"V30/22.1","v":9425.0990769230757},{"$f":"W30/22.1","v":12711.569140271491},null,null,null,null,"student diesel",{"$f":"T33","v":135806.89372301771},{"$f":"U33","v":148530.37604332625},{"$f":"V33","v":100547.75534873822}]
[null,null,"Total Bus Passenger Miles","Miles",{"$f":"(E14*'Institutional Data'!I21)*'Scope 3 Commuting'!E15*'Scope 3 Commuting'!E16*'Scope 3 Commuting'!E17","v":0},{"$f":"(F14*'Institutional Data'!J21)*'Scope 3 Commuting'!F15*'Scope 3 Commuting'!F16*'Scope 3 Commuting'!F17","v":0},{"$f":"(G14*'Institutional Data'!K21)*'Scope 3 Commuting'!G15*'Scope 3 Commuting'!G16*'Scope 3 Commuting'!G17","v":0},{"$f":"(H14*'Institutional Data'!L21)*'Scope 3 Commuting'!H15*'Scope 3 Commuting'!H16*'Scope 3 Commuting'!H17","v":0},{"$f":"(I14*'Institutional Data'!M21)*'Scope 3 Commuting'!I15*'Scope 3 Commuting'!I16*'Scope 3 Commuting'!I17","v":0},{"$f":"(J14*'Institutional Data'!N21)*'Scope 3 Commuting'!J15*'Scope 3 Commuting'!J16*'Scope 3 Commuting'!J17","v":0},{"$f":"(K14*'Institutional Data'!O21)*'Scope 3 Commuting'!K15*'Scope 3 Commuting'!K16*'Scope 3 Commuting'!K17","v":0},{"$f":"(L14*'Institutional Data'!P21)*'Scope 3 Commuting'!L15*'Scope 3 Commuting'!L16*'Scope 3 Commuting'!L17","v":0},{"$f":"(M14*'Institutional Data'!Q21)*'Scope 3 Commuting'!M15*'Scope 3 Commuting'!M16*'Scope 3 Commuting'!M17","v":0},{"$f":"(N14*'Institutional Data'!R21)*'Scope 3 Commuting'!N15*'Scope 3 Commuting'!N16*'Scope 3 Commuting'!N17","v":4585870.08},{"$f":"(O14*'Institutional Data'!S21)*'Scope 3 Commuting'!O15*'Scope 3 Commuting'!O16*'Scope 3 Commuting'!O17","v":4692481.2},{"$f":"(P14*'Institutional Data'!T21)*'Scope 3 Commuting'!P15*'Scope 3 Commuting'!P16*'Scope 3 Commuting'!P17","v":4680054.7199999988},{"$f":"(Q14*'Institutional Data'!U21)*'Scope 3 Commuting'!Q15*'Scope 3 Commuting'!Q16*'Scope 3 Commuting'!Q17","v":4659003.3599999994},{"$f":"(R14*'Institutional Data'!V21)*'Scope 3 Commuting'!R15*'Scope 3 Commuting'!R16*'Scope 3 Commuting'!R17","v":4580690.4000000004},{"$f":"(S14*'Institutional Data'!W21)*'Scope 3 Commuting'!S15*'Scope 3 Commuting'!S16*'Scope 3 Commuting'!S17","v":5157280.8000000007},{"$f":"(T14*'Institutional Data'!X21)*'Scope 3 Commuting'!T15*'Scope 3 Commuting'!T16*'Scope 3 Commuting'!T17","v":5387547.6000000006},{"$f":"(U14*'Institutional Data'!Y21)*'Scope 3 Commuting'!U15*'Scope 3 Commuting'!U16*'Scope 3 Commuting'!U17","v":5892296.4000000004},{"$f":"(V14*'Institutional Data'!Z21)*'Scope 3 Commuting'!V15*'Scope 3 Commuting'!V16*'Scope 3 Commuting'!V17","v":3988794.7007999998},{"$f":"(W14*'Institutional Data'!AA21)*'Scope 3 Commuting'!W15*'Scope 3 Commuting'!W16*'Scope 3 Commuting'!W17","v":4954827.24}]
[null,null,"Total Gallons of Diesel","Gallons",{"$f":"E32/33.3790377939823","v":0},{"$f":"F32/33.0563633845728","v":0},{"$f":"G32/33.8025754807274","v":0},{"$f":"H32/33.5624127352542","v":0},{"$f":"I32/33.3009750826588","v":0},{"$f":"J32/33.4419673782984","v":0},{"$f":"K32/37.5044279135671","v":0},{"$f":"L32/39.0722553176264","v":0},{"$f":"M32/39.6706489067342","v":0},{"$f":"N32/39.6706489067342","v":115598.56484277312},118285.9703412474,117972.72918330174,117442.07590234606,115467.99778267342,130002.43107000295,{"$f":"T32/39.6706489067342","v":135806.89372301771},{"$f":"U32/39.6706489067342","v":148530.37604332625},{"$f":"V32/39.6706489067342","v":100547.75534873822},{"$f":"W32/39.6706489067342","v":124899.07214900397},null,null,null,null,"faculty/staff gasoline",{"$f":"T93","v":289579.17515706609},{"$f":"U93","v":316218.06334841624},{"$f":"V93","v":234145.08179276017}]
[null,null,"Total Light Rail Passenger Miles","Miles",{"$f":"(E19*'Institutional Data'!I21)*'Scope 3 Commuting'!E20*'Scope 3 Commuting'!E21*'Scope 3 Commuting'!E22","v":0},{"$f":"(F19*'Institutional Data'!J21)*'Scope 3 Commuting'!F20*'Scope 3 Commuting'!F21*'Scope 3 Commuting'!F22","v":0},{"$f":"(G19*'Institutional Data'!K21)*'Scope 3 Commuting'!G20*'Scope 3 Commuting'!G21*'Scope 3 Commuting'!G22","v":0},{"$f":"(H19*'Institutional Data'!L21)*'Scope 3 Commuting'!H20*'Scope 3 Commuting'!H21*'Scope 3 Commuting'!H22","v":0},{"$f":"(I19*'Institutional Data'!M21)*'Scope 3 Commuting'!I20*'Scope 3 Commuting'!I21*'Scope 3 Commuting'!I22","v":0},{"$f":"(J19*'Institutional Data'!N21)*'Scope 3 Commuting'!J20*'Scope 3 Commuting'!J21*'Scope 3 Commuting'!J22","v":0},{"$f":"(K19*'Institutional Data'!O21)*'Scope 3 Commuting'!K20*'Scope 3 Commuting'!K21*'Scope 3 Commuting'!K22","v":0},{"$f":"(L19*'Institutional Data'!P21)*'Scope 3 Commuting'!L20*'Scope 3 Commuting'!L21*'Scope 3 Commuting'!L22","v":0},{"$f":"(M19*'Institutional Data'!Q21)*'Scope 3 Commuting'!M20*'Scope 3 Commuting'!M21*'Scope 3 Commuting'!M22","v":0},{"$f":"(N19*'Institutional Data'!R21)*'Scope 3 Commuting'!N20*'Scope 3 Commuting'!N21*'Scope 3 Commuting'!N22","v":0},{"$f":"(O19*'Institutional Data'!S21)*'Scope 3 Commuting'!O20*'Scope 3 Commuting'!O21*'Scope 3 Commuting'!O22","v":0},{"$f":"(P19*'Institutional Data'!T21)*'Scope 3 Commuting'!P20*'Scope 3 Commuting'!P21*'Scope 3 Commuting'!P22","v":0},{"$f":"(Q19*'Institutional Data'!U21)*'Scope 3 Commuting'!Q20*'Scope 3 Commuting'!Q21*'Scope 3 Commuting'!Q22","v":0},{"$f":"(R19*'Institutional Data'!V21)*'Scope 3 Commuting'!R20*'Scope 3 Commuting'!R21*'Scope 3 Commuting'!R22","v":0},{"$f":"(S19*'Institutional Data'!W21)*'Scope 3 Commuting'!S20*'Scope 3 Commuting'!S21*'Scope 3 Commuting'!S22","v":0},{"$f":"(T19*'Institutional Data'!X21)*'Scope 3 Commuting'!T20*'Scope 3 Commuting'!T21*'Scope 3 Commuting'!T22","v":0},{"$f":"(U19*'Institutional Data'!Y21)*'Scope 3 Commuting'!U20*'Scope 3 Commuting'!U21*'Scope 3 Commuting'!U22","v":0},{"$f":"(V19*'Institutional Data'!Z21)*'Scope 3 Commuting'!V20*'Scope 3 Commuting'!V21*'Scope 3 Commuting'!V22","v":0},{"$f":"(W19*'Institutional Data'!AA21)*'Scope 3 Commuting'!W20*'Scope 3 Commuting'!W21*'Scope 3 Commuting'!W22","v":0},null,null,null,null,"faculty/staff diesel",{"$f":"T95","v":15615.776829272894},{"$f":"U95","v":16178.046431981953},{"$f":"V95","v":24831.49981024837}]
[null,null,"Total Light Rail kWh","kWh",{"$f":"E34/2.98611111111111","v":0},{"$f":"F34/2.98130841121495","v":0},{"$f":"G34/2.86703601108033","v":0},{"$f":"H34/2.96062992125984","v":0},{"$f":"I34/2.89903846153846","v":0},{"$f":"J34/2.92872570194384","v":0},{"$f":"K34/2.95071868583162","v":0},{"$f":"L34/2.8078431372549","v":0},{"$f":"M34/2.9112426035503","v":0},{"$f":"N34/2.9112426035503","v":0},0,0,0,0,0,{"$f":"T34/2.9112426035503","v":0},{"$f":"U34/2.9112426035503","v":0},{"$f":"V34/2.9112426035503","v":0},{"$f":"W34/2.9112426035503","v":0}]
[null,null,"Total Commuter Rail Passenger Miles","Miles",{"$f":"(E24*'Institutional Data'!I21)*'Scope 3 Commuting'!E25*'Scope 3 Commuting'!E26*'Scope 3 Commuting'!E27","v":0},{"$f":"(F24*'Institutional Data'!J21)*'Scope 3 Commuting'!F25*'Scope 3 Commuting'!F26*'Scope 3 Commuting'!F27","v":0},{"$f":"(G24*'Institutional Data'!K21)*'Scope 3 Commuting'!G25*'Scope 3 Commuting'!G26*'Scope 3 Commuting'!G27","v":0},{"$f":"(H24*'Institutional Data'!L21)*'Scope 3 Commuting'!H25*'Scope 3 Commuting'!H26*'Scope 3 Commuting'!H27","v":0},{"$f":"(I24*'Institutional Data'!M21)*'Scope 3 Commuting'!I25*'Scope 3 Commuting'!I26*'Scope 3 Commuting'!I27","v":0},{"$f":"(J24*'Institutional Data'!N21)*'Scope 3 Commuting'!J25*'Scope 3 Commuting'!J26*'Scope 3 Commuting'!J27","v":0},{"$f":"(K24*'Institutional Data'!O21)*'Scope 3 Commuting'!K25*'Scope 3 Commuting'!K26*'Scope 3 Commuting'!K27","v":0},{"$f":"(L24*'Institutional Data'!P21)*'Scope 3 Commuting'!L25*'Scope 3 Commuting'!L26*'Scope 3 Commuting'!L27","v":0},{"$f":"(M24*'Institutional Data'!Q21)*'Scope 3 Commuting'!M25*'Scope 3 Commuting'!M26*'Scope 3 Commuting'!M27","v":0},{"$f":"(N24*'Institutional Data'!R21)*'Scope 3 Commuting'!N25*'Scope 3 Commuting'!N26*'Scope 3 Commuting'!N27","v":0},{"$f":"(O24*'Institutional Data'!S21)*'Scope 3 Commuting'!O25*'Scope 3 Commuting'!O26*'Scope 3 Commuting'!O27","v":0},{"$f":"(P24*'Institutional Data'!T21)*'Scope 3 Commuting'!P25*'Scope 3 Commuting'!P26*'Scope 3 Commuting'!P27","v":0},{"$f":"(Q24*'Institutional Data'!U21)*'Scope 3 Commuting'!Q25*'Scope 3 Commuting'!Q26*'Scope 3 Commuting'!Q27","v":0},{"$f":"(R24*'Institutional Data'!V21)*'Scope 3 Commuting'!R25*'Scope 3 Commuting'!R26*'Scope 3 Commuting'!R27","v":0},{"$f":"(S24*'Institutional Data'!W21)*'Scope 3 Commuting'!S25*'Scope 3 Commuting'!S26*'Scope 3 Commuting'!S27","v":0},{"$f":"(T24*'Institutional Data'!X21)*'Scope 3 Commuting'!T25*'Scope 3 Commuting'!T26*'Scope 3 Commuting'!T27","v":0},{"$f":"(U24*'Institutional Data'!Y21)*'Scope 3 Commuting'!U25*'Scope 3 Commuting'!U26*'Scope 3 Commuting'!U27","v":0},{"$f":"(V24*'Institutional Data'!Z21)*'Scope 3 Commuting'!V25*'Scope 3 Commuting'!V26*'Scope 3 Commuting'!V27","v":0},{"$f":"(W24*'Institutional Data'!AA21)*'Scope 3 Commuting'!W25*'Scope 3 Commuting'!W26*'Scope 3 Commuting'!W27","v":0}]
[null,null,"Total Commuter Rail Gallons of Diesel","Gallons",{"$f":"E36/130.724343524039","v":0},{"$f":"F36/134.937306101344","v":0},{"$f":"G36/127.193607089168","v":0},{"$f":"H36/125.780346820809","v":0},{"$f":"I36/120.07396753647","v":0},{"$f":"J36/132.762856900788","v":0},{"$f":"K36/132.236441194394","v":0},{"$f":"L36/130.465221628893","v":0},{"$f":"M36/132.278866378833","v":0},{"$f":"N36/132.278866378833","v":0},0,0,0,0,0,{"$f":"T36/132.278866378833","v":0},{"$f":"U36/132.278866378833","v":0},{"$f":"V36/132.278866378833","v":0},{"$f":"W36/132.278866378833","v":0}]
[null,null,"Total Commuter Rail kWh","kWh",{"$f":"E36/6.57940941739824","v":0},{"$f":"F36/6.65418326693227","v":0},{"$f":"G36/6.32913385826772","v":0},{"$f":"H36/6.70053887605851","v":0},{"$f":"I36/6.63086232980333","v":0},{"$f":"J36/6.86277372262774","v":0},{"$f":"K36/7.05169867060561","v":0},{"$f":"L36/7.12443778110945","v":0},{"$f":"M36/6.9117859725235","v":0},{"$f":"N36/6.9117859725235","v":0},0,0,0,0,0,{"$f":"T36/6.9117859725235","v":0},{"$f":"U36/6.9117859725235","v":0},{"$f":"V36/6.9117859725235","v":0},{"$f":"W36/6.9117859725235","v":0},null,null,null,null,"total gas",{"$f":"SUM(AC30,AC33)","v":330671.95343760907},424551.11900452484,243570.18086968324]
[null,null,null,null,null,null,null,null,null,null,null,null,null,null,null,null,null,null,null,null,null,null,null,null,null,null,null,"total disel",151422.6705522906,164708.42247530821,125379.25515898659]
[]
[null,"Faculty Commuting",null,null,"FY1995","FY1996","FY1997","FY1998","FY1999","FY2000","FY2001","FY2002","FY2003","FY2004","FY2005","FY2006","FY2007","FY2008","FY2009","FY2010","FY2011","FY2012","FY2014"]
[null,"Faculty Commuting - Personal Vehicle/Carpool"]
[null,null,"Faculty % Personal Vehicle","%",null,null,null,null,null,null,null,null,null,0.68,0.68,0.68,0.68,0.68,0.49,0.49,0.49,0.41820000000000002,0.44]
[null,null,"Faculty % Carpool","%",null,null,null,null,null,null,null,null,null,7.3999999999999996E-2,7.3999999999999996E-2,7.3999999999999996E-2,7.3999999999999996E-2,7.3999999999999996E-2,0,0,0,4.24E-2,0.12]
[null,null,"Trips/Week","Trips",null,null,null,null,null,null,null,null,null,10,10,10,10,10,10,10,10,10,10]
[null,null,"Weeks/Year","Weeks",null,null,null,null,null,null,null,null,null,36,36,36,36,36,36,36,36,36,36]
[null,null,"Miles/Trip","Miles",null,null,null,null,null,null,null,null,null,3,3,3,3,3,7.5898487781800119,7.5898487781800119,8,5.0599999999999996,7]
[null,"Faculty Commuting - Bus"]
[null,null,"Faculty % Bus","%",0,0,0,0,0,0,0,0,0,9.9000000000000005E-2,9.9000000000000005E-2,9.9000000000000005E-2,9.9000000000000005E-2,0.1,0.12,0.12,0.12,9.0999999999999998E-2,7.0000000000000007E-2]
[null,null,"Passenger Trips/Week","Trips",0,0,0,0,0,0,0,0,0,10,10,10,10,10,10,10,10,10,10]
[null,null,"Passenger Weeks/Year","Weeks",0,0,0,0,0,0,0,0,0,36,36,36,36,36,36,36,36,36,36]
[null,null,"Passenger Miles/Trip","Miles",0,0,0,0,0,0,0,0,0,3,3,3,3,3,3,3,3,5.0599999999999996,5]
[null,"Faculty Commuting - Light Rail"]
[null,null,"Faculty % Light Rail","%",0,0,0,0,0,0,0,0,0,0,0,0,0,0,0,0,0,0,0]
[null,null,"Passenger Trips/Week","Trips",0,0,0,0,0,0,0,0,0,0,0,0,0,0,0,0,0,0,0]
[null,null,"Passenger Weeks/Year","Weeks",0,0,0,0,0,0,0,0,0,0,0,0,0,0,0,0,0,0,0]
[null,null,"Passenger Miles/Trip","Miles",0,0,0,0,0,0,0,0,0,0,0,0,0,0,0,0,0,0,0]
[null,"Faculty Commuting - Commuter Rail"]
[null,null,"Faculty % Commuter Rail","%",0,0,0,0,0,0,0,0,0,0,0,0,0,0,0,0,0,0,0]
[null,null,"Passenger Trips/Week","Trips",0,0,0,0,0,0,0,0,0,0,0,0,0,0,0,0,0,0,0]
[null,null,"Passenger Weeks/Year","Weeks",0,0,0,0,0,0,0,0,0,0,0,0,0,0,0,0,0,0,0]
[null,null,"Passenger Miles/Trip","Miles",0,0,0,0,0,0,0,0,0,0,0,0,0,0,0,0,0,0,0]
[]
[]
[null,"Staff Commuting",null,null,"FY1995","FY1996","FY1997","FY1998","FY1999","FY2000","FY2001","FY2002","FY2003","FY2004","FY2005","FY2006","FY2007","FY2008","FY2009","FY2010","FY2011","FY2012","FY2014"]
[null,"Staff Commuting - Personal Vehicle/Carpool"]
[null,null,"Staff % Personal Vehicle","%",null,null,null,null,null,null,null,null,null,0.68,0.68,0.68,0.68,0.68,0.49,0.49,0.49,0.50209999999999999,0.43259999999999998]
[null,null,"Staff % Carpool","%",null,null,null,null,null,null,null,null,null,7.3999999999999996E-2,7.3999999999999996E-2,7.3999999999999996E-2,7.3999999999999996E-2,7.3999999999999996E-2,0,0,0,9.2799999999999994E-2,0.10639999999999999]
[null,null,"Trips/Week","Trips",null,null,null,null,null,null,null,null,null,10,10,10,10,10,10,10,10,10,10]
[null,null,"Weeks/Year","Weeks",null,null,null,null,null,null,null,null,null,46,46,46,46,46,46,46,46,46,46]
[null,null,"Miles/Trip","Miles",null,null,null,null,null,null,null,null,null,3,3,3,3,3,7.5898487781800119,7.5898487781800119,8,5.75,8]
[null,"Staff Commuting - Bus"]
[null,null,"Staff % Bus","%",0,0,0,0,0,0,0,0,0,9.9000000000000005E-2,9.9000000000000005E-2,9.9000000000000005E-2,9.9000000000000005E-2,0.1,0.12,0.12,0.12,0.1012,0.22]
[null,null,"Passenger Trips/Week","Trips",0,0,0,0,0,0,0,0,0,10,10,10,10,10,10,10,10,10,10]
[null,null,"Passenger Weeks/Year","Weeks",0,0,0,0,0,0,0,0,0,46,46,46,46,46,46,46,46,46,46]
[null,null,"Passenger Miles/Trip","Miles",0,0,0,0,0,0,0,0,0,3,3,3,3,3,3,3,3,5.75,6]
[null,"Staff Commuting - Light Rail"]
[null,null,"Staff % Light Rail","%",0,0,0,0,0,0,0,0,0,0,0,0,0,0,0,0,0,0,0]
[null,null,"Passenger Trips/Week","Trips",0,0,0,0,0,0,0,0,0,0,0,0,0,0,0,0,0,0,0]
[null,null,"Passenger Weeks/Year","Weeks",0,0,0,0,0,0,0,0,0,0,0,0,0,0,0,0,0,0,0]
[null,null,"Passenger Miles/Trip","Miles",0,0,0,0,0,0,0,0,0,0,0,0,0,0,0,0,0,0,0]
[null,"Staff Commuting - Commuter Rail"]
[null,null,"Staff % Commuter Rail","%",0,0,0,0,0,0,0,0,0,0,0,0,0,0,0,0,0,0,0]
[null,null,"Passenger Trips/Week","Trips",0,0,0,0,0,0,0,0,0,0,0,0,0,0,0,0,0,0,0]
[null,null,"Passenger Weeks/Year","Weeks",0,0,0,0,0,0,0,0,0,0,0,0,0,0,0,0,0,0,0]
[null,null,"Passenger Miles/Trip","Miles",0,0,0,0,0,0,0,0,0,0,0,0,0,0,0,0,0,0,0]
[]
[]
[null,"Faculty/Staff Summary",null,null,"FY1995","FY1996","FY1997","FY1998","FY1999","FY2000","FY2001","FY2002","FY2003","FY2004","FY2005","FY2006","FY2007","FY2008","FY2009","FY2010","FY2011","FY2012","FY2014"]
[null,"Faculty/Staff Commuting - Summary"]
[null,null,"Total Automobile Passenger Miles","Miles",{"$f":"(((E43*'Institutional Data'!I26)+('Scope 3 Commuting'!E44*'Institutional Data'!I26))*'Scope 3 Commuting'!E45*'Scope 3 Commuting'!E46*'Scope 3 Commuting'!E47)+((('Scope 3 Commuting'!E67*'Institutional Data'!I31)+('Scope 3 Commuting'!E68*'Institutional Data'!I31))*'Scope 3 Commuting'!E69*'Scope 3 Commuting'!E70*'Scope 3 Commuting'!E71)","v":0},{"$f":"(((F43*'Institutional Data'!J26)+('Scope 3 Commuting'!F44*'Institutional Data'!J26))*'Scope 3 Commuting'!F45*'Scope 3 Commuting'!F46*'Scope 3 Commuting'!F47)+((('Scope 3 Commuting'!F67*'Institutional Data'!J31)+('Scope 3 Commuting'!F68*'Institutional Data'!J31))*'Scope 3 Commuting'!F69*'Scope 3 Commuting'!F70*'Scope 3 Commuting'!F71)","v":0},{"$f":"(((G43*'Institutional Data'!K26)+('Scope 3 Commuting'!G44*'Institutional Data'!K26))*'Scope 3 Commuting'!G45*'Scope 3 Commuting'!G46*'Scope 3 Commuting'!G47)+((('Scope 3 Commuting'!G67*'Institutional Data'!K31)+('Scope 3 Commuting'!G68*'Institutional Data'!K31))*'Scope 3 Commuting'!G69*'Scope 3 Commuting'!G70*'Scope 3 Commuting'!G71)","v":0},{"$f":"(((H43*'Institutional Data'!L26)+('Scope 3 Commuting'!H44*'Institutional Data'!L26))*'Scope 3 Commuting'!H45*'Scope 3 Commuting'!H46*'Scope 3 Commuting'!H47)+((('Scope 3 Commuting'!H67*'Institutional Data'!L31)+('Scope 3 Commuting'!H68*'Institutional Data'!L31))*'Scope 3 Commuting'!H69*'Scope 3 Commuting'!H70*'Scope 3 Commuting'!H71)","v":0},{"$f":"(((I43*'Institutional Data'!M26)+('Scope 3 Commuting'!I44*'Institutional Data'!M26))*'Scope 3 Commuting'!I45*'Scope 3 Commuting'!I46*'Scope 3 Commuting'!I47)+((('Scope 3 Commuting'!I67*'Institutional Data'!M31)+('Scope 3 Commuting'!I68*'Institutional Data'!M31))*'Scope 3 Commuting'!I69*'Scope 3 Commuting'!I70*'Scope 3 Commuting'!I71)","v":0},{"$f":"(((J43*'Institutional Data'!N26)+('Scope 3 Commuting'!J44*'Institutional Data'!N26))*'Scope 3 Commuting'!J45*'Scope 3 Commuting'!J46*'Scope 3 Commuting'!J47)+((('Scope 3 Commuting'!J67*'Institutional Data'!N31)+('Scope 3 Commuting'!J68*'Institutional Data'!N31))*'Scope 3 Commuting'!J69*'Scope 3 Commuting'!J70*'Scope 3 Commuting'!J71)","v":0},{"$f":"(((K43*'Institutional Data'!O26)+('Scope 3 Commuting'!K44*'Institutional Data'!O26))*'Scope 3 Commuting'!K45*'Scope 3 Commuting'!K46*'Scope 3 Commuting'!K47)+((('Scope 3 Commuting'!K67*'Institutional Data'!O31)+('Scope 3 Commuting'!K68*'Institutional Data'!O31))*'Scope 3 Commuting'!K69*'Scope 3 Commuting'!K70*'Scope 3 Commuting'!K71)","v":0},{"$f":"(((L43*'Institutional Data'!P26)+('Scope 3 Commuting'!L44*'Institutional Data'!P26))*'Scope 3 Commuting'!L45*'Scope 3 Commuting'!L46*'Scope 3 Commuting'!L47)+((('Scope 3 Commuting'!L67*'Institutional Data'!P31)+('Scope 3 Commuting'!L68*'Institutional Data'!P31))*'Scope 3 Commuting'!L69*'Scope 3 Commuting'!L70*'Scope 3 Commuting'!L71)","v":0},{"$f":"(((M43*'Institutional Data'!Q26)+('Scope 3 Commuting'!M44*'Institutional Data'!Q26))*'Scope 3 Commuting'!M45*'Scope 3 Commuting'!M46*'Scope 3 Commuting'!M47)+((('Scope 3 Commuting'!M67*'Institutional Data'!Q31)+('Scope 3 Commuting'!M68*'Institutional Data'!Q31))*'Scope 3 Commuting'!M69*'Scope 3 Commuting'!M70*'Scope 3 Commuting'!M71)","v":0},{"$f":"(((N43*'Institutional Data'!R26)+('Scope 3 Commuting'!N44*'Institutional Data'!R26))*'Scope 3 Commuting'!N45*'Scope 3 Commuting'!N46*'Scope 3 Commuting'!N47)+((('Scope 3 Commuting'!N67*'Institutional Data'!R31)+('Scope 3 Commuting'!N68*'Institutional Data'!R31))*'Scope 3 Commuting'!N69*'Scope 3 Commuting'!N70*'Scope 3 Commuting'!N71)","v":4247628.84},{"$f":"(((O43*'Institutional Data'!S26)+('Scope 3 Commuting'!O44*'Institutional Data'!S26))*'Scope 3 Commuting'!O45*'Scope 3 Commuting'!O46*'Scope 3 Commuting'!O47)+((('Scope 3 Commuting'!O67*'Institutional Data'!S31)+('Scope 3 Commuting'!O68*'Institutional Data'!S31))*'Scope 3 Commuting'!O69*'Scope 3 Commuting'!O70*'Scope 3 Commuting'!O71)","v":4301321.7526582275},{"$f":"(((P43*'Institutional Data'!T26)+('Scope 3 Commuting'!P44*'Institutional Data'!T26))*'Scope 3 Commuting'!P45*'Scope 3 Commuting'!P46*'Scope 3 Commuting'!P47)+((('Scope 3 Commuting'!P67*'Institutional Data'!T31)+('Scope 3 Commuting'!P68*'Institutional Data'!T31))*'Scope 3 Commuting'!P69*'Scope 3 Commuting'!P70*'Scope 3 Commuting'!P71)","v":4368866.1370964414},{"$f":"(((Q43*'Institutional Data'!U26)+('Scope 3 Commuting'!Q44*'Institutional Data'!U26))*'Scope 3 Commuting'!Q45*'Scope 3 Commuting'!Q46*'Scope 3 Commuting'!Q47)+((('Scope 3 Commuting'!Q67*'Institutional Data'!U31)+('Scope 3 Commuting'!Q68*'Institutional Data'!U31))*'Scope 3 Commuting'!Q69*'Scope 3 Commuting'!Q70*'Scope 3 Commuting'!Q71)","v":4400194.6143631209},{"$f":"(((R43*'Institutional Data'!V26)+('Scope 3 Commuting'!R44*'Institutional Data'!V26))*'Scope 3 Commuting'!R45*'Scope 3 Commuting'!R46*'Scope 3 Commuting'!R47)+((('Scope 3 Commuting'!R67*'Institutional Data'!V31)+('Scope 3 Commuting'!R68*'Institutional Data'!V31))*'Scope 3 Commuting'!R69*'Scope 3 Commuting'!R70*'Scope 3 Commuting'!R71)","v":4446730.08},{"$f":"(((S43*'Institutional Data'!W26)+('Scope 3 Commuting'!S44*'Institutional Data'!W26))*'Scope 3 Commuting'!S45*'Scope 3 Commuting'!S46*'Scope 3 Commuting'!S47)+((('Scope 3 Commuting'!S67*'Institutional Data'!W31)+('Scope 3 Commuting'!S68*'Institutional Data'!W31))*'Scope 3 Commuting'!S69*'Scope 3 Commuting'!S70*'Scope 3 Commuting'!S71)","v":6338782.1267077327},{"$f":"(((T43*'Institutional Data'!X26)+('Scope 3 Commuting'!T44*'Institutional Data'!X26))*'Scope 3 Commuting'!T45*'Scope 3 Commuting'!T46*'Scope 3 Commuting'!T47)+((('Scope 3 Commuting'!T67*'Institutional Data'!X31)+('Scope 3 Commuting'!T68*'Institutional Data'!X31))*'Scope 3 Commuting'!T69*'Scope 3 Commuting'!T70*'Scope 3 Commuting'!T71)","v":6399699.7709711613},{"$f":"(((U43*'Institutional Data'!Y26)+('Scope 3 Commuting'!U44*'Institutional Data'!Y26))*'Scope 3 Commuting'!U45*'Scope 3 Commuting'!U46*'Scope 3 Commuting'!U47)+((('Scope 3 Commuting'!U67*'Institutional Data'!Y31)+('Scope 3 Commuting'!U68*'Institutional Data'!Y31))*'Scope 3 Commuting'!U69*'Scope 3 Commuting'!U70*'Scope 3 Commuting'!U71)","v":6988419.1999999993},{"$f":"(((V43*'Institutional Data'!Z26)+('Scope 3 Commuting'!V44*'Institutional Data'!Z26))*'Scope 3 Commuting'!V45*'Scope 3 Commuting'!V46*'Scope 3 Commuting'!V47)+((('Scope 3 Commuting'!V67*'Institutional Data'!Z31)+('Scope 3 Commuting'!V68*'Institutional Data'!Z31))*'Scope 3 Commuting'!V69*'Scope 3 Commuting'!V70*'Scope 3 Commuting'!V71)","v":5563531.8253800003},{"$f":"(((W43*'Institutional Data'!AA26)+('Scope 3 Commuting'!W44*'Institutional Data'!AA26))*'Scope 3 Commuting'!W45*'Scope 3 Commuting'!W46*'Scope 3 Commuting'!W47)+((('Scope 3 Commuting'!W67*'Institutional Data'!AA31)+('Scope 3 Commuting'!W68*'Institutional Data'!AA31))*'Scope 3 Commuting'!W69*'Scope 3 Commuting'!W70*'Scope 3 Commuting'!W71)","v":8556850.3999999985}]
[null,null,"Total Automobile Vehicle Miles","Miles",{"$f":"((((E43*'Institutional Data'!I26)+('Scope 3 Commuting'!E44*'Institutional Data'!I26)/2)*'Scope 3 Commuting'!E45*'Scope 3 Commuting'!E46*'Scope 3 Commuting'!E47)+((('Scope 3 Commuting'!E67*'Institutional Data'!I31)+('Scope 3 Commuting'!E68*'Institutional Data'!I31)/2)*'Scope 3 Commuting'!E69*'Scope 3 Commuting'!E70*'Scope 3 Commuting'!E71))","v":0},{"$f":"((((F43*'Institutional Data'!J26)+('Scope 3 Commuting'!F44*'Institutional Data'!J26)/2)*'Scope 3 Commuting'!F45*'Scope 3 Commuting'!F46*'Scope 3 Commuting'!F47)+((('Scope 3 Commuting'!F67*'Institutional Data'!J31)+('Scope 3 Commuting'!F68*'Institutional Data'!J31)/2)*'Scope 3 Commuting'!F69*'Scope 3 Commuting'!F70*'Scope 3 Commuting'!F71))","v":0},{"$f":"((((G43*'Institutional Data'!K26)+('Scope 3 Commuting'!G44*'Institutional Data'!K26)/2)*'Scope 3 Commuting'!G45*'Scope 3 Commuting'!G46*'Scope 3 Commuting'!G47)+((('Scope 3 Commuting'!G67*'Institutional Data'!K31)+('Scope 3 Commuting'!G68*'Institutional Data'!K31)/2)*'Scope 3 Commuting'!G69*'Scope 3 Commuting'!G70*'Scope 3 Commuting'!G71))","v":0},{"$f":"((((H43*'Institutional Data'!L26)+('Scope 3 Commuting'!H44*'Institutional Data'!L26)/2)*'Scope 3 Commuting'!H45*'Scope 3 Commuting'!H46*'Scope 3 Commuting'!H47)+((('Scope 3 Commuting'!H67*'Institutional Data'!L31)+('Scope 3 Commuting'!H68*'Institutional Data'!L31)/2)*'Scope 3 Commuting'!H69*'Scope 3 Commuting'!H70*'Scope 3 Commuting'!H71))","v":0},{"$f":"((((I43*'Institutional Data'!M26)+('Scope 3 Commuting'!I44*'Institutional Data'!M26)/2)*'Scope 3 Commuting'!I45*'Scope 3 Commuting'!I46*'Scope 3 Commuting'!I47)+((('Scope 3 Commuting'!I67*'Institutional Data'!M31)+('Scope 3 Commuting'!I68*'Institutional Data'!M31)/2)*'Scope 3 Commuting'!I69*'Scope 3 Commuting'!I70*'Scope 3 Commuting'!I71))","v":0},{"$f":"((((J43*'Institutional Data'!N26)+('Scope 3 Commuting'!J44*'Institutional Data'!N26)/2)*'Scope 3 Commuting'!J45*'Scope 3 Commuting'!J46*'Scope 3 Commuting'!J47)+((('Scope 3 Commuting'!J67*'Institutional Data'!N31)+('Scope 3 Commuting'!J68*'Institutional Data'!N31)/2)*'Scope 3 Commuting'!J69*'Scope 3 Commuting'!J70*'Scope 3 Commuting'!J71))","v":0},{"$f":"((((K43*'Institutional Data'!O26)+('Scope 3 Commuting'!K44*'Institutional Data'!O26)/2)*'Scope 3 Commuting'!K45*'Scope 3 Commuting'!K46*'Scope 3 Commuting'!K47)+((('Scope 3 Commuting'!K67*'Institutional Data'!O31)+('Scope 3 Commuting'!K68*'Institutional Data'!O31)/2)*'Scope 3 Commuting'!K69*'Scope 3 Commuting'!K70*'Scope 3 Commuting'!K71))","v":0},{"$f":"((((L43*'Institutional Data'!P26)+('Scope 3 Commuting'!L44*'Institutional Data'!P26)/2)*'Scope 3 Commuting'!L45*'Scope 3 Commuting'!L46*'Scope 3 Commuting'!L47)+((('Scope 3 Commuting'!L67*'Institutional Data'!P31)+('Scope 3 Commuting'!L68*'Institutional Data'!P31)/2)*'Scope 3 Commuting'!L69*'Scope 3 Commuting'!L70*'Scope 3 Commuting'!L71))","v":0},{"$f":"((((M43*'Institutional Data'!Q26)+('Scope 3 Commuting'!M44*'Institutional Data'!Q26)/2)*'Scope 3 Commuting'!M45*'Scope 3 Commuting'!M46*'Scope 3 Commuting'!M47)+((('Scope 3 Commuting'!M67*'Institutional Data'!Q31)+('Scope 3 Commuting'!M68*'Institutional Data'!Q31)/2)*'Scope 3 Commuting'!M69*'Scope 3 Commuting'!M70*'Scope 3 Commuting'!M71))","v":0},{"$f":"((((N43*'Institutional Data'!R26)+('Scope 3 Commuting'!N44*'Institutional Data'!R26)/2)*'Scope 3 Commuting'!N45*'Scope 3 Commuting'!N46*'Scope 3 Commuting'!N47)+((('Scope 3 Commuting'!N67*'Institutional Data'!R31)+('Scope 3 Commuting'!N68*'Institutional Data'!R31)/2)*'Scope 3 Commuting'!N69*'Scope 3 Commuting'!N70*'Scope 3 Commuting'!N71))","v":4039190.8200000008},{"$f":"((((O43*'Institutional Data'!S26)+('Scope 3 Commuting'!O44*'Institutional Data'!S26)/2)*'Scope 3 Commuting'!O45*'Scope 3 Commuting'!O46*'Scope 3 Commuting'!O47)+((('Scope 3 Commuting'!O67*'Institutional Data'!S31)+('Scope 3 Commuting'!O68*'Institutional Data'!S31)/2)*'Scope 3 Commuting'!O69*'Scope 3 Commuting'!O70*'Scope 3 Commuting'!O71))","v":4090248.934556962},{"$f":"((((P43*'Institutional Data'!T26)+('Scope 3 Commuting'!P44*'Institutional Data'!T26)/2)*'Scope 3 Commuting'!P45*'Scope 3 Commuting'!P46*'Scope 3 Commuting'!P47)+((('Scope 3 Commuting'!P67*'Institutional Data'!T31)+('Scope 3 Commuting'!P68*'Institutional Data'!T31)/2)*'Scope 3 Commuting'!P69*'Scope 3 Commuting'!P70*'Scope 3 Commuting'!P71))","v":4154478.8067614697},{"$f":"((((Q43*'Institutional Data'!U26)+('Scope 3 Commuting'!Q44*'Institutional Data'!U26)/2)*'Scope 3 Commuting'!Q45*'Scope 3 Commuting'!Q46*'Scope 3 Commuting'!Q47)+((('Scope 3 Commuting'!Q67*'Institutional Data'!U31)+('Scope 3 Commuting'!Q68*'Institutional Data'!U31)/2)*'Scope 3 Commuting'!Q69*'Scope 3 Commuting'!Q70*'Scope 3 Commuting'!Q71))","v":4184269.944958034},{"$f":"((((R43*'Institutional Data'!V26)+('Scope 3 Commuting'!R44*'Institutional Data'!V26)/2)*'Scope 3 Commuting'!R45*'Scope 3 Commuting'!R46*'Scope 3 Commuting'!R47)+((('Scope 3 Commuting'!R67*'Institutional Data'!V31)+('Scope 3 Commuting'!R68*'Institutional Data'!V31)/2)*'Scope 3 Commuting'!R69*'Scope 3 Commuting'!R70*'Scope 3 Commuting'!R71))","v":4228521.84},{"$f":"((((S43*'Institutional Data'!W26)+('Scope 3 Commuting'!S44*'Institutional Data'!W26)/2)*'Scope 3 Commuting'!S45*'Scope 3 Commuting'!S46*'Scope 3 Commuting'!S47)+((('Scope 3 Commuting'!S67*'Institutional Data'!W31)+('Scope 3 Commuting'!S68*'Institutional Data'!W31)/2)*'Scope 3 Commuting'!S69*'Scope 3 Commuting'!S70*'Scope 3 Commuting'!S71))","v":6338782.1267077327},{"$f":"((((T43*'Institutional Data'!X26)+('Scope 3 Commuting'!T44*'Institutional Data'!X26)/2)*'Scope 3 Commuting'!T45*'Scope 3 Commuting'!T46*'Scope 3 Commuting'!T47)+((('Scope 3 Commuting'!T67*'Institutional Data'!X31)+('Scope 3 Commuting'!T68*'Institutional Data'!X31)/2)*'Scope 3 Commuting'!T69*'Scope 3 Commuting'!T70*'Scope 3 Commuting'!T71))","v":6399699.7709711613},{"$f":"((((U43*'Institutional Data'!Y26)+('Scope 3 Commuting'!U44*'Institutional Data'!Y26)/2)*'Scope 3 Commuting'!U45*'Scope 3 Commuting'!U46*'Scope 3 Commuting'!U47)+((('Scope 3 Commuting'!U67*'Institutional Data'!Y31)+('Scope 3 Commuting'!U68*'Institutional Data'!Y31)/2)*'Scope 3 Commuting'!U69*'Scope 3 Commuting'!U70*'Scope 3 Commuting'!U71))","v":6988419.1999999993},{"$f":"((((V43*'Institutional Data'!Z26)+('Scope 3 Commuting'!V44*'Institutional Data'!Z26)/2)*'Scope 3 Commuting'!V45*'Scope 3 Commuting'!V46*'Scope 3 Commuting'!V47)+((('Scope 3 Commuting'!V67*'Institutional Data'!Z31)+('Scope 3 Commuting'!V68*'Institutional Data'!Z31)/2)*'Scope 3 Commuting'!V69*'Scope 3 Commuting'!V70*'Scope 3 Commuting'!V71))","v":5174606.3076200001},{"$f":"((((W43*'Institutional Data'!AA26)+('Scope 3 Commuting'!W44*'Institutional Data'!AA26)/2)*'Scope 3 Commuting'!W45*'Scope 3 Commuting'!W46*'Scope 3 Commuting'!W47)+((('Scope 3 Commuting'!W67*'Institutional Data'!AA31)+('Scope 3 Commuting'!W68*'Institutional Data'!AA31)/2)*'Scope 3 Commuting'!W69*'Scope 3 Commuting'!W70*'Scope 3 Commuting'!W71))","v":7689858.3999999994}]
[null,null,"Total Gallons of Gasoline","Gallons",{"$f":"E92/20.4307976517914","v":0},{"$f":"F92/20.4226203594574","v":0},{"$f":"G92/20.5611024430327","v":0},{"$f":"H92/20.6270155060466","v":0},{"$f":"I92/20.4193778857909","v":0},{"$f":"J92/20.8376150534165","v":0},{"$f":"K92/20.0618036298116","v":0},{"$f":"L92/20.9097170033507","v":0},{"$f":"M92/21.1865958602399","v":0},{"$f":"N92/22.1","v":182768.81538461542},185079.13731026975,187985.46636929727,189333.48167230922,191335.82986425338,286822.72066550824,289579.17515706609,{"$f":"U92/22.1","v":316218.06334841624},{"$f":"V92/22.1","v":234145.08179276017},{"$f":"W92/22.1","v":347957.39366515831}]
[null,null,"Total Bus Passenger Miles","Miles",{"$f":"((E49*'Institutional Data'!I26)*'Scope 3 Commuting'!E50*'Scope 3 Commuting'!E51*'Scope 3 Commuting'!E52)+(('Scope 3 Commuting'!E73*'Institutional Data'!I31)*'Scope 3 Commuting'!E74*'Scope 3 Commuting'!E75*'Scope 3 Commuting'!E76)","v":0},{"$f":"((F49*'Institutional Data'!J26)*'Scope 3 Commuting'!F50*'Scope 3 Commuting'!F51*'Scope 3 Commuting'!F52)+(('Scope 3 Commuting'!F73*'Institutional Data'!J31)*'Scope 3 Commuting'!F74*'Scope 3 Commuting'!F75*'Scope 3 Commuting'!F76)","v":0},{"$f":"((G49*'Institutional Data'!K26)*'Scope 3 Commuting'!G50*'Scope 3 Commuting'!G51*'Scope 3 Commuting'!G52)+(('Scope 3 Commuting'!G73*'Institutional Data'!K31)*'Scope 3 Commuting'!G74*'Scope 3 Commuting'!G75*'Scope 3 Commuting'!G76)","v":0},{"$f":"((H49*'Institutional Data'!L26)*'Scope 3 Commuting'!H50*'Scope 3 Commuting'!H51*'Scope 3 Commuting'!H52)+(('Scope 3 Commuting'!H73*'Institutional Data'!L31)*'Scope 3 Commuting'!H74*'Scope 3 Commuting'!H75*'Scope 3 Commuting'!H76)","v":0},{"$f":"((I49*'Institutional Data'!M26)*'Scope 3 Commuting'!I50*'Scope 3 Commuting'!I51*'Scope 3 Commuting'!I52)+(('Scope 3 Commuting'!I73*'Institutional Data'!M31)*'Scope 3 Commuting'!I74*'Scope 3 Commuting'!I75*'Scope 3 Commuting'!I76)","v":0},{"$f":"((J49*'Institutional Data'!N26)*'Scope 3 Commuting'!J50*'Scope 3 Commuting'!J51*'Scope 3 Commuting'!J52)+(('Scope 3 Commuting'!J73*'Institutional Data'!N31)*'Scope 3 Commuting'!J74*'Scope 3 Commuting'!J75*'Scope 3 Commuting'!J76)","v":0},{"$f":"((K49*'Institutional Data'!O26)*'Scope 3 Commuting'!K50*'Scope 3 Commuting'!K51*'Scope 3 Commuting'!K52)+(('Scope 3 Commuting'!K73*'Institutional Data'!O31)*'Scope 3 Commuting'!K74*'Scope 3 Commuting'!K75*'Scope 3 Commuting'!K76)","v":0},{"$f":"((L49*'Institutional Data'!P26)*'Scope 3 Commuting'!L50*'Scope 3 Commuting'!L51*'Scope 3 Commuting'!L52)+(('Scope 3 Commuting'!L73*'Institutional Data'!P31)*'Scope 3 Commuting'!L74*'Scope 3 Commuting'!L75*'Scope 3 Commuting'!L76)","v":0},{"$f":"((M49*'Institutional Data'!Q26)*'Scope 3 Commuting'!M50*'Scope 3 Commuting'!M51*'Scope 3 Commuting'!M52)+(('Scope 3 Commuting'!M73*'Institutional Data'!Q31)*'Scope 3 Commuting'!M74*'Scope 3 Commuting'!M75*'Scope 3 Commuting'!M76)","v":0},{"$f":"((N49*'Institutional Data'!R26)*'Scope 3 Commuting'!N50*'Scope 3 Commuting'!N51*'Scope 3 Commuting'!N52)+(('Scope 3 Commuting'!N73*'Institutional Data'!R31)*'Scope 3 Commuting'!N74*'Scope 3 Commuting'!N75*'Scope 3 Commuting'!N76)","v":557712.54},{"$f":"((O49*'Institutional Data'!S26)*'Scope 3 Commuting'!O50*'Scope 3 Commuting'!O51*'Scope 3 Commuting'!O52)+(('Scope 3 Commuting'!O73*'Institutional Data'!S31)*'Scope 3 Commuting'!O74*'Scope 3 Commuting'!O75*'Scope 3 Commuting'!O76)","v":564762.40518987353},{"$f":"((P49*'Institutional Data'!T26)*'Scope 3 Commuting'!P50*'Scope 3 Commuting'!P51*'Scope 3 Commuting'!P52)+(('Scope 3 Commuting'!P73*'Institutional Data'!T31)*'Scope 3 Commuting'!P74*'Scope 3 Commuting'!P75*'Scope 3 Commuting'!P76)","v":573630.96495032846},{"$f":"((Q49*'Institutional Data'!U26)*'Scope 3 Commuting'!Q50*'Scope 3 Commuting'!Q51*'Scope 3 Commuting'!Q52)+(('Scope 3 Commuting'!Q73*'Institutional Data'!U31)*'Scope 3 Commuting'!Q74*'Scope 3 Commuting'!Q75*'Scope 3 Commuting'!Q76)","v":577744.38570550259},{"$f":"((R49*'Institutional Data'!V26)*'Scope 3 Commuting'!R50*'Scope 3 Commuting'!R51*'Scope 3 Commuting'!R52)+(('Scope 3 Commuting'!R73*'Institutional Data'!V31)*'Scope 3 Commuting'!R74*'Scope 3 Commuting'!R75*'Scope 3 Commuting'!R76)","v":589752},{"$f":"((S49*'Institutional Data'!W26)*'Scope 3 Commuting'!S50*'Scope 3 Commuting'!S51*'Scope 3 Commuting'!S52)+(('Scope 3 Commuting'!S73*'Institutional Data'!W31)*'Scope 3 Commuting'!S74*'Scope 3 Commuting'!S75*'Scope 3 Commuting'!S76)","v":613591.19999999995},{"$f":"((T49*'Institutional Data'!X26)*'Scope 3 Commuting'!T50*'Scope 3 Commuting'!T51*'Scope 3 Commuting'!T52)+(('Scope 3 Commuting'!T73*'Institutional Data'!X31)*'Scope 3 Commuting'!T74*'Scope 3 Commuting'!T75*'Scope 3 Commuting'!T76)","v":619488},{"$f":"((U49*'Institutional Data'!Y26)*'Scope 3 Commuting'!U50*'Scope 3 Commuting'!U51*'Scope 3 Commuting'!U52)+(('Scope 3 Commuting'!U73*'Institutional Data'!Y31)*'Scope 3 Commuting'!U74*'Scope 3 Commuting'!U75*'Scope 3 Commuting'!U76)","v":641793.6},{"$f":"((V49*'Institutional Data'!Z26)*'Scope 3 Commuting'!V50*'Scope 3 Commuting'!V51*'Scope 3 Commuting'!V52)+(('Scope 3 Commuting'!V73*'Institutional Data'!Z31)*'Scope 3 Commuting'!V74*'Scope 3 Commuting'!V75*'Scope 3 Commuting'!V76)","v":985081.7108},{"$f":"((W49*'Institutional Data'!AA26)*'Scope 3 Commuting'!W50*'Scope 3 Commuting'!W51*'Scope 3 Commuting'!W52)+(('Scope 3 Commuting'!W73*'Institutional Data'!AA31)*'Scope 3 Commuting'!W74*'Scope 3 Commuting'!W75*'Scope 3 Commuting'!W76)","v":2043552}]
[null,null,"Total Gallons of Diesel","Gallons",{"$f":"E94/33.3790377939823","v":0},{"$f":"F94/33.0563633845728","v":0},{"$f":"G94/33.8025754807274","v":0},{"$f":"H94/33.5624127352542","v":0},{"$f":"I94/33.3009750826588","v":0},{"$f":"J94/33.4419673782984","v":0},{"$f":"K94/37.5044279135671","v":0},{"$f":"L94/39.0722553176264","v":0},{"$f":"M94/39.6706489067342","v":0},{"$f":"N94/39.6706489067342","v":14058.568623648776},14236.278476755735,14459.833170335489,14563.522443602602,14866.205021917047,15467.132928492158,{"$f":"T94/39.6706489067342","v":15615.776829272894},{"$f":"U94/39.6706489067342","v":16178.046431981953},{"$f":"V94/39.6706489067342","v":24831.49981024837},{"$f":"W94/39.6706489067342","v":51512.946128115931}]
[null,null,"Total Light Rail Passenger Miles","Miles",{"$f":"((E54*'Institutional Data'!I26)*'Scope 3 Commuting'!E55*'Scope 3 Commuting'!E56*'Scope 3 Commuting'!E57)+(('Scope 3 Commuting'!E78*'Institutional Data'!I31)*'Scope 3 Commuting'!E79*'Scope 3 Commuting'!E80*'Scope 3 Commuting'!E81)","v":0},{"$f":"((F54*'Institutional Data'!J26)*'Scope 3 Commuting'!F55*'Scope 3 Commuting'!F56*'Scope 3 Commuting'!F57)+(('Scope 3 Commuting'!F78*'Institutional Data'!J31)*'Scope 3 Commuting'!F79*'Scope 3 Commuting'!F80*'Scope 3 Commuting'!F81)","v":0},{"$f":"((G54*'Institutional Data'!K26)*'Scope 3 Commuting'!G55*'Scope 3 Commuting'!G56*'Scope 3 Commuting'!G57)+(('Scope 3 Commuting'!G78*'Institutional Data'!K31)*'Scope 3 Commuting'!G79*'Scope 3 Commuting'!G80*'Scope 3 Commuting'!G81)","v":0},{"$f":"((H54*'Institutional Data'!L26)*'Scope 3 Commuting'!H55*'Scope 3 Commuting'!H56*'Scope 3 Commuting'!H57)+(('Scope 3 Commuting'!H78*'Institutional Data'!L31)*'Scope 3 Commuting'!H79*'Scope 3 Commuting'!H80*'Scope 3 Commuting'!H81)","v":0},{"$f":"((I54*'Institutional Data'!M26)*'Scope 3 Commuting'!I55*'Scope 3 Commuting'!I56*'Scope 3 Commuting'!I57)+(('Scope 3 Commuting'!I78*'Institutional Data'!M31)*'Scope 3 Commuting'!I79*'Scope 3 Commuting'!I80*'Scope 3 Commuting'!I81)","v":0},{"$f":"((J54*'Institutional Data'!N26)*'Scope 3 Commuting'!J55*'Scope 3 Commuting'!J56*'Scope 3 Commuting'!J57)+(('Scope 3 Commuting'!J78*'Institutional Data'!N31)*'Scope 3 Commuting'!J79*'Scope 3 Commuting'!J80*'Scope 3 Commuting'!J81)","v":0},{"$f":"((K54*'Institutional Data'!O26)*'Scope 3 Commuting'!K55*'Scope 3 Commuting'!K56*'Scope 3 Commuting'!K57)+(('Scope 3 Commuting'!K78*'Institutional Data'!O31)*'Scope 3 Commuting'!K79*'Scope 3 Commuting'!K80*'Scope 3 Commuting'!K81)","v":0},{"$f":"((L54*'Institutional Data'!P26)*'Scope 3 Commuting'!L55*'Scope 3 Commuting'!L56*'Scope 3 Commuting'!L57)+(('Scope 3 Commuting'!L78*'Institutional Data'!P31)*'Scope 3 Commuting'!L79*'Scope 3 Commuting'!L80*'Scope 3 Commuting'!L81)","v":0},{"$f":"((M54*'Institutional Data'!Q26)*'Scope 3 Commuting'!M55*'Scope 3 Commuting'!M56*'Scope 3 Commuting'!M57)+(('Scope 3 Commuting'!M78*'Institutional Data'!Q31)*'Scope 3 Commuting'!M79*'Scope 3 Commuting'!M80*'Scope 3 Commuting'!M81)","v":0},{"$f":"((N54*'Institutional Data'!R26)*'Scope 3 Commuting'!N55*'Scope 3 Commuting'!N56*'Scope 3 Commuting'!N57)+(('Scope 3 Commuting'!N78*'Institutional Data'!R31)*'Scope 3 Commuting'!N79*'Scope 3 Commuting'!N80*'Scope 3 Commuting'!N81)","v":0},{"$f":"((O54*'Institutional Data'!S26)*'Scope 3 Commuting'!O55*'Scope 3 Commuting'!O56*'Scope 3 Commuting'!O57)+(('Scope 3 Commuting'!O78*'Institutional Data'!S31)*'Scope 3 Commuting'!O79*'Scope 3 Commuting'!O80*'Scope 3 Commuting'!O81)","v":0},{"$f":"((P54*'Institutional Data'!T26)*'Scope 3 Commuting'!P55*'Scope 3 Commuting'!P56*'Scope 3 Commuting'!P57)+(('Scope 3 Commuting'!P78*'Institutional Data'!T31)*'Scope 3 Commuting'!P79*'Scope 3 Commuting'!P80*'Scope 3 Commuting'!P81)","v":0},{"$f":"((Q54*'Institutional Data'!U26)*'Scope 3 Commuting'!Q55*'Scope 3 Commuting'!Q56*'Scope 3 Commuting'!Q57)+(('Scope 3 Commuting'!Q78*'Institutional Data'!U31)*'Scope 3 Commuting'!Q79*'Scope 3 Commuting'!Q80*'Scope 3 Commuting'!Q81)","v":0},{"$f":"((R54*'Institutional Data'!V26)*'Scope 3 Commuting'!R55*'Scope 3 Commuting'!R56*'Scope 3 Commuting'!R57)+(('Scope 3 Commuting'!R78*'Institutional Data'!V31)*'Scope 3 Commuting'!R79*'Scope 3 Commuting'!R80*'Scope 3 Commuting'!R81)","v":0},{"$f":"((S54*'Institutional Data'!W26)*'Scope 3 Commuting'!S55*'Scope 3 Commuting'!S56*'Scope 3 Commuting'!S57)+(('Scope 3 Commuting'!S78*'Institutional Data'!W31)*'Scope 3 Commuting'!S79*'Scope 3 Commuting'!S80*'Scope 3 Commuting'!S81)","v":0},{"$f":"((T54*'Institutional Data'!X26)*'Scope 3 Commuting'!T55*'Scope 3 Commuting'!T56*'Scope 3 Commuting'!T57)+(('Scope 3 Commuting'!T78*'Institutional Data'!X31)*'Scope 3 Commuting'!T79*'Scope 3 Commuting'!T80*'Scope 3 Commuting'!T81)","v":0},{"$f":"((U54*'Institutional Data'!Y26)*'Scope 3 Commuting'!U55*'Scope 3 Commuting'!U56*'Scope 3 Commuting'!U57)+(('Scope 3 Commuting'!U78*'Institutional Data'!Y31)*'Scope 3 Commuting'!U79*'Scope 3 Commuting'!U80*'Scope 3 Commuting'!U81)","v":0},{"$f":"((V54*'Institutional Data'!Z26)*'Scope 3 Commuting'!V55*'Scope 3 Commuting'!V56*'Scope 3 Commuting'!V57)+(('Scope 3 Commuting'!V78*'Institutional Data'!Z31)*'Scope 3 Commuting'!V79*'Scope 3 Commuting'!V80*'Scope 3 Commuting'!V81)","v":0},{"$f":"((W54*'Institutional Data'!AA26)*'Scope 3 Commuting'!W55*'Scope 3 Commuting'!W56*'Scope 3 Commuting'!W57)+(('Scope 3 Commuting'!W78*'Institutional Data'!AA31)*'Scope 3 Commuting'!W79*'Scope 3 Commuting'!W80*'Scope 3 Commuting'!W81)","v":0}]
[null,null,"Total Light Rail kWh","kWh",{"$f":"E96/2.98611111111111","v":0},{"$f":"F96/2.98130841121495","v":0},{"$f":"G96/2.86703601108033","v":0},{"$f":"H96/2.96062992125984","v":0},{"$f":"I96/2.89903846153846","v":0},{"$f":"J96/2.92872570194384","v":0},{"$f":"K96/2.95071868583162","v":0},{"$f":"L96/2.8078431372549","v":0},{"$f":"M96/2.9112426035503","v":0},{"$f":"N96/2.9112426035503","v":0},0,0,0,0,0,{"$f":"T96/2.9112426035503","v":0},{"$f":"U96/2.9112426035503","v":0},{"$f":"V96/2.9112426035503","v":0},{"$f":"W96/2.9112426035503","v":0}]
[null,null,"Total Commuter Rail Passenger Miles","Miles",{"$f":"((E59*'Institutional Data'!I26)*'Scope 3 Commuting'!E60*'Scope 3 Commuting'!E61*'Scope 3 Commuting'!E62)+(('Scope 3 Commuting'!E83*'Institutional Data'!I31)*'Scope 3 Commuting'!E84*'Scope 3 Commuting'!E85*'Scope 3 Commuting'!E86)","v":0},{"$f":"((F59*'Institutional Data'!J26)*'Scope 3 Commuting'!F60*'Scope 3 Commuting'!F61*'Scope 3 Commuting'!F62)+(('Scope 3 Commuting'!F83*'Institutional Data'!J31)*'Scope 3 Commuting'!F84*'Scope 3 Commuting'!F85*'Scope 3 Commuting'!F86)","v":0},{"$f":"((G59*'Institutional Data'!K26)*'Scope 3 Commuting'!G60*'Scope 3 Commuting'!G61*'Scope 3 Commuting'!G62)+(('Scope 3 Commuting'!G83*'Institutional Data'!K31)*'Scope 3 Commuting'!G84*'Scope 3 Commuting'!G85*'Scope 3 Commuting'!G86)","v":0},{"$f":"((H59*'Institutional Data'!L26)*'Scope 3 Commuting'!H60*'Scope 3 Commuting'!H61*'Scope 3 Commuting'!H62)+(('Scope 3 Commuting'!H83*'Institutional Data'!L31)*'Scope 3 Commuting'!H84*'Scope 3 Commuting'!H85*'Scope 3 Commuting'!H86)","v":0},{"$f":"((I59*'Institutional Data'!M26)*'Scope 3 Commuting'!I60*'Scope 3 Commuting'!I61*'Scope 3 Commuting'!I62)+(('Scope 3 Commuting'!I83*'Institutional Data'!M31)*'Scope 3 Commuting'!I84*'Scope 3 Commuting'!I85*'Scope 3 Commuting'!I86)","v":0},{"$f":"((J59*'Institutional Data'!N26)*'Scope 3 Commuting'!J60*'Scope 3 Commuting'!J61*'Scope 3 Commuting'!J62)+(('Scope 3 Commuting'!J83*'Institutional Data'!N31)*'Scope 3 Commuting'!J84*'Scope 3 Commuting'!J85*'Scope 3 Commuting'!J86)","v":0},{"$f":"((K59*'Institutional Data'!O26)*'Scope 3 Commuting'!K60*'Scope 3 Commuting'!K61*'Scope 3 Commuting'!K62)+(('Scope 3 Commuting'!K83*'Institutional Data'!O31)*'Scope 3 Commuting'!K84*'Scope 3 Commuting'!K85*'Scope 3 Commuting'!K86)","v":0},{"$f":"((L59*'Institutional Data'!P26)*'Scope 3 Commuting'!L60*'Scope 3 Commuting'!L61*'Scope 3 Commuting'!L62)+(('Scope 3 Commuting'!L83*'Institutional Data'!P31)*'Scope 3 Commuting'!L84*'Scope 3 Commuting'!L85*'Scope 3 Commuting'!L86)","v":0},{"$f":"((M59*'Institutional Data'!Q26)*'Scope 3 Commuting'!M60*'Scope 3 Commuting'!M61*'Scope 3 Commuting'!M62)+(('Scope 3 Commuting'!M83*'Institutional Data'!Q31)*'Scope 3 Commuting'!M84*'Scope 3 Commuting'!M85*'Scope 3 Commuting'!M86)","v":0},{"$f":"((N59*'Institutional Data'!R26)*'Scope 3 Commuting'!N60*'Scope 3 Commuting'!N61*'Scope 3 Commuting'!N62)+(('Scope 3 Commuting'!N83*'Institutional Data'!R31)*'Scope 3 Commuting'!N84*'Scope 3 Commuting'!N85*'Scope 3 Commuting'!N86)","v":0},{"$f":"((O59*'Institutional Data'!S26)*'Scope 3 Commuting'!O60*'Scope 3 Commuting'!O61*'Scope 3 Commuting'!O62)+(('Scope 3 Commuting'!O83*'Institutional Data'!S31)*'Scope 3 Commuting'!O84*'Scope 3 Commuting'!O85*'Scope 3 Commuting'!O86)","v":0},{"$f":"((P59*'Institutional Data'!T26)*'Scope 3 Commuting'!P60*'Scope 3 Commuting'!P61*'Scope 3 Commuting'!P62)+(('Scope 3 Commuting'!P83*'Institutional Data'!T31)*'Scope 3 Commuting'!P84*'Scope 3 Commuting'!P85*'Scope 3 Commuting'!P86)","v":0},{"$f":"((Q59*'Institutional Data'!U26)*'Scope 3 Commuting'!Q60*'Scope 3 Commuting'!Q61*'Scope 3 Commuting'!Q62)+(('Scope 3 Commuting'!Q83*'Institutional Data'!U31)*'Scope 3 Commuting'!Q84*'Scope 3 Commuting'!Q85*'Scope 3 Commuting'!Q86)","v":0},{"$f":"((R59*'Institutional Data'!V26)*'Scope 3 Commuting'!R60*'Scope 3 Commuting'!R61*'Scope 3 Commuting'!R62)+(('Scope 3 Commuting'!R83*'Institutional Data'!V31)*'Scope 3 Commuting'!R84*'Scope 3 Commuting'!R85*'Scope 3 Commuting'!R86)","v":0},{"$f":"((S59*'Institutional Data'!W26)*'Scope 3 Commuting'!S60*'Scope 3 Commuting'!S61*'Scope 3 Commuting'!S62)+(('Scope 3 Commuting'!S83*'Institutional Data'!W31)*'Scope 3 Commuting'!S84*'Scope 3 Commuting'!S85*'Scope 3 Commuting'!S86)","v":0},{"$f":"((T59*'Institutional Data'!X26)*'Scope 3 Commuting'!T60*'Scope 3 Commuting'!T61*'Scope 3 Commuting'!T62)+(('Scope 3 Commuting'!T83*'Institutional Data'!X31)*'Scope 3 Commuting'!T84*'Scope 3 Commuting'!T85*'Scope 3 Commuting'!T86)","v":0},{"$f":"((U59*'Institutional Data'!Y26)*'Scope 3 Commuting'!U60*'Scope 3 Commuting'!U61*'Scope 3 Commuting'!U62)+(('Scope 3 Commuting'!U83*'Institutional Data'!Y31)*'Scope 3 Commuting'!U84*'Scope 3 Commuting'!U85*'Scope 3 Commuting'!U86)","v":0},{"$f":"((V59*'Institutional Data'!Z26)*'Scope 3 Commuting'!V60*'Scope 3 Commuting'!V61*'Scope 3 Commuting'!V62)+(('Scope 3 Commuting'!V83*'Institutional Data'!Z31)*'Scope 3 Commuting'!V84*'Scope 3 Commuting'!V85*'Scope 3 Commuting'!V86)","v":0},{"$f":"((W59*'Institutional Data'!AA26)*'Scope 3 Commuting'!W60*'Scope 3 Commuting'!W61*'Scope 3 Commuting'!W62)+(('Scope 3 Commuting'!W83*'Institutional Data'!AA31)*'Scope 3 Commuting'!W84*'Scope 3 Commuting'!W85*'Scope 3 Commuting'!W86)","v":0}]
[null,null,"Total Commuter Rail Gallons of Diesel","Gallons",{"$f":"E98/130.724343524039","v":0},{"$f":"F98/134.937306101344","v":0},{"$f":"G98/127.193607089168","v":0},{"$f":"H98/125.780346820809","v":0},{"$f":"I98/120.07396753647","v":0},{"$f":"J98/132.762856900788","v":0},{"$f":"K98/132.236441194394","v":0},{"$f":"L98/130.465221628893","v":0},{"$f":"M98/132.278866378833","v":0},{"$f":"N98/132.278866378833","v":0},0,0,0,0,0,{"$f":"T98/132.278866378833","v":0},{"$f":"U98/132.278866378833","v":0},{"$f":"V98/132.278866378833","v":0},{"$f":"W98/132.278866378833","v":0}]
[null,null,"Total Commuter Rail kWh","kWh",{"$f":"E98/6.57940941739824","v":0},{"$f":"F98/6.65418326693227","v":0},{"$f":"G98/6.32913385826772","v":0},{"$f":"H98/6.70053887605851","v":0},{"$f":"I98/6.63086232980333","v":0},{"$f":"J98/6.86277372262774","v":0},{"$f":"K98/7.05169867060561","v":0},{"$f":"L98/7.12443778110945","v":0},{"$f":"M98/6.9117859725235","v":0},{"$f":"N98/6.9117859725235","v":0},0,0,0,0,0,{"$f":"T98/6.9117859725235","v":0},{"$f":"U98/6.9117859725235","v":0},{"$f":"V98/6.9117859725235","v":0},{"$f":"W98/6.9117859725235","v":0}]
[]
[]
[null,"Additional Commuting Information",null,null,"FY1995","FY1996","FY1997","FY1998","FY1999","FY2000","FY2001","FY2002","FY2003","FY2004","FY2005","FY2006","FY2007","FY2008","FY2009","FY2010","FY2011","FY2012","FY2014"]
[null,"Student Commuting"]
[null,null,"# of Students in Residence (Non-Commuters)","Count",null,null,null,null,null,null,null,null,null,0,0,0,0,0,0,0,0,0,0]
[null,null,"% Carbon-Free Commuting (Walk/Bike)","%",null,null,null,null,null,null,null,null,null,0,0,0,0,0,0.11,0.11,0.11,0.66669999999999996,0.628]
[null,null,"Average Carpool Size (Survey Only)","People"]
[null,null,"% Hybrid Automobiles (Survey Only)","%"]
[null,null,"Average Days Drive Alone per Week (Survey Only)","Days"]
[null,"Faculty Commuting"]
[null,null,"# of Faculty in Residence (Non-Commuters)","Count",null,null,null,null,null,null,null,null,null,0,0,0,0,0,0,0,0,0,0]
[null,null,"% Carbon-Free Commuting (Walk/Bike)","%",null,null,null,null,null,null,null,null,null,0,0,0,0,0,0,0.21,0.21,0.37580000000000002,0.33]
[null,null,"Average Carpool Size (Survey Only)","People"]
[null,null,"% Hybrid Automobiles (Survey Only)","%"]
[null,null,"Average Days Drive Alone per Week (Survey Only)","Days"]
[null,"Staff Commuting"]
[null,null,"# of Staff in Residence (Non-Commuters)","Count",null,null,null,null,null,null,null,null,null,0,0,0,0,0,0,0,0,0,0]
[null,null,"% Carbon-Free Commuting (Walk/Bike)","%",null,null,null,null,null,null,null,null,null,0,0,0,0,0,0,0.21,0.21,0.21940000000000001,0.21]
[null,null,"Average Carpool Size (Survey Only)","People"]
[null,null,"% Hybrid Automobiles (Survey Only)","%"]
[null,null,"Average Days Drive Alone per Week(Survey Only)","Days"]
[]
[]
[null,"Commuting GHG Emissions",null,null,"FY1995","FY1996","FY1997","FY1998","FY1999","FY2000","FY2001","FY2002","FY2003","FY2004","FY2005","FY2006","FY2007","FY2008","FY2009","FY2010","FY2011","FY2012","FY2014"]
[null,null,"Faculty/Staff Commuting GHG","MTCDE",null,null,null,null,null,null,null,null,null,1230.5999999999999,1285.5,1272.0999999999999,1244.5999999999999,1440.2,2529.1,2739.9,2838.3,2895.9,2903.7]
[null,null,"Student Commuting GHG","MTCDE",null,null,null,null,null,null,null,null,null,4801.2,4899.3999999999996,4375.7,4247,4351.6000000000004,5318.8,5243.1,5734.3,3163.5,2903.7]
[null,null,"Total Commute","MTCDE",{"$f":"SUM(E125:E126)","v":0},{"$f":"SUM(F125:F126)","v":0},0,0,0,0,0,0,0,6031.7999999999993,6184.9,5647.7999999999993,5491.6,5791.8,7847.9,{"$f":"SUM(T125:T126)","v":7983},{"$f":"SUM(U125:U126)","v":8572.6},{"$f":"SUM(V125:V126)","v":6059.4},{"$f":"SUM(W125:W126)","v":5807.4}]
[]
[]
[null,"Qualification Assistant",null,null,"FY1995","FY1996","FY1997","FY1998","FY1999","FY2000","FY2001","FY2002","FY2003","FY2004","FY2005","FY2006","FY2007","FY2008","FY2009","FY2010","FY2011","FY2012","FY2014"]
[null,"% of Users Accounted For (should equal 100%)"]
[null,null,"% of Students","%",{"$f":"E8+E9+E14+E19+E24+(E105/'Institutional Data'!I21)+E106","v":{"$error":"#DIV/0!"}},{"$f":"F8+F9+F14+F19+F24+(F105/'Institutional Data'!J21)+F106","v":{"$error":"#DIV/0!"}},{"$f":"G8+G9+G14+G19+G24+(G105/'Institutional Data'!K21)+G106","v":{"$error":"#DIV/0!"}},{"$f":"H8+H9+H14+H19+H24+(H105/'Institutional Data'!L21)+H106","v":{"$error":"#DIV/0!"}},{"$f":"I8+I9+I14+I19+I24+(I105/'Institutional Data'!M21)+I106","v":{"$error":"#DIV/0!"}},{"$f":"J8+J9+J14+J19+J24+(J105/'Institutional Data'!N21)+J106","v":{"$error":"#DIV/0!"}},{"$f":"K8+K9+K14+K19+K24+(K105/'Institutional Data'!O21)+K106","v":{"$error":"#DIV/0!"}},{"$f":"L8+L9+L14+L19+L24+(L105/'Institutional Data'!P21)+L106","v":{"$error":"#DIV/0!"}},{"$f":"M8+M9+M14+M19+M24+(M105/'Institutional Data'!Q21)+M106","v":{"$error":"#DIV/0!"}},{"$f":"N8+N9+N14+N19+N24+(N105/'Institutional Data'!R21)+N106","v":0.65},{"$f":"O8+O9+O14+O19+O24+(O105/'Institutional Data'!S21)+O106","v":0.65},{"$f":"P8+P9+P14+P19+P24+(P105/'Institutional Data'!T21)+P106","v":0.59},{"$f":"Q8+Q9+Q14+Q19+Q24+(Q105/'Institutional Data'!U21)+Q106","v":0.59},{"$f":"R8+R9+R14+R19+R24+(R105/'Institutional Data'!V21)+R106","v":0.59},{"$f":"S8+S9+S14+S19+S24+(S105/'Institutional Data'!W21)+S106","v":0.55000000000000004},{"$f":"T8+T9+T14+T19+T24+(T105/'Institutional Data'!X21)+T106","v":0.55000000000000004},{"$f":"U8+U9+U14+U19+U24+(U105/'Institutional Data'!Y21)+U106","v":0.55000000000000004},{"$f":"V8+V9+V14+V19+V24+(V105/'Institutional Data'!Z21)+V106","v":0.96329999999999993},{"$f":"W8+W9+W14+W19+W24+(W105/'Institutional Data'!AA21)+W106","v":0.95199999999999996}]
[null,null,"% of Faculty","%",{"$f":"E43+E44+E49+E54+E59+(E111/'Institutional Data'!I26)+E112","v":{"$error":"#DIV/0!"}},{"$f":"F43+F44+F49+F54+F59+(F111/'Institutional Data'!J26)+F112","v":{"$error":"#DIV/0!"}},{"$f":"G43+G44+G49+G54+G59+(G111/'Institutional Data'!K26)+G112","v":{"$error":"#DIV/0!"}},{"$f":"H43+H44+H49+H54+H59+(H111/'Institutional Data'!L26)+H112","v":{"$error":"#DIV/0!"}},{"$f":"I43+I44+I49+I54+I59+(I111/'Institutional Data'!M26)+I112","v":{"$error":"#DIV/0!"}},{"$f":"J43+J44+J49+J54+J59+(J111/'Institutional Data'!N26)+J112","v":{"$error":"#DIV/0!"}},{"$f":"K43+K44+K49+K54+K59+(K111/'Institutional Data'!O26)+K112","v":{"$error":"#DIV/0!"}},{"$f":"L43+L44+L49+L54+L59+(L111/'Institutional Data'!P26)+L112","v":{"$error":"#DIV/0!"}},{"$f":"M43+M44+M49+M54+M59+(M111/'Institutional Data'!Q26)+M112","v":{"$error":"#DIV/0!"}},{"$f":"N43+N44+N49+N54+N59+(N111/'Institutional Data'!R26)+N112","v":0.85299999999999998},{"$f":"O43+O44+O49+O54+O59+(O111/'Institutional Data'!S26)+O112","v":0.85299999999999998},{"$f":"P43+P44+P49+P54+P59+(P111/'Institutional Data'!T26)+P112","v":0.85299999999999998},{"$f":"Q43+Q44+Q49+Q54+Q59+(Q111/'Institutional Data'!U26)+Q112","v":0.85299999999999998},{"$f":"R43+R44+R49+R54+R59+(R111/'Institutional Data'!V26)+R112","v":0.85399999999999998},{"$f":"S43+S44+S49+S54+S59+(S111/'Institutional Data'!W26)+S112","v":0.61},{"$f":"T43+T44+T49+T54+T59+(T111/'Institutional Data'!X26)+T112","v":0.82},{"$f":"U43+U44+U49+U54+U59+(U111/'Institutional Data'!Y26)+U112","v":0.82},{"$f":"V43+V44+V49+V54+V59+(V111/'Institutional Data'!Z26)+V112","v":0.9274},{"$f":"W43+W44+W49+W54+W59+(W111/'Institutional Data'!AA26)+W112","v":0.96000000000000019}]
[null,null,"% of Staff","%",{"$f":"E67+E68+E73+E78+(E117/'Institutional Data'!I31)+E118","v":{"$error":"#DIV/0!"}},{"$f":"F67+F68+F73+F78+(F117/'Institutional Data'!J31)+F118","v":{"$error":"#DIV/0!"}},{"$f":"G67+G68+G73+G78+(G117/'Institutional Data'!K31)+G118","v":{"$error":"#DIV/0!"}},{"$f":"H67+H68+H73+H78+(H117/'Institutional Data'!L31)+H118","v":{"$error":"#DIV/0!"}},{"$f":"I67+I68+I73+I78+(I117/'Institutional Data'!M31)+I118","v":{"$error":"#DIV/0!"}},{"$f":"J67+J68+J73+J78+(J117/'Institutional Data'!N31)+J118","v":{"$error":"#DIV/0!"}},{"$f":"K67+K68+K73+K78+(K117/'Institutional Data'!O31)+K118","v":{"$error":"#DIV/0!"}},{"$f":"L67+L68+L73+L78+(L117/'Institutional Data'!P31)+L118","v":{"$error":"#DIV/0!"}},{"$f":"M67+M68+M73+M78+(M117/'Institutional Data'!Q31)+M118","v":{"$error":"#DIV/0!"}},{"$f":"N67+N68+N73+N78+(N117/'Institutional Data'!R31)+N118","v":0.85299999999999998},{"$f":"O67+O68+O73+O78+(O117/'Institutional Data'!S31)+O118","v":0.85299999999999998},{"$f":"P67+P68+P73+P78+(P117/'Institutional Data'!T31)+P118","v":0.85299999999999998},{"$f":"Q67+Q68+Q73+Q78+(Q117/'Institutional Data'!U31)+Q118","v":0.85299999999999998},{"$f":"R67+R68+R73+R78+(R117/'Institutional Data'!V31)+R118","v":0.85399999999999998},{"$f":"S67+S68+S73+S78+(S117/'Institutional Data'!W31)+S118","v":0.61},{"$f":"T67+T68+T73+T78+(T117/'Institutional Data'!X31)+T118","v":0.82},{"$f":"U67+U68+U73+U78+(U117/'Institutional Data'!Y31)+U118","v":0.82},{"$f":"V67+V68+V73+V78+(V117/'Institutional Data'!Z31)+V118","v":0.91549999999999998},{"$f":"W67+W68+W73+W78+(W117/'Institutional Data'!AA31)+W118","v":0.96899999999999986}]
[null,"Total Commuters Accounted For"]
[null,null,"Total Student Commuters","Count",{"$f":"(E8+E9+E14+E19+E24+E106)*'Institutional Data'!I21","v":0},{"$f":"(F8+F9+F14+F19+F24+F106)*'Institutional Data'!J21","v":0},{"$f":"(G8+G9+G14+G19+G24+G106)*'Institutional Data'!K21","v":0},{"$f":"(H8+H9+H14+H19+H24+H106)*'Institutional Data'!L21","v":0},{"$f":"(I8+I9+I14+I19+I24+I106)*'Institutional Data'!M21","v":0},{"$f":"(J8+J9+J14+J19+J24+J106)*'Institutional Data'!N21","v":0},{"$f":"(K8+K9+K14+K19+K24+K106)*'Institutional Data'!O21","v":0},{"$f":"(L8+L9+L14+L19+L24+L106)*'Institutional Data'!P21","v":0},{"$f":"(M8+M9+M14+M19+M24+M106)*'Institutional Data'!Q21","v":0},{"$f":"(N8+N9+N14+N19+N24+N106)*'Institutional Data'!R21","v":12545.52},{"$f":"(O8+O9+O14+O19+O24+O106)*'Institutional Data'!S21","v":12837.175000000001},{"$f":"(P8+P9+P14+P19+P24+P106)*'Institutional Data'!T21","v":11621.348},{"$f":"(Q8+Q9+Q14+Q19+Q24+Q106)*'Institutional Data'!U21","v":11569.073999999999},{"$f":"(R8+R9+R14+R19+R24+R106)*'Institutional Data'!V21","v":11374.609999999999},{"$f":"(S8+S9+S14+S19+S24+S106)*'Institutional Data'!W21","v":11419.1},{"$f":"(T8+T9+T14+T19+T24+T106)*'Institutional Data'!X21","v":11928.95},{"$f":"(U8+U9+U14+U19+U24+U106)*'Institutional Data'!Y21","v":13046.550000000001},{"$f":"(V8+V9+V14+V19+V24+V106)*'Institutional Data'!Z21","v":23647.088399999997},{"$f":"(W8+W9+W14+W19+W24+W106)*'Institutional Data'!AA21","v":22629.991999999998}]
[null,null,"Total Faculty Commuters","Count",{"$f":"(SUM(E43,E44,E49,E54,E59,E112)*'Institutional Data'!I26)","v":0},{"$f":"(SUM(F43,F44,F49,F54,F59,F112)*'Institutional Data'!J26)","v":0},{"$f":"(SUM(G43,G44,G49,G54,G59,G112)*'Institutional Data'!K26)","v":0},{"$f":"(SUM(H43,H44,H49,H54,H59,H112)*'Institutional Data'!L26)","v":0},{"$f":"(SUM(I43,I44,I49,I54,I59,I112)*'Institutional Data'!M26)","v":0},{"$f":"(SUM(J43,J44,J49,J54,J59,J112)*'Institutional Data'!N26)","v":0},{"$f":"(SUM(K43,K44,K49,K54,K59,K112)*'Institutional Data'!O26)","v":0},{"$f":"(SUM(L43,L44,L49,L54,L59,L112)*'Institutional Data'!P26)","v":0},{"$f":"(SUM(M43,M44,M49,M54,M59,M112)*'Institutional Data'!Q26)","v":0},{"$f":"SUM(N43,N44,N49,N54,N59,N112)*'Institutional Data'!R26","v":1156.6679999999999},{"$f":"(SUM(O43,O44,O49,O54,O59,O112)*'Institutional Data'!S26)","v":1159.6534999999999},{"$f":"(SUM(P43,P44,P49,P54,P59,P112)*'Institutional Data'!T26)","v":1176.287},{"$f":"(SUM(Q43,Q44,Q49,Q54,Q59,Q112)*'Institutional Data'!U26)","v":1154.1089999999999},{"$f":"(SUM(R43,R44,R49,R54,R59,R112)*'Institutional Data'!V26)","v":1209.691},{"$f":"(SUM(S43,S44,S49,S54,S59,S112)*'Institutional Data'!W26)","v":874.74},{"$f":"(SUM(T43,T44,T49,T54,T59,T112)*'Institutional Data'!X26)","v":1213.1899999999998},{"$f":"(SUM(U43,U44,U49,U54,U59,U112)*'Institutional Data'!Y26)","v":1397.28},{"$f":"(SUM(V43,V44,V49,V54,V59,V112)*'Institutional Data'!Z26)","v":1556.1772000000001},{"$f":"(SUM(W43,W44,W49,W54,W59,W112)*'Institutional Data'!AA26)","v":1806.7200000000003}]
[null,null,"Total Staff Commuters","Count",{"$f":"(SUM(E67,E68,E73,E78,E83,E118)*'Institutional Data'!I31)","v":0},{"$f":"(SUM(F67,F68,F73,F78,F83,F118)*'Institutional Data'!J31)","v":0},{"$f":"(SUM(G67,G68,G73,G78,G83,G118)*'Institutional Data'!K31)","v":0},{"$f":"(SUM(H67,H68,H73,H78,H83,H118)*'Institutional Data'!L31)","v":0},{"$f":"(SUM(I67,I68,I73,I78,I83,I118)*'Institutional Data'!M31)","v":0},{"$f":"(SUM(J67,J68,J73,J78,J83,J118)*'Institutional Data'!N31)","v":0},{"$f":"(SUM(K67,K68,K73,K78,K83,K118)*'Institutional Data'!O31)","v":0},{"$f":"(SUM(L67,L68,L73,L78,L83,L118)*'Institutional Data'!P31)","v":0},{"$f":"(SUM(M67,M68,M73,M78,M83,M118)*'Institutional Data'!Q31)","v":0},{"$f":"SUM(N67,N68,N73,N78,N83,N118)*'Institutional Data'!R31","v":2576.913},{"$f":"(SUM(O67,O68,O73,O78,O83,O118)*'Institutional Data'!S31)","v":2618.59302742616},{"$f":"(SUM(P67,P68,P73,P78,P83,P118)*'Institutional Data'!T31)","v":2660.9472043817168},{"$f":"(SUM(Q67,Q68,Q73,Q78,Q83,Q118)*'Institutional Data'!U31)","v":2703.9864348323354},{"$f":"(SUM(R67,R68,R73,R78,R83,R118)*'Institutional Data'!V31)","v":2702.91},{"$f":"(SUM(S67,S68,S73,S78,S83,S118)*'Institutional Data'!W31)","v":1575.6299999999999},{"$f":"(SUM(T67,T68,T73,T78,T83,T118)*'Institutional Data'!X31)","v":2118.06},{"$f":"(SUM(U67,U68,U73,U78,U83,U118)*'Institutional Data'!Y31)","v":2084.44},{"$f":"(SUM(V67,V68,V73,V78,V83,V118)*'Institutional Data'!Z31)","v":2417.8355000000001},{"$f":"(SUM(W67,W68,W73,W78,W83,W118)*'Institutional Data'!AA31)","v":2882.7749999999996}]
[null,null,"Total Commuters","Count",{"$f":"SUM(E136:E138)","v":0},{"$f":"SUM(F136:F138)","v":0},0,0,0,0,0,0,0,16279.101000000001,16615.421527426162,15458.582204381717,15427.169434832334,15287.210999999999,13869.47,{"$f":"SUM(T136:T138)","v":15260.2},{"$f":"SUM(U136:U138)","v":16528.27},{"$f":"SUM(V136:V138)","v":27621.1011},{"$f":"SUM(W136:W138)","v":27319.487000000001}]
[null,"Student Carbon Commuters"]
[null,null,"% of Students Carbon Commuting","%",{"$f":"E8+E9+E14+E19+E24","v":0},0,0,0,0,0,0,0,0,0.65,{"$f":"O8+O9+O14+O19+O24","v":0.65},0.59,0.59,0.59,0.44000000000000006,0.44000000000000006,{"$f":"U8+U9+U14+U19+U24","v":0.44000000000000006},{"$f":"V8+V9+V14+V19+V24","v":0.29659999999999997},{"$f":"W8+W9+W14+W19+W24","v":0.32400000000000001}]
[null,null,"Commuting Student Average Trip Distance","Miles",{"$f":"(((E8+E9)*E12)+(E14*E17)+(E19*E22)+(E24*E27))/(E8+E9+E14+E19+E24)","v":{"$error":"#DIV/0!"}},{"$error":"#DIV/0!"},{"$error":"#DIV/0!"},{"$error":"#DIV/0!"},{"$error":"#DIV/0!"},{"$error":"#DIV/0!"},{"$error":"#DIV/0!"},{"$error":"#DIV/0!"},{"$error":"#DIV/0!"},3,{"$f":"(((O8+O9)*O12)+(O14*O17)+(O19*O22)+(O24*O27))/(O8+O9+O14+O19+O24)","v":3},3,3,3,4.9842089460777839,4.9842089460777839,{"$f":"(((U8+U9)*U12)+(U14*U17)+(U19*U22)+(U24*U27))/(U8+U9+U14+U19+U24)","v":4.9090909090909092},{"$f":"(((V8+V9)*V12)+(V14*V17)+(V19*V22)+(V24*V27))/(V8+V9+V14+V19+V24)","v":2.8},{"$f":"(((W8+W9)*W12)+(W14*W17)+(W19*W22)+(W24*W27))/(W8+W9+W14+W19+W24)","v":3.808641975308642}]
[null,null,"Student Weighted Average Weeks/Year","Weeks",{"$f":"(((E8+E9)*E11)+(E14*E17)+(E19*E22)+(E24*E27))/(E8+E9+E14+E19+E24)","v":{"$error":"#DIV/0!"}},{"$error":"#DIV/0!"},{"$error":"#DIV/0!"},{"$error":"#DIV/0!"},{"$error":"#DIV/0!"},{"$error":"#DIV/0!"},{"$error":"#DIV/0!"},{"$error":"#DIV/0!"},{"$error":"#DIV/0!"},24.830769230769231,{"$f":"(((O8+O9)*O11)+(O14*O17)+(O19*O22)+(O24*O27))/(O8+O9+O14+O19+O24)","v":24.830769230769231},23.694915254237291,23.694915254237291,23.694915254237291,18.749999999999996,18.749999999999996,{"$f":"(((U8+U9)*U11)+(U14*U17)+(U19*U22)+(U24*U27))/(U8+U9+U14+U19+U24)","v":18.749999999999996},{"$f":"(((V8+V9)*V11)+(V14*V17)+(V19*V22)+(V24*V27))/(V8+V9+V14+V19+V24)","v":17.956035064059339},{"$f":"(((W8+W9)*W11)+(W14*W17)+(W19*W22)+(W24*W27))/(W8+W9+W14+W19+W24)","v":16.342592592592592}]
[null,null,"Student Passenger Miles","Miles",{"$f":"E29+E32+E34+E36","v":0},0,0,0,0,0,0,0,0,13549161.599999998,{"$f":"O29+O32+O34+O36","v":13864149},12551055.84,12494599.919999998,12284578.800000001,6833140.7646047249,7012544.2870812053,{"$f":"U29+U32+U34+U36","v":10677533.73},{"$f":"V29+V32+V34+V36","v":4402467.7775999997},{"$f":"W29+W32+W34+W36","v":5513873.6179999998}]
[null,"Faculty Carbon Commuting"]
[null,null,"% of Faculty Carbon Commuting","%",{"$f":"E43+E44+E49+E54+E59","v":0},0,0,0,0,0,0,0,0,0.85299999999999998,{"$f":"O43+O44+O49+O54+O59","v":0.85299999999999998},0.85299999999999998,0.85299999999999998,0.85399999999999998,0.61,0.61,{"$f":"U43+U44+U49+U54+U59","v":0.61},{"$f":"V43+V44+V49+V54+V59","v":0.55159999999999998},{"$f":"W43+W44+W49+W54+W59","v":0.63000000000000012}]
[null,null,"Commuting Faculty Average Trip Distance","Miles",{"$f":"(((E43+E44)*E47)+(E49*E52)+(E54*E57)+(E59*E62))/(E43+E44+E49+E54+E59)","v":{"$error":"#DIV/0!"}},{"$error":"#DIV/0!"},{"$error":"#DIV/0!"},{"$error":"#DIV/0!"},{"$error":"#DIV/0!"},{"$error":"#DIV/0!"},{"$error":"#DIV/0!"},{"$error":"#DIV/0!"},{"$error":"#DIV/0!"},3.0000000000000004,{"$f":"(((O43+O44)*O47)+(O49*O52)+(O54*O57)+(O59*O62))/(O43+O44+O49+O54+O59)","v":3.0000000000000004},3.0000000000000004,3.0000000000000004,3.0000000000000004,6.6869277070626323,6.6869277070626323,{"$f":"(((U43+U44)*U47)+(U49*U52)+(U54*U57)+(U59*U62))/(U43+U44+U49+U54+U59)","v":7.0163934426229515},{"$f":"(((V43+V44)*V47)+(V49*V52)+(V54*V57)+(V59*V62))/(V43+V44+V49+V54+V59)","v":5.0599999999999996},{"$f":"(((W43+W44)*W47)+(W49*W52)+(W54*W57)+(W59*W62))/(W43+W44+W49+W54+W59)","v":6.7777777777777777}]
[null,null,"Faculty Weighted Average Weeks/Year","Weeks",{"$f":"(((E43+E44)*E46)+(E49*E51)+(E54*E56)+(E59*E61))/(E43+E44+E49+E54+E59)","v":{"$error":"#DIV/0!"}},{"$error":"#DIV/0!"},{"$error":"#DIV/0!"},{"$error":"#DIV/0!"},{"$error":"#DIV/0!"},{"$error":"#DIV/0!"},{"$error":"#DIV/0!"},{"$error":"#DIV/0!"},{"$error":"#DIV/0!"},36,{"$f":"(((O43+O44)*O46)+(O49*O51)+(O54*O56)+(O59*O61))/(O43+O44+O49+O54+O59)","v":36},36,36,36,36,36,{"$f":"(((U43+U44)*U46)+(U49*U51)+(U54*U56)+(U59*U61))/(U43+U44+U49+U54+U59)","v":36},{"$f":"(((V43+V44)*V46)+(V49*V51)+(V54*V56)+(V59*V61))/(V43+V44+V49+V54+V59)","v":36.000000000000007},{"$f":"(((W43+W44)*W46)+(W49*W51)+(W54*W56)+(W59*W61))/(W43+W44+W49+W54+W59)","v":36}]
[null,"Staff Carbon Commuting"]
[null,null,"% of Staff Carbon Commuting","%",{"$f":"E67+E68+E73+E78+E83","v":0},0,0,0,0,0,0,0,0,0.85299999999999998,{"$f":"O67+O68+O73+O78+O83","v":0.85299999999999998},0.85299999999999998,0.85299999999999998,0.85399999999999998,0.61,0.61,{"$f":"U67+U68+U73+U78+U83","v":0.61},{"$f":"V67+V68+V73+V78+V83","v":0.69609999999999994},{"$f":"W67+W68+W73+W78+W83","v":0.7589999999999999}]
[null,null,"Commuting Staff Average Trip Distance","Miles",{"$f":"(((E67+E68)*E71)+(E73*E76)+(E78*E81)+(E83*E86))/(E67+E68+E73+E78+E83)","v":{"$error":"#DIV/0!"}},{"$error":"#DIV/0!"},{"$error":"#DIV/0!"},{"$error":"#DIV/0!"},{"$error":"#DIV/0!"},{"$error":"#DIV/0!"},{"$error":"#DIV/0!"},{"$error":"#DIV/0!"},{"$error":"#DIV/0!"},3.0000000000000004,{"$f":"(((O67+O68)*O71)+(O73*O76)+(O78*O81)+(O83*O86))/(O67+O68+O73+O78+O83)","v":3.0000000000000004},3.0000000000000004,3.0000000000000004,3.0000000000000004,6.6869277070626323,6.6869277070626323,{"$f":"(((U67+U68)*U71)+(U73*U76)+(U78*U81)+(U83*U86))/(U67+U68+U73+U78+U83)","v":7.0163934426229515},{"$f":"(((V67+V68)*V71)+(V73*V76)+(V78*V81)+(V83*V86))/(V67+V68+V73+V78+V83)","v":5.7500000000000009},{"$f":"(((W67+W68)*W71)+(W73*W76)+(W78*W81)+(W83*W86))/(W67+W68+W73+W78+W83)","v":7.4202898550724647}]
[null,null,"Staff Weighted Average Weeks/Year","Weeks",{"$f":"(((E67+E68)*E70)+(E73*E75)+(E78*E80)+(E83*E85))/(E67+E68+E73+E78+E83)","v":{"$error":"#DIV/0!"}},{"$error":"#DIV/0!"},{"$error":"#DIV/0!"},{"$error":"#DIV/0!"},{"$error":"#DIV/0!"},{"$error":"#DIV/0!"},{"$error":"#DIV/0!"},{"$error":"#DIV/0!"},{"$error":"#DIV/0!"},46,{"$f":"(((O67+O68)*O70)+(O73*O75)+(O78*O80)+(O83*O85))/(O67+O68+O73+O78+O83)","v":46},46,46,46,46,46,{"$f":"(((U67+U68)*U70)+(U73*U75)+(U78*U80)+(U83*U85))/(U67+U68+U73+U78+U83)","v":46},{"$f":"(((V67+V68)*V70)+(V73*V75)+(V78*V80)+(V83*V85))/(V67+V68+V73+V78+V83)","v":46.000000000000007},{"$f":"(((W67+W68)*W70)+(W73*W75)+(W78*W80)+(W83*W85))/(W67+W68+W73+W78+W83)","v":46}]
[null,"Faculty/Staff Carbon Commuting"]
[null,null,"Faculty/Staff Weighted Average Trip Distance","Miles",{"$f":"(E137/(E137+E138)*E147)+(E138/(E138+E137)*E151)","v":{"$error":"#DIV/0!"}},{"$error":"#DIV/0!"},{"$error":"#DIV/0!"},{"$error":"#DIV/0!"},{"$error":"#DIV/0!"},{"$error":"#DIV/0!"},{"$error":"#DIV/0!"},{"$error":"#DIV/0!"},{"$error":"#DIV/0!"},3.0000000000000004,{"$f":"((O146*'Institutional Data'!S26*O147)+(O150*'Institutional Data'!S31*O151))/((O146*'Institutional Data'!S26)+(O150*'Institutional Data'!S31))","v":3.0000000000000004},{"$f":"((P146*'Institutional Data'!T26*P147)+(P150*'Institutional Data'!T31*P151))/((P146*'Institutional Data'!T26)+(P150*'Institutional Data'!T31))","v":3.0000000000000004},{"$f":"((Q146*'Institutional Data'!U26*Q147)+(Q150*'Institutional Data'!U31*Q151))/((Q146*'Institutional Data'!U26)+(Q150*'Institutional Data'!U31))","v":3.0000000000000004},{"$f":"((R146*'Institutional Data'!V26*R147)+(R150*'Institutional Data'!V31*R151))/((R146*'Institutional Data'!V26)+(R150*'Institutional Data'!V31))","v":3.0000000000000009},{"$f":"((S146*'Institutional Data'!W26*S147)+(S150*'Institutional Data'!W31*S151))/((S146*'Institutional Data'!W26)+(S150*'Institutional Data'!W31))","v":6.6869277070626323},{"$f":"((T146*'Institutional Data'!X26*T147)+(T150*'Institutional Data'!X31*T151))/((T146*'Institutional Data'!X26)+(T150*'Institutional Data'!X31))","v":6.6869277070626314},{"$f":"((U146*'Institutional Data'!Y26*U147)+(U150*'Institutional Data'!Y31*U151))/((U146*'Institutional Data'!Y26)+(U150*'Institutional Data'!Y31))","v":7.0163934426229515},{"$f":"((V146*'Institutional Data'!Z26*V147)+(V150*'Institutional Data'!Z31*V151))/((V146*'Institutional Data'!Z26)+(V150*'Institutional Data'!Z31))","v":5.5189374091732564},{"$f":"((W146*'Institutional Data'!AA26*W147)+(W150*'Institutional Data'!AA31*W151))/((W146*'Institutional Data'!AA26)+(W150*'Institutional Data'!AA31))","v":7.1990730859529846}]
[null,null,"Faculty/Staff Passenger Miles","Miles",{"$f":"E91+E94+E96+E98","v":0},0,0,0,0,0,0,0,0,4805341.38,4866084.1578481011,4942497.10204677,4977939.0000686236,5036482.08,6952373.3267077329,{"$f":"T91+T94+T96+T98","v":7019187.7709711613},{"$f":"U91+U94+U96+U98","v":7630212.7999999989},{"$f":"V91+V94+V96+V98","v":6548613.5361800008},{"$f":"W91+W94+W96+W98","v":10600402.399999999}]
[null,"Total Carbon Commuting"]
[null,null,"Total % Carbon Commuting","%",{"$f":"(((E8+E9+E14+E19+E24)*'Institutional Data'!I21)+((E43+E44+E49+E54+E59)*'Institutional Data'!I26)+((E67+E68+E73+E78+E83)*'Institutional Data'!I31))/('Institutional Data'!I21+'Institutional Data'!I26+'Institutional Data'!I31)","v":{"$error":"#DIV/0!"}},{"$f":"(((F8+F9+F14+F19+F24)*'Institutional Data'!J21)+((F43+F44+F49+F54+F59)*'Institutional Data'!J26)+((F67+F68+F73+F78+F83)*'Institutional Data'!J31))/('Institutional Data'!J21+'Institutional Data'!J26+'Institutional Data'!J31)","v":{"$error":"#DIV/0!"}},{"$f":"(((G8+G9+G14+G19+G24)*'Institutional Data'!K21)+((G43+G44+G49+G54+G59)*'Institutional Data'!K26)+((G67+G68+G73+G78+G83)*'Institutional Data'!K31))/('Institutional Data'!K21+'Institutional Data'!K26+'Institutional Data'!K31)","v":{"$error":"#DIV/0!"}},{"$f":"(((H8+H9+H14+H19+H24)*'Institutional Data'!L21)+((H43+H44+H49+H54+H59)*'Institutional Data'!L26)+((H67+H68+H73+H78+H83)*'Institutional Data'!L31))/('Institutional Data'!L21+'Institutional Data'!L26+'Institutional Data'!L31)","v":{"$error":"#DIV/0!"}},{"$f":"(((I8+I9+I14+I19+I24)*'Institutional Data'!M21)+((I43+I44+I49+I54+I59)*'Institutional Data'!M26)+((I67+I68+I73+I78+I83)*'Institutional Data'!M31))/('Institutional Data'!M21+'Institutional Data'!M26+'Institutional Data'!M31)","v":{"$error":"#DIV/0!"}},{"$f":"(((J8+J9+J14+J19+J24)*'Institutional Data'!N21)+((J43+J44+J49+J54+J59)*'Institutional Data'!N26)+((J67+J68+J73+J78+J83)*'Institutional Data'!N31))/('Institutional Data'!N21+'Institutional Data'!N26+'Institutional Data'!N31)","v":{"$error":"#DIV/0!"}},{"$f":"(((K8+K9+K14+K19+K24)*'Institutional Data'!O21)+((K43+K44+K49+K54+K59)*'Institutional Data'!O26)+((K67+K68+K73+K78+K83)*'Institutional Data'!O31))/('Institutional Data'!O21+'Institutional Data'!O26+'Institutional Data'!O31)","v":{"$error":"#DIV/0!"}},{"$f":"(((L8+L9+L14+L19+L24)*'Institutional Data'!P21)+((L43+L44+L49+L54+L59)*'Institutional Data'!P26)+((L67+L68+L73+L78+L83)*'Institutional Data'!P31))/('Institutional Data'!P21+'Institutional Data'!P26+'Institutional Data'!P31)","v":{"$error":"#DIV/0!"}},{"$f":"(((M8+M9+M14+M19+M24)*'Institutional Data'!Q21)+((M43+M44+M49+M54+M59)*'Institutional Data'!Q26)+((M67+M68+M73+M78+M83)*'Institutional Data'!Q31))/('Institutional Data'!Q21+'Institutional Data'!Q26+'Institutional Data'!Q31)","v":{"$error":"#DIV/0!"}},{"$f":"(((N8+N9+N14+N19+N24)*'Institutional Data'!R21)+((N43+N44+N49+N54+N59)*'Institutional Data'!R26)+((N67+N68+N73+N78+N83)*'Institutional Data'!R31))/('Institutional Data'!R21+'Institutional Data'!R26+'Institutional Data'!R31)","v":0.68752591034640043},{"$f":"(((O8+O9+O14+O19+O24)*'Institutional Data'!S21)+((O43+O44+O49+O54+O59)*'Institutional Data'!S26)+((O67+O68+O73+O78+O83)*'Institutional Data'!S31))/('Institutional Data'!S21+'Institutional Data'!S26+'Institutional Data'!S31)","v":0.6871878804769066},{"$f":"(((P8+P9+P14+P19+P24)*'Institutional Data'!T21)+((P43+P44+P49+P54+P59)*'Institutional Data'!T26)+((P67+P68+P73+P78+P83)*'Institutional Data'!T31))/('Institutional Data'!T21+'Institutional Data'!T26+'Institutional Data'!T31)","v":0.63889748756150788},{"$f":"(((Q8+Q9+Q14+Q19+Q24)*'Institutional Data'!U21)+((Q43+Q44+Q49+Q54+Q59)*'Institutional Data'!U26)+((Q67+Q68+Q73+Q78+Q83)*'Institutional Data'!U31))/('Institutional Data'!U21+'Institutional Data'!U26+'Institutional Data'!U31)","v":0.63929400023664129},{"$f":"(((R8+R9+R14+R19+R24)*'Institutional Data'!V21)+((R43+R44+R49+R54+R59)*'Institutional Data'!V26)+((R67+R68+R73+R78+R83)*'Institutional Data'!V31))/('Institutional Data'!V21+'Institutional Data'!V26+'Institutional Data'!V31)","v":0.64069114226441182},{"$f":"(((S8+S9+S14+S19+S24)*'Institutional Data'!W21)+((S43+S44+S49+S54+S59)*'Institutional Data'!W26)+((S67+S68+S73+S78+S83)*'Institutional Data'!W31))/('Institutional Data'!W21+'Institutional Data'!W26+'Institutional Data'!W31)","v":0.46755922353605872},{"$f":"(((T8+T9+T14+T19+T24)*'Institutional Data'!X21)+((T43+T44+T49+T54+T59)*'Institutional Data'!X26)+((T67+T68+T73+T78+T83)*'Institutional Data'!X31))/('Institutional Data'!X21+'Institutional Data'!X26+'Institutional Data'!X31)","v":0.46681882608780079},{"$f":"(((U8+U9+U14+U19+U24)*'Institutional Data'!Y21)+((U43+U44+U49+U54+U59)*'Institutional Data'!Y26)+((U67+U68+U73+U78+U83)*'Institutional Data'!Y31))/('Institutional Data'!Y21+'Institutional Data'!Y26+'Institutional Data'!Y31)","v":0.46580970429434704},{"$f":"(((V8+V9+V14+V19+V24)*'Institutional Data'!Z21)+((V43+V44+V49+V54+V59)*'Institutional Data'!Z26)+((V67+V68+V73+V78+V83)*'Institutional Data'!Z31))/('Institutional Data'!Z21+'Institutional Data'!Z26+'Institutional Data'!Z31)","v":0.34797248415145315},{"$f":"(((W8+W9+W14+W19+W24)*'Institutional Data'!AA21)+((W43+W44+W49+W54+W59)*'Institutional Data'!AA26)+((W67+W68+W73+W78+W83)*'Institutional Data'!AA31))/('Institutional Data'!AA21+'Institutional Data'!AA26+'Institutional Data'!AA31)","v":0.38932125890736341}]
[null,null,"Total Weighted Average Trip Distance","Miles",{"$f":"((E154*(E137+E138))+(E142*E136))/(E139)","v":{"$error":"#DIV/0!"}},{"$error":"#DIV/0!"},{"$error":"#DIV/0!"},{"$error":"#DIV/0!"},{"$error":"#DIV/0!"},{"$error":"#DIV/0!"},{"$error":"#DIV/0!"},{"$error":"#DIV/0!"},{"$error":"#DIV/0!"},3,{"$f":"((O154*(O137+O138))+(O142*O136))/(O139)","v":3},3,3,2.9999999999999996,5.2850344981972563,5.3559066874265717,{"$f":"((U154*(U137+U138))+(U142*U136))/(U139)","v":5.3529992780278386},{"$f":"((V154*(V137+V138))+(V142*V136))/(V139)","v":3.1911897558117115},{"$f":"((W154*(W137+W138))+(W142*W136))/(W139)","v":4.3906225132744927}]
[null,null,"Total Passenger Miles","Miles",{"$f":"E144+E155","v":0},0,0,0,0,0,0,0,0,18354502.979999997,{"$f":"O29+O32+O34+O36+O91+O94+O96+O98","v":18730233.157848097},17493552.942046769,17472538.920068622,17321060.880000003,13785514.091312457,14031732.058052367,{"$f":"U29+U32+U34+U36+U91+U94+U96+U98","v":18307746.530000001},{"$f":"V29+V32+V34+V36+V91+V94+V96+V98","v":10951081.313779999},{"$f":"W29+W32+W34+W36+W91+W94+W96+W98","v":16114276.017999999}]
[]
[null,null,null,null,null,null,null,null,null,null,null,null,"Notes: \nFY11:  Used data from 2009 UO Commuting Survey which has been used for the past two years.  The 2012 UO Commuting Survey data should be available for the FY12 inventory.\n\nFY10: Commuting survey taken in FY09.    \n\nFY09: Commuting information calculated based on the Alternative Transportation Choices 2005 survey. Updated annually to account for different number of users.  FY09 data cacluation found in the commuting document in the FY09 base data"]

{"sheet":"Other Scope 3 Sources","index":9,"n_rows":82,"n_cols":23,"rows_kept":82,"cut":false,"hidden":false,"merged":[[75,12,86,18]]}
[{"$f":"'Institutional Data'!$D$8","v":"University of Oregon"}]
[{"$f":"'Scope 3 Commuting'!A2","v":"Go-Green Measurement, Benchmarking and Analysis Summary"}]
[]
[null,"Other Scope 3 Sources"]
[]
[]
[null,"Outsourced Travel",null,null,"FY1995","FY1996","FY1997","FY1998","FY1999","FY2000","FY2001","FY2002","FY2003","FY2004","FY2005","FY2006","FY2007","FY2008","FY2009","FY2010","FY2011","FY2012","FY2014"]
[null,"Directly Financed Air Travel"]
[null,null,"Faculty / Staff  ","Miles",null,null,null,null,null,null,null,null,null,20993018.401515745,22071869.230769228,20517569.230769232,24825023.076923076,27734019.516129036,36547554.719999999,33402583.381546244,33059087,36329770,38380000]
[null,null,"Students ","Miles",null,null,null,null,null,null,null,null,null,0,0,0,0,0,0,0,0,0,0]
[null,null,"Total","Miles",{"$f":"SUM(E9:E10)","v":0},0,0,0,0,0,0,0,0,20993018.401515745,22071869.230769228,20517569.230769232,24825023.076923076,27734019.516129036,36547554.719999999,{"$f":"SUM(T9:T10)","v":33402583.381546244},{"$f":"SUM(U9:U10)","v":33059087},{"$f":"SUM(V9:V10)","v":36329770},{"$f":"SUM(W9:W10)","v":38380000}]
[null,"Other"]
[null,null,"Train","Miles",null,null,null,null,null,null,null,null,null,0,0,0,0,0,0,0,0,0,0]
[null,null,"Taxi / Ferry / Rental Car","Miles",null,null,null,null,null,null,null,null,null,2145910,2145910,2145910,2145910,2145910,2145910,0,0,0,0]
[null,null,"Bus","Miles",null,null,null,null,null,null,null,null,null,0,0,0,0,0,0,0,0,0,0]
[null,null,"Alternative Fuel Bus","Miles",null,null,null,null,null,null,null,null,null,0,0,0,0,0,0,0,0,0,0]
[null,null,"Personal Mileage Reimbursement","Miles",null,null,null,null,null,null,null,null,null,1258203,1258203,1258203,1258203,1258203,1258203,3068762.29411765,2958558.0738731143,{"$f":"'[2]Other Directly Financed Travel'!$D$8","v":2845461.3860146049},{"$f":"1233536+798531+279252","v":2311319}]
[null,null,"Total","Miles",{"$f":"SUM(E13:E17)","v":0},0,0,0,0,0,0,0,0,3404113,3404113,3404113,3404113,3404113,3404113,{"$f":"SUM(T13:T17)","v":3068762.29411765},{"$f":"SUM(U13:U17)","v":2958558.0738731143},{"$f":"SUM(V13:V17)","v":2845461.3860146049},{"$f":"SUM(W13:W17)","v":2311319}]
[null,"Study Abroad Travel"]
[null,null,"Air","Miles",null,null,null,null,null,null,null,null,null,5905236,8118720,7717500,7240500,7783300,8130540,7839520,8244540,9057562,13170000]
[null,null,"Students Studying Abroad","Count",null,null,null,null,null,null,null,null,null,604,772,746,690,754,776,763,811,869,1145]
[null,null,"Total","Miles",{"$f":"E20","v":0},0,0,0,0,0,0,0,0,5905236,8118720,7717500,7240500,7783300,8130540,{"$f":"T20","v":7839520},{"$f":"U20","v":8244540},{"$f":"V20","v":9057562},{"$f":"W20","v":13170000}]
[]
[]
[null,"Solid Waste",null,null,"FY1995","FY1996","FY1997","FY1998","FY1999","FY2000","FY2001","FY2002","FY2003","FY2004","FY2005","FY2006","FY2007","FY2008","FY2009","FY2010","FY2011","FY2012","FY2014"]
[null,"Waste Disposed"]
[null,null,"Mass Burn Incinerator","Short Tons",null,null,null,null,null,null,null,null,null,0,0,0,0,0,0,0,0,0,0]
[null,null,"Refuse Derived Fuel (RDF) Incinerator","Short Tons",null,null,null,null,null,null,null,null,null,0,0,0,0,0,0,0,0,0,0]
[null,null,"Landfilled - no CH4 Recovery","Short Tons",null,null,null,null,null,null,null,null,null,0,0,0,0,0,0,0,0,0,0]
[null,null,"Landfilled - CH4 Recovery and Flaring","Short Tons",null,null,null,null,null,null,null,null,null,null,null,null,null,null,null,null,null,null,0]
[null,null,"Landfilled - CH4 Recovery and Electric Generation","Short Tons",null,null,null,null,null,null,null,null,null,1752.99,1727.17,1744.8,1713.09,1655.63,1620.03,1570,1542.29,1496,1378.91]
[null,null,"Total","Short Tons",{"$f":"SUM(E27:E31)","v":0},0,0,0,0,0,0,0,0,{"$f":"SUM(N27:N31)","v":1752.99},1727.17,1744.8,1713.09,1655.63,1620.03,1570,1542.29,1496,{"$f":"SUM(W27:W31)","v":1378.91}]
[]
[]
[null,"Wastewater",null,null,"FY1995","FY1996","FY1997","FY1998","FY1999","FY2000","FY2001","FY2002","FY2003","FY2004","FY2005","FY2006","FY2007","FY2008","FY2009","FY2010","FY2011","FY2012","FY2014"]
[null,"Septic and Central Treatment Systems"]
[null,null,"Septic System","Gallons",null,null,null,null,null,null,null,null,null,0,0,0,0,0,0,0,0,0,0]
[null,null,"Aerobic","Gallons",null,null,null,null,null,null,null,null,null,0,0,0,0,0,0,0,0,0,0]
[null,null,"Anaerobic","Gallons",null,null,null,null,null,null,null,null,null,178771025,178771025,178771025,178771025,178771025,178771025,203503000,141489795,141182000,146660000]
[null,null,"Anaerobic Digestion","Gallons",null,null,null,null,null,null,null,null,null,0,0,0,0,0,0,0,0,0,0]
[null,null,"Total","Gallons",{"$f":"SUM(E37:E40)","v":0},0,0,0,0,0,0,0,0,178771025,178771025,178771025,178771025,178771025,178771025,{"$f":"SUM(T37:T40)","v":203503000},{"$f":"SUM(U37:U40)","v":141489795},{"$f":"SUM(V37:V40)","v":141182000},{"$f":"SUM(W37:W40)","v":146660000}]
[]
[]
[null,"Paper",null,null,"FY1995","FY1996","FY1997","FY1998","FY1999","FY2000","FY2001","FY2002","FY2003","FY2004","FY2005","FY2006","FY2007","FY2008","FY2009","FY2010","FY2011","FY2012","FY2014"]
[null,"Paper Consumed"]
[null,null,"Uncoated Freesheet 0% Recycled","Pounds",null,null,null,null,null,null,null,null,null,26701.639344262298,26701.639344262298,26701.639344262298,26701.639344262298,26701.639344262298,26701.639344262298,30144.827586206895,58333.333333333336,45000,107143]
[null,null,"Uncoated Freesheet 30% Recycled","Pounds",null,null,null,null,null,null,null,null,null,133508.19672131148,133508.19672131148,133508.19672131148,133508.19672131148,133508.19672131148,133508.19672131148,185893.10344827586,306666.66666666669,323333,492857]
[null,null,"Uncoated Freesheet 50% Recycled","Pounds",null,null,null,null,null,null,null,null,null,13350.819672131149,13350.819672131149,13350.819672131149,13350.819672131149,13350.819672131149,13350.819672131149,15072.413793103447,23333.333333333336,23333.333333333336,28571]
[null,null,"Uncoated Freesheet 75% Recycled","Pounds",null,null,null,null,null,null,null,null,null,0,0,0,0,0,0,0,0,0,0]
[null,null,"Unocated Freesheet 100% Recycled","Pounds",null,null,null,null,null,null,null,null,null,30039.344262295086,30039.344262295086,30039.344262295086,30039.344262295086,30039.344262295086,30039.344262295086,60289.65517241379,93333.333333333343,150000,114286]
[null,null,"Total","Pounds",{"$f":"SUM(E46:E50)","v":0},{"$f":"SUM(F46:F50)","v":0},0,0,0,0,0,0,0,203600.00000000003,203600.00000000003,203600.00000000003,203600.00000000003,203600.00000000003,{"$f":"SUM(S46:S50)","v":203600.00000000003},{"$f":"SUM(T46:T50)","v":291400},{"$f":"SUM(U46:U50)","v":481666.66666666663},{"$f":"SUM(V46:V50)","v":541666.33333333326},{"$f":"SUM(W46:W50)","v":742857}]
[]
[]
[null,"Other Scope 3 Sources",null,null,"FY1995","FY1996","FY1997","FY1998","FY1999","FY2000","FY2001","FY2002","FY2003","FY2004","FY2005","FY2006","FY2007","FY2008","FY2009","FY2010","FY2011","FY2012","FY2014"]
[null,"Type (Please List)"]
[null,null,null,"MTCDE"]
[null,null,null,"MTCDE"]
[null,null,null,"MTCDE"]
[null,null,null,"MTCDE"]
[null,null,null,"MTCDE"]
[]
[]
[]
[null,"GHG Emissions",null,null,"FY1995","FY1996","FY1997","FY1998","FY1999","FY2000","FY2001","FY2002","FY2003","FY2004","FY2005","FY2006","FY2007","FY2008","FY2009","FY2010","FY2011","FY2012","FY2014"]
[null,null,"Directly Financed Air Travel GHG","MTCDE",null,null,null,null,null,null,null,null,null,14520.3,14478.6,13082.7,15317.6,16527,20580.599999999999,18243,18055.400000000001,19841,26201]
[null,null,"Other Directly Financed Travel GHG","MTCDE",null,null,null,null,null,null,null,null,null,1327.6,1343.4,1321.5,1290.2,1276.7,1281,1155,1113.5999999999999,1071,870.1]
[null,null,"Study Abroad Air Travel GHG","MTCDE",null,null,null,null,null,null,null,null,null,4084.5,5325.7,4920.8999999999996,4467.5,4638.1000000000004,4578.5,4281.6000000000004,4502.8,4946.8,6693.9]
[null,null,"Total Outsourced Travel","MTCDE",{"$f":"SUM(E65:E67)","v":0},0,0,0,0,0,0,0,0,19932.400000000001,21147.7,19325.099999999999,21075.3,22441.800000000003,26440.1,{"$f":"SUM(T65:T67)","v":23679.599999999999},{"$f":"SUM(U65:U67)","v":23671.8},{"$f":"SUM(V65:V67)","v":25858.799999999999},{"$f":"SUM(W65:W67)","v":33765}]
[null,null,"Solid Waste GHG","MTCDE",null,null,null,null,null,null,null,null,null,333.06810000000002,328.16230000000002,331.512,325.4871,314.56970000000001,307.8057,298.3,293.0351,284.24,427.5]
[null,null,"Wastewater GHG","MTCDE",null,null,null,null,null,null,null,null,null,1588.5128476834998,1588.5128476834998,1588.5128476834998,1588.5128476834998,1588.5128476834998,1588.5128476834998,1346.4817731311998,1271.5742296433,1254.5,1319]
[null,null,"Purchased Paper GHG","MTCDE",null,null,null,null,null,null,null,null,null,236.3,236.3,236.3,236.3,236.3,236.3,329.9,549.70000000000005,595,403.5]
[null,null,"Scope 2 T&D Losses","MTCDE",null,null,null,null,null,null,null,null,null,1793.3,1858.5,2108.1999999999998,2680.1,2725.1,2599.6,2696.3,2807.7,2875.9,1569.7]
[null,null,"Total Other Scope 3","MTCDE",{"$f":"E56+E57+E58+E59+E60","v":0},{"$f":"F56+F57+F58+F59+F60","v":0},0,0,0,0,0,0,0,0,0,0,0,0,0,{"$f":"T56+T57+T58+T59+T60","v":0},{"$f":"U56+U57+U58+U59+U60","v":0},{"$f":"V56+V57+V58+V59+V60","v":0},{"$f":"W56+W57+W58+W59+W60","v":0}]
[null,null,null,null,null,null,null,null,null,null,null,null,null,null,null,null,null,null,null,null,{"$f":"SUM(U69:U72)+U67","v":9424.8093296432999},{"$f":"SUM(V69:V72)+V67","v":9956.4399999999987}]
[]
[null,null,null,null,null,null,null,null,null,null,null,null,"Notes:   Paper and wastewater were collect for FY09, and pulled back to FY04.     OUS centrally accounts for travel through a US Bank Travel Card Program. The assumption is made that air travel purchased through travel agencies as well as online dealers is purchased on the travel cards so the University can obtain a reimbursement at the end of the year. Data regarding the travel card program was obtained for FY2005 through FY2009. FY2009 Air travel was collected from Azumano, Journeys, Premier, and River City. An estimate for FY2004 airline travel was adjusted to account for the travel trends of FY05 through FY07. The adjustment is based on the average difference from year to year for three years.          FY09 used 60% as a % purchased from Office Max; FY10 used 40%.. FY10 including charter planes. FY11 used 60% as a % purchased from Office Max"]
[]
[]
[]
[]
[null,null,null,null,null,null,null,null,null,null,null,null,null,null,null,null,null,null,null,null,"Data Source - FY2009 Air Travel Data 6/14/2010"]
[null,null,null,null,null,null,null,null,null,null,null,null,null,null,null,null,null,null,null,null,"Using a $.125 conversion rate"]

{"sheet":"Water and Waste","index":10,"n_rows":31,"n_cols":23,"rows_kept":31,"cut":false,"hidden":false,"merged":[[30,12,41,18]]}
[{"$f":"'Institutional Data'!$D$8","v":"University of Oregon"}]
[{"$f":"'Green Construction'!A2","v":"Go-Green Measurement, Benchmarking and Analysis Summary"}]
[]
["Waste and Water"]
[]
[null,"Waste and Recycling",null,null,"FY1995","FY1996","FY1997","FY1998","FY1999","FY2000","FY2001","FY2002","FY2003","FY2004","FY2005","FY2006","FY2007","FY2008","FY2009","FY2010","FY2011","FY2012","FY2014"]
[null,"Waste"]
[null,null,"Total Waste (exc. Recycling)","Tons",{"$f":"'Other Scope 3 Sources'!E32","v":0},{"$f":"'Other Scope 3 Sources'!F32","v":0},{"$f":"'Other Scope 3 Sources'!G32","v":0},{"$f":"'Other Scope 3 Sources'!H32","v":0},{"$f":"'Other Scope 3 Sources'!I32","v":0},{"$f":"'Other Scope 3 Sources'!J32","v":0},{"$f":"'Other Scope 3 Sources'!K32","v":0},{"$f":"'Other Scope 3 Sources'!L32","v":0},{"$f":"'Other Scope 3 Sources'!M32","v":0},1504.261,1447.9890000000003,1337.2180000000001,1403.7499999999998,1374.3889999999999,1345.028,1375.76,1542.29,1496.84,1378.91]
[null,null,"Less Construction Waste","Tons",null,null,null,null,null,null,null,null,null,0,0,0,0,0,0,0,0,0,0]
[null,null,"Total Personal Waste","Tons",{"$f":"E8-E9","v":0},0,0,0,0,0,0,0,0,1504.261,1447.9890000000003,1337.2180000000001,1403.7499999999998,1374.3889999999999,1345.028,{"$f":"T8-T9","v":1375.76},{"$f":"U8-U9","v":1542.29},{"$f":"V8-V9","v":1496.84},{"$f":"W8-W9","v":1378.91}]
[null,"Recycling"]
[null,null,"Total Recycling","Tons",null,null,null,null,null,null,null,null,null,1577.13,1510.73,1422.17,1494.4,1535.22,1450.98,1489.42,1603.34,1429.66,1734.74]
[null,null,"Total Recycling","Tons",{"$f":"SUM(E12:E12)","v":0},0,0,0,0,0,0,0,0,1577.13,1510.73,1422.17,1494.4,1535.22,1450.98,{"$f":"SUM(T12:T12)","v":1489.42},{"$f":"SUM(U12:U12)","v":1603.34},{"$f":"SUM(V12:V12)","v":1429.66},{"$f":"SUM(W12:W12)","v":1734.74}]
[null,"Waste Calculations"]
[null,null,"% of Waste Recycled","%",{"$f":"E13/(E13+E10)","v":{"$error":"#DIV/0!"}},{"$error":"#DIV/0!"},{"$error":"#DIV/0!"},{"$error":"#DIV/0!"},{"$error":"#DIV/0!"},{"$error":"#DIV/0!"},{"$error":"#DIV/0!"},{"$error":"#DIV/0!"},{"$error":"#DIV/0!"},{"$f":"N13/(N13+N10)","v":0.51182404310261176},0.51060273043840931,0.51539326836240507,0.51563928713144602,0.5276379059866807,0.51894701302714441,{"$f":"T13/(T13+T10)","v":0.51983470497490558},{"$f":"U13/(U13+U10)","v":0.50970393847973217},{"$f":"V13/(V13+V10)","v":0.48852212540577483},{"$f":"W13/(W13+W10)","v":0.55714033369196925}]
[null,null,"Waste per Student","Tons",{"$f":"E10/'Institutional Data'!I21","v":{"$error":"#DIV/0!"}},{"$f":"F10/'Institutional Data'!J21","v":{"$error":"#DIV/0!"}},{"$f":"G10/'Institutional Data'!K21","v":{"$error":"#DIV/0!"}},{"$f":"H10/'Institutional Data'!L21","v":{"$error":"#DIV/0!"}},{"$f":"I10/'Institutional Data'!M21","v":{"$error":"#DIV/0!"}},{"$f":"J10/'Institutional Data'!N21","v":{"$error":"#DIV/0!"}},{"$f":"K10/'Institutional Data'!O21","v":{"$error":"#DIV/0!"}},{"$f":"L10/'Institutional Data'!P21","v":{"$error":"#DIV/0!"}},{"$f":"M10/'Institutional Data'!Q21","v":{"$error":"#DIV/0!"}},{"$f":"N10/'Institutional Data'!R21","v":7.7937753875487029E-2},{"$f":"O10/'Institutional Data'!S21","v":7.3317754879870384E-2},{"$f":"P10/'Institutional Data'!T21","v":6.7888735454785451E-2},{"$f":"Q10/'Institutional Data'!U21","v":7.1588486684413977E-2},{"$f":"R10/'Institutional Data'!V21","v":7.1289434099279E-2},{"$f":"S10/'Institutional Data'!W21","v":6.478316154513053E-2},{"$f":"T10/'Institutional Data'!X21","v":6.343123242196505E-2},{"$f":"U10/'Institutional Data'!Y21","v":6.5017916613970744E-2},{"$f":"V10/'Institutional Data'!Z21","v":6.0976046928466678E-2},{"$f":"W10/'Institutional Data'!AA21","v":5.8008077068697157E-2}]
[null,null,"Recycling per Student","Tons",{"$f":"E13/'Institutional Data'!I21","v":{"$error":"#DIV/0!"}},{"$f":"F13/'Institutional Data'!J21","v":{"$error":"#DIV/0!"}},{"$f":"G13/'Institutional Data'!K21","v":{"$error":"#DIV/0!"}},{"$f":"H13/'Institutional Data'!L21","v":{"$error":"#DIV/0!"}},{"$f":"I13/'Institutional Data'!M21","v":{"$error":"#DIV/0!"}},{"$f":"J13/'Institutional Data'!N21","v":{"$error":"#DIV/0!"}},{"$f":"K13/'Institutional Data'!O21","v":{"$error":"#DIV/0!"}},{"$f":"L13/'Institutional Data'!P21","v":{"$error":"#DIV/0!"}},{"$f":"M13/'Institutional Data'!Q21","v":{"$error":"#DIV/0!"}},{"$f":"N13/'Institutional Data'!R21","v":8.1713193235513557E-2},{"$f":"O13/'Institutional Data'!S21","v":7.6494594799868351E-2},{"$f":"P13/'Institutional Data'!T21","v":7.2201632719371286E-2},{"$f":"Q13/'Institutional Data'!U21","v":7.621145823771204E-2},{"$f":"R13/'Institutional Data'!V21","v":7.963172363711811E-2},{"$f":"S13/'Institutional Data'!W21","v":6.9886330796647717E-2},{"$f":"T13/'Institutional Data'!X21","v":6.8671676886901192E-2},{"$f":"U13/'Institutional Data'!Y21","v":6.7591585514944555E-2},{"$f":"V13/'Institutional Data'!Z21","v":5.8239367769268378E-2},{"$f":"W13/'Institutional Data'!AA21","v":7.2977157040090862E-2}]
[null,null,"Waste per Community Member","Tons",{"$f":"E10/'Institutional Data'!I33","v":{"$error":"#DIV/0!"}},{"$f":"F10/'Institutional Data'!J33","v":{"$error":"#DIV/0!"}},{"$f":"G10/'Institutional Data'!K33","v":{"$error":"#DIV/0!"}},{"$f":"H10/'Institutional Data'!L33","v":{"$error":"#DIV/0!"}},{"$f":"I10/'Institutional Data'!M33","v":{"$error":"#DIV/0!"}},{"$f":"J10/'Institutional Data'!N33","v":{"$error":"#DIV/0!"}},{"$f":"K10/'Institutional Data'!O33","v":{"$error":"#DIV/0!"}},{"$f":"L10/'Institutional Data'!P33","v":{"$error":"#DIV/0!"}},{"$f":"M10/'Institutional Data'!Q33","v":{"$error":"#DIV/0!"}},{"$f":"N10/'Institutional Data'!R33","v":6.3530437794051819E-2},{"$f":"O10/'Institutional Data'!S33","v":5.9886563228108119E-2},{"$f":"P10/'Institutional Data'!T33","v":5.5266725578485547E-2},{"$f":"Q10/'Institutional Data'!U33","v":5.8170681058701823E-2},{"$f":"R10/'Institutional Data'!V33","v":5.7601014228536696E-2},{"$f":"S10/'Institutional Data'!W33","v":5.4280963719278423E-2},{"$f":"T10/'Institutional Data'!X33","v":5.3424460711026543E-2},{"$f":"U10/'Institutional Data'!Y33","v":5.5146780133729034E-2},{"$f":"V10/'Institutional Data'!Z33","v":5.1852980912460593E-2},{"$f":"W10/'Institutional Data'!AA33","v":4.8166480368869641E-2}]
[null,null,"Recycling per Community Member","Tons",{"$f":"E13/'Institutional Data'!I33","v":{"$error":"#DIV/0!"}},{"$f":"F13/'Institutional Data'!J33","v":{"$error":"#DIV/0!"}},{"$f":"G13/'Institutional Data'!K33","v":{"$error":"#DIV/0!"}},{"$f":"H13/'Institutional Data'!L33","v":{"$error":"#DIV/0!"}},{"$f":"I13/'Institutional Data'!M33","v":{"$error":"#DIV/0!"}},{"$f":"J13/'Institutional Data'!N33","v":{"$error":"#DIV/0!"}},{"$f":"K13/'Institutional Data'!O33","v":{"$error":"#DIV/0!"}},{"$f":"L13/'Institutional Data'!P33","v":{"$error":"#DIV/0!"}},{"$f":"M13/'Institutional Data'!Q33","v":{"$error":"#DIV/0!"}},{"$f":"N13/'Institutional Data'!R33","v":6.6607961888351122E-2},{"$f":"O13/'Institutional Data'!S33","v":6.2481432984366432E-2},{"$f":"P13/'Institutional Data'!T33","v":5.8777760332238117E-2},{"$f":"Q13/'Institutional Data'!U33","v":6.1927170631611059E-2},{"$f":"R13/'Institutional Data'!V33","v":6.4341484880870062E-2},{"$f":"S13/'Institutional Data'!W33","v":5.8556842487590299E-2},{"$f":"T13/'Institutional Data'!X33","v":5.7838184183445628E-2},{"$f":"U13/'Institutional Data'!Y33","v":5.7329710015375263E-2},{"$f":"V13/'Institutional Data'!Z33","v":4.9525756053625247E-2},{"$f":"W13/'Institutional Data'!AA33","v":6.0595920078245075E-2}]
[]
[null,"Water",null,null,"FY1995","FY1996","FY1997","FY1998","FY1999","FY2000","FY2001","FY2002","FY2003","FY2004","FY2005","FY2006","FY2007","FY2008","FY2009","FY2010","FY2011","FY2012","FY2014"]
[null,"Water"]
[null,null,"Total Water","Gallons",null,null,null,null,null,null,null,null,null,172190134.98733526,177302018.18102834,168282113.96104282,186890612.70728999,194121016,187213503.00000003,209639696,176767266,175796000,139912000]
[null,null,"Less Irrigation","Gallons",null,null,null,null,null,null,null,null,null,0,0,0,0,0,0,0,0,0,0]
[null,null,"Less Utility System","Gallons",null,null,null,null,null,null,null,null,null,0,0,0,0,0,0,0,0,0,0]
[null,null,"Total Personal Water","Gallons",{"$f":"E23-E24-E25","v":0},{"$f":"F23-F24-F25","v":0},0,0,0,0,0,0,0,172190134.98733526,177302018.18102834,168282113.96104282,186890612.70728999,194121016,187213503.00000003,{"$f":"T23-T24-T25","v":209639696},{"$f":"U23-U24-U25","v":176767266},{"$f":"V23-V24-V25","v":175796000},{"$f":"W23-W24-W25","v":139912000}]
[null,"Water Calculations"]
[null,null,"Water per Student","Gallons",{"$f":"E26/'Institutional Data'!I21","v":{"$error":"#DIV/0!"}},{"$f":"F26/'Institutional Data'!J21","v":{"$error":"#DIV/0!"}},{"$f":"G26/'Institutional Data'!K21","v":{"$error":"#DIV/0!"}},{"$f":"H26/'Institutional Data'!L21","v":{"$error":"#DIV/0!"}},{"$f":"I26/'Institutional Data'!M21","v":{"$error":"#DIV/0!"}},{"$f":"J26/'Institutional Data'!N21","v":{"$error":"#DIV/0!"}},{"$f":"K26/'Institutional Data'!O21","v":{"$error":"#DIV/0!"}},{"$f":"L26/'Institutional Data'!P21","v":{"$error":"#DIV/0!"}},{"$f":"M26/'Institutional Data'!Q21","v":{"$error":"#DIV/0!"}},{"$f":"N26/'Institutional Data'!R21","v":8921.3988532773401},{"$f":"O26/'Institutional Data'!S21","v":8977.5446558661406},{"$f":"P26/'Institutional Data'!T21","v":8543.4535853340985},{"$f":"Q26/'Institutional Data'!U21","v":9531.0533494125029},{"$f":"R26/'Institutional Data'!V21","v":10069.039680481354},{"$f":"S26/'Institutional Data'!W21","v":9017.1227723726061},{"$f":"T26/'Institutional Data'!X21","v":9665.7151551477709},{"$f":"U26/'Institutional Data'!Y21","v":7451.9314531427844},{"$f":"V26/'Institutional Data'!Z21","v":7161.3166042040084},{"$f":"W26/'Institutional Data'!AA21","v":5885.8272685204665}]
[null,null,"Water per Community Member","Gallons",{"$f":"E26/'Institutional Data'!I33","v":{"$error":"#DIV/0!"}},{"$f":"F26/'Institutional Data'!J33","v":{"$error":"#DIV/0!"}},{"$f":"G26/'Institutional Data'!K33","v":{"$error":"#DIV/0!"}},{"$f":"H26/'Institutional Data'!L33","v":{"$error":"#DIV/0!"}},{"$f":"I26/'Institutional Data'!M33","v":{"$error":"#DIV/0!"}},{"$f":"J26/'Institutional Data'!N33","v":{"$error":"#DIV/0!"}},{"$f":"K26/'Institutional Data'!O33","v":{"$error":"#DIV/0!"}},{"$f":"L26/'Institutional Data'!P33","v":{"$error":"#DIV/0!"}},{"$f":"M26/'Institutional Data'!Q33","v":{"$error":"#DIV/0!"}},{"$f":"N26/'Institutional Data'!R33","v":7272.2184910479555},{"$f":"O26/'Institutional Data'!S33","v":7332.9345197161902},{"$f":"P26/'Institutional Data'!T33","v":6955.0375571166287},{"$f":"Q26/'Institutional Data'!U33","v":7744.6512731334888},{"$f":"R26/'Institutional Data'!V33","v":8135.6642149158652},{"$f":"S26/'Institutional Data'!W33","v":7555.3292303967082},{"$f":"T26/'Institutional Data'!X33","v":8140.873191852902},{"$f":"U26/'Institutional Data'!Y33","v":6320.5658812171487},{"$f":"V26/'Institutional Data'!Z33","v":6089.860394221776},{"$f":"W26/'Institutional Data'!AA33","v":4887.2432583484697}]
[]
[null,null,null,null,null,null,null,null,null,null,null,null,"Notes:  Water includes main campus and OIMB.  Fy10 calculated numbers for Waters is in the OIMB Utilities Track for UO III in the scope 1&2 folder in electricity. FY11 Recycling from the WARM document"]

{"sheet":"Offsets","index":11,"n_rows":32,"n_cols":23,"rows_kept":32,"cut":false,"hidden":false,"merged":[[31,12,42,18]]}
[{"$f":"'Institutional Data'!$D$8","v":"University of Oregon"}]
[{"$f":"'Other Scope 3 Sources'!A2","v":"Go-Green Measurement, Benchmarking and Analysis Summary"}]
[]
["Offsets"]
[]
[null,"Offsets with Additionality",null,null,"FY1995","FY1996","FY1997","FY1998","FY1999","FY2000","FY2001","FY2002","FY2003","FY2004","FY2005","FY2006","FY2007","FY2008","FY2009","FY2010","FY2011","FY2012","FY2014"]
[null,"Compost"]
[null,null,"On-Campus Composting ","Short Tons",null,null,null,null,null,null,null,null,null,342,359.44,235.02,256.22000000000003,239,282,359.90999999999997,466.49,{"$f":"219.5+181","v":400.5},828]
[null,"GHG Emissions"]
[null,null,"On-Campus Composting GHG","MTCDE",{"$f":"E8*-0.38474007","v":0},{"$f":"F8*-0.38474007","v":0},0,0,0,0,0,0,0,{"$f":"N8*-0.384740065","v":-131.58110223},-138.29096896359999,-90.421610076300013,-98.578099454300016,-91.952875535000004,-108.49669833,{"$f":"T8*-0.384740065","v":-138.47179679414998},{"$f":"U8*-0.384740065","v":-179.47739292185003},{"$f":"V8*-0.384740065","v":-154.08839603250001},-30.7]
[null,null,"Forest Preservation","MTCDE",null,null,null,null,null,null,null,null,null,0,0,0,0,0,0,-490,-490,-490,-91.5]
[null,null,"Retail Offsets (High End)","MTCDE",null,null,null,null,null,null,null,null,null,0,0,0,0,0,-540,-615,0,-615,-525]
[null,null,"Retail Offsets (Low End)","MTCDE",null,null,null,null,null,null,null,null,null,0,0,0,0,0,0,0,0,0,0]
[null,null,"Other ","MTCDE",null,null,null,null,null,null,null,null,null,0,0,0,0,0,0,0,0,0,0]
[null,null,"Total","MTCDE",{"$f":"SUM(E10:E14)","v":0},{"$f":"SUM(F10:F14)","v":0},0,0,0,0,0,0,0,-131.58110223,-138.29096896359999,-90.421610076300013,-98.578099454300016,-91.952875535000004,{"$f":"SUM(S10:S14)","v":-648.49669832999996},{"$f":"SUM(T10:T14)","v":-1243.4717967941501},{"$f":"SUM(U10:U14)","v":-669.47739292184997},{"$f":"SUM(V10:V14)","v":-1259.0883960325},{"$f":"SUM(W10:W14)","v":-647.20000000000005}]
[]
[null,"Offsets  - Non-Additional/Renewable Energy Certificates (RECs)",null,null,"FY1995","FY1996","FY1997","FY1998","FY1999","FY2000","FY2001","FY2002","FY2003","FY2004","FY2005","FY2006","FY2007","FY2008","FY2009","FY2010","FY2011","FY2012","FY2014"]
[]
[null,null,"Green Power Certificates","kWh",null,null,null,null,null,null,null,null,null,253,2280,2280,2280,2280,0,0,0,0,700]
[null,null,"% of Electicity Mitigated","%",{"$f":"E19/'Scope 2 Utilities'!E8","v":{"$error":"#DIV/0!"}},{"$f":"F19/'Scope 2 Utilities'!F8","v":{"$error":"#DIV/0!"}},{"$f":"G19/'Scope 2 Utilities'!G8","v":{"$error":"#DIV/0!"}},{"$f":"H19/'Scope 2 Utilities'!H8","v":{"$error":"#DIV/0!"}},{"$f":"I19/'Scope 2 Utilities'!I8","v":{"$error":"#DIV/0!"}},{"$f":"J19/'Scope 2 Utilities'!J8","v":{"$error":"#DIV/0!"}},{"$f":"K19/'Scope 2 Utilities'!K8","v":{"$error":"#DIV/0!"}},{"$f":"L19/'Scope 2 Utilities'!L8","v":{"$error":"#DIV/0!"}},{"$f":"M19/'Scope 2 Utilities'!M8","v":{"$error":"#DIV/0!"}},{"$f":"N19/'Scope 2 Utilities'!N8","v":4.2501604524155456E-6},{"$f":"O19/'Scope 2 Utilities'!O8","v":3.6952098099904659E-5},{"$f":"P19/'Scope 2 Utilities'!P8","v":3.2575724619746163E-5},{"$f":"Q19/'Scope 2 Utilities'!Q8","v":3.3105659819255666E-5},{"$f":"R19/'Scope 2 Utilities'!R8","v":3.2596734102226813E-5},{"$f":"S19/'Scope 2 Utilities'!S8","v":0},{"$f":"T19/'Scope 2 Utilities'!T8","v":0},{"$f":"U19/'Scope 2 Utilities'!U8","v":0},{"$f":"V19/'Scope 2 Utilities'!V8","v":0},0]
[null,null,"Green Power Certificates GHG","MTCDE",null,null,null,null,null,null,null,null,null,0,0,0,0,0,0,0,0,0,0]
[null,null,"Retail Offsets (High End)","MTCDE",null,null,null,null,null,null,null,null,null,0,0,0,0,0,0,0,0,0,0]
[null,null,"Retail Offsets (Low End)","MTCDE",null,null,null,null,null,null,null,null,null,0,0,0,0,0,0,0,0,0,0]
[null,null,"Other","MTCDE",null,null,null,null,null,null,null,null,null,0,0,0,0,0,0,0,0,0,0]
[null,null,"Total","MTCDE",{"$f":"SUM(E21:E24)","v":0},{"$f":"SUM(F21:F24)","v":0},0,0,0,0,0,0,0,0,0,0,0,0,0,{"$f":"SUM(T21:T24)","v":0},{"$f":"SUM(U21:U24)","v":0},{"$f":"SUM(V21:V24)","v":0},{"$f":"SUM(W19:W24)","v":700}]
[]
[]
[null,"Total Offsets",null,null,"FY1995","FY1996","FY1997","FY1998","FY1999","FY2000","FY2001","FY2002","FY2003","FY2004","FY2005","FY2006","FY2007","FY2008","FY2009","FY2010","FY2011","FY2011","FY2011"]
[null,null,"Additional","MTCDE",{"$f":"E15","v":0},{"$f":"F15","v":0},0,0,0,0,0,0,0,-131.58110223,-138.29096896359999,-90.421610076300013,-98.578099454300016,-91.952875535000004,-648.49669832999996,{"$f":"T15","v":-1243.4717967941501},{"$f":"U15","v":-669.47739292184997},{"$f":"V15","v":-1259.0883960325},{"$f":"W15","v":-647.20000000000005}]
[null,null,"Non-Additional","MTCDE",{"$f":"E25","v":0},{"$f":"F25","v":0},0,0,0,0,0,0,0,0,0,0,0,0,0,{"$f":"T25","v":0},{"$f":"U25","v":0},{"$f":"V25","v":0},{"$f":"W25","v":700}]
[]
[null,null,null,null,null,null,null,null,null,null,null,null,"Notes:"]

{"sheet":"Green Construction","index":12,"n_rows":46,"n_cols":22,"rows_kept":46,"cut":false,"hidden":false,"merged":[[45,2,56,13]]}
[{"$f":"'Institutional Data'!$D$8","v":"University of Oregon"}]
[{"$f":"Offsets!A2","v":"Go-Green Measurement, Benchmarking and Analysis Summary"}]
[]
["Green Construction"]
[]
[null,"LEED Certification",null,null,"FY1995","FY1996","FY1997","FY1998","FY1999","FY2000","FY2001","FY2002","FY2003","FY2004","FY2005","FY2006","FY2007","FY2008","FY2009","FY2010","FY2011","FY2014"]
[null,"# of Buildings"]
[null,null,"LEED Certified","#",null,null,null,null,null,null,null,null,null,0,0,0,0,0,0,0,0,0]
[null,null,"LEED Silver","#",null,null,null,null,null,null,null,null,null,0,0,0,1,1,1,1,1,1]
[null,null,"LEED Gold ","#",null,null,null,null,null,null,null,null,null,0,0,0,0,0,0,0,2,3]
[null,null,"LEED Platinum","#",null,null,null,null,null,null,null,null,null,0,0,0,0,0,0,0,0,1]
[null,null,"LEED EB","#",null,null,null,null,null,null,null,null,null,0,0,0,0,0,0,0,0,0]
[null,null,"Other","#",null,null,null,null,null,null,null,null,null,0,0,0,0,0,0,0,0,0]
[null,null,"Total LEED Buildings","#",{"$f":"SUM(E8:E13)","v":0},0,0,0,0,0,0,0,0,0,0,0,1,1,1,{"$f":"SUM(T8:T13)","v":1},{"$f":"SUM(U8:U13)","v":3},{"$f":"SUM(V8:V13)","v":5}]
[null,"GSF"]
[null,null,"LEED Certified","GSF",null,null,null,null,null,null,null,null,null,0,0,0,0,0,0,0,0,0]
[null,null,"LEED Silver","GSF",null,null,null,null,null,null,null,null,null,0,0,0,135953,135953,135953,135953,142002,143085]
[null,null,"LEED Gold ","GSF",null,null,null,null,null,null,null,null,null,0,0,0,0,0,0,0,{"$f":"60965+399328","v":460293},670218]
[null,null,"LEED Platinum","GSF",null,null,null,null,null,null,null,null,null,0,0,0,0,0,0,0,0,103000]
[null,null,"LEED EB","GSF",null,null,null,null,null,null,null,null,null,0,0,0,0,0,0,0,0,0]
[null,null,"Other","GSF",null,null,null,null,null,null,null,null,null,0,0,0,0,0,0,0,0,0]
[null,null,"Total LEED GSF","GSF",{"$f":"SUM(E16:E21)","v":0},{"$f":"SUM(F16:F21)","v":0},0,0,0,0,0,0,0,0,0,0,135953,135953,135953,{"$f":"SUM(T16:T21)","v":135953},{"$f":"SUM(U16:U21)","v":602295},{"$f":"SUM(V16:V21)","v":916303}]
[null,"LEED Calculations"]
[null,null,"% of Total Building Space","GSF",{"$f":"E22/'Institutional Data'!I8","v":{"$error":"#DIV/0!"}},{"$f":"F22/'Institutional Data'!J8","v":{"$error":"#DIV/0!"}},{"$f":"G22/'Institutional Data'!K8","v":{"$error":"#DIV/0!"}},{"$f":"H22/'Institutional Data'!L8","v":{"$error":"#DIV/0!"}},{"$f":"I22/'Institutional Data'!M8","v":{"$error":"#DIV/0!"}},{"$f":"J22/'Institutional Data'!N8","v":{"$error":"#DIV/0!"}},{"$f":"K22/'Institutional Data'!O8","v":{"$error":"#DIV/0!"}},{"$f":"L22/'Institutional Data'!P8","v":{"$error":"#DIV/0!"}},{"$f":"M22/'Institutional Data'!Q8","v":{"$error":"#DIV/0!"}},{"$f":"N22/'Institutional Data'!R8","v":0},{"$f":"O22/'Institutional Data'!S8","v":0},{"$f":"P22/'Institutional Data'!T8","v":0},{"$f":"Q22/'Institutional Data'!U8","v":2.1402671315590576E-2},{"$f":"R22/'Institutional Data'!V8","v":2.1105031657625107E-2},{"$f":"S22/'Institutional Data'!W8","v":2.1586502247677695E-2},{"$f":"T22/'Institutional Data'!X8","v":2.0890542885517279E-2},{"$f":"U22/'Institutional Data'!Y8","v":8.1669377702108636E-2},{"$f":"V22/'Institutional Data'!Z8","v":0.11746528612824506}]
[]
[null,"Non-certified Green Buildings",null,null,"FY1995","FY1996","FY1997","FY1998","FY1999","FY2000","FY2001","FY2002","FY2003","FY2004","FY2005","FY2006","FY2007","FY2008","FY2009","FY2010","FY2011","FY2014"]
[null,"# of Buildings"]
[null,null,"Non-certified Buildings","#",null,null,null,null,null,null,null,null,null,0,0,0,0,0,0,0,0,{"$f":"381-V14","v":376}]
[null,null,"Total Non-certified Buildings","#",{"$f":"SUM(E28:E28)","v":0},0,0,0,0,0,0,0,0,0,0,0,0,0,0,{"$f":"SUM(T28:T28)","v":0},{"$f":"SUM(U28:U28)","v":0},{"$f":"SUM(V28:V28)","v":376}]
[null,"GSF"]
[null,null,"Non-certified GSF","GSF",null,null,null,null,null,null,null,null,null,0,0,0,0,0,0,0,0,{"$f":"7388027-V22","v":6471724}]
[null,null,"Total Non-certified GSF","GSF",{"$f":"SUM(E31:E31)","v":0},0,0,0,0,0,0,0,0,0,0,0,0,0,0,{"$f":"SUM(T31:T31)","v":0},{"$f":"SUM(U31:U31)","v":0},{"$f":"SUM(V31:V31)","v":6471724}]
[null,"Non-certified Calculations"]
[null,null,"% of Total Building Space","GSF",{"$f":"E32/'Institutional Data'!I8","v":{"$error":"#DIV/0!"}},{"$f":"F32/'Institutional Data'!J8","v":{"$error":"#DIV/0!"}},{"$f":"G32/'Institutional Data'!K8","v":{"$error":"#DIV/0!"}},{"$f":"H32/'Institutional Data'!L8","v":{"$error":"#DIV/0!"}},{"$f":"I32/'Institutional Data'!M8","v":{"$error":"#DIV/0!"}},{"$f":"J32/'Institutional Data'!N8","v":{"$error":"#DIV/0!"}},{"$f":"K32/'Institutional Data'!O8","v":{"$error":"#DIV/0!"}},{"$f":"L32/'Institutional Data'!P8","v":{"$error":"#DIV/0!"}},{"$f":"M32/'Institutional Data'!Q8","v":{"$error":"#DIV/0!"}},{"$f":"N32/'Institutional Data'!R8","v":0},{"$f":"O32/'Institutional Data'!S8","v":0},{"$f":"P32/'Institutional Data'!T8","v":0},{"$f":"Q32/'Institutional Data'!U8","v":0},{"$f":"R32/'Institutional Data'!V8","v":0},{"$f":"S32/'Institutional Data'!W8","v":0},{"$f":"T32/'Institutional Data'!X8","v":0},{"$f":"U32/'Institutional Data'!Y8","v":0},{"$f":"V32/'Institutional Data'!Z8","v":0.82964140835840394}]
[]
[null,"Total Green Buildings",null,null,"FY1995","FY1996","FY1997","FY1998","FY1999","FY2000","FY2001","FY2002","FY2003","FY2004","FY2005","FY2006","FY2007","FY2008","FY2009","FY2010","FY2011","FY2014"]
[null,"# of Buildings"]
[null,null,"Total # of Green Buildings","#",{"$f":"E14+E29","v":0},{"$f":"F14+F29","v":0},0,0,0,0,0,0,0,0,0,0,1,1,{"$f":"S14+S29","v":1},{"$f":"T14+T29","v":1},{"$f":"U14+U29","v":3},{"$f":"V14+V29","v":381}]
[null,null,"Total # of Green Buildings","#",{"$f":"SUM(E38:E38)","v":0},0,0,0,0,0,0,0,0,0,0,0,1,1,{"$f":"SUM(S38:S38)","v":1},{"$f":"SUM(T38:T38)","v":1},{"$f":"SUM(U38:U38)","v":3},{"$f":"SUM(V38:V38)","v":381}]
[null,"GSF"]
[null,null,"Total GSF of Green Buidlings","GSF",{"$f":"E22+E32","v":0},{"$f":"F22+F32","v":0},0,0,0,0,0,0,0,0,0,0,135953,135953,{"$f":"S22+S32","v":135953},{"$f":"T22+T32","v":135953},{"$f":"U22+U32","v":602295},{"$f":"V22+V32","v":7388027}]
[null,null,"Total GSF of Green Buidlings","GSF",{"$f":"SUM(E41:E41)","v":0},0,0,0,0,0,0,0,0,0,0,0,135953,135953,{"$f":"SUM(S41:S41)","v":135953},{"$f":"SUM(T41:T41)","v":135953},{"$f":"SUM(U41:U41)","v":602295},{"$f":"SUM(V41:V41)","v":7388027}]
[null,"Total Green Building Calculations"]
[null,null,"% of Total Building Space","GSF",{"$f":"E42/'Institutional Data'!I8","v":{"$error":"#DIV/0!"}},{"$f":"F42/'Institutional Data'!J8","v":{"$error":"#DIV/0!"}},{"$f":"G42/'Institutional Data'!K8","v":{"$error":"#DIV/0!"}},{"$f":"H42/'Institutional Data'!L8","v":{"$error":"#DIV/0!"}},{"$f":"I42/'Institutional Data'!M8","v":{"$error":"#DIV/0!"}},{"$f":"J42/'Institutional Data'!N8","v":{"$error":"#DIV/0!"}},{"$f":"K42/'Institutional Data'!O8","v":{"$error":"#DIV/0!"}},{"$f":"L42/'Institutional Data'!P8","v":{"$error":"#DIV/0!"}},{"$f":"M42/'Institutional Data'!Q8","v":{"$error":"#DIV/0!"}},{"$f":"N42/'Institutional Data'!R8","v":0},{"$f":"O42/'Institutional Data'!S8","v":0},{"$f":"P42/'Institutional Data'!T8","v":0},{"$f":"Q42/'Institutional Data'!U8","v":2.1402671315590576E-2},{"$f":"R42/'Institutional Data'!V8","v":2.1105031657625107E-2},{"$f":"S42/'Institutional Data'!W8","v":2.1586502247677695E-2},{"$f":"T42/'Institutional Data'!X8","v":2.0890542885517279E-2},{"$f":"U42/'Institutional Data'!Y8","v":8.1669377702108636E-2},{"$f":"V42/'Institutional Data'!Z8","v":0.94710669448664897}]
[]
[null,null,"Notes:  \nFY07: \nLillis Business Complex (Silver) (142,002)\n\nFY11: \nFord Alumni Center (Gold) (60,965sf)\nMatthew Knight Arena (Gold) (399,328sf)\n\nFY12 (?): Lewis Science buildings\nFY13: Knight Law Center, Lillis Business Complex, LEED:OBOM per Dave Smith -- Stephen Ames\n"]

{"sheet":"Summary Scope GHG Benchmarks","index":13,"n_rows":44,"n_cols":23,"rows_kept":44,"cut":false,"hidden":false,"merged":[]}
[{"$f":"'Institutional Data'!$D$8","v":"University of Oregon"}]
[{"$f":"'GHG Summary_regional'!A2","v":"Go-Green Measurement, Benchmarking and Analysis Summary"}]
[]
["GHG Benchmarks"]
[]
[null,"Total Emissions",null,null,"FY1995","FY1996","FY1997","FY1998","FY1999","FY2000","FY2001","FY2002","FY2003","FY2004","FY2005","FY2006","FY2007","FY2008","FY2009","FY2010","FY2011","FY2012","FY2014"]
[null,"Gross Emissions"]
[null,null,"Scope 1","MTCDE",{"$f":"'GHG Summary_regional'!E12","v":0},{"$f":"'GHG Summary_regional'!F12","v":0},{"$f":"'GHG Summary_regional'!G12","v":0},{"$f":"'GHG Summary_regional'!H12","v":0},{"$f":"'GHG Summary_regional'!I12","v":0},{"$f":"'GHG Summary_regional'!J12","v":0},{"$f":"'GHG Summary_regional'!K12","v":0},{"$f":"'GHG Summary_regional'!L12","v":0},{"$f":"'GHG Summary_regional'!M12","v":0},{"$f":"'GHG Summary_regional'!N12","v":29938.397986755837},{"$f":"'GHG Summary_regional'!O12","v":26253.094526568766},{"$f":"'GHG Summary_regional'!P12","v":25563.004719201908},{"$f":"'GHG Summary_regional'!Q12","v":24927.111273926836},{"$f":"'GHG Summary_regional'!R12","v":26745.345362543121},{"$f":"'GHG Summary_regional'!S12","v":25875.455581604772},{"$f":"'GHG Summary_regional'!T12","v":23864.433847508717},{"$f":"'GHG Summary_regional'!U12","v":22788.600000000002},{"$f":"'GHG Summary_regional'!V12","v":24235},{"$f":"'GHG Summary_regional'!W12","v":69459.5}]
[null,null,"Scope 2","MTCDE",{"$f":"'GHG Summary_regional'!E17","v":0},{"$f":"'GHG Summary_regional'!F17","v":0},{"$f":"'GHG Summary_regional'!G17","v":0},{"$f":"'GHG Summary_regional'!H17","v":0},{"$f":"'GHG Summary_regional'!I17","v":0},{"$f":"'GHG Summary_regional'!J17","v":0},{"$f":"'GHG Summary_regional'!K17","v":0},{"$f":"'GHG Summary_regional'!L17","v":0},{"$f":"'GHG Summary_regional'!M17","v":0},{"$f":"'GHG Summary_regional'!N17","v":18188.099999999999},{"$f":"'GHG Summary_regional'!O17","v":18848.099999999999},{"$f":"'GHG Summary_regional'!P17","v":21380.600000000002},{"$f":"'GHG Summary_regional'!Q17","v":27173},{"$f":"'GHG Summary_regional'!R17","v":27656.3},{"$f":"'GHG Summary_regional'!S17","v":26429.3},{"$f":"'GHG Summary_regional'!T17","v":27420.799999999999},{"$f":"'GHG Summary_regional'!U17","v":28633.7},{"$f":"'GHG Summary_regional'!V17","v":29421},{"$f":"'GHG Summary_regional'!W17","v":21379}]
[null,null,"Scope 3","MTCDE",{"$f":"'GHG Summary_regional'!E29","v":0},{"$f":"'GHG Summary_regional'!F29","v":0},{"$f":"'GHG Summary_regional'!G29","v":0},{"$f":"'GHG Summary_regional'!H29","v":0},{"$f":"'GHG Summary_regional'!I29","v":0},{"$f":"'GHG Summary_regional'!J29","v":0},{"$f":"'GHG Summary_regional'!K29","v":0},{"$f":"'GHG Summary_regional'!L29","v":0},{"$f":"'GHG Summary_regional'!M29","v":0},{"$f":"'GHG Summary_regional'!N29","v":29915.380947683494},{"$f":"'GHG Summary_regional'!O29","v":31344.075147683503},{"$f":"'GHG Summary_regional'!P29","v":29237.424847683498},{"$f":"'GHG Summary_regional'!Q29","v":31397.299947683499},{"$f":"'GHG Summary_regional'!R29","v":33098.082547683502},{"$f":"'GHG Summary_regional'!S29","v":39020.2185476835},{"$f":"'GHG Summary_regional'!T29","v":36333.581773131205},{"$f":"'GHG Summary_regional'!U29","v":37300.809329643293},{"$f":"'GHG Summary_regional'!V29","v":36927.840000000004},{"$f":"'GHG Summary_regional'!W29","v":43292.1}]
[null,null,"Total Gross Emissions","MTCDE",{"$f":"SUM(E8:E10)","v":0},{"$f":"SUM(F8:F10)","v":0},0,0,0,0,0,0,0,78041.87893443933,76445.269674252268,76181.029566885409,83497.411221610339,{"$f":"SUM(R8:R10)","v":87499.727910226618},91324.974129288268,87618.815620639914,88723.109329643295,90583.84,134130.6]
[null,"Net Emissions"]
[null,null,"Offsets","MTCDE",{"$f":"'GHG Summary_regional'!E37","v":0},{"$f":"'GHG Summary_regional'!F37","v":0},{"$f":"'GHG Summary_regional'!G37","v":0},{"$f":"'GHG Summary_regional'!H37","v":0},{"$f":"'GHG Summary_regional'!I37","v":0},{"$f":"'GHG Summary_regional'!J37","v":0},{"$f":"'GHG Summary_regional'!K37","v":0},{"$f":"'GHG Summary_regional'!L37","v":0},{"$f":"'GHG Summary_regional'!M37","v":0},{"$f":"'GHG Summary_regional'!N37","v":-131.58110223},{"$f":"'GHG Summary_regional'!O37","v":-138.29096896359999},{"$f":"'GHG Summary_regional'!P37","v":-90.421610076300013},{"$f":"'GHG Summary_regional'!Q37","v":-98.578099454300016},{"$f":"'GHG Summary_regional'!R37","v":-91.952875535000004},{"$f":"'GHG Summary_regional'!S37","v":-648.49669832999996},{"$f":"'GHG Summary_regional'!T37","v":-1243.4717967941501},{"$f":"'GHG Summary_regional'!U37","v":-669.47739292184997},{"$f":"'GHG Summary_regional'!V37","v":-1259.0883960325},{"$f":"'GHG Summary_regional'!W37","v":52.799999999999955}]
[null,null,"Total Net Emissions","MTCDE",{"$f":"E11+E13","v":0},{"$f":"F11+F13","v":0},0,0,0,0,0,0,0,77910.297832209326,76306.978705288668,76090.607956809108,83398.833122156037,87407.775034691615,{"$f":"S11+S13","v":90676.477430958272},{"$f":"T11+T13","v":86375.34382384576},{"$f":"U11+U13","v":88053.631936721446},{"$f":"V11+V13","v":89324.751603967496},{"$f":"W11+W13","v":134183.4}]
[]
[null,"Emissions per FTE Student",null,null,"FY1995","FY1996","FY1997","FY1998","FY1999","FY2000","FY2001","FY2002","FY2003","FY2004","FY2005","FY2006","FY2007","FY2008","FY2009","FY2010","FY2011","FY2012","FY2014"]
[null,"Gross Emissions"]
[null,null,"Scope 1","MTCDE",{"$f":"E8/'Institutional Data'!I$21","v":{"$error":"#DIV/0!"}},{"$f":"F8/'Institutional Data'!J$21","v":{"$error":"#DIV/0!"}},{"$f":"G8/'Institutional Data'!K$21","v":{"$error":"#DIV/0!"}},{"$f":"H8/'Institutional Data'!L$21","v":{"$error":"#DIV/0!"}},{"$f":"I8/'Institutional Data'!M$21","v":{"$error":"#DIV/0!"}},{"$f":"J8/'Institutional Data'!N$21","v":{"$error":"#DIV/0!"}},{"$f":"K8/'Institutional Data'!O$21","v":{"$error":"#DIV/0!"}},{"$f":"L8/'Institutional Data'!P$21","v":{"$error":"#DIV/0!"}},{"$f":"M8/'Institutional Data'!Q$21","v":{"$error":"#DIV/0!"}},{"$f":"N8/'Institutional Data'!R$21","v":1.5511480346284008},{"$f":"O8/'Institutional Data'!S$21","v":1.3293042622126519},{"$f":"P8/'Institutional Data'!T$21","v":1.2977989114799011},{"$f":"Q8/'Institutional Data'!U$21","v":1.2712336053531021},{"$f":"R8/'Institutional Data'!V$21","v":1.387278663963023},{"$f":"S8/'Institutional Data'!W$21","v":1.2462891620077436},{"$f":"T8/'Institutional Data'!X$21","v":1.1003012516717561},{"$f":"U8/'Institutional Data'!Y$21","v":0.96069305678512718},{"$f":"V8/'Institutional Data'!Z$21","v":0.98724947042528921},{"$f":"W8/'Institutional Data'!AB$21","v":{"$error":"#DIV/0!"}}]
[null,null,"Scope 2","MTCDE",{"$f":"E9/'Institutional Data'!I$21","v":{"$error":"#DIV/0!"}},{"$f":"F9/'Institutional Data'!J$21","v":{"$error":"#DIV/0!"}},{"$f":"G9/'Institutional Data'!K$21","v":{"$error":"#DIV/0!"}},{"$f":"H9/'Institutional Data'!L$21","v":{"$error":"#DIV/0!"}},{"$f":"I9/'Institutional Data'!M$21","v":{"$error":"#DIV/0!"}},{"$f":"J9/'Institutional Data'!N$21","v":{"$error":"#DIV/0!"}},{"$f":"K9/'Institutional Data'!O$21","v":{"$error":"#DIV/0!"}},{"$f":"L9/'Institutional Data'!P$21","v":{"$error":"#DIV/0!"}},{"$f":"M9/'Institutional Data'!Q$21","v":{"$error":"#DIV/0!"}},{"$f":"N9/'Institutional Data'!R$21","v":0.9423495399154439},{"$f":"O9/'Institutional Data'!S$21","v":0.95435833818577676},{"$f":"P9/'Institutional Data'!T$21","v":1.0854639238064294},{"$f":"Q9/'Institutional Data'!U$21","v":1.3857695092969413},{"$f":"R9/'Institutional Data'!V$21","v":1.4345297992634471},{"$f":"S9/'Institutional Data'!W$21","v":1.2729650322704942},{"$f":"T9/'Institutional Data'!X$21","v":1.2642722117202267},{"$f":"U9/'Institutional Data'!Y$21","v":1.2071034104801652},{"$f":"V9/'Institutional Data'!Z$21","v":1.1985090435065993},{"$f":"W9/'Institutional Data'!AB$21","v":{"$error":"#DIV/0!"}}]
[null,null,"Scope 3","MTCDE",{"$f":"E10/'Institutional Data'!I$21","v":{"$error":"#DIV/0!"}},{"$f":"F10/'Institutional Data'!J$21","v":{"$error":"#DIV/0!"}},{"$f":"G10/'Institutional Data'!K$21","v":{"$error":"#DIV/0!"}},{"$f":"H10/'Institutional Data'!L$21","v":{"$error":"#DIV/0!"}},{"$f":"I10/'Institutional Data'!M$21","v":{"$error":"#DIV/0!"}},{"$f":"J10/'Institutional Data'!N$21","v":{"$error":"#DIV/0!"}},{"$f":"K10/'Institutional Data'!O$21","v":{"$error":"#DIV/0!"}},{"$f":"L10/'Institutional Data'!P$21","v":{"$error":"#DIV/0!"}},{"$f":"M10/'Institutional Data'!Q$21","v":{"$error":"#DIV/0!"}},{"$f":"N10/'Institutional Data'!R$21","v":1.5499554913621971},{"$f":"O10/'Institutional Data'!S$21","v":1.5870819589196437},{"$f":"P10/'Institutional Data'!T$21","v":1.4843442137808165},{"$f":"Q10/'Institutional Data'!U$21","v":1.6012004909929063},{"$f":"R10/'Institutional Data'!V$21","v":1.7167945716937343},{"$f":"S10/'Institutional Data'!W$21","v":1.8794055749775311},{"$f":"T10/'Institutional Data'!X$21","v":1.6752077907294576},{"$f":"U10/'Institutional Data'!Y$21","v":1.5724804742482734},{"$f":"V10/'Institutional Data'!Z$21","v":1.5043115528759983},{"$f":"W10/'Institutional Data'!AB$21","v":{"$error":"#DIV/0!"}}]
[null,null,"Total Gross Emissions","MTCDE",{"$f":"SUM(E18:E20)","v":{"$error":"#DIV/0!"}},{"$error":"#DIV/0!"},{"$error":"#DIV/0!"},{"$error":"#DIV/0!"},{"$error":"#DIV/0!"},{"$error":"#DIV/0!"},{"$error":"#DIV/0!"},{"$error":"#DIV/0!"},{"$error":"#DIV/0!"},4.0434530659060419,3.870744559318072,3.8676070490671473,4.25820360564295,4.5386030349202047,4.3986597692557687,{"$f":"SUM(T18:T20)","v":4.03978125412144},{"$f":"SUM(U18:U20)","v":3.7402769415135655},{"$f":"SUM(V18:V20)","v":3.6900700668078867},{"$f":"SUM(W18:W20)","v":{"$error":"#DIV/0!"}}]
[null,"Net Emissions"]
[null,null,"Offsets","MTCDE",{"$f":"E13/'Institutional Data'!I$21","v":{"$error":"#DIV/0!"}},{"$f":"F13/'Institutional Data'!J$21","v":{"$error":"#DIV/0!"}},{"$f":"G13/'Institutional Data'!K$21","v":{"$error":"#DIV/0!"}},{"$f":"H13/'Institutional Data'!L$21","v":{"$error":"#DIV/0!"}},{"$f":"I13/'Institutional Data'!M$21","v":{"$error":"#DIV/0!"}},{"$f":"J13/'Institutional Data'!N$21","v":{"$error":"#DIV/0!"}},{"$f":"K13/'Institutional Data'!O$21","v":{"$error":"#DIV/0!"}},{"$f":"L13/'Institutional Data'!P$21","v":{"$error":"#DIV/0!"}},{"$f":"M13/'Institutional Data'!Q$21","v":{"$error":"#DIV/0!"}},{"$f":"N13/'Institutional Data'!R$21","v":-6.8173911045138029E-3},{"$f":"O13/'Institutional Data'!S$21","v":-7.0022516500974708E-3},{"$f":"P13/'Institutional Data'!T$21","v":-4.5905819139928526E-3},{"$f":"Q13/'Institutional Data'!U$21","v":-5.0272890188131749E-3},{"$f":"R13/'Institutional Data'!V$21","v":-4.7695874026142436E-3},{"$f":"S13/'Institutional Data'!W$21","v":-3.1234789438878717E-2},{"$f":"T13/'Institutional Data'!X$21","v":-5.7331910037076404E-2},{"$f":"U13/'Institutional Data'!Y$21","v":-2.8222983555577334E-2},{"$f":"V13/'Institutional Data'!Z$21","v":-5.129087485874613E-2},{"$f":"W13/'Institutional Data'!AB$21","v":{"$error":"#DIV/0!"}}]
[null,null,"Total Net Emissions","MTCDE",{"$f":"E21+E23","v":{"$error":"#DIV/0!"}},{"$error":"#DIV/0!"},{"$error":"#DIV/0!"},{"$error":"#DIV/0!"},{"$error":"#DIV/0!"},{"$error":"#DIV/0!"},{"$error":"#DIV/0!"},{"$error":"#DIV/0!"},{"$error":"#DIV/0!"},4.036635674801528,3.8637423076679744,3.8630164671531544,4.2531763166241365,{"$f":"R21+R23","v":4.5338334475175905},4.3674249798168896,3.9824493440843636,3.7120539579579881,3.6387791919491406,{"$error":"#DIV/0!"}]
[]
[null,"Emissions per Campus User",null,null,"FY1995","FY1996","FY1997","FY1998","FY1999","FY2000","FY2001","FY2002","FY2003","FY2004","FY2005","FY2006","FY2007","FY2008","FY2009","FY2010","FY2011","FY2012","FY2014"]
[null,"Gross Emissions"]
[null,null,"Scope 1","MTCDE",{"$f":"E8/'Institutional Data'!I$33","v":{"$error":"#DIV/0!"}},{"$f":"F8/'Institutional Data'!J$33","v":{"$error":"#DIV/0!"}},{"$f":"G8/'Institutional Data'!K$33","v":{"$error":"#DIV/0!"}},{"$f":"H8/'Institutional Data'!L$33","v":{"$error":"#DIV/0!"}},{"$f":"I8/'Institutional Data'!M$33","v":{"$error":"#DIV/0!"}},{"$f":"J8/'Institutional Data'!N$33","v":{"$error":"#DIV/0!"}},{"$f":"K8/'Institutional Data'!O$33","v":{"$error":"#DIV/0!"}},{"$f":"L8/'Institutional Data'!P$33","v":{"$error":"#DIV/0!"}},{"$f":"M8/'Institutional Data'!Q$33","v":{"$error":"#DIV/0!"}},{"$f":"N8/'Institutional Data'!R$33","v":1.2644079258527328},{"$f":"O8/'Institutional Data'!S$33","v":1.0857869813229653},{"$f":"P8/'Institutional Data'!T$33","v":1.0565095345543229},{"$f":"Q8/'Institutional Data'!U$33","v":1.0329667245808505},{"$f":"R8/'Institutional Data'!V$33","v":1.120904648374641},{"$f":"S8/'Institutional Data'!W$33","v":1.0442493878528096},{"$f":"T8/'Institutional Data'!X$33","v":0.92672014630249566},{"$f":"U8/'Institutional Data'!Y$33","v":0.81483891729538394},{"$f":"V8/'Institutional Data'!Z$33","v":0.83953995912287382},{"$f":"W8/'Institutional Data'!AB$33","v":{"$error":"#DIV/0!"}}]
[null,null,"Scope 2","MTCDE",{"$f":"E9/'Institutional Data'!I$33","v":{"$error":"#DIV/0!"}},{"$f":"F9/'Institutional Data'!J$33","v":{"$error":"#DIV/0!"}},{"$f":"G9/'Institutional Data'!K$33","v":{"$error":"#DIV/0!"}},{"$f":"H9/'Institutional Data'!L$33","v":{"$error":"#DIV/0!"}},{"$f":"I9/'Institutional Data'!M$33","v":{"$error":"#DIV/0!"}},{"$f":"J9/'Institutional Data'!N$33","v":{"$error":"#DIV/0!"}},{"$f":"K9/'Institutional Data'!O$33","v":{"$error":"#DIV/0!"}},{"$f":"L9/'Institutional Data'!P$33","v":{"$error":"#DIV/0!"}},{"$f":"M9/'Institutional Data'!Q$33","v":{"$error":"#DIV/0!"}},{"$f":"N9/'Institutional Data'!R$33","v":0.76814991257633725},{"$f":"O9/'Institutional Data'!S$33","v":0.77952797457695078},{"$f":"P9/'Institutional Data'!T$33","v":0.8836522937197735},{"$f":"Q9/'Institutional Data'!U$33","v":1.126035203140235},{"$f":"R9/'Institutional Data'!V$33","v":1.1590830032899562},{"$f":"S9/'Institutional Data'!W$33","v":1.0666007506356188},{"$f":"T9/'Institutional Data'!X$33","v":1.0648234083451449},{"$f":"U9/'Institutional Data'!Y$33","v":1.0238388100261022},{"$f":"V9/'Institutional Data'!Z$33","v":1.0191914643017979},{"$f":"W9/'Institutional Data'!AB$33","v":{"$error":"#DIV/0!"}}]
[null,null,"Scope 3","MTCDE",{"$f":"E10/'Institutional Data'!I$33","v":{"$error":"#DIV/0!"}},{"$f":"F10/'Institutional Data'!J$33","v":{"$error":"#DIV/0!"}},{"$f":"G10/'Institutional Data'!K$33","v":{"$error":"#DIV/0!"}},{"$f":"H10/'Institutional Data'!L$33","v":{"$error":"#DIV/0!"}},{"$f":"I10/'Institutional Data'!M$33","v":{"$error":"#DIV/0!"}},{"$f":"J10/'Institutional Data'!N$33","v":{"$error":"#DIV/0!"}},{"$f":"K10/'Institutional Data'!O$33","v":{"$error":"#DIV/0!"}},{"$f":"L10/'Institutional Data'!P$33","v":{"$error":"#DIV/0!"}},{"$f":"M10/'Institutional Data'!Q$33","v":{"$error":"#DIV/0!"}},{"$f":"N10/'Institutional Data'!R$33","v":1.2634358322007744},{"$f":"O10/'Institutional Data'!S$33","v":1.2963419875139384},{"$f":"P10/'Institutional Data'!T$33","v":1.2083719600532736},{"$f":"Q10/'Institutional Data'!U$33","v":1.3010880294647142},{"$f":"R10/'Institutional Data'!V$33","v":1.3871495797524571},{"$f":"S10/'Institutional Data'!W$33","v":1.5747293493556438},{"$f":"T10/'Institutional Data'!X$33","v":1.4109306942559154},{"$f":"U10/'Institutional Data'!Y$33","v":1.333743673960142},{"$f":"V10/'Institutional Data'!Z$33","v":1.2792406554196836},{"$f":"W10/'Institutional Data'!AB$33","v":{"$error":"#DIV/0!"}}]
[null,null,"Total Gross Emissions","MTCDE",{"$f":"SUM(E28:E30)","v":{"$error":"#DIV/0!"}},{"$error":"#DIV/0!"},{"$error":"#DIV/0!"},{"$error":"#DIV/0!"},{"$error":"#DIV/0!"},{"$error":"#DIV/0!"},{"$error":"#DIV/0!"},{"$error":"#DIV/0!"},{"$error":"#DIV/0!"},3.2959936706298443,3.1616569434138544,3.1485337883273701,3.4600899571857999,3.6671372314170543,3.6855794878440724,{"$f":"SUM(T28:T30)","v":3.4024742489035562},{"$f":"SUM(U28:U30)","v":3.1724214012816283},{"$f":"SUM(V28:V30)","v":3.1379720788443555},{"$f":"SUM(W28:W30)","v":{"$error":"#DIV/0!"}}]
[null,"Net Emissions"]
[null,null,"Offsets","MTCDE",{"$f":"E13/'Institutional Data'!I33","v":{"$error":"#DIV/0!"}},{"$f":"F13/'Institutional Data'!J$33","v":{"$error":"#DIV/0!"}},{"$f":"G13/'Institutional Data'!K$33","v":{"$error":"#DIV/0!"}},{"$f":"H13/'Institutional Data'!L$33","v":{"$error":"#DIV/0!"}},{"$f":"I13/'Institutional Data'!M$33","v":{"$error":"#DIV/0!"}},{"$f":"J13/'Institutional Data'!N$33","v":{"$error":"#DIV/0!"}},{"$f":"K13/'Institutional Data'!O$33","v":{"$error":"#DIV/0!"}},{"$f":"L13/'Institutional Data'!P$33","v":{"$error":"#DIV/0!"}},{"$f":"M13/'Institutional Data'!Q$33","v":{"$error":"#DIV/0!"}},{"$f":"N13/'Institutional Data'!R$33","v":-5.5571506740491093E-3},{"$f":"O13/'Institutional Data'!S$33","v":-5.7194984607721235E-3},{"$f":"P13/'Institutional Data'!T$33","v":-3.7370917161238452E-3},{"$f":"Q13/'Institutional Data'!U$33","v":-4.0850259538586465E-3},{"$f":"R13/'Institutional Data'!V$33","v":-3.8537698512185413E-3},{"$f":"S13/'Institutional Data'!W$33","v":-2.6171221531538801E-2},{"$f":"T13/'Institutional Data'!X$33","v":-4.828735401021883E-2},{"$f":"U13/'Institutional Data'!Y$33","v":-2.3938119673967532E-2},{"$f":"V13/'Institutional Data'!Z$33","v":-4.3616877265822564E-2},{"$f":"W13/'Institutional Data'!AB$33","v":{"$error":"#DIV/0!"}}]
[null,null,"Total Net Emissions","MTCDE",{"$f":"E31+E33","v":{"$error":"#DIV/0!"}},{"$error":"#DIV/0!"},{"$error":"#DIV/0!"},{"$error":"#DIV/0!"},{"$error":"#DIV/0!"},{"$error":"#DIV/0!"},{"$error":"#DIV/0!"},{"$error":"#DIV/0!"},{"$error":"#DIV/0!"},3.290436519955795,3.1559374449530821,3.1447966966112464,3.4560049312319414,3.6632834615658356,3.6594082663125338,{"$f":"T31+T33","v":3.3541868948933375},{"$f":"U31+U33","v":3.1484832816076609},{"$f":"V31+V33","v":3.0943552015785327},{"$f":"W31+W33","v":{"$error":"#DIV/0!"}}]
[]
[null,"Emissions per 1,000 GSF",null,null,"FY1995","FY1996","FY1997","FY1998","FY1999","FY2000","FY2001","FY2002","FY2003","FY2004","FY2005","FY2006","FY2007","FY2008","FY2009","FY2010","FY2011","FY2012","FY2014"]
[null,"Gross Emissions"]
[null,null,"Scope 1","MTCDE",{"$f":"E8/'Institutional Data'!I$9*1000","v":{"$error":"#DIV/0!"}},{"$f":"F8/'Institutional Data'!J$9*1000","v":{"$error":"#DIV/0!"}},{"$f":"G8/'Institutional Data'!K$9*1000","v":{"$error":"#DIV/0!"}},{"$f":"H8/'Institutional Data'!L$9*1000","v":{"$error":"#DIV/0!"}},{"$f":"I8/'Institutional Data'!M$9*1000","v":{"$error":"#DIV/0!"}},{"$f":"J8/'Institutional Data'!N$9*1000","v":{"$error":"#DIV/0!"}},{"$f":"K8/'Institutional Data'!O$9*1000","v":{"$error":"#DIV/0!"}},{"$f":"L8/'Institutional Data'!P$9*1000","v":{"$error":"#DIV/0!"}},{"$f":"M8/'Institutional Data'!Q$9*1000","v":{"$error":"#DIV/0!"}},{"$f":"N8/'Institutional Data'!R$9*1000","v":5.0480293230921482},{"$f":"O8/'Institutional Data'!S$9*1000","v":4.3725052845397219},{"$f":"P8/'Institutional Data'!T$9*1000","v":4.0398470347281563},{"$f":"Q8/'Institutional Data'!U$9*1000","v":3.9242000503336323},{"$f":"R8/'Institutional Data'!V$9*1000","v":4.1518860236301469},{"$f":"S8/'Institutional Data'!W$9*1000","v":4.1084829321309266},{"$f":"T8/'Institutional Data'!X$9*1000","v":3.6670097660954228},{"$f":"U8/'Institutional Data'!Y$9*1000","v":3.0900651353610327},{"$f":"V8/'Institutional Data'!Z$9*1000","v":3.1068011447283475},{"$f":"W8/'Institutional Data'!AB$9*1000","v":{"$error":"#DIV/0!"}}]
[null,null,"Scope 2","MTCDE",{"$f":"E9/'Institutional Data'!I$9*1000","v":{"$error":"#DIV/0!"}},{"$f":"F9/'Institutional Data'!J$9*1000","v":{"$error":"#DIV/0!"}},{"$f":"G9/'Institutional Data'!K$9*1000","v":{"$error":"#DIV/0!"}},{"$f":"H9/'Institutional Data'!L$9*1000","v":{"$error":"#DIV/0!"}},{"$f":"I9/'Institutional Data'!M$9*1000","v":{"$error":"#DIV/0!"}},{"$f":"J9/'Institutional Data'!N$9*1000","v":{"$error":"#DIV/0!"}},{"$f":"K9/'Institutional Data'!O$9*1000","v":{"$error":"#DIV/0!"}},{"$f":"L9/'Institutional Data'!P$9*1000","v":{"$error":"#DIV/0!"}},{"$f":"M9/'Institutional Data'!Q$9*1000","v":{"$error":"#DIV/0!"}},{"$f":"N9/'Institutional Data'!R$9*1000","v":3.0667660364442031},{"$f":"O9/'Institutional Data'!S$9*1000","v":3.1391886686016672},{"$f":"P9/'Institutional Data'!T$9*1000","v":3.3788811002263697},{"$f":"Q9/'Institutional Data'!U$9*1000","v":4.2777635481272407},{"$f":"R9/'Institutional Data'!V$9*1000","v":4.2933005305714271},{"$f":"S9/'Institutional Data'!W$9*1000","v":4.1964218800213908},{"$f":"T9/'Institutional Data'!X$9*1000","v":4.2134811174096356},{"$f":"U9/'Institutional Data'!Y$9*1000","v":3.8826429910739226},{"$f":"V9/'Institutional Data'!Z$9*1000","v":3.7716194132062189},{"$f":"W9/'Institutional Data'!AB$9*1000","v":{"$error":"#DIV/0!"}}]
[null,null,"Scope 3","MTCDE",{"$f":"E10/'Institutional Data'!I$9*1000","v":{"$error":"#DIV/0!"}},{"$f":"F10/'Institutional Data'!J$9*1000","v":{"$error":"#DIV/0!"}},{"$f":"G10/'Institutional Data'!K$9*1000","v":{"$error":"#DIV/0!"}},{"$f":"H10/'Institutional Data'!L$9*1000","v":{"$error":"#DIV/0!"}},{"$f":"I10/'Institutional Data'!M$9*1000","v":{"$error":"#DIV/0!"}},{"$f":"J10/'Institutional Data'!N$9*1000","v":{"$error":"#DIV/0!"}},{"$f":"K10/'Institutional Data'!O$9*1000","v":{"$error":"#DIV/0!"}},{"$f":"L10/'Institutional Data'!P$9*1000","v":{"$error":"#DIV/0!"}},{"$f":"M10/'Institutional Data'!Q$9*1000","v":{"$error":"#DIV/0!"}},{"$f":"N10/'Institutional Data'!R$9*1000","v":5.044148330922182},{"$f":"O10/'Institutional Data'!S$9*1000","v":5.2204182666373375},{"$f":"P10/'Institutional Data'!T$9*1000","v":4.6205336724472934},{"$f":"Q10/'Institutional Data'!U$9*1000","v":4.9427823657975853},{"$f":"R10/'Institutional Data'!V$9*1000","v":5.1380703623719182},{"$f":"S10/'Institutional Data'!W$9*1000","v":6.195597268059144},{"$f":"T10/'Institutional Data'!X$9*1000","v":5.5830194862639768},{"$f":"U10/'Institutional Data'!Y$9*1000","v":5.0578767642716214},{"$f":"V10/'Institutional Data'!Z$9*1000","v":4.7339573172826608},{"$f":"W10/'Institutional Data'!AB$9*1000","v":{"$error":"#DIV/0!"}}]
[null,null,"Total Gross Emissions","MTCDE",{"$f":"SUM(E38:E40)","v":{"$error":"#DIV/0!"}},{"$f":"SUM(F38:F40)","v":{"$error":"#DIV/0!"}},{"$error":"#DIV/0!"},{"$error":"#DIV/0!"},{"$error":"#DIV/0!"},{"$error":"#DIV/0!"},{"$error":"#DIV/0!"},{"$error":"#DIV/0!"},{"$error":"#DIV/0!"},13.158943690458534,12.732112219778728,12.039261807401818,13.144745964258458,13.583256916573491,{"$f":"SUM(S38:S40)","v":14.500502080211461},{"$f":"SUM(T38:T40)","v":13.463510369769036},{"$f":"SUM(U38:U40)","v":12.030584890706578},{"$f":"SUM(V38:V40)","v":11.612377875217227},{"$f":"SUM(W38:W40)","v":{"$error":"#DIV/0!"}}]
[null,"Net Emissions"]
[null,null,"Offsets","MTCDE",{"$f":"E13/'Institutional Data'!I$9*1000","v":{"$error":"#DIV/0!"}},{"$f":"F13/'Institutional Data'!J$9*1000","v":{"$error":"#DIV/0!"}},{"$f":"G13/'Institutional Data'!K$9*1000","v":{"$error":"#DIV/0!"}},{"$f":"H13/'Institutional Data'!L$9*1000","v":{"$error":"#DIV/0!"}},{"$f":"I13/'Institutional Data'!M$9*1000","v":{"$error":"#DIV/0!"}},{"$f":"J13/'Institutional Data'!N$9*1000","v":{"$error":"#DIV/0!"}},{"$f":"K13/'Institutional Data'!O$9*1000","v":{"$error":"#DIV/0!"}},{"$f":"L13/'Institutional Data'!P$9*1000","v":{"$error":"#DIV/0!"}},{"$f":"M13/'Institutional Data'!Q$9*1000","v":{"$error":"#DIV/0!"}},{"$f":"N13/'Institutional Data'!R$9*1000","v":-2.2186399643550264E-2},{"$f":"O13/'Institutional Data'!S$9*1000","v":-2.3032636856790766E-2},{"$f":"P13/'Institutional Data'!T$9*1000","v":-1.4289770602267866E-2},{"$f":"Q13/'Institutional Data'!U$9*1000","v":-1.55188532914756E-2},{"$f":"R13/'Institutional Data'!V$9*1000","v":-1.4274553332223902E-2},{"$f":"S13/'Institutional Data'!W$9*1000","v":-0.10296775676970799},{"$f":"T13/'Institutional Data'!X$9*1000","v":-0.19107192116289762},{"$f":"U13/'Institutional Data'!Y$9*1000","v":-9.0779106692829195E-2},{"$f":"V13/'Institutional Data'!Z$9*1000","v":-0.16140859377379616},{"$f":"W13/'Institutional Data'!AB$9*1000","v":{"$error":"#DIV/0!"}}]
[null,null,"Total Net Emissions","MTCDE",{"$f":"E41+E43","v":{"$error":"#DIV/0!"}},{"$error":"#DIV/0!"},{"$error":"#DIV/0!"},{"$error":"#DIV/0!"},{"$error":"#DIV/0!"},{"$error":"#DIV/0!"},{"$error":"#DIV/0!"},{"$error":"#DIV/0!"},{"$error":"#DIV/0!"},13.136757290814984,12.709079582921937,12.02497203679955,13.129227110966983,13.568982363241268,14.397534323441754,{"$f":"T41+T43","v":13.272438448606138},{"$f":"U41+U43","v":11.939805784013748},{"$f":"V41+V43","v":11.450969281443431},{"$f":"W41+W43","v":{"$error":"#DIV/0!"}}]

{"sheet":"Scope GHG Benchmarks","index":14,"n_rows":130,"n_cols":23,"rows_kept":130,"cut":false,"hidden":false,"merged":[]}
[{"$f":"CONCATENATE('Institutional Data'!$D$8)","v":"University of Oregon"}]
[{"$f":"'Summary Scope GHG Benchmarks'!A2","v":"Go-Green Measurement, Benchmarking and Analysis Summary"}]
[]
["Scope GHG Benchmarks"]
[]
[]
[null,"General",null,null,"FY1995","FY1996","FY1997","FY1998","FY1999","FY2000","FY2001","FY2002","FY2003","FY2004","FY2005","FY2006","FY2007","FY2008","FY2009","FY2010","FY2011","FY2012","FY2014"]
[null,"Physical Profile"]
[null,null,"Student Density","Total Enrollment/100,000 GSF",{"$f":"'Institutional Data'!I33/'Institutional Data'!I9*100000","v":{"$error":"#DIV/0!"}},{"$f":"'Institutional Data'!J33/'Institutional Data'!J9*100000","v":{"$error":"#DIV/0!"}},{"$f":"'Institutional Data'!K33/'Institutional Data'!K9*100000","v":{"$error":"#DIV/0!"}},{"$f":"'Institutional Data'!L33/'Institutional Data'!L9*100000","v":{"$error":"#DIV/0!"}},{"$f":"'Institutional Data'!M33/'Institutional Data'!M9*100000","v":{"$error":"#DIV/0!"}},{"$f":"'Institutional Data'!N33/'Institutional Data'!N9*100000","v":{"$error":"#DIV/0!"}},{"$f":"'Institutional Data'!O33/'Institutional Data'!O9*100000","v":{"$error":"#DIV/0!"}},{"$f":"'Institutional Data'!P33/'Institutional Data'!P9*100000","v":{"$error":"#DIV/0!"}},{"$f":"'Institutional Data'!Q33/'Institutional Data'!Q9*100000","v":{"$error":"#DIV/0!"}},{"$f":"'Institutional Data'!R33/'Institutional Data'!R9*100000","v":399.24056310290001},{"$f":"'Institutional Data'!S33/'Institutional Data'!S9*100000","v":402.7037862631297},{"$f":"'Institutional Data'!T33/'Institutional Data'!T9*100000","v":382.37677016633091},{"$f":"'Institutional Data'!U33/'Institutional Data'!U9*100000","v":379.89607573525331},{"$f":"'Institutional Data'!V33/'Institutional Data'!V9*100000","v":370.40492513351222},{"$f":"'Institutional Data'!W33/'Institutional Data'!W9*100000","v":393.43886430987595},{"$f":"'Institutional Data'!X33/'Institutional Data'!X9*100000","v":395.69764191772026},{"$f":"'Institutional Data'!Y33/'Institutional Data'!Y9*100000","v":379.22404904488207},{"$f":"'Institutional Data'!Z33/'Institutional Data'!Z9*100000","v":370.05994901948918},{"$f":"'Institutional Data'!AB33/'Institutional Data'!AB9*100000","v":{"$error":"#DIV/0!"}}]
[null,null,"Go-Green Tech Rating","Tech Rating (1-5)",{"$f":"'Institutional Data'!I14","v":0},{"$f":"'Institutional Data'!J14","v":0},{"$f":"'Institutional Data'!K14","v":0},{"$f":"'Institutional Data'!L14","v":0},{"$f":"'Institutional Data'!M14","v":0},{"$f":"'Institutional Data'!N14","v":0},{"$f":"'Institutional Data'!O14","v":0},{"$f":"'Institutional Data'!P14","v":0},{"$f":"'Institutional Data'!Q14","v":0},{"$f":"'Institutional Data'!R14","v":2.9689978835266722},{"$f":"'Institutional Data'!S14","v":2.9519464807040392},{"$f":"'Institutional Data'!T14","v":2.9745382751045799},{"$f":"'Institutional Data'!U14","v":2.9665219212029545},{"$f":"'Institutional Data'!V14","v":2.9709943516307957},{"$f":"'Institutional Data'!W14","v":2.9705562897205233},{"$f":"'Institutional Data'!X14","v":2.97},{"$f":"'Institutional Data'!Y14","v":2.9129999999999998},{"$f":"'Institutional Data'!Z14","v":2.9129999999999998},{"$f":"'Institutional Data'!AB14","v":0}]
[null,"Total Energy"]
[null,null,"Total Energy","Utility MMBtu",{"$f":"('Scope 1 Utilities'!E54)+'Scope 2 Utilities'!E61","v":0},{"$f":"('Scope 1 Utilities'!F54)+'Scope 2 Utilities'!F61","v":0},{"$f":"('Scope 1 Utilities'!G54)+'Scope 2 Utilities'!G61","v":0},{"$f":"('Scope 1 Utilities'!H54)+'Scope 2 Utilities'!H61","v":0},{"$f":"('Scope 1 Utilities'!I54)+'Scope 2 Utilities'!I61","v":0},{"$f":"('Scope 1 Utilities'!J54)+'Scope 2 Utilities'!J61","v":0},{"$f":"('Scope 1 Utilities'!K54)+'Scope 2 Utilities'!K61","v":0},{"$f":"('Scope 1 Utilities'!L54)+'Scope 2 Utilities'!L61","v":0},{"$f":"('Scope 1 Utilities'!M54)+'Scope 2 Utilities'!M61","v":0},{"$f":"('Scope 1 Utilities'!N54)+'Scope 2 Utilities'!N61","v":741988.20723220007},{"$f":"('Scope 1 Utilities'!O54)+'Scope 2 Utilities'!O61","v":679730.76395497506},{"$f":"('Scope 1 Utilities'!P54)+'Scope 2 Utilities'!P61","v":695437.6415505535},{"$f":"('Scope 1 Utilities'!Q54)+'Scope 2 Utilities'!Q61","v":687790.93404449592},{"$f":"('Scope 1 Utilities'!R54)+'Scope 2 Utilities'!R61","v":726479.42328878539},{"$f":"('Scope 1 Utilities'!S54)+'Scope 2 Utilities'!S61","v":713337.42771151685},{"$f":"('Scope 1 Utilities'!T54)+'Scope 2 Utilities'!T61","v":690538.37490246468},{"$f":"('Scope 1 Utilities'!U54)+'Scope 2 Utilities'!U61","v":681854.21335285716},{"$f":"('Scope 1 Utilities'!V54)+'Scope 2 Utilities'!V61","v":710092.94828200003},{"$f":"('Scope 1 Utilities'!W54)+'Scope 2 Utilities'!W61","v":805688.64325600001}]
[null,null,"Total Energy Consumption","Total Btu/GSF",{"$f":"E12/'Institutional Data'!I9*1000000","v":{"$error":"#DIV/0!"}},{"$f":"F12/'Institutional Data'!J9*1000000","v":{"$error":"#DIV/0!"}},{"$f":"G12/'Institutional Data'!K9*1000000","v":{"$error":"#DIV/0!"}},{"$f":"H12/'Institutional Data'!L9*1000000","v":{"$error":"#DIV/0!"}},{"$f":"I12/'Institutional Data'!M9*1000000","v":{"$error":"#DIV/0!"}},{"$f":"J12/'Institutional Data'!N9*1000000","v":{"$error":"#DIV/0!"}},{"$f":"K12/'Institutional Data'!O9*1000000","v":{"$error":"#DIV/0!"}},{"$f":"L12/'Institutional Data'!P9*1000000","v":{"$error":"#DIV/0!"}},{"$f":"M12/'Institutional Data'!Q9*1000000","v":{"$error":"#DIV/0!"}},{"$f":"N12/'Institutional Data'!R9*1000000","v":125109.50750115923},{"$f":"O12/'Institutional Data'!S9*1000000","v":113210.51521943393},{"$f":"P12/'Institutional Data'!T9*1000000","v":109903.42195360118},{"$f":"Q12/'Institutional Data'!U9*1000000","v":108276.85520141065},{"$f":"R12/'Institutional Data'!V9*1000000","v":112776.99813261234},{"$f":"S12/'Institutional Data'!W9*1000000","v":113263.11288936091},{"$f":"T12/'Institutional Data'!X9*1000000","v":106108.15160382888},{"$f":"U12/'Institutional Data'!Y9*1000000","v":92457.366054987448},{"$f":"V12/'Institutional Data'!Z9*1000000","v":91030.228371613164},{"$f":"W12/'Institutional Data'!AB9*1000000","v":{"$error":"#DIV/0!"}}]
[null,null,"Total Utility Emissions (per 1,000 GSF)","Utility MTCDE/1,000 GSF",{"$f":"('Scope 1 Utilities'!E44+'Scope 1 Utilities'!E45+'Scope 1 Utilities'!E46+'Scope 2 Utilities'!E46+'Scope 2 Utilities'!E47+'Scope 2 Utilities'!E48)/'Institutional Data'!I9*1000","v":{"$error":"#DIV/0!"}},{"$f":"('Scope 1 Utilities'!F44+'Scope 1 Utilities'!F45+'Scope 1 Utilities'!F46+'Scope 2 Utilities'!F46+'Scope 2 Utilities'!F47+'Scope 2 Utilities'!F48)/'Institutional Data'!J9*1000","v":{"$error":"#DIV/0!"}},{"$f":"('Scope 1 Utilities'!G44+'Scope 1 Utilities'!G45+'Scope 1 Utilities'!G46+'Scope 2 Utilities'!G46+'Scope 2 Utilities'!G47+'Scope 2 Utilities'!G48)/'Institutional Data'!K9*1000","v":{"$error":"#DIV/0!"}},{"$f":"('Scope 1 Utilities'!H44+'Scope 1 Utilities'!H45+'Scope 1 Utilities'!H46+'Scope 2 Utilities'!H46+'Scope 2 Utilities'!H47+'Scope 2 Utilities'!H48)/'Institutional Data'!L9*1000","v":{"$error":"#DIV/0!"}},{"$f":"('Scope 1 Utilities'!I44+'Scope 1 Utilities'!I45+'Scope 1 Utilities'!I46+'Scope 2 Utilities'!I46+'Scope 2 Utilities'!I47+'Scope 2 Utilities'!I48)/'Institutional Data'!M9*1000","v":{"$error":"#DIV/0!"}},{"$f":"('Scope 1 Utilities'!J44+'Scope 1 Utilities'!J45+'Scope 1 Utilities'!J46+'Scope 2 Utilities'!J46+'Scope 2 Utilities'!J47+'Scope 2 Utilities'!J48)/'Institutional Data'!N9*1000","v":{"$error":"#DIV/0!"}},{"$f":"('Scope 1 Utilities'!K44+'Scope 1 Utilities'!K45+'Scope 1 Utilities'!K46+'Scope 2 Utilities'!K46+'Scope 2 Utilities'!K47+'Scope 2 Utilities'!K48)/'Institutional Data'!O9*1000","v":{"$error":"#DIV/0!"}},{"$f":"('Scope 1 Utilities'!L44+'Scope 1 Utilities'!L45+'Scope 1 Utilities'!L46+'Scope 2 Utilities'!L46+'Scope 2 Utilities'!L47+'Scope 2 Utilities'!L48)/'Institutional Data'!P9*1000","v":{"$error":"#DIV/0!"}},{"$f":"('Scope 1 Utilities'!M44+'Scope 1 Utilities'!M45+'Scope 1 Utilities'!M46+'Scope 2 Utilities'!M46+'Scope 2 Utilities'!M47+'Scope 2 Utilities'!M48)/'Institutional Data'!Q9*1000","v":{"$error":"#DIV/0!"}},{"$f":"('Scope 1 Utilities'!N44+'Scope 1 Utilities'!N45+'Scope 1 Utilities'!N46+'Scope 2 Utilities'!N46+'Scope 2 Utilities'!N47+'Scope 2 Utilities'!N48)/'Institutional Data'!R9*1000","v":7.8890929624498618},{"$f":"('Scope 1 Utilities'!O44+'Scope 1 Utilities'!O45+'Scope 1 Utilities'!O46+'Scope 2 Utilities'!O46+'Scope 2 Utilities'!O47+'Scope 2 Utilities'!O48)/'Institutional Data'!S9*1000","v":7.2860034304954269},{"$f":"('Scope 1 Utilities'!P44+'Scope 1 Utilities'!P45+'Scope 1 Utilities'!P46+'Scope 2 Utilities'!P46+'Scope 2 Utilities'!P47+'Scope 2 Utilities'!P48)/'Institutional Data'!T9*1000","v":7.2074709509366546},{"$f":"('Scope 1 Utilities'!Q44+'Scope 1 Utilities'!Q45+'Scope 1 Utilities'!Q46+'Scope 2 Utilities'!Q46+'Scope 2 Utilities'!Q47+'Scope 2 Utilities'!Q48)/'Institutional Data'!U9*1000","v":8.0591115421425297},{"$f":"('Scope 1 Utilities'!R44+'Scope 1 Utilities'!R45+'Scope 1 Utilities'!R46+'Scope 2 Utilities'!R46+'Scope 2 Utilities'!R47+'Scope 2 Utilities'!R48)/'Institutional Data'!V9*1000","v":8.3073303349824901},{"$f":"('Scope 1 Utilities'!S44+'Scope 1 Utilities'!S45+'Scope 1 Utilities'!S46+'Scope 2 Utilities'!S46+'Scope 2 Utilities'!S47+'Scope 2 Utilities'!S48)/'Institutional Data'!W9*1000","v":8.1587061608015361},{"$f":"('Scope 1 Utilities'!T44+'Scope 1 Utilities'!T45+'Scope 1 Utilities'!T46+'Scope 2 Utilities'!T46+'Scope 2 Utilities'!T47+'Scope 2 Utilities'!T48)/'Institutional Data'!X9*1000","v":7.8139215246634457},{"$f":"('Scope 1 Utilities'!U44+'Scope 1 Utilities'!U45+'Scope 1 Utilities'!U46+'Scope 2 Utilities'!U46+'Scope 2 Utilities'!U47+'Scope 2 Utilities'!U48)/'Institutional Data'!Y9*1000","v":6.9048011633135342},{"$f":"('Scope 1 Utilities'!V44+'Scope 1 Utilities'!V45+'Scope 1 Utilities'!V46+'Scope 2 Utilities'!V46+'Scope 2 Utilities'!V47+'Scope 2 Utilities'!V48)/'Institutional Data'!Z9*1000","v":6.7811976163970389},{"$f":"('Scope 1 Utilities'!W44+'Scope 1 Utilities'!W45+'Scope 1 Utilities'!W46+'Scope 2 Utilities'!W46+'Scope 2 Utilities'!W47+'Scope 2 Utilities'!W48)/'Institutional Data'!AB9*1000","v":{"$error":"#DIV/0!"}}]
[null,null,"Total Utility Emissions (per Campus User)","Utility MTCDE/Campus User",{"$f":"('Scope 1 Utilities'!E44+'Scope 1 Utilities'!E45+'Scope 1 Utilities'!E46+'Scope 2 Utilities'!E46+'Scope 2 Utilities'!E47+'Scope 2 Utilities'!E48)/'Institutional Data'!I33","v":{"$error":"#DIV/0!"}},{"$f":"('Scope 1 Utilities'!F44+'Scope 1 Utilities'!F45+'Scope 1 Utilities'!F46+'Scope 2 Utilities'!F46+'Scope 2 Utilities'!F47+'Scope 2 Utilities'!F48)/'Institutional Data'!J33","v":{"$error":"#DIV/0!"}},{"$f":"('Scope 1 Utilities'!G44+'Scope 1 Utilities'!G45+'Scope 1 Utilities'!G46+'Scope 2 Utilities'!G46+'Scope 2 Utilities'!G47+'Scope 2 Utilities'!G48)/'Institutional Data'!K33","v":{"$error":"#DIV/0!"}},{"$f":"('Scope 1 Utilities'!H44+'Scope 1 Utilities'!H45+'Scope 1 Utilities'!H46+'Scope 2 Utilities'!H46+'Scope 2 Utilities'!H47+'Scope 2 Utilities'!H48)/'Institutional Data'!L33","v":{"$error":"#DIV/0!"}},{"$f":"('Scope 1 Utilities'!I44+'Scope 1 Utilities'!I45+'Scope 1 Utilities'!I46+'Scope 2 Utilities'!I46+'Scope 2 Utilities'!I47+'Scope 2 Utilities'!I48)/'Institutional Data'!M33","v":{"$error":"#DIV/0!"}},{"$f":"('Scope 1 Utilities'!J44+'Scope 1 Utilities'!J45+'Scope 1 Utilities'!J46+'Scope 2 Utilities'!J46+'Scope 2 Utilities'!J47+'Scope 2 Utilities'!J48)/'Institutional Data'!N33","v":{"$error":"#DIV/0!"}},{"$f":"('Scope 1 Utilities'!K44+'Scope 1 Utilities'!K45+'Scope 1 Utilities'!K46+'Scope 2 Utilities'!K46+'Scope 2 Utilities'!K47+'Scope 2 Utilities'!K48)/'Institutional Data'!O33","v":{"$error":"#DIV/0!"}},{"$f":"('Scope 1 Utilities'!L44+'Scope 1 Utilities'!L45+'Scope 1 Utilities'!L46+'Scope 2 Utilities'!L46+'Scope 2 Utilities'!L47+'Scope 2 Utilities'!L48)/'Institutional Data'!P33","v":{"$error":"#DIV/0!"}},{"$f":"('Scope 1 Utilities'!M44+'Scope 1 Utilities'!M45+'Scope 1 Utilities'!M46+'Scope 2 Utilities'!M46+'Scope 2 Utilities'!M47+'Scope 2 Utilities'!M48)/'Institutional Data'!Q33","v":{"$error":"#DIV/0!"}},{"$f":"('Scope 1 Utilities'!N44+'Scope 1 Utilities'!N45+'Scope 1 Utilities'!N46+'Scope 2 Utilities'!N46+'Scope 2 Utilities'!N47+'Scope 2 Utilities'!N48)/'Institutional Data'!R33","v":1.976024906170802},{"$f":"('Scope 1 Utilities'!O44+'Scope 1 Utilities'!O45+'Scope 1 Utilities'!O46+'Scope 2 Utilities'!O46+'Scope 2 Utilities'!O47+'Scope 2 Utilities'!O48)/'Institutional Data'!S33","v":1.8092711514102073},{"$f":"('Scope 1 Utilities'!P44+'Scope 1 Utilities'!P45+'Scope 1 Utilities'!P46+'Scope 2 Utilities'!P46+'Scope 2 Utilities'!P47+'Scope 2 Utilities'!P48)/'Institutional Data'!T33","v":1.8849133925686599},{"$f":"('Scope 1 Utilities'!Q44+'Scope 1 Utilities'!Q45+'Scope 1 Utilities'!Q46+'Scope 2 Utilities'!Q46+'Scope 2 Utilities'!Q47+'Scope 2 Utilities'!Q48)/'Institutional Data'!U33","v":2.1213989974876348},{"$f":"('Scope 1 Utilities'!R44+'Scope 1 Utilities'!R45+'Scope 1 Utilities'!R46+'Scope 2 Utilities'!R46+'Scope 2 Utilities'!R47+'Scope 2 Utilities'!R48)/'Institutional Data'!V33","v":2.2427699448078662},{"$f":"('Scope 1 Utilities'!S44+'Scope 1 Utilities'!S45+'Scope 1 Utilities'!S46+'Scope 2 Utilities'!S46+'Scope 2 Utilities'!S47+'Scope 2 Utilities'!S48)/'Institutional Data'!W33","v":2.0736909596139106},{"$f":"('Scope 1 Utilities'!T44+'Scope 1 Utilities'!T45+'Scope 1 Utilities'!T46+'Scope 2 Utilities'!T46+'Scope 2 Utilities'!T47+'Scope 2 Utilities'!T48)/'Institutional Data'!X33","v":1.9747202654010862},{"$f":"('Scope 1 Utilities'!U44+'Scope 1 Utilities'!U45+'Scope 1 Utilities'!U46+'Scope 2 Utilities'!U46+'Scope 2 Utilities'!U47+'Scope 2 Utilities'!U48)/'Institutional Data'!Y33","v":1.8207709085708157},{"$f":"('Scope 1 Utilities'!V44+'Scope 1 Utilities'!V45+'Scope 1 Utilities'!V46+'Scope 2 Utilities'!V46+'Scope 2 Utilities'!V47+'Scope 2 Utilities'!V48)/'Institutional Data'!Z33","v":1.8324592094779506},{"$f":"('Scope 1 Utilities'!W44+'Scope 1 Utilities'!W45+'Scope 1 Utilities'!W46+'Scope 2 Utilities'!W46+'Scope 2 Utilities'!W47+'Scope 2 Utilities'!W48)/'Institutional Data'!AB33","v":{"$error":"#DIV/0!"}}]
[null,null,"Total Utility Emissions(per Student)","Utility MTCDE/Student FTE",{"$f":"('Scope 1 Utilities'!E44+'Scope 1 Utilities'!E45+'Scope 1 Utilities'!E46+'Scope 2 Utilities'!E46+'Scope 2 Utilities'!E47+'Scope 2 Utilities'!E48)/'Institutional Data'!I21","v":{"$error":"#DIV/0!"}},{"$f":"('Scope 1 Utilities'!F44+'Scope 1 Utilities'!F45+'Scope 1 Utilities'!F46+'Scope 2 Utilities'!F46+'Scope 2 Utilities'!F47+'Scope 2 Utilities'!F48)/'Institutional Data'!J21","v":{"$error":"#DIV/0!"}},{"$f":"('Scope 1 Utilities'!G44+'Scope 1 Utilities'!G45+'Scope 1 Utilities'!G46+'Scope 2 Utilities'!G46+'Scope 2 Utilities'!G47+'Scope 2 Utilities'!G48)/'Institutional Data'!K21","v":{"$error":"#DIV/0!"}},{"$f":"('Scope 1 Utilities'!H44+'Scope 1 Utilities'!H45+'Scope 1 Utilities'!H46+'Scope 2 Utilities'!H46+'Scope 2 Utilities'!H47+'Scope 2 Utilities'!H48)/'Institutional Data'!L21","v":{"$error":"#DIV/0!"}},{"$f":"('Scope 1 Utilities'!I44+'Scope 1 Utilities'!I45+'Scope 1 Utilities'!I46+'Scope 2 Utilities'!I46+'Scope 2 Utilities'!I47+'Scope 2 Utilities'!I48)/'Institutional Data'!M21","v":{"$error":"#DIV/0!"}},{"$f":"('Scope 1 Utilities'!J44+'Scope 1 Utilities'!J45+'Scope 1 Utilities'!J46+'Scope 2 Utilities'!J46+'Scope 2 Utilities'!J47+'Scope 2 Utilities'!J48)/'Institutional Data'!N21","v":{"$error":"#DIV/0!"}},{"$f":"('Scope 1 Utilities'!K44+'Scope 1 Utilities'!K45+'Scope 1 Utilities'!K46+'Scope 2 Utilities'!K46+'Scope 2 Utilities'!K47+'Scope 2 Utilities'!K48)/'Institutional Data'!O21","v":{"$error":"#DIV/0!"}},{"$f":"('Scope 1 Utilities'!L44+'Scope 1 Utilities'!L45+'Scope 1 Utilities'!L46+'Scope 2 Utilities'!L46+'Scope 2 Utilities'!L47+'Scope 2 Utilities'!L48)/'Institutional Data'!P21","v":{"$error":"#DIV/0!"}},{"$f":"('Scope 1 Utilities'!M44+'Scope 1 Utilities'!M45+'Scope 1 Utilities'!M46+'Scope 2 Utilities'!M46+'Scope 2 Utilities'!M47+'Scope 2 Utilities'!M48)/'Institutional Data'!Q21","v":{"$error":"#DIV/0!"}},{"$f":"('Scope 1 Utilities'!N44+'Scope 1 Utilities'!N45+'Scope 1 Utilities'!N46+'Scope 2 Utilities'!N46+'Scope 2 Utilities'!N47+'Scope 2 Utilities'!N48)/'Institutional Data'!R21","v":2.4241442076665742},{"$f":"('Scope 1 Utilities'!O44+'Scope 1 Utilities'!O45+'Scope 1 Utilities'!O46+'Scope 2 Utilities'!O46+'Scope 2 Utilities'!O47+'Scope 2 Utilities'!O48)/'Institutional Data'!S21","v":2.2150494474869711},{"$f":"('Scope 1 Utilities'!P44+'Scope 1 Utilities'!P45+'Scope 1 Utilities'!P46+'Scope 2 Utilities'!P46+'Scope 2 Utilities'!P47+'Scope 2 Utilities'!P48)/'Institutional Data'!T21","v":2.3153965668103629},{"$f":"('Scope 1 Utilities'!Q44+'Scope 1 Utilities'!Q45+'Scope 1 Utilities'!Q46+'Scope 2 Utilities'!Q46+'Scope 2 Utilities'!Q47+'Scope 2 Utilities'!Q48)/'Institutional Data'!U21","v":2.6107265914717122},{"$f":"('Scope 1 Utilities'!R44+'Scope 1 Utilities'!R45+'Scope 1 Utilities'!R46+'Scope 2 Utilities'!R46+'Scope 2 Utilities'!R47+'Scope 2 Utilities'!R48)/'Institutional Data'!V21","v":2.7757462663046888},{"$f":"('Scope 1 Utilities'!S44+'Scope 1 Utilities'!S45+'Scope 1 Utilities'!S46+'Scope 2 Utilities'!S46+'Scope 2 Utilities'!S47+'Scope 2 Utilities'!S48)/'Institutional Data'!W21","v":2.4749055143181335},{"$f":"('Scope 1 Utilities'!T44+'Scope 1 Utilities'!T45+'Scope 1 Utilities'!T46+'Scope 2 Utilities'!T46+'Scope 2 Utilities'!T47+'Scope 2 Utilities'!T48)/'Institutional Data'!X21","v":2.3445990554878544},{"$f":"('Scope 1 Utilities'!U44+'Scope 1 Utilities'!U45+'Scope 1 Utilities'!U46+'Scope 2 Utilities'!U46+'Scope 2 Utilities'!U47+'Scope 2 Utilities'!U48)/'Institutional Data'!Y21","v":2.1466843724969435},{"$f":"('Scope 1 Utilities'!V44+'Scope 1 Utilities'!V45+'Scope 1 Utilities'!V46+'Scope 2 Utilities'!V46+'Scope 2 Utilities'!V47+'Scope 2 Utilities'!V48)/'Institutional Data'!Z21","v":2.154863940035848},{"$f":"('Scope 1 Utilities'!W44+'Scope 1 Utilities'!W45+'Scope 1 Utilities'!W46+'Scope 2 Utilities'!W46+'Scope 2 Utilities'!W47+'Scope 2 Utilities'!W48)/'Institutional Data'!AB21","v":{"$error":"#DIV/0!"}}]
[null,null,"Total Utility % of Total MTCDE","% of Total MTCDE",{"$f":"('GHG Summary_regional'!E8+'GHG Summary_regional'!E17)/'GHG Summary_regional'!E32","v":{"$error":"#DIV/0!"}},{"$f":"('GHG Summary_regional'!F8+'GHG Summary_regional'!F17)/'GHG Summary_regional'!F32","v":{"$error":"#DIV/0!"}},{"$f":"('GHG Summary_regional'!G8+'GHG Summary_regional'!G17)/'GHG Summary_regional'!G32","v":{"$error":"#DIV/0!"}},{"$f":"('GHG Summary_regional'!H8+'GHG Summary_regional'!H17)/'GHG Summary_regional'!H32","v":{"$error":"#DIV/0!"}},{"$f":"('GHG Summary_regional'!I8+'GHG Summary_regional'!I17)/'GHG Summary_regional'!I32","v":{"$error":"#DIV/0!"}},{"$f":"('GHG Summary_regional'!J8+'GHG Summary_regional'!J17)/'GHG Summary_regional'!J32","v":{"$error":"#DIV/0!"}},{"$f":"('GHG Summary_regional'!K8+'GHG Summary_regional'!K17)/'GHG Summary_regional'!K32","v":{"$error":"#DIV/0!"}},{"$f":"('GHG Summary_regional'!L8+'GHG Summary_regional'!L17)/'GHG Summary_regional'!L32","v":{"$error":"#DIV/0!"}},{"$f":"('GHG Summary_regional'!M8+'GHG Summary_regional'!M17)/'GHG Summary_regional'!M32","v":{"$error":"#DIV/0!"}},{"$f":"('GHG Summary_regional'!N8+'GHG Summary_regional'!N17)/'GHG Summary_regional'!N32","v":0.59952327086635315},{"$f":"('GHG Summary_regional'!O8+'GHG Summary_regional'!O17)/'GHG Summary_regional'!O32","v":0.57225410086921547},{"$f":"('GHG Summary_regional'!P8+'GHG Summary_regional'!P17)/'GHG Summary_regional'!P32","v":0.59866386047900821},{"$f":"('GHG Summary_regional'!Q8+'GHG Summary_regional'!Q17)/'GHG Summary_regional'!Q32","v":0.61310515730435955},{"$f":"('GHG Summary_regional'!R8+'GHG Summary_regional'!R17)/'GHG Summary_regional'!R32","v":0.6115860419930933},{"$f":"('GHG Summary_regional'!S8+'GHG Summary_regional'!S17)/'GHG Summary_regional'!S32","v":0.56264990795977721},{"$f":"('GHG Summary_regional'!T8+'GHG Summary_regional'!T17)/'GHG Summary_regional'!T32","v":0.58037772542655919},{"$f":"('GHG Summary_regional'!U8+'GHG Summary_regional'!U17)/'GHG Summary_regional'!U32","v":0.57411761585976406},{"$f":"('GHG Summary_regional'!V8+'GHG Summary_regional'!V17)/'GHG Summary_regional'!V32","v":0.5861751941626675},{"$f":"('GHG Summary_regional'!W8+'GHG Summary_regional'!W17)/'GHG Summary_regional'!W32","v":0.67321327124459296}]
[]
[]
[null,"Scope 1",null,null,"FY1995","FY1996","FY1997","FY1998","FY1999","FY2000","FY2001","FY2002","FY2003","FY2004","FY2005","FY2006","FY2007","FY2008","FY2009","FY2010","FY2011","FY2012","FY2014"]
[null,"On Campus Stationary"]
[null,null,"Stationary Fuel Consumption","Stationary Btu/GSF",{"$f":"'Scope 1 Utilities'!E56","v":{"$error":"#DIV/0!"}},{"$f":"'Scope 1 Utilities'!F56","v":{"$error":"#DIV/0!"}},{"$f":"'Scope 1 Utilities'!G56","v":{"$error":"#DIV/0!"}},{"$f":"'Scope 1 Utilities'!H56","v":{"$error":"#DIV/0!"}},{"$f":"'Scope 1 Utilities'!I56","v":{"$error":"#DIV/0!"}},{"$f":"'Scope 1 Utilities'!J56","v":{"$error":"#DIV/0!"}},{"$f":"'Scope 1 Utilities'!K56","v":{"$error":"#DIV/0!"}},{"$f":"'Scope 1 Utilities'!L56","v":{"$error":"#DIV/0!"}},{"$f":"'Scope 1 Utilities'!M56","v":{"$error":"#DIV/0!"}},{"$f":"'Scope 1 Utilities'!N56","v":90564.901664789038},{"$f":"'Scope 1 Utilities'!O56","v":77851.987565291463},{"$f":"'Scope 1 Utilities'!P56","v":71844.779056515981},{"$f":"'Scope 1 Utilities'!Q56","v":70919.928060964085},{"$f":"'Scope 1 Utilities'!R56","v":75238.801927085617},{"$f":"'Scope 1 Utilities'!S56","v":74762.179232842042},{"$f":"'Scope 1 Utilities'!T56","v":67437.951078493352},{"$f":"'Scope 1 Utilities'!U56","v":56759.776371150765},{"$f":"'Scope 1 Utilities'!V56","v":56935.440531198255},{"$f":"'Scope 1 Utilities'!W56","v":77533.025162915845}]
[null,null,"Stationary Emissions (per 1,000 GSF)","Stationary MTCDE/1,000 GSF",{"$f":"'Scope 1 Utilities'!E50/'Institutional Data'!I9*1000","v":{"$error":"#DIV/0!"}},{"$f":"'Scope 1 Utilities'!F50/'Institutional Data'!J9*1000","v":{"$error":"#DIV/0!"}},{"$f":"'Scope 1 Utilities'!G50/'Institutional Data'!K9*1000","v":{"$error":"#DIV/0!"}},{"$f":"'Scope 1 Utilities'!H50/'Institutional Data'!L9*1000","v":{"$error":"#DIV/0!"}},{"$f":"'Scope 1 Utilities'!I50/'Institutional Data'!M9*1000","v":{"$error":"#DIV/0!"}},{"$f":"'Scope 1 Utilities'!J50/'Institutional Data'!N9*1000","v":{"$error":"#DIV/0!"}},{"$f":"'Scope 1 Utilities'!K50/'Institutional Data'!O9*1000","v":{"$error":"#DIV/0!"}},{"$f":"'Scope 1 Utilities'!L50/'Institutional Data'!P9*1000","v":{"$error":"#DIV/0!"}},{"$f":"'Scope 1 Utilities'!M50/'Institutional Data'!Q9*1000","v":{"$error":"#DIV/0!"}},{"$f":"'Scope 1 Utilities'!N50/'Institutional Data'!R9*1000","v":4.8223269260056574},{"$f":"'Scope 1 Utilities'!O50/'Institutional Data'!S9*1000","v":4.1468147618937596},{"$f":"'Scope 1 Utilities'!P50/'Institutional Data'!T9*1000","v":3.8285898507102849},{"$f":"'Scope 1 Utilities'!Q50/'Institutional Data'!U9*1000","v":3.7813479940152881},{"$f":"'Scope 1 Utilities'!R50/'Institutional Data'!V9*1000","v":4.0140298044110638},{"$f":"'Scope 1 Utilities'!S50/'Institutional Data'!W9*1000","v":3.9622842807801457},{"$f":"'Scope 1 Utilities'!T50/'Institutional Data'!X9*1000","v":3.6004404072538092},{"$f":"'Scope 1 Utilities'!U50/'Institutional Data'!Y9*1000","v":3.0243277237770374},{"$f":"'Scope 1 Utilities'!V50/'Institutional Data'!Z9*1000","v":3.0352684424895022},{"$f":"'Scope 1 Utilities'!W50/'Institutional Data'!AB9*1000","v":{"$error":"#DIV/0!"}}]
[null,null,"Statioanry Emissions (per Campus User)","Stationary MTCDE/Campus User",{"$f":"'Scope 1 Utilities'!E50/'Institutional Data'!I33","v":{"$error":"#DIV/0!"}},{"$f":"'Scope 1 Utilities'!F50/'Institutional Data'!J33","v":{"$error":"#DIV/0!"}},{"$f":"'Scope 1 Utilities'!G50/'Institutional Data'!K33","v":{"$error":"#DIV/0!"}},{"$f":"'Scope 1 Utilities'!H50/'Institutional Data'!L33","v":{"$error":"#DIV/0!"}},{"$f":"'Scope 1 Utilities'!I50/'Institutional Data'!M33","v":{"$error":"#DIV/0!"}},{"$f":"'Scope 1 Utilities'!J50/'Institutional Data'!N33","v":{"$error":"#DIV/0!"}},{"$f":"'Scope 1 Utilities'!K50/'Institutional Data'!O33","v":{"$error":"#DIV/0!"}},{"$f":"'Scope 1 Utilities'!L50/'Institutional Data'!P33","v":{"$error":"#DIV/0!"}},{"$f":"'Scope 1 Utilities'!M50/'Institutional Data'!Q33","v":{"$error":"#DIV/0!"}},{"$f":"'Scope 1 Utilities'!N50/'Institutional Data'!R33","v":1.2078749935944646},{"$f":"'Scope 1 Utilities'!O50/'Institutional Data'!S33","v":1.0297431768332568},{"$f":"'Scope 1 Utilities'!P50/'Institutional Data'!T33","v":1.0012610988488864},{"$f":"'Scope 1 Utilities'!Q50/'Institutional Data'!U33","v":0.99536379434739963},{"$f":"'Scope 1 Utilities'!R50/'Institutional Data'!V33","v":1.0836869415179102},{"$f":"'Scope 1 Utilities'!S50/'Institutional Data'!W33","v":1.0070902089782914},{"$f":"'Scope 1 Utilities'!T50/'Institutional Data'!X33","v":0.90989685705594114},{"$f":"'Scope 1 Utilities'!U50/'Institutional Data'!Y33","v":0.79750420138019806},{"$f":"'Scope 1 Utilities'!V50/'Institutional Data'!Z33","v":0.82020992829182116},{"$f":"'Scope 1 Utilities'!W50/'Institutional Data'!AB33","v":{"$error":"#DIV/0!"}}]
[null,null,"Stationary Emissions (per Student)","Stationary MTCDE/Student FTE",{"$f":"'Scope 1 Utilities'!E50/'Institutional Data'!I21","v":{"$error":"#DIV/0!"}},{"$f":"'Scope 1 Utilities'!F50/'Institutional Data'!J21","v":{"$error":"#DIV/0!"}},{"$f":"'Scope 1 Utilities'!G50/'Institutional Data'!K21","v":{"$error":"#DIV/0!"}},{"$f":"'Scope 1 Utilities'!H50/'Institutional Data'!L21","v":{"$error":"#DIV/0!"}},{"$f":"'Scope 1 Utilities'!I50/'Institutional Data'!M21","v":{"$error":"#DIV/0!"}},{"$f":"'Scope 1 Utilities'!J50/'Institutional Data'!N21","v":{"$error":"#DIV/0!"}},{"$f":"'Scope 1 Utilities'!K50/'Institutional Data'!O21","v":{"$error":"#DIV/0!"}},{"$f":"'Scope 1 Utilities'!L50/'Institutional Data'!P21","v":{"$error":"#DIV/0!"}},{"$f":"'Scope 1 Utilities'!M50/'Institutional Data'!Q21","v":{"$error":"#DIV/0!"}},{"$f":"'Scope 1 Utilities'!N50/'Institutional Data'!R21","v":1.4817946677511302},{"$f":"'Scope 1 Utilities'!O50/'Institutional Data'!S21","v":1.2606911093011945},{"$f":"'Scope 1 Utilities'!P50/'Institutional Data'!T21","v":1.2299326430039337},{"$f":"'Scope 1 Utilities'!Q50/'Institutional Data'!U21","v":1.2249570821747706},{"$f":"'Scope 1 Utilities'!R50/'Institutional Data'!V21","v":1.3412164670412414},{"$f":"'Scope 1 Utilities'!S50/'Institutional Data'!W21","v":1.2019404820476391},{"$f":"'Scope 1 Utilities'!T50/'Institutional Data'!X21","v":1.0803268437676272},{"$f":"'Scope 1 Utilities'!U50/'Institutional Data'!Y21","v":0.94025546983685337},{"$f":"'Scope 1 Utilities'!V50/'Institutional Data'!Z21","v":0.96451849437836079},{"$f":"'Scope 1 Utilities'!W50/'Institutional Data'!AB21","v":{"$error":"#DIV/0!"}}]
[null,null,"Stationary Fuel Carbon Intensity","Stationary MTCDE/1,000 MMBTU",{"$f":"'Scope 1 Utilities'!E50/'Scope 1 Utilities'!E54*1000","v":{"$error":"#DIV/0!"}},{"$f":"'Scope 1 Utilities'!F50/'Scope 1 Utilities'!F54*1000","v":{"$error":"#DIV/0!"}},{"$f":"'Scope 1 Utilities'!G50/'Scope 1 Utilities'!G54*1000","v":{"$error":"#DIV/0!"}},{"$f":"'Scope 1 Utilities'!H50/'Scope 1 Utilities'!H54*1000","v":{"$error":"#DIV/0!"}},{"$f":"'Scope 1 Utilities'!I50/'Scope 1 Utilities'!I54*1000","v":{"$error":"#DIV/0!"}},{"$f":"'Scope 1 Utilities'!J50/'Scope 1 Utilities'!J54*1000","v":{"$error":"#DIV/0!"}},{"$f":"'Scope 1 Utilities'!K50/'Scope 1 Utilities'!K54*1000","v":{"$error":"#DIV/0!"}},{"$f":"'Scope 1 Utilities'!L50/'Scope 1 Utilities'!L54*1000","v":{"$error":"#DIV/0!"}},{"$f":"'Scope 1 Utilities'!M50/'Scope 1 Utilities'!M54*1000","v":{"$error":"#DIV/0!"}},{"$f":"'Scope 1 Utilities'!N55","v":53.247194413733268},{"$f":"'Scope 1 Utilities'!O55","v":53.265367931884661},{"$f":"'Scope 1 Utilities'!P55","v":53.289743541400043},{"$f":"'Scope 1 Utilities'!Q55","v":53.318553718283134},{"$f":"'Scope 1 Utilities'!R55","v":53.35052794037157},{"$f":"'Scope 1 Utilities'!S55","v":52.998512368665232},{"$f":"'Scope 1 Utilities'!T55","v":53.388935305331749},{"$f":"'Scope 1 Utilities'!U55","v":53.282939383006614},{"$f":"'Scope 1 Utilities'!V55","v":53.310704442978725},{"$f":"'Scope 1 Utilities'!W55","v":111.87077996195138}]
[null,null,"Fossil % of Total MTCDE","% of Total MTCDE",{"$f":"'Scope 1 Utilities'!E50/'GHG Summary_regional'!E32","v":{"$error":"#DIV/0!"}},{"$f":"'Scope 1 Utilities'!F50/'GHG Summary_regional'!F32","v":{"$error":"#DIV/0!"}},{"$f":"'Scope 1 Utilities'!G50/'GHG Summary_regional'!G32","v":{"$error":"#DIV/0!"}},{"$f":"'Scope 1 Utilities'!H50/'GHG Summary_regional'!H32","v":{"$error":"#DIV/0!"}},{"$f":"'Scope 1 Utilities'!I50/'GHG Summary_regional'!I32","v":{"$error":"#DIV/0!"}},{"$f":"'Scope 1 Utilities'!J50/'GHG Summary_regional'!J32","v":{"$error":"#DIV/0!"}},{"$f":"'Scope 1 Utilities'!K50/'GHG Summary_regional'!K32","v":{"$error":"#DIV/0!"}},{"$f":"'Scope 1 Utilities'!L50/'GHG Summary_regional'!L32","v":{"$error":"#DIV/0!"}},{"$f":"'Scope 1 Utilities'!M50/'GHG Summary_regional'!M32","v":{"$error":"#DIV/0!"}},{"$f":"'Scope 1 Utilities'!N50/'GHG Summary_regional'!N32","v":0.36646763140283789},{"$f":"'Scope 1 Utilities'!O50/'GHG Summary_regional'!O32","v":0.32569731481410297},{"$f":"'Scope 1 Utilities'!P50/'GHG Summary_regional'!P32","v":0.31800868790447284},{"$f":"'Scope 1 Utilities'!Q50/'GHG Summary_regional'!Q32","v":0.28766991802633951},{"$f":"'Scope 1 Utilities'!R50/'GHG Summary_regional'!R32","v":0.2955130591333644},{"$f":"'Scope 1 Utilities'!S50/'GHG Summary_regional'!S32","v":0.27325152321362683},{"$f":"'Scope 1 Utilities'!T50/'GHG Summary_regional'!T32","v":0.26742211417151934},{"$f":"'Scope 1 Utilities'!U50/'GHG Summary_regional'!U32","v":0.25138659103043937},{"$f":"'Scope 1 Utilities'!V50/'GHG Summary_regional'!V32","v":0.26138216264622921},{"$f":"'Scope 1 Utilities'!W50/'GHG Summary_regional'!W32","v":0.51382384034664719}]
[null,"Scope 1 Summary"]
[null,null,"Scope 1 Emissions (per 1,000 GSF)","MTCDE/1,000 GSF",{"$f":"'GHG Summary_regional'!E12/'Institutional Data'!I9*1000","v":{"$error":"#DIV/0!"}},{"$f":"'GHG Summary_regional'!F12/'Institutional Data'!J9*1000","v":{"$error":"#DIV/0!"}},{"$f":"'GHG Summary_regional'!G12/'Institutional Data'!K9*1000","v":{"$error":"#DIV/0!"}},{"$f":"'GHG Summary_regional'!H12/'Institutional Data'!L9*1000","v":{"$error":"#DIV/0!"}},{"$f":"'GHG Summary_regional'!I12/'Institutional Data'!M9*1000","v":{"$error":"#DIV/0!"}},{"$f":"'GHG Summary_regional'!J12/'Institutional Data'!N9*1000","v":{"$error":"#DIV/0!"}},{"$f":"'GHG Summary_regional'!K12/'Institutional Data'!O9*1000","v":{"$error":"#DIV/0!"}},{"$f":"'GHG Summary_regional'!L12/'Institutional Data'!P9*1000","v":{"$error":"#DIV/0!"}},{"$f":"'GHG Summary_regional'!M12/'Institutional Data'!Q9*1000","v":{"$error":"#DIV/0!"}},{"$f":"'GHG Summary_regional'!N12/'Institutional Data'!R9*1000","v":5.0480293230921482},{"$f":"'GHG Summary_regional'!O12/'Institutional Data'!S9*1000","v":4.3725052845397219},{"$f":"'GHG Summary_regional'!P12/'Institutional Data'!T9*1000","v":4.0398470347281563},{"$f":"'GHG Summary_regional'!Q12/'Institutional Data'!U9*1000","v":3.9242000503336323},{"$f":"'GHG Summary_regional'!R12/'Institutional Data'!V9*1000","v":4.1518860236301469},{"$f":"'GHG Summary_regional'!S12/'Institutional Data'!W9*1000","v":4.1084829321309266},{"$f":"'GHG Summary_regional'!T12/'Institutional Data'!X9*1000","v":3.6670097660954228},{"$f":"'GHG Summary_regional'!U12/'Institutional Data'!Y9*1000","v":3.0900651353610327},{"$f":"'GHG Summary_regional'!V12/'Institutional Data'!Z9*1000","v":3.1068011447283475},{"$f":"'GHG Summary_regional'!W12/'Institutional Data'!AB9*1000","v":{"$error":"#DIV/0!"}}]
[null,null,"Scope 1 Emissions (per Campus User)","MTCDE/Campus User",{"$f":"'GHG Summary_regional'!E12/'Institutional Data'!I33","v":{"$error":"#DIV/0!"}},{"$f":"'GHG Summary_regional'!F12/'Institutional Data'!J33","v":{"$error":"#DIV/0!"}},{"$f":"'GHG Summary_regional'!G12/'Institutional Data'!K33","v":{"$error":"#DIV/0!"}},{"$f":"'GHG Summary_regional'!H12/'Institutional Data'!L33","v":{"$error":"#DIV/0!"}},{"$f":"'GHG Summary_regional'!I12/'Institutional Data'!M33","v":{"$error":"#DIV/0!"}},{"$f":"'GHG Summary_regional'!J12/'Institutional Data'!N33","v":{"$error":"#DIV/0!"}},{"$f":"'GHG Summary_regional'!K12/'Institutional Data'!O33","v":{"$error":"#DIV/0!"}},{"$f":"'GHG Summary_regional'!L12/'Institutional Data'!P33","v":{"$error":"#DIV/0!"}},{"$f":"'GHG Summary_regional'!M12/'Institutional Data'!Q33","v":{"$error":"#DIV/0!"}},{"$f":"'GHG Summary_regional'!N12/'Institutional Data'!R33","v":1.2644079258527328},{"$f":"'GHG Summary_regional'!O12/'Institutional Data'!S33","v":1.0857869813229653},{"$f":"'GHG Summary_regional'!P12/'Institutional Data'!T33","v":1.0565095345543229},{"$f":"'GHG Summary_regional'!Q12/'Institutional Data'!U33","v":1.0329667245808505},{"$f":"'GHG Summary_regional'!R12/'Institutional Data'!V33","v":1.120904648374641},{"$f":"'GHG Summary_regional'!S12/'Institutional Data'!W33","v":1.0442493878528096},{"$f":"'GHG Summary_regional'!T12/'Institutional Data'!X33","v":0.92672014630249566},{"$f":"'GHG Summary_regional'!U12/'Institutional Data'!Y33","v":0.81483891729538394},{"$f":"'GHG Summary_regional'!V12/'Institutional Data'!Z33","v":0.83953995912287382},{"$f":"'GHG Summary_regional'!W12/'Institutional Data'!AB33","v":{"$error":"#DIV/0!"}}]
[null,null,"Scope 1 Emissions (per Student)","MTCDE/Student FTE",{"$f":"'GHG Summary_regional'!E12/'Institutional Data'!I21","v":{"$error":"#DIV/0!"}},{"$f":"'GHG Summary_regional'!F12/'Institutional Data'!J21","v":{"$error":"#DIV/0!"}},{"$f":"'GHG Summary_regional'!G12/'Institutional Data'!K21","v":{"$error":"#DIV/0!"}},{"$f":"'GHG Summary_regional'!H12/'Institutional Data'!L21","v":{"$error":"#DIV/0!"}},{"$f":"'GHG Summary_regional'!I12/'Institutional Data'!M21","v":{"$error":"#DIV/0!"}},{"$f":"'GHG Summary_regional'!J12/'Institutional Data'!N21","v":{"$error":"#DIV/0!"}},{"$f":"'GHG Summary_regional'!K12/'Institutional Data'!O21","v":{"$error":"#DIV/0!"}},{"$f":"'GHG Summary_regional'!L12/'Institutional Data'!P21","v":{"$error":"#DIV/0!"}},{"$f":"'GHG Summary_regional'!M12/'Institutional Data'!Q21","v":{"$error":"#DIV/0!"}},{"$f":"'GHG Summary_regional'!N12/'Institutional Data'!R21","v":1.5511480346284008},{"$f":"'GHG Summary_regional'!O12/'Institutional Data'!S21","v":1.3293042622126519},{"$f":"'GHG Summary_regional'!P12/'Institutional Data'!T21","v":1.2977989114799011},{"$f":"'GHG Summary_regional'!Q12/'Institutional Data'!U21","v":1.2712336053531021},{"$f":"'GHG Summary_regional'!R12/'Institutional Data'!V21","v":1.387278663963023},{"$f":"'GHG Summary_regional'!S12/'Institutional Data'!W21","v":1.2462891620077436},{"$f":"'GHG Summary_regional'!T12/'Institutional Data'!X21","v":1.1003012516717561},{"$f":"'GHG Summary_regional'!U12/'Institutional Data'!Y21","v":0.96069305678512718},{"$f":"'GHG Summary_regional'!V12/'Institutional Data'!Z21","v":0.98724947042528921},{"$f":"'GHG Summary_regional'!W12/'Institutional Data'!AB21","v":{"$error":"#DIV/0!"}}]
[null,null,"Scope 1 % of Total MTCDE","% of MTCDE Total",{"$f":"'GHG Summary_regional'!E12/'GHG Summary_regional'!E32","v":{"$error":"#DIV/0!"}},{"$f":"'GHG Summary_regional'!F12/'GHG Summary_regional'!F32","v":{"$error":"#DIV/0!"}},{"$f":"'GHG Summary_regional'!G12/'GHG Summary_regional'!G32","v":{"$error":"#DIV/0!"}},{"$f":"'GHG Summary_regional'!H12/'GHG Summary_regional'!H32","v":{"$error":"#DIV/0!"}},{"$f":"'GHG Summary_regional'!I12/'GHG Summary_regional'!I32","v":{"$error":"#DIV/0!"}},{"$f":"'GHG Summary_regional'!J12/'GHG Summary_regional'!J32","v":{"$error":"#DIV/0!"}},{"$f":"'GHG Summary_regional'!K12/'GHG Summary_regional'!K32","v":{"$error":"#DIV/0!"}},{"$f":"'GHG Summary_regional'!L12/'GHG Summary_regional'!L32","v":{"$error":"#DIV/0!"}},{"$f":"'GHG Summary_regional'!M12/'GHG Summary_regional'!M32","v":{"$error":"#DIV/0!"}},{"$f":"'GHG Summary_regional'!N12/'GHG Summary_regional'!N32","v":0.38361964621464584},{"$f":"'GHG Summary_regional'!O12/'GHG Summary_regional'!O32","v":0.34342340132277849},{"$f":"'GHG Summary_regional'!P12/'GHG Summary_regional'!P32","v":0.33555604150450746},{"$f":"'GHG Summary_regional'!Q12/'GHG Summary_regional'!Q32","v":0.29853753438855524},{"$f":"'GHG Summary_regional'!R12/'GHG Summary_regional'!R32","v":0.30566204034352468},{"$f":"'GHG Summary_regional'!S12/'GHG Summary_regional'!S32","v":0.28333383971150139},{"$f":"'GHG Summary_regional'!T12/'GHG Summary_regional'!T32","v":0.27236654225998341},{"$f":"'GHG Summary_regional'!U12/'GHG Summary_regional'!U32","v":0.25685078185583943},{"$f":"'GHG Summary_regional'!V12/'GHG Summary_regional'!V32","v":0.26754220178786858},{"$f":"'GHG Summary_regional'!W12/'GHG Summary_regional'!W32","v":0.51784976731633192}]
[]
[null,"Scope 2",null,null,"FY1995","FY1996","FY1997","FY1998","FY1999","FY2000","FY2001","FY2002","FY2003","FY2004","FY2005","FY2006","FY2007","FY2008","FY2009","FY2010","FY2011","FY2012","FY2014"]
[null,"Purchased Electricity"]
[null,null,"Purchased Electricity Consumption","Purchased kWh/GSF",{"$f":"'Scope 2 Utilities'!E8/'Institutional Data'!I9","v":{"$error":"#DIV/0!"}},{"$f":"'Scope 2 Utilities'!F8/'Institutional Data'!J9","v":{"$error":"#DIV/0!"}},{"$f":"'Scope 2 Utilities'!G8/'Institutional Data'!K9","v":{"$error":"#DIV/0!"}},{"$f":"'Scope 2 Utilities'!H8/'Institutional Data'!L9","v":{"$error":"#DIV/0!"}},{"$f":"'Scope 2 Utilities'!I8/'Institutional Data'!M9","v":{"$error":"#DIV/0!"}},{"$f":"'Scope 2 Utilities'!J8/'Institutional Data'!N9","v":{"$error":"#DIV/0!"}},{"$f":"'Scope 2 Utilities'!K8/'Institutional Data'!O9","v":{"$error":"#DIV/0!"}},{"$f":"'Scope 2 Utilities'!L8/'Institutional Data'!P9","v":{"$error":"#DIV/0!"}},{"$f":"'Scope 2 Utilities'!M8/'Institutional Data'!Q9","v":{"$error":"#DIV/0!"}},{"$f":"'Scope 2 Utilities'!N8/'Institutional Data'!R9","v":10.037105912333701},{"$f":"'Scope 2 Utilities'!O8/'Institutional Data'!S9","v":10.276508494366091},{"$f":"'Scope 2 Utilities'!P8/'Institutional Data'!T9","v":11.060984481949399},{"$f":"'Scope 2 Utilities'!Q8/'Institutional Data'!U9","v":10.842059480717634},{"$f":"'Scope 2 Utilities'!R8/'Institutional Data'!V9","v":10.858203323297733},{"$f":"'Scope 2 Utilities'!S8/'Institutional Data'!W9","v":11.080261196931243},{"$f":"'Scope 2 Utilities'!T8/'Institutional Data'!X9","v":11.117877648426758},{"$f":"'Scope 2 Utilities'!U8/'Institutional Data'!Y9","v":10.190602560396247},{"$f":"'Scope 2 Utilities'!V8/'Institutional Data'!Z9","v":9.8305499249547594},{"$f":"'Scope 2 Utilities'!W8/'Institutional Data'!AB9","v":{"$error":"#DIV/0!"}}]
[null,null,"Total Electricity Consumption","Total kWh/GSF",{"$f":"('Scope 1 Utilities'!E21+'Scope 2 Utilities'!E8)/'Institutional Data'!I9","v":{"$error":"#DIV/0!"}},{"$f":"('Scope 1 Utilities'!F21+'Scope 2 Utilities'!F8)/'Institutional Data'!J9","v":{"$error":"#DIV/0!"}},{"$f":"('Scope 1 Utilities'!G21+'Scope 2 Utilities'!G8)/'Institutional Data'!K9","v":{"$error":"#DIV/0!"}},{"$f":"('Scope 1 Utilities'!H21+'Scope 2 Utilities'!H8)/'Institutional Data'!L9","v":{"$error":"#DIV/0!"}},{"$f":"('Scope 1 Utilities'!I21+'Scope 2 Utilities'!I8)/'Institutional Data'!M9","v":{"$error":"#DIV/0!"}},{"$f":"('Scope 1 Utilities'!J21+'Scope 2 Utilities'!J8)/'Institutional Data'!N9","v":{"$error":"#DIV/0!"}},{"$f":"('Scope 1 Utilities'!K21+'Scope 2 Utilities'!K8)/'Institutional Data'!O9","v":{"$error":"#DIV/0!"}},{"$f":"('Scope 1 Utilities'!L21+'Scope 2 Utilities'!L8)/'Institutional Data'!P9","v":{"$error":"#DIV/0!"}},{"$f":"('Scope 1 Utilities'!M21+'Scope 2 Utilities'!M8)/'Institutional Data'!Q9","v":{"$error":"#DIV/0!"}},{"$f":"('Scope 1 Utilities'!N21+'Scope 2 Utilities'!N8)/'Institutional Data'!R9","v":11.293616515617288},{"$f":"('Scope 1 Utilities'!O21+'Scope 2 Utilities'!O8)/'Institutional Data'!S9","v":11.260164580484131},{"$f":"('Scope 1 Utilities'!P21+'Scope 2 Utilities'!P8)/'Institutional Data'!T9","v":11.71367527907114},{"$f":"('Scope 1 Utilities'!Q21+'Scope 2 Utilities'!Q8)/'Institutional Data'!U9","v":11.629962665009066},{"$f":"('Scope 1 Utilities'!R21+'Scope 2 Utilities'!R8)/'Institutional Data'!V9","v":11.508889924141544},{"$f":"('Scope 1 Utilities'!S21+'Scope 2 Utilities'!S8)/'Institutional Data'!W9","v":11.813209586084975},{"$f":"('Scope 1 Utilities'!T21+'Scope 2 Utilities'!T8)/'Institutional Data'!X9","v":11.370490137945223},{"$f":"('Scope 1 Utilities'!U21+'Scope 2 Utilities'!U8)/'Institutional Data'!Y9","v":10.190602560396247},{"$f":"('Scope 1 Utilities'!V21+'Scope 2 Utilities'!V8)/'Institutional Data'!Z9","v":9.8305499249547594},{"$f":"('Scope 1 Utilities'!W31+'Scope 2 Utilities'!W8)/'Institutional Data'!AB9","v":{"$error":"#DIV/0!"}}]
[null,null,"Regional Grid Carbon Intensity","Purchased Electricity MTCDE/1M kWh",{"$f":"'Scope 2 Utilities'!E46/'Scope 2 Utilities'!E8*1000000","v":{"$error":"#DIV/0!"}},{"$f":"'Scope 2 Utilities'!F46/'Scope 2 Utilities'!F8*1000000","v":{"$error":"#DIV/0!"}},{"$f":"'Scope 2 Utilities'!G46/'Scope 2 Utilities'!G8*1000000","v":{"$error":"#DIV/0!"}},{"$f":"'Scope 2 Utilities'!H46/'Scope 2 Utilities'!H8*1000000","v":{"$error":"#DIV/0!"}},{"$f":"'Scope 2 Utilities'!I46/'Scope 2 Utilities'!I8*1000000","v":{"$error":"#DIV/0!"}},{"$f":"'Scope 2 Utilities'!J46/'Scope 2 Utilities'!J8*1000000","v":{"$error":"#DIV/0!"}},{"$f":"'Scope 2 Utilities'!K46/'Scope 2 Utilities'!K8*1000000","v":{"$error":"#DIV/0!"}},{"$f":"'Scope 2 Utilities'!L46/'Scope 2 Utilities'!L8*1000000","v":{"$error":"#DIV/0!"}},{"$f":"'Scope 2 Utilities'!M46/'Scope 2 Utilities'!M8*1000000","v":{"$error":"#DIV/0!"}},{"$f":"'Scope 2 Utilities'!N46/'Scope 2 Utilities'!N8*1000000","v":303.52193289388777},{"$f":"'Scope 2 Utilities'!O46/'Scope 2 Utilities'!O8*1000000","v":303.52258894534839},{"$f":"'Scope 2 Utilities'!P46/'Scope 2 Utilities'!P8*1000000","v":303.52145662478142},{"$f":"'Scope 2 Utilities'!Q46/'Scope 2 Utilities'!Q8*1000000","v":392.24979676372823},{"$f":"'Scope 2 Utilities'!R46/'Scope 2 Utilities'!R8*1000000","v":392.25022639276989},{"$f":"'Scope 2 Utilities'!S46/'Scope 2 Utilities'!S8*1000000","v":374.29726737948323},{"$f":"'Scope 2 Utilities'!T46/'Scope 2 Utilities'!T8*1000000","v":374.29719023455391},{"$f":"'Scope 2 Utilities'!U46/'Scope 2 Utilities'!U8*1000000","v":374.29603353078892},{"$f":"'Scope 2 Utilities'!V46/'Scope 2 Utilities'!V8*1000000","v":377.09072827438331},{"$f":"'Scope 2 Utilities'!W46/'Scope 2 Utilities'!W8*1000000","v":384.90618976107407}]
[null,null,"Purchased Electricity Emissions (per 1,000 GSF)","Purchased Electricity MTCDE/1,000 GSF",{"$f":"'Scope 2 Utilities'!E46/'Institutional Data'!I9*1000","v":{"$error":"#DIV/0!"}},{"$f":"'Scope 2 Utilities'!F46/'Institutional Data'!J9*1000","v":{"$error":"#DIV/0!"}},{"$f":"'Scope 2 Utilities'!G46/'Institutional Data'!K9*1000","v":{"$error":"#DIV/0!"}},{"$f":"'Scope 2 Utilities'!H46/'Institutional Data'!L9*1000","v":{"$error":"#DIV/0!"}},{"$f":"'Scope 2 Utilities'!I46/'Institutional Data'!M9*1000","v":{"$error":"#DIV/0!"}},{"$f":"'Scope 2 Utilities'!J46/'Institutional Data'!N9*1000","v":{"$error":"#DIV/0!"}},{"$f":"'Scope 2 Utilities'!K46/'Institutional Data'!O9*1000","v":{"$error":"#DIV/0!"}},{"$f":"'Scope 2 Utilities'!L46/'Institutional Data'!P9*1000","v":{"$error":"#DIV/0!"}},{"$f":"'Scope 2 Utilities'!M46/'Institutional Data'!Q9*1000","v":{"$error":"#DIV/0!"}},{"$f":"'Scope 2 Utilities'!N46/'Institutional Data'!R9*1000","v":3.0464817871721936},{"$f":"'Scope 2 Utilities'!O46/'Institutional Data'!S9*1000","v":3.1191524635288603},{"$f":"'Scope 2 Utilities'!P46/'Institutional Data'!T9*1000","v":3.3572461216653848},{"$f":"'Scope 2 Utilities'!Q46/'Institutional Data'!U9*1000","v":4.2527956278117447},{"$f":"'Scope 2 Utilities'!R46/'Institutional Data'!V9*1000","v":4.2591327117822617},{"$f":"'Scope 2 Utilities'!S46/'Institutional Data'!W9*1000","v":4.1473114878622859},{"$f":"'Scope 2 Utilities'!T46/'Institutional Data'!X9*1000","v":4.1613903651776853},{"$f":"'Scope 2 Utilities'!U46/'Institutional Data'!Y9*1000","v":3.8143021176450169},{"$f":"'Scope 2 Utilities'!V46/'Institutional Data'!Z9*1000","v":3.7070092305388749},{"$f":"'Scope 2 Utilities'!W46/'Institutional Data'!AB9*1000","v":{"$error":"#DIV/0!"}}]
[null,null,"Purchased Electricity Emissions (per Campus User)","Purchased Electricity MTCDE/Campus User",{"$f":"'Scope 2 Utilities'!E46/'Institutional Data'!I33","v":{"$error":"#DIV/0!"}},{"$f":"'Scope 2 Utilities'!F46/'Institutional Data'!J33","v":{"$error":"#DIV/0!"}},{"$f":"'Scope 2 Utilities'!G46/'Institutional Data'!K33","v":{"$error":"#DIV/0!"}},{"$f":"'Scope 2 Utilities'!H46/'Institutional Data'!L33","v":{"$error":"#DIV/0!"}},{"$f":"'Scope 2 Utilities'!I46/'Institutional Data'!M33","v":{"$error":"#DIV/0!"}},{"$f":"'Scope 2 Utilities'!J46/'Institutional Data'!N33","v":{"$error":"#DIV/0!"}},{"$f":"'Scope 2 Utilities'!K46/'Institutional Data'!O33","v":{"$error":"#DIV/0!"}},{"$f":"'Scope 2 Utilities'!L46/'Institutional Data'!P33","v":{"$error":"#DIV/0!"}},{"$f":"'Scope 2 Utilities'!M46/'Institutional Data'!Q33","v":{"$error":"#DIV/0!"}},{"$f":"'Scope 2 Utilities'!N46/'Institutional Data'!R33","v":0.7630692040645668},{"$f":"'Scope 2 Utilities'!O46/'Institutional Data'!S33","v":0.77455255448996019},{"$f":"'Scope 2 Utilities'!P46/'Institutional Data'!T33","v":0.87799426733088648},{"$f":"'Scope 2 Utilities'!Q46/'Institutional Data'!U33","v":1.119462900368438},{"$f":"'Scope 2 Utilities'!R46/'Institutional Data'!V33","v":1.1498585528383731},{"$f":"'Scope 2 Utilities'!S46/'Institutional Data'!W33","v":1.0541184067153637},{"$f":"'Scope 2 Utilities'!T46/'Institutional Data'!X33","v":1.0516591266528164},{"$f":"'Scope 2 Utilities'!U46/'Institutional Data'!Y33","v":1.0058175707083348},{"$f":"'Scope 2 Utilities'!V46/'Institutional Data'!Z33","v":1.0017320816156858},{"$f":"'Scope 2 Utilities'!W46/'Institutional Data'!AB33","v":{"$error":"#DIV/0!"}}]
[null,null,"Pruchased Electricity Emissions (per Student)","Purchased Electricity MTCDE/Student FTE",{"$f":"'Scope 2 Utilities'!E46/'Institutional Data'!I21","v":{"$error":"#DIV/0!"}},{"$f":"'Scope 2 Utilities'!F46/'Institutional Data'!J21","v":{"$error":"#DIV/0!"}},{"$f":"'Scope 2 Utilities'!G46/'Institutional Data'!K21","v":{"$error":"#DIV/0!"}},{"$f":"'Scope 2 Utilities'!H46/'Institutional Data'!L21","v":{"$error":"#DIV/0!"}},{"$f":"'Scope 2 Utilities'!I46/'Institutional Data'!M21","v":{"$error":"#DIV/0!"}},{"$f":"'Scope 2 Utilities'!J46/'Institutional Data'!N21","v":{"$error":"#DIV/0!"}},{"$f":"'Scope 2 Utilities'!K46/'Institutional Data'!O21","v":{"$error":"#DIV/0!"}},{"$f":"'Scope 2 Utilities'!L46/'Institutional Data'!P21","v":{"$error":"#DIV/0!"}},{"$f":"'Scope 2 Utilities'!M46/'Institutional Data'!Q21","v":{"$error":"#DIV/0!"}},{"$f":"'Scope 2 Utilities'!N46/'Institutional Data'!R21","v":0.93611663765232533},{"$f":"'Scope 2 Utilities'!O46/'Institutional Data'!S21","v":0.94826704473530976},{"$f":"'Scope 2 Utilities'!P46/'Institutional Data'!T21","v":1.0785136973783076},{"$f":"'Scope 2 Utilities'!Q46/'Institutional Data'!U21","v":1.3776812215048502},{"$f":"'Scope 2 Utilities'!R46/'Institutional Data'!V21","v":1.4231132320141087},{"$f":"'Scope 2 Utilities'!S46/'Institutional Data'!W21","v":1.2580676235430113},{"$f":"'Scope 2 Utilities'!T46/'Institutional Data'!X21","v":1.248642168841348},{"$f":"'Scope 2 Utilities'!U46/'Institutional Data'!Y21","v":1.1858564141478016},{"$f":"'Scope 2 Utilities'!V46/'Institutional Data'!Z21","v":1.1779778393351801},{"$f":"'Scope 2 Utilities'!W46/'Institutional Data'!AB21","v":{"$error":"#DIV/0!"}}]
[null,null,"Purchased Electricity % of Total MTCDE","% of Total MTCDE",{"$f":"'GHG Summary_regional'!E14/'GHG Summary_regional'!E32","v":{"$error":"#DIV/0!"}},{"$f":"'GHG Summary_regional'!F14/'GHG Summary_regional'!F32","v":{"$error":"#DIV/0!"}},{"$f":"'GHG Summary_regional'!G14/'GHG Summary_regional'!G32","v":{"$error":"#DIV/0!"}},{"$f":"'GHG Summary_regional'!H14/'GHG Summary_regional'!H32","v":{"$error":"#DIV/0!"}},{"$f":"'GHG Summary_regional'!I14/'GHG Summary_regional'!I32","v":{"$error":"#DIV/0!"}},{"$f":"'GHG Summary_regional'!J14/'GHG Summary_regional'!J32","v":{"$error":"#DIV/0!"}},{"$f":"'GHG Summary_regional'!K14/'GHG Summary_regional'!K32","v":{"$error":"#DIV/0!"}},{"$f":"'GHG Summary_regional'!L14/'GHG Summary_regional'!L32","v":{"$error":"#DIV/0!"}},{"$f":"'GHG Summary_regional'!M14/'GHG Summary_regional'!M32","v":{"$error":"#DIV/0!"}},{"$f":"'GHG Summary_regional'!N14/'GHG Summary_regional'!N32","v":0.23151415940636466},{"$f":"'GHG Summary_regional'!O14/'GHG Summary_regional'!O32","v":0.24498311118271532},{"$f":"'GHG Summary_regional'!P14/'GHG Summary_regional'!P32","v":0.27885813726563591},{"$f":"'GHG Summary_regional'!Q14/'GHG Summary_regional'!Q32","v":0.32353577919081977},{"$f":"'GHG Summary_regional'!R14/'GHG Summary_regional'!R32","v":0.31355754646630585},{"$f":"'GHG Summary_regional'!S14/'GHG Summary_regional'!S32","v":0.28601157842127672},{"$f":"'GHG Summary_regional'!T14/'GHG Summary_regional'!T32","v":0.30908657927145594},{"$f":"'GHG Summary_regional'!U14/'GHG Summary_regional'!U32","v":0.31705043040687914},{"$f":"'GHG Summary_regional'!V14/'GHG Summary_regional'!V32","v":0.3192291251949575},{"$f":"'GHG Summary_regional'!W14/'GHG Summary_regional'!W32","v":0.15938943089794572}]
[null,"Non Electric"]
[null,null,"Purchased Steam Emissions (per 1,000 GSF)","Purchased Steam MTCDE/1,000 GSF",{"$f":"'Scope 2 Utilities'!E47/'Institutional Data'!I9*1000","v":{"$error":"#DIV/0!"}},{"$f":"'Scope 2 Utilities'!F47/'Institutional Data'!J9*1000","v":{"$error":"#DIV/0!"}},{"$f":"'Scope 2 Utilities'!G47/'Institutional Data'!K9*1000","v":{"$error":"#DIV/0!"}},{"$f":"'Scope 2 Utilities'!H47/'Institutional Data'!L9*1000","v":{"$error":"#DIV/0!"}},{"$f":"'Scope 2 Utilities'!I47/'Institutional Data'!M9*1000","v":{"$error":"#DIV/0!"}},{"$f":"'Scope 2 Utilities'!J47/'Institutional Data'!N9*1000","v":{"$error":"#DIV/0!"}},{"$f":"'Scope 2 Utilities'!K47/'Institutional Data'!O9*1000","v":{"$error":"#DIV/0!"}},{"$f":"'Scope 2 Utilities'!L47/'Institutional Data'!P9*1000","v":{"$error":"#DIV/0!"}},{"$f":"'Scope 2 Utilities'!M47/'Institutional Data'!Q9*1000","v":{"$error":"#DIV/0!"}},{"$f":"'Scope 2 Utilities'!N47/'Institutional Data'!R9*1000","v":2.0284249272009589E-2},{"$f":"'Scope 2 Utilities'!O47/'Institutional Data'!S9*1000","v":2.0036205072807373E-2},{"$f":"'Scope 2 Utilities'!P47/'Institutional Data'!T9*1000","v":2.1634978560984723E-2},{"$f":"'Scope 2 Utilities'!Q47/'Institutional Data'!U9*1000","v":2.4967920315496276E-2},{"$f":"'Scope 2 Utilities'!R47/'Institutional Data'!V9*1000","v":3.4167818789164535E-2},{"$f":"'Scope 2 Utilities'!S47/'Institutional Data'!W9*1000","v":4.911039215910433E-2},{"$f":"'Scope 2 Utilities'!T47/'Institutional Data'!X9*1000","v":5.2090752231950442E-2},{"$f":"'Scope 2 Utilities'!U47/'Institutional Data'!Y9*1000","v":6.6171321891480117E-2},{"$f":"'Scope 2 Utilities'!V47/'Institutional Data'!Z9*1000","v":3.8919943368662113E-2},{"$f":"'Scope 2 Utilities'!W47/'Institutional Data'!AB9*1000","v":{"$error":"#DIV/0!"}}]
[null,null,"Purchased Steam Emissions (per Campus User)","Purchased Steam MTCDE/Campus User",{"$f":"'Scope 2 Utilities'!E47/'Institutional Data'!I33","v":{"$error":"#DIV/0!"}},{"$f":"'Scope 2 Utilities'!F47/'Institutional Data'!J33","v":{"$error":"#DIV/0!"}},{"$f":"'Scope 2 Utilities'!G47/'Institutional Data'!K33","v":{"$error":"#DIV/0!"}},{"$f":"'Scope 2 Utilities'!H47/'Institutional Data'!L33","v":{"$error":"#DIV/0!"}},{"$f":"'Scope 2 Utilities'!I47/'Institutional Data'!M33","v":{"$error":"#DIV/0!"}},{"$f":"'Scope 2 Utilities'!J47/'Institutional Data'!N33","v":{"$error":"#DIV/0!"}},{"$f":"'Scope 2 Utilities'!K47/'Institutional Data'!O33","v":{"$error":"#DIV/0!"}},{"$f":"'Scope 2 Utilities'!L47/'Institutional Data'!P33","v":{"$error":"#DIV/0!"}},{"$f":"'Scope 2 Utilities'!M47/'Institutional Data'!Q33","v":{"$error":"#DIV/0!"}},{"$f":"'Scope 2 Utilities'!N47/'Institutional Data'!R33","v":5.0807085117705189E-3},{"$f":"'Scope 2 Utilities'!O47/'Institutional Data'!S33","v":4.9754200869905818E-3},{"$f":"'Scope 2 Utilities'!P47/'Institutional Data'!T33","v":5.6580263888869808E-3},{"$f":"'Scope 2 Utilities'!Q47/'Institutional Data'!U33","v":6.5723027717970511E-3},{"$f":"'Scope 2 Utilities'!R47/'Institutional Data'!V33","v":9.2244504515831601E-3},{"$f":"'Scope 2 Utilities'!S47/'Institutional Data'!W33","v":1.2482343920255054E-2},{"$f":"'Scope 2 Utilities'!T47/'Institutional Data'!X33","v":1.3164281692328602E-2},{"$f":"'Scope 2 Utilities'!U47/'Institutional Data'!Y33","v":1.744913648228269E-2},{"$f":"'Scope 2 Utilities'!V47/'Institutional Data'!Z33","v":1.051719957044376E-2},{"$f":"'Scope 2 Utilities'!W47/'Institutional Data'!AB33","v":{"$error":"#DIV/0!"}}]
[null,null,"Purchased Steam Emissions (per Student)","Purchased Steam MTCDE/Student FTE",{"$f":"'Scope 2 Utilities'!E47/'Institutional Data'!I21","v":{"$error":"#DIV/0!"}},{"$f":"'Scope 2 Utilities'!F47/'Institutional Data'!J21","v":{"$error":"#DIV/0!"}},{"$f":"'Scope 2 Utilities'!G47/'Institutional Data'!K21","v":{"$error":"#DIV/0!"}},{"$f":"'Scope 2 Utilities'!H47/'Institutional Data'!L21","v":{"$error":"#DIV/0!"}},{"$f":"'Scope 2 Utilities'!I47/'Institutional Data'!M21","v":{"$error":"#DIV/0!"}},{"$f":"'Scope 2 Utilities'!J47/'Institutional Data'!N21","v":{"$error":"#DIV/0!"}},{"$f":"'Scope 2 Utilities'!K47/'Institutional Data'!O21","v":{"$error":"#DIV/0!"}},{"$f":"'Scope 2 Utilities'!L47/'Institutional Data'!P21","v":{"$error":"#DIV/0!"}},{"$f":"'Scope 2 Utilities'!M47/'Institutional Data'!Q21","v":{"$error":"#DIV/0!"}},{"$f":"'Scope 2 Utilities'!N47/'Institutional Data'!R21","v":6.2329022631186269E-3},{"$f":"'Scope 2 Utilities'!O47/'Institutional Data'!S21","v":6.0912934504671005E-3},{"$f":"'Scope 2 Utilities'!P47/'Institutional Data'!T21","v":6.9502264281217632E-3},{"$f":"'Scope 2 Utilities'!Q47/'Institutional Data'!U21","v":8.0882877920912255E-3},{"$f":"'Scope 2 Utilities'!R47/'Institutional Data'!V21","v":1.1416567249338658E-2},{"$f":"'Scope 2 Utilities'!S47/'Institutional Data'!W21","v":1.4897408727482901E-2},{"$f":"'Scope 2 Utilities'!T47/'Institutional Data'!X21","v":1.5630042878878696E-2},{"$f":"'Scope 2 Utilities'!U47/'Institutional Data'!Y21","v":2.0572488512288691E-2},{"$f":"'Scope 2 Utilities'!V47/'Institutional Data'!Z21","v":1.2367606322307318E-2},{"$f":"'Scope 2 Utilities'!W47/'Institutional Data'!AB21","v":{"$error":"#DIV/0!"}}]
[null,null,"Purchased Steam % of Total MTCDE","% of Total MTCDE",{"$f":"'GHG Summary_regional'!E15/'GHG Summary_regional'!E32","v":{"$error":"#DIV/0!"}},{"$f":"'GHG Summary_regional'!F15/'GHG Summary_regional'!F32","v":{"$error":"#DIV/0!"}},{"$f":"'GHG Summary_regional'!G15/'GHG Summary_regional'!G32","v":{"$error":"#DIV/0!"}},{"$f":"'GHG Summary_regional'!H15/'GHG Summary_regional'!H32","v":{"$error":"#DIV/0!"}},{"$f":"'GHG Summary_regional'!I15/'GHG Summary_regional'!I32","v":{"$error":"#DIV/0!"}},{"$f":"'GHG Summary_regional'!J15/'GHG Summary_regional'!J32","v":{"$error":"#DIV/0!"}},{"$f":"'GHG Summary_regional'!K15/'GHG Summary_regional'!K32","v":{"$error":"#DIV/0!"}},{"$f":"'GHG Summary_regional'!L15/'GHG Summary_regional'!L32","v":{"$error":"#DIV/0!"}},{"$f":"'GHG Summary_regional'!M15/'GHG Summary_regional'!M32","v":{"$error":"#DIV/0!"}},{"$f":"'GHG Summary_regional'!N15/'GHG Summary_regional'!N32","v":1.5414800571506033E-3},{"$f":"'GHG Summary_regional'!O15/'GHG Summary_regional'!O32","v":1.57367487239722E-3},{"$f":"'GHG Summary_regional'!P15/'GHG Summary_regional'!P32","v":1.7970353088993707E-3},{"$f":"'GHG Summary_regional'!Q15/'GHG Summary_regional'!Q32","v":1.8994600872003086E-3},{"$f":"'GHG Summary_regional'!R15/'GHG Summary_regional'!R32","v":2.5154363934230656E-3},{"$f":"'GHG Summary_regional'!S15/'GHG Summary_regional'!S32","v":3.3868063248736944E-3},{"$f":"'GHG Summary_regional'!T15/'GHG Summary_regional'!T32","v":3.8690319835839406E-3},{"$f":"'GHG Summary_regional'!U15/'GHG Summary_regional'!U32","v":5.6805944224455679E-3},{"$f":"'GHG Summary_regional'!V15/'GHG Summary_regional'!V32","v":5.5639063214807409E-3},{"$f":"'GHG Summary_regional'!W15/'GHG Summary_regional'!W32","v":0}]
[null,null,"Purchased Chilled Water Emissions (per 1,000 GSF)","Purchased Chilled Water MTCDE/1,000 GSF",{"$f":"'Scope 2 Utilities'!E48/'Institutional Data'!I9*1000","v":{"$error":"#DIV/0!"}},{"$f":"'Scope 2 Utilities'!F48/'Institutional Data'!J9*1000","v":{"$error":"#DIV/0!"}},{"$f":"'Scope 2 Utilities'!G48/'Institutional Data'!K9*1000","v":{"$error":"#DIV/0!"}},{"$f":"'Scope 2 Utilities'!H48/'Institutional Data'!L9*1000","v":{"$error":"#DIV/0!"}},{"$f":"'Scope 2 Utilities'!I48/'Institutional Data'!M9*1000","v":{"$error":"#DIV/0!"}},{"$f":"'Scope 2 Utilities'!J48/'Institutional Data'!N9*1000","v":{"$error":"#DIV/0!"}},{"$f":"'Scope 2 Utilities'!K48/'Institutional Data'!O9*1000","v":{"$error":"#DIV/0!"}},{"$f":"'Scope 2 Utilities'!L48/'Institutional Data'!P9*1000","v":{"$error":"#DIV/0!"}},{"$f":"'Scope 2 Utilities'!M48/'Institutional Data'!Q9*1000","v":{"$error":"#DIV/0!"}},{"$f":"'Scope 2 Utilities'!N48/'Institutional Data'!R9*1000","v":0},{"$f":"'Scope 2 Utilities'!O48/'Institutional Data'!S9*1000","v":0},{"$f":"'Scope 2 Utilities'!P48/'Institutional Data'!T9*1000","v":0},{"$f":"'Scope 2 Utilities'!Q48/'Institutional Data'!U9*1000","v":0},{"$f":"'Scope 2 Utilities'!R48/'Institutional Data'!V9*1000","v":0},{"$f":"'Scope 2 Utilities'!S48/'Institutional Data'!W9*1000","v":0},{"$f":"'Scope 2 Utilities'!T48/'Institutional Data'!X9*1000","v":0},{"$f":"'Scope 2 Utilities'!U48/'Institutional Data'!Y9*1000","v":0},{"$f":"'Scope 2 Utilities'!V48/'Institutional Data'!Z9*1000","v":0},{"$f":"'Scope 2 Utilities'!W48/'Institutional Data'!AB9*1000","v":{"$error":"#DIV/0!"}}]
[null,null,"Purchased Chilled Water Emissions (per Campus User)","Purchased Chilled Water MTCDE/Campus User",{"$f":"'Scope 2 Utilities'!E48/'Institutional Data'!I33","v":{"$error":"#DIV/0!"}},{"$f":"'Scope 2 Utilities'!F48/'Institutional Data'!J33","v":{"$error":"#DIV/0!"}},{"$f":"'Scope 2 Utilities'!G48/'Institutional Data'!K33","v":{"$error":"#DIV/0!"}},{"$f":"'Scope 2 Utilities'!H48/'Institutional Data'!L33","v":{"$error":"#DIV/0!"}},{"$f":"'Scope 2 Utilities'!I48/'Institutional Data'!M33","v":{"$error":"#DIV/0!"}},{"$f":"'Scope 2 Utilities'!J48/'Institutional Data'!N33","v":{"$error":"#DIV/0!"}},{"$f":"'Scope 2 Utilities'!K48/'Institutional Data'!O33","v":{"$error":"#DIV/0!"}},{"$f":"'Scope 2 Utilities'!L48/'Institutional Data'!P33","v":{"$error":"#DIV/0!"}},{"$f":"'Scope 2 Utilities'!M48/'Institutional Data'!Q33","v":{"$error":"#DIV/0!"}},{"$f":"'Scope 2 Utilities'!N48/'Institutional Data'!R33","v":0},{"$f":"'Scope 2 Utilities'!O48/'Institutional Data'!S33","v":0},{"$f":"'Scope 2 Utilities'!P48/'Institutional Data'!T33","v":0},{"$f":"'Scope 2 Utilities'!Q48/'Institutional Data'!U33","v":0},{"$f":"'Scope 2 Utilities'!R48/'Institutional Data'!V33","v":0},{"$f":"'Scope 2 Utilities'!S48/'Institutional Data'!W33","v":0},{"$f":"'Scope 2 Utilities'!T48/'Institutional Data'!X33","v":0},{"$f":"'Scope 2 Utilities'!U48/'Institutional Data'!Y33","v":0},{"$f":"'Scope 2 Utilities'!V48/'Institutional Data'!Z33","v":0},{"$f":"'Scope 2 Utilities'!W48/'Institutional Data'!AB33","v":{"$error":"#DIV/0!"}}]
[null,null,"Purchased Chilled Water Emissions (per Student)","Purchased Chilled Water MTCDE/Student FTE",{"$f":"'Scope 2 Utilities'!E48/'Institutional Data'!I21","v":{"$error":"#DIV/0!"}},{"$f":"'Scope 2 Utilities'!F48/'Institutional Data'!J21","v":{"$error":"#DIV/0!"}},{"$f":"'Scope 2 Utilities'!G48/'Institutional Data'!K21","v":{"$error":"#DIV/0!"}},{"$f":"'Scope 2 Utilities'!H48/'Institutional Data'!L21","v":{"$error":"#DIV/0!"}},{"$f":"'Scope 2 Utilities'!I48/'Institutional Data'!M21","v":{"$error":"#DIV/0!"}},{"$f":"'Scope 2 Utilities'!J48/'Institutional Data'!N21","v":{"$error":"#DIV/0!"}},{"$f":"'Scope 2 Utilities'!K48/'Institutional Data'!O21","v":{"$error":"#DIV/0!"}},{"$f":"'Scope 2 Utilities'!L48/'Institutional Data'!P21","v":{"$error":"#DIV/0!"}},{"$f":"'Scope 2 Utilities'!M48/'Institutional Data'!Q21","v":{"$error":"#DIV/0!"}},{"$f":"'Scope 2 Utilities'!N48/'Institutional Data'!R21","v":0},{"$f":"'Scope 2 Utilities'!O48/'Institutional Data'!S21","v":0},{"$f":"'Scope 2 Utilities'!P48/'Institutional Data'!T21","v":0},{"$f":"'Scope 2 Utilities'!Q48/'Institutional Data'!U21","v":0},{"$f":"'Scope 2 Utilities'!R48/'Institutional Data'!V21","v":0},{"$f":"'Scope 2 Utilities'!S48/'Institutional Data'!W21","v":0},{"$f":"'Scope 2 Utilities'!T48/'Institutional Data'!X21","v":0},{"$f":"'Scope 2 Utilities'!U48/'Institutional Data'!Y21","v":0},{"$f":"'Scope 2 Utilities'!V48/'Institutional Data'!Z21","v":0},{"$f":"'Scope 2 Utilities'!W48/'Institutional Data'!AB21","v":{"$error":"#DIV/0!"}}]
[null,null,"Purchased Chilled Water % of Total MTCDE","% of Total MTCDE",{"$f":"'GHG Summary_regional'!E16/'GHG Summary_regional'!E32","v":{"$error":"#DIV/0!"}},{"$f":"'GHG Summary_regional'!F16/'GHG Summary_regional'!F32","v":{"$error":"#DIV/0!"}},{"$f":"'GHG Summary_regional'!G16/'GHG Summary_regional'!G32","v":{"$error":"#DIV/0!"}},{"$f":"'GHG Summary_regional'!H16/'GHG Summary_regional'!H32","v":{"$error":"#DIV/0!"}},{"$f":"'GHG Summary_regional'!I16/'GHG Summary_regional'!I32","v":{"$error":"#DIV/0!"}},{"$f":"'GHG Summary_regional'!J16/'GHG Summary_regional'!J32","v":{"$error":"#DIV/0!"}},{"$f":"'GHG Summary_regional'!K16/'GHG Summary_regional'!K32","v":{"$error":"#DIV/0!"}},{"$f":"'GHG Summary_regional'!L16/'GHG Summary_regional'!L32","v":{"$error":"#DIV/0!"}},{"$f":"'GHG Summary_regional'!M16/'GHG Summary_regional'!M32","v":{"$error":"#DIV/0!"}},{"$f":"'GHG Summary_regional'!N16/'GHG Summary_regional'!N32","v":0},{"$f":"'GHG Summary_regional'!O16/'GHG Summary_regional'!O32","v":0},{"$f":"'GHG Summary_regional'!P16/'GHG Summary_regional'!P32","v":0},{"$f":"'GHG Summary_regional'!Q16/'GHG Summary_regional'!Q32","v":0},{"$f":"'GHG Summary_regional'!R16/'GHG Summary_regional'!R32","v":0},{"$f":"'GHG Summary_regional'!S16/'GHG Summary_regional'!S32","v":0},{"$f":"'GHG Summary_regional'!T16/'GHG Summary_regional'!T32","v":0},{"$f":"'GHG Summary_regional'!U16/'GHG Summary_regional'!U32","v":0},{"$f":"'GHG Summary_regional'!V16/'GHG Summary_regional'!V32","v":0},{"$f":"'GHG Summary_regional'!W16/'GHG Summary_regional'!W32","v":0}]
[null,"Scope 2 Summary"]
[null,null,"Scope 2 Emissions (per 1,000 GSF)","Scope 2 MTCDE/1,000 GSF",{"$f":"'GHG Summary_regional'!E17/'Institutional Data'!I9*1000","v":{"$error":"#DIV/0!"}},{"$f":"'Scope 2 Utilities'!F50/'Institutional Data'!J9*1000","v":{"$error":"#DIV/0!"}},{"$f":"'Scope 2 Utilities'!G50/'Institutional Data'!K9*1000","v":{"$error":"#DIV/0!"}},{"$f":"'Scope 2 Utilities'!H50/'Institutional Data'!L9*1000","v":{"$error":"#DIV/0!"}},{"$f":"'Scope 2 Utilities'!I50/'Institutional Data'!M9*1000","v":{"$error":"#DIV/0!"}},{"$f":"'Scope 2 Utilities'!J50/'Institutional Data'!N9*1000","v":{"$error":"#DIV/0!"}},{"$f":"'Scope 2 Utilities'!K50/'Institutional Data'!O9*1000","v":{"$error":"#DIV/0!"}},{"$f":"'Scope 2 Utilities'!L50/'Institutional Data'!P9*1000","v":{"$error":"#DIV/0!"}},{"$f":"'Scope 2 Utilities'!M50/'Institutional Data'!Q9*1000","v":{"$error":"#DIV/0!"}},{"$f":"'Scope 2 Utilities'!N50/'Institutional Data'!R9*1000","v":3.0667660364442031},{"$f":"'Scope 2 Utilities'!O50/'Institutional Data'!S9*1000","v":3.1391886686016672},{"$f":"'Scope 2 Utilities'!P50/'Institutional Data'!T9*1000","v":3.3788811002263697},{"$f":"'Scope 2 Utilities'!Q50/'Institutional Data'!U9*1000","v":4.2777635481272407},{"$f":"'Scope 2 Utilities'!R50/'Institutional Data'!V9*1000","v":4.2933005305714271},{"$f":"'Scope 2 Utilities'!S50/'Institutional Data'!W9*1000","v":4.1964218800213908},{"$f":"'Scope 2 Utilities'!T50/'Institutional Data'!X9*1000","v":4.2134811174096356},{"$f":"'Scope 2 Utilities'!U50/'Institutional Data'!Y9*1000","v":3.8804734395364973},{"$f":"'Scope 2 Utilities'!V50/'Institutional Data'!Z9*1000","v":3.7459291739075367},{"$f":"'Scope 2 Utilities'!W50/'Institutional Data'!AB9*1000","v":{"$error":"#DIV/0!"}}]
[null,null,"Scope 2 Emissions (per Campus User)","MTCDE/Campus User",{"$f":"'GHG Summary_regional'!E17/'Institutional Data'!I33","v":{"$error":"#DIV/0!"}},{"$f":"'GHG Summary_regional'!F17/'Institutional Data'!J33","v":{"$error":"#DIV/0!"}},{"$f":"'GHG Summary_regional'!G17/'Institutional Data'!K33","v":{"$error":"#DIV/0!"}},{"$f":"'GHG Summary_regional'!H17/'Institutional Data'!L33","v":{"$error":"#DIV/0!"}},{"$f":"'GHG Summary_regional'!I17/'Institutional Data'!M33","v":{"$error":"#DIV/0!"}},{"$f":"'GHG Summary_regional'!J17/'Institutional Data'!N33","v":{"$error":"#DIV/0!"}},{"$f":"'GHG Summary_regional'!K17/'Institutional Data'!O33","v":{"$error":"#DIV/0!"}},{"$f":"'GHG Summary_regional'!L17/'Institutional Data'!P33","v":{"$error":"#DIV/0!"}},{"$f":"'GHG Summary_regional'!M17/'Institutional Data'!Q33","v":{"$error":"#DIV/0!"}},{"$f":"'GHG Summary_regional'!N17/'Institutional Data'!R33","v":0.76814991257633725},{"$f":"'GHG Summary_regional'!O17/'Institutional Data'!S33","v":0.77952797457695078},{"$f":"'GHG Summary_regional'!P17/'Institutional Data'!T33","v":0.8836522937197735},{"$f":"'GHG Summary_regional'!Q17/'Institutional Data'!U33","v":1.126035203140235},{"$f":"'GHG Summary_regional'!R17/'Institutional Data'!V33","v":1.1590830032899562},{"$f":"'GHG Summary_regional'!S17/'Institutional Data'!W33","v":1.0666007506356188},{"$f":"'GHG Summary_regional'!T17/'Institutional Data'!X33","v":1.0648234083451449},{"$f":"'GHG Summary_regional'!U17/'Institutional Data'!Y33","v":1.0238388100261022},{"$f":"'GHG Summary_regional'!V17/'Institutional Data'!Z33","v":1.0191914643017979},{"$f":"'GHG Summary_regional'!W17/'Institutional Data'!AB33","v":{"$error":"#DIV/0!"}}]
[null,null,"Scope 2 Emissions (per Student)","MTCDE/Student FTE",{"$f":"'GHG Summary_regional'!E17/'Institutional Data'!I21","v":{"$error":"#DIV/0!"}},{"$f":"'GHG Summary_regional'!F17/'Institutional Data'!J21","v":{"$error":"#DIV/0!"}},{"$f":"'GHG Summary_regional'!G17/'Institutional Data'!K21","v":{"$error":"#DIV/0!"}},{"$f":"'GHG Summary_regional'!H17/'Institutional Data'!L21","v":{"$error":"#DIV/0!"}},{"$f":"'GHG Summary_regional'!I17/'Institutional Data'!M21","v":{"$error":"#DIV/0!"}},{"$f":"'GHG Summary_regional'!J17/'Institutional Data'!N21","v":{"$error":"#DIV/0!"}},{"$f":"'GHG Summary_regional'!K17/'Institutional Data'!O21","v":{"$error":"#DIV/0!"}},{"$f":"'GHG Summary_regional'!L17/'Institutional Data'!P21","v":{"$error":"#DIV/0!"}},{"$f":"'GHG Summary_regional'!M17/'Institutional Data'!Q21","v":{"$error":"#DIV/0!"}},{"$f":"'GHG Summary_regional'!N17/'Institutional Data'!R21","v":0.9423495399154439},{"$f":"'GHG Summary_regional'!O17/'Institutional Data'!S21","v":0.95435833818577676},{"$f":"'GHG Summary_regional'!P17/'Institutional Data'!T21","v":1.0854639238064294},{"$f":"'GHG Summary_regional'!Q17/'Institutional Data'!U21","v":1.3857695092969413},{"$f":"'GHG Summary_regional'!R17/'Institutional Data'!V21","v":1.4345297992634471},{"$f":"'GHG Summary_regional'!S17/'Institutional Data'!W21","v":1.2729650322704942},{"$f":"'GHG Summary_regional'!T17/'Institutional Data'!X21","v":1.2642722117202267},{"$f":"'GHG Summary_regional'!U17/'Institutional Data'!Y21","v":1.2071034104801652},{"$f":"'GHG Summary_regional'!V17/'Institutional Data'!Z21","v":1.1985090435065993},{"$f":"'GHG Summary_regional'!W17/'Institutional Data'!AB21","v":{"$error":"#DIV/0!"}}]
[null,null,"Scope 2 % of Total MTCDE","% of Total MTCDE",{"$f":"'GHG Summary_regional'!E17/'GHG Summary_regional'!E32","v":{"$error":"#DIV/0!"}},{"$f":"'GHG Summary_regional'!F17/'GHG Summary_regional'!F32","v":{"$error":"#DIV/0!"}},{"$f":"'GHG Summary_regional'!G17/'GHG Summary_regional'!G32","v":{"$error":"#DIV/0!"}},{"$f":"'GHG Summary_regional'!H17/'GHG Summary_regional'!H32","v":{"$error":"#DIV/0!"}},{"$f":"'GHG Summary_regional'!I17/'GHG Summary_regional'!I32","v":{"$error":"#DIV/0!"}},{"$f":"'GHG Summary_regional'!J17/'GHG Summary_regional'!J32","v":{"$error":"#DIV/0!"}},{"$f":"'GHG Summary_regional'!K17/'GHG Summary_regional'!K32","v":{"$error":"#DIV/0!"}},{"$f":"'GHG Summary_regional'!L17/'GHG Summary_regional'!L32","v":{"$error":"#DIV/0!"}},{"$f":"'GHG Summary_regional'!M17/'GHG Summary_regional'!M32","v":{"$error":"#DIV/0!"}},{"$f":"'GHG Summary_regional'!N17/'GHG Summary_regional'!N32","v":0.23305563946351526},{"$f":"'GHG Summary_regional'!O17/'GHG Summary_regional'!O32","v":0.24655678605511253},{"$f":"'GHG Summary_regional'!P17/'GHG Summary_regional'!P32","v":0.28065517257453532},{"$f":"'GHG Summary_regional'!Q17/'GHG Summary_regional'!Q32","v":0.32543523927802009},{"$f":"'GHG Summary_regional'!R17/'GHG Summary_regional'!R32","v":0.3160729828597289},{"$f":"'GHG Summary_regional'!S17/'GHG Summary_regional'!S32","v":0.28939838474615043},{"$f":"'GHG Summary_regional'!T17/'GHG Summary_regional'!T32","v":0.31295561125503985},{"$f":"'GHG Summary_regional'!U17/'GHG Summary_regional'!U32","v":0.3227310248293247},{"$f":"'GHG Summary_regional'!V17/'GHG Summary_regional'!V32","v":0.32479303151643829},{"$f":"'GHG Summary_regional'!W17/'GHG Summary_regional'!W32","v":0.15938943089794572}]
[]
[null,"Scope 3",null,null,"FY1995","FY1996","FY1997","FY1998","FY1999","FY2000","FY2001","FY2002","FY2003","FY2004","FY2005","FY2006","FY2007","FY2008","FY2009","FY2010","FY2011","FY2012","FY2014"]
[null,"Commuting"]
[null,null,"Student Commuting Emissions","Student Commuting MTCDE/Student FTE",{"$f":"'Scope 3 Commuting'!E126/'Institutional Data'!I21","v":{"$error":"#DIV/0!"}},{"$f":"'Scope 3 Commuting'!F126/'Institutional Data'!J21","v":{"$error":"#DIV/0!"}},{"$f":"'Scope 3 Commuting'!G126/'Institutional Data'!K21","v":{"$error":"#DIV/0!"}},{"$f":"'Scope 3 Commuting'!H126/'Institutional Data'!L21","v":{"$error":"#DIV/0!"}},{"$f":"'Scope 3 Commuting'!I126/'Institutional Data'!M21","v":{"$error":"#DIV/0!"}},{"$f":"'Scope 3 Commuting'!J126/'Institutional Data'!N21","v":{"$error":"#DIV/0!"}},{"$f":"'Scope 3 Commuting'!K126/'Institutional Data'!O21","v":{"$error":"#DIV/0!"}},{"$f":"'Scope 3 Commuting'!L126/'Institutional Data'!P21","v":{"$error":"#DIV/0!"}},{"$f":"'Scope 3 Commuting'!M126/'Institutional Data'!Q21","v":{"$error":"#DIV/0!"}},{"$f":"'Scope 3 Commuting'!N126/'Institutional Data'!R21","v":0.24875652822680924},{"$f":"'Scope 3 Commuting'!O126/'Institutional Data'!S21","v":0.24807716651054454},{"$f":"'Scope 3 Commuting'!P126/'Institutional Data'!T21","v":0.22214832565034623},{"$f":"'Scope 3 Commuting'!Q126/'Institutional Data'!U21","v":0.21658863967850842},{"$f":"'Scope 3 Commuting'!R126/'Institutional Data'!V21","v":0.2257171015094144},{"$f":"'Scope 3 Commuting'!S126/'Institutional Data'!W21","v":0.25617955880936327},{"$f":"'Scope 3 Commuting'!T126/'Institutional Data'!X21","v":0.24174005256120615},{"$f":"'Scope 3 Commuting'!U126/'Institutional Data'!Y21","v":0.24173938704101852},{"$f":"'Scope 3 Commuting'!V126/'Institutional Data'!Z21","v":0.12886996904024767},{"$f":"'Scope 3 Commuting'!W126/'Institutional Data'!AB21","v":{"$error":"#DIV/0!"}}]
[null,null,"Student Commuting Carbon Intensity","Student Commuting MTCDE/100,000 Student Passenger Miles",{"$f":"'Scope 3 Commuting'!E126/'Scope 3 Commuting'!E144*100000","v":{"$error":"#DIV/0!"}},{"$f":"'Scope 3 Commuting'!F126/'Scope 3 Commuting'!F144*100000","v":{"$error":"#DIV/0!"}},{"$f":"'Scope 3 Commuting'!G126/'Scope 3 Commuting'!G144*100000","v":{"$error":"#DIV/0!"}},{"$f":"'Scope 3 Commuting'!H126/'Scope 3 Commuting'!H144*100000","v":{"$error":"#DIV/0!"}},{"$f":"'Scope 3 Commuting'!I126/'Scope 3 Commuting'!I144*100000","v":{"$error":"#DIV/0!"}},{"$f":"'Scope 3 Commuting'!J126/'Scope 3 Commuting'!J144*100000","v":{"$error":"#DIV/0!"}},{"$f":"'Scope 3 Commuting'!K126/'Scope 3 Commuting'!K144*100000","v":{"$error":"#DIV/0!"}},{"$f":"'Scope 3 Commuting'!L126/'Scope 3 Commuting'!L144*100000","v":{"$error":"#DIV/0!"}},{"$f":"'Scope 3 Commuting'!M126/'Scope 3 Commuting'!M144*100000","v":{"$error":"#DIV/0!"}},{"$f":"'Scope 3 Commuting'!N126/'Scope 3 Commuting'!N144*100000","v":35.435402881311866},{"$f":"'Scope 3 Commuting'!O126/'Scope 3 Commuting'!O144*100000","v":35.33862770805478},{"$f":"'Scope 3 Commuting'!P126/'Scope 3 Commuting'!P144*100000","v":34.863202393337453},{"$f":"'Scope 3 Commuting'!Q126/'Scope 3 Commuting'!Q144*100000","v":33.990684193111811},{"$f":"'Scope 3 Commuting'!R126/'Scope 3 Commuting'!R144*100000","v":35.423273934308597},{"$f":"'Scope 3 Commuting'!S126/'Scope 3 Commuting'!S144*100000","v":77.838291105476372},{"$f":"'Scope 3 Commuting'!T126/'Scope 3 Commuting'!T144*100000","v":74.767442248586619},{"$f":"'Scope 3 Commuting'!U126/'Scope 3 Commuting'!U144*100000","v":53.704349197124941},{"$f":"'Scope 3 Commuting'!V126/'Scope 3 Commuting'!V144*100000","v":71.857425421625194},{"$f":"'Scope 3 Commuting'!W126/'Scope 3 Commuting'!W144*100000","v":52.661707561103547}]
[null,null,"Student Commute % of Total MTCDE","% of Total MTCDE",{"$f":"'GHG Summary_regional'!E20/'GHG Summary_regional'!E32","v":{"$error":"#DIV/0!"}},{"$f":"'GHG Summary_regional'!F20/'GHG Summary_regional'!F32","v":{"$error":"#DIV/0!"}},{"$f":"'GHG Summary_regional'!G20/'GHG Summary_regional'!G32","v":{"$error":"#DIV/0!"}},{"$f":"'GHG Summary_regional'!H20/'GHG Summary_regional'!H32","v":{"$error":"#DIV/0!"}},{"$f":"'GHG Summary_regional'!I20/'GHG Summary_regional'!I32","v":{"$error":"#DIV/0!"}},{"$f":"'GHG Summary_regional'!J20/'GHG Summary_regional'!J32","v":{"$error":"#DIV/0!"}},{"$f":"'GHG Summary_regional'!K20/'GHG Summary_regional'!K32","v":{"$error":"#DIV/0!"}},{"$f":"'GHG Summary_regional'!L20/'GHG Summary_regional'!L32","v":{"$error":"#DIV/0!"}},{"$f":"'GHG Summary_regional'!M20/'GHG Summary_regional'!M32","v":{"$error":"#DIV/0!"}},{"$f":"'GHG Summary_regional'!N20/'GHG Summary_regional'!N32","v":6.15208150489732E-2},{"$f":"'GHG Summary_regional'!O20/'GHG Summary_regional'!O32","v":6.4090296507256353E-2},{"$f":"'GHG Summary_regional'!P20/'GHG Summary_regional'!P32","v":5.7438184084375274E-2},{"$f":"'GHG Summary_regional'!Q20/'GHG Summary_regional'!Q32","v":5.0863852398106625E-2},{"$f":"'GHG Summary_regional'!R20/'GHG Summary_regional'!R32","v":4.9732726077327642E-2},{"$f":"'GHG Summary_regional'!S20/'GHG Summary_regional'!S32","v":5.8240366895370856E-2},{"$f":"'GHG Summary_regional'!T20/'GHG Summary_regional'!T32","v":5.9839886705395161E-2},{"$f":"'GHG Summary_regional'!U20/'GHG Summary_regional'!U32","v":6.463141388220163E-2},{"$f":"'GHG Summary_regional'!V20/'GHG Summary_regional'!V32","v":3.4923447714294294E-2},{"$f":"'GHG Summary_regional'!W20/'GHG Summary_regional'!W32","v":2.1648303966432712E-2}]
[null,null,"Faculty/Staff Commuting Emissions","Faculty/Staff Commuting MTCDE/Faculty/Staff Member",{"$f":"'Scope 3 Commuting'!E125/('Institutional Data'!I26+'Institutional Data'!I31)","v":{"$error":"#DIV/0!"}},{"$f":"'Scope 3 Commuting'!F125/('Institutional Data'!J26+'Institutional Data'!J31)","v":{"$error":"#DIV/0!"}},{"$f":"'Scope 3 Commuting'!G125/('Institutional Data'!K26+'Institutional Data'!K31)","v":{"$error":"#DIV/0!"}},{"$f":"'Scope 3 Commuting'!H125/('Institutional Data'!L26+'Institutional Data'!L31)","v":{"$error":"#DIV/0!"}},{"$f":"'Scope 3 Commuting'!I125/('Institutional Data'!M26+'Institutional Data'!M31)","v":{"$error":"#DIV/0!"}},{"$f":"'Scope 3 Commuting'!J125/('Institutional Data'!N26+'Institutional Data'!N31)","v":{"$error":"#DIV/0!"}},{"$f":"'Scope 3 Commuting'!K125/('Institutional Data'!O26+'Institutional Data'!O31)","v":{"$error":"#DIV/0!"}},{"$f":"'Scope 3 Commuting'!L125/('Institutional Data'!P26+'Institutional Data'!P31)","v":{"$error":"#DIV/0!"}},{"$f":"'Scope 3 Commuting'!M125/('Institutional Data'!Q26+'Institutional Data'!Q31)","v":{"$error":"#DIV/0!"}},{"$f":"'Scope 3 Commuting'!N125/('Institutional Data'!R26+'Institutional Data'!R31)","v":0.28115147361206305},{"$f":"'Scope 3 Commuting'!O125/('Institutional Data'!S26+'Institutional Data'!S31)","v":0.29022232721986668},{"$f":"'Scope 3 Commuting'!P125/('Institutional Data'!T26+'Institutional Data'!T31)","v":0.28278214000097485},{"$f":"'Scope 3 Commuting'!Q125/('Institutional Data'!U26+'Institutional Data'!U31)","v":0.27517302719240194},{"$f":"'Scope 3 Commuting'!R125/('Institutional Data'!V26+'Institutional Data'!V31)","v":0.31435119502346393},{"$f":"'Scope 3 Commuting'!S125/('Institutional Data'!W26+'Institutional Data'!W31)","v":0.62959920338561115},{"$f":"'Scope 3 Commuting'!T125/('Institutional Data'!X26+'Institutional Data'!X31)","v":0.67443692307692304},{"$f":"'Scope 3 Commuting'!U125/('Institutional Data'!Y26+'Institutional Data'!Y31)","v":0.66846443711728687},{"$f":"'Scope 3 Commuting'!V125/('Institutional Data'!Z26+'Institutional Data'!Z31)","v":0.67050243111831442},{"$f":"'Scope 3 Commuting'!W125/('Institutional Data'!AB26+'Institutional Data'!AB31)","v":{"$error":"#DIV/0!"}}]
[null,null,"Faculty/Staff Commuting Intensity","Faculty/Staff Commuting MTCDE/100,000 Faculty/Staff Passenger Miles",{"$f":"'Scope 3 Commuting'!E125/'Scope 3 Commuting'!E155*100000","v":{"$error":"#DIV/0!"}},{"$f":"'Scope 3 Commuting'!F125/'Scope 3 Commuting'!F155*100000","v":{"$error":"#DIV/0!"}},{"$f":"'Scope 3 Commuting'!G125/'Scope 3 Commuting'!G155*100000","v":{"$error":"#DIV/0!"}},{"$f":"'Scope 3 Commuting'!H125/'Scope 3 Commuting'!H155*100000","v":{"$error":"#DIV/0!"}},{"$f":"'Scope 3 Commuting'!I125/'Scope 3 Commuting'!I155*100000","v":{"$error":"#DIV/0!"}},{"$f":"'Scope 3 Commuting'!J125/'Scope 3 Commuting'!J155*100000","v":{"$error":"#DIV/0!"}},{"$f":"'Scope 3 Commuting'!K125/'Scope 3 Commuting'!K155*100000","v":{"$error":"#DIV/0!"}},{"$f":"'Scope 3 Commuting'!L125/'Scope 3 Commuting'!L155*100000","v":{"$error":"#DIV/0!"}},{"$f":"'Scope 3 Commuting'!M125/'Scope 3 Commuting'!M155*100000","v":{"$error":"#DIV/0!"}},{"$f":"'Scope 3 Commuting'!N125/'Scope 3 Commuting'!N155*100000","v":25.609002621994776},{"$f":"'Scope 3 Commuting'!O125/'Scope 3 Commuting'!O155*100000","v":26.417545572587855},{"$f":"'Scope 3 Commuting'!P125/'Scope 3 Commuting'!P155*100000","v":25.738001939813017},{"$f":"'Scope 3 Commuting'!Q125/'Scope 3 Commuting'!Q155*100000","v":25.002315214847801},{"$f":"'Scope 3 Commuting'!R125/'Scope 3 Commuting'!R155*100000","v":28.595356384152964},{"$f":"'Scope 3 Commuting'!S125/'Scope 3 Commuting'!S155*100000","v":36.377505653851941},{"$f":"'Scope 3 Commuting'!T125/'Scope 3 Commuting'!T155*100000","v":39.034430897136588},{"$f":"'Scope 3 Commuting'!U125/'Scope 3 Commuting'!U155*100000","v":37.198176176685408},{"$f":"'Scope 3 Commuting'!V125/'Scope 3 Commuting'!V155*100000","v":44.22157429203348},{"$f":"'Scope 3 Commuting'!W125/'Scope 3 Commuting'!W155*100000","v":27.392356350547598}]
[null,null,"Faculty/Staff Commute % of Total MTCDE","% of Total MTCDE",{"$f":"'GHG Summary_regional'!E19/'GHG Summary_regional'!E32","v":{"$error":"#DIV/0!"}},{"$f":"'GHG Summary_regional'!F19/'GHG Summary_regional'!F32","v":{"$error":"#DIV/0!"}},{"$f":"'GHG Summary_regional'!G19/'GHG Summary_regional'!G32","v":{"$error":"#DIV/0!"}},{"$f":"'GHG Summary_regional'!H19/'GHG Summary_regional'!H32","v":{"$error":"#DIV/0!"}},{"$f":"'GHG Summary_regional'!I19/'GHG Summary_regional'!I32","v":{"$error":"#DIV/0!"}},{"$f":"'GHG Summary_regional'!J19/'GHG Summary_regional'!J32","v":{"$error":"#DIV/0!"}},{"$f":"'GHG Summary_regional'!K19/'GHG Summary_regional'!K32","v":{"$error":"#DIV/0!"}},{"$f":"'GHG Summary_regional'!L19/'GHG Summary_regional'!L32","v":{"$error":"#DIV/0!"}},{"$f":"'GHG Summary_regional'!M19/'GHG Summary_regional'!M32","v":{"$error":"#DIV/0!"}},{"$f":"'GHG Summary_regional'!N19/'GHG Summary_regional'!N32","v":1.5768456843969512E-2},{"$f":"'GHG Summary_regional'!O19/'GHG Summary_regional'!O32","v":1.6815952190080016E-2},{"$f":"'GHG Summary_regional'!P19/'GHG Summary_regional'!P32","v":1.6698382881306713E-2},{"$f":"'GHG Summary_regional'!Q19/'GHG Summary_regional'!Q32","v":1.4905851352645043E-2},{"$f":"'GHG Summary_regional'!R19/'GHG Summary_regional'!R32","v":1.6459479753784187E-2},{"$f":"'GHG Summary_regional'!S19/'GHG Summary_regional'!S32","v":2.7693410527766117E-2},{"$f":"'GHG Summary_regional'!T19/'GHG Summary_regional'!T32","v":3.1270680624842589E-2},{"$f":"'GHG Summary_regional'!U19/'GHG Summary_regional'!U32","v":3.1990537994498525E-2},{"$f":"'GHG Summary_regional'!V19/'GHG Summary_regional'!V32","v":3.1969278405508096E-2},{"$f":"'GHG Summary_regional'!W19/'GHG Summary_regional'!W32","v":2.1648303966432712E-2}]
[null,null,"Total Commuting Emissions","Total Commuting MTCDE/Campus User",{"$f":"'Scope 3 Commuting'!E127/'Institutional Data'!I33","v":{"$error":"#DIV/0!"}},{"$f":"'Scope 3 Commuting'!F127/'Institutional Data'!J33","v":{"$error":"#DIV/0!"}},{"$f":"'Scope 3 Commuting'!G127/'Institutional Data'!K33","v":{"$error":"#DIV/0!"}},{"$f":"'Scope 3 Commuting'!H127/'Institutional Data'!L33","v":{"$error":"#DIV/0!"}},{"$f":"'Scope 3 Commuting'!I127/'Institutional Data'!M33","v":{"$error":"#DIV/0!"}},{"$f":"'Scope 3 Commuting'!J127/'Institutional Data'!N33","v":{"$error":"#DIV/0!"}},{"$f":"'Scope 3 Commuting'!K127/'Institutional Data'!O33","v":{"$error":"#DIV/0!"}},{"$f":"'Scope 3 Commuting'!L127/'Institutional Data'!P33","v":{"$error":"#DIV/0!"}},{"$f":"'Scope 3 Commuting'!M127/'Institutional Data'!Q33","v":{"$error":"#DIV/0!"}},{"$f":"'Scope 3 Commuting'!N127/'Institutional Data'!R33","v":0.25474495096672828},{"$f":"'Scope 3 Commuting'!O127/'Institutional Data'!S33","v":0.25579780295950161},{"$f":"'Scope 3 Commuting'!P127/'Institutional Data'!T33","v":0.23342148604204446},{"$f":"'Scope 3 Commuting'!Q127/'Institutional Data'!U33","v":0.2275690914350611},{"$f":"'Scope 3 Commuting'!R127/'Institutional Data'!V33","v":0.2427359024328912},{"$f":"'Scope 3 Commuting'!S127/'Institutional Data'!W33","v":0.31671576738367163},{"$f":"'Scope 3 Commuting'!T127/'Institutional Data'!X33","v":0.31000135914412752},{"$f":"'Scope 3 Commuting'!U127/'Institutional Data'!Y33","v":0.30652554796724713},{"$f":"'Scope 3 Commuting'!V127/'Institutional Data'!Z33","v":0.20990750684172238},{"$f":"'Scope 3 Commuting'!W127/'Institutional Data'!AB33","v":{"$error":"#DIV/0!"}}]
[null,null,"Total Commuting Carbon Intensity","Total Commuting MTCDE/100,000 Total Passenger Miles",{"$f":"'Scope 3 Commuting'!E127/'Scope 3 Commuting'!E159*100000","v":{"$error":"#DIV/0!"}},{"$f":"'Scope 3 Commuting'!F127/'Scope 3 Commuting'!F159*100000","v":{"$error":"#DIV/0!"}},{"$f":"'Scope 3 Commuting'!G127/'Scope 3 Commuting'!G159*100000","v":{"$error":"#DIV/0!"}},{"$f":"'Scope 3 Commuting'!H127/'Scope 3 Commuting'!H159*100000","v":{"$error":"#DIV/0!"}},{"$f":"'Scope 3 Commuting'!I127/'Scope 3 Commuting'!I159*100000","v":{"$error":"#DIV/0!"}},{"$f":"'Scope 3 Commuting'!J127/'Scope 3 Commuting'!J159*100000","v":{"$error":"#DIV/0!"}},{"$f":"'Scope 3 Commuting'!K127/'Scope 3 Commuting'!K159*100000","v":{"$error":"#DIV/0!"}},{"$f":"'Scope 3 Commuting'!L127/'Scope 3 Commuting'!L159*100000","v":{"$error":"#DIV/0!"}},{"$f":"'Scope 3 Commuting'!M127/'Scope 3 Commuting'!M159*100000","v":{"$error":"#DIV/0!"}},{"$f":"'Scope 3 Commuting'!N127/'Scope 3 Commuting'!N159*100000","v":32.862780357346402},{"$f":"'Scope 3 Commuting'!O127/'Scope 3 Commuting'!O159*100000","v":33.020945056460675},{"$f":"'Scope 3 Commuting'!P127/'Scope 3 Commuting'!P159*100000","v":32.285036771605064},{"$f":"'Scope 3 Commuting'!Q127/'Scope 3 Commuting'!Q159*100000","v":31.42989135764611},{"$f":"'Scope 3 Commuting'!R127/'Scope 3 Commuting'!R159*100000","v":33.437905680982738},{"$f":"'Scope 3 Commuting'!S127/'Scope 3 Commuting'!S159*100000","v":56.928598730646506},{"$f":"'Scope 3 Commuting'!T127/'Scope 3 Commuting'!T159*100000","v":56.892477471580634},{"$f":"'Scope 3 Commuting'!U127/'Scope 3 Commuting'!U159*100000","v":46.824987367792659},{"$f":"'Scope 3 Commuting'!V127/'Scope 3 Commuting'!V159*100000","v":55.331522307074067},{"$f":"'Scope 3 Commuting'!W127/'Scope 3 Commuting'!W159*100000","v":36.038851472526638}]
[null,null,"Total Commute % of Total MTCDE","% of Total MTCDE",{"$f":"('GHG Summary_regional'!E19+'GHG Summary_regional'!E20)/'GHG Summary_regional'!E32","v":{"$error":"#DIV/0!"}},{"$f":"('GHG Summary_regional'!F19+'GHG Summary_regional'!F20)/'GHG Summary_regional'!F32","v":{"$error":"#DIV/0!"}},{"$f":"('GHG Summary_regional'!G19+'GHG Summary_regional'!G20)/'GHG Summary_regional'!G32","v":{"$error":"#DIV/0!"}},{"$f":"('GHG Summary_regional'!H19+'GHG Summary_regional'!H20)/'GHG Summary_regional'!H32","v":{"$error":"#DIV/0!"}},{"$f":"('GHG Summary_regional'!I19+'GHG Summary_regional'!I20)/'GHG Summary_regional'!I32","v":{"$error":"#DIV/0!"}},{"$f":"('GHG Summary_regional'!J19+'GHG Summary_regional'!J20)/'GHG Summary_regional'!J32","v":{"$error":"#DIV/0!"}},{"$f":"('GHG Summary_regional'!K19+'GHG Summary_regional'!K20)/'GHG Summary_regional'!K32","v":{"$error":"#DIV/0!"}},{"$f":"('GHG Summary_regional'!L19+'GHG Summary_regional'!L20)/'GHG Summary_regional'!L32","v":{"$error":"#DIV/0!"}},{"$f":"('GHG Summary_regional'!M19+'GHG Summary_regional'!M20)/'GHG Summary_regional'!M32","v":{"$error":"#DIV/0!"}},{"$f":"('GHG Summary_regional'!N19+'GHG Summary_regional'!N20)/'GHG Summary_regional'!N32","v":7.7289271892942712E-2},{"$f":"('GHG Summary_regional'!O19+'GHG Summary_regional'!O20)/'GHG Summary_regional'!O32","v":8.0906248697336369E-2},{"$f":"('GHG Summary_regional'!P19+'GHG Summary_regional'!P20)/'GHG Summary_regional'!P32","v":7.413656696568198E-2},{"$f":"('GHG Summary_regional'!Q19+'GHG Summary_regional'!Q20)/'GHG Summary_regional'!Q32","v":6.5769703750751668E-2},{"$f":"('GHG Summary_regional'!R19+'GHG Summary_regional'!R20)/'GHG Summary_regional'!R32","v":6.6192205831111822E-2},{"$f":"('GHG Summary_regional'!S19+'GHG Summary_regional'!S20)/'GHG Summary_regional'!S32","v":8.5933777423136959E-2},{"$f":"('GHG Summary_regional'!T19+'GHG Summary_regional'!T20)/'GHG Summary_regional'!T32","v":9.1110567330237743E-2},{"$f":"('GHG Summary_regional'!U19+'GHG Summary_regional'!U20)/'GHG Summary_regional'!U32","v":9.6621951876700141E-2},{"$f":"('GHG Summary_regional'!V19+'GHG Summary_regional'!V20)/'GHG Summary_regional'!V32","v":6.6892726119802376E-2},{"$f":"('GHG Summary_regional'!W19+'GHG Summary_regional'!W20)/'GHG Summary_regional'!W32","v":4.3296607932865425E-2}]
[null,"Outsourced Travel"]
[null,null,"Students Studying Abroad","% of Students",{"$f":"'Other Scope 3 Sources'!E21/'Institutional Data'!I21","v":{"$error":"#DIV/0!"}},{"$f":"'Other Scope 3 Sources'!F21/'Institutional Data'!J21","v":{"$error":"#DIV/0!"}},{"$f":"'Other Scope 3 Sources'!G21/'Institutional Data'!K21","v":{"$error":"#DIV/0!"}},{"$f":"'Other Scope 3 Sources'!H21/'Institutional Data'!L21","v":{"$error":"#DIV/0!"}},{"$f":"'Other Scope 3 Sources'!I21/'Institutional Data'!M21","v":{"$error":"#DIV/0!"}},{"$f":"'Other Scope 3 Sources'!J21/'Institutional Data'!N21","v":{"$error":"#DIV/0!"}},{"$f":"'Other Scope 3 Sources'!K21/'Institutional Data'!O21","v":{"$error":"#DIV/0!"}},{"$f":"'Other Scope 3 Sources'!L21/'Institutional Data'!P21","v":{"$error":"#DIV/0!"}},{"$f":"'Other Scope 3 Sources'!M21/'Institutional Data'!Q21","v":{"$error":"#DIV/0!"}},{"$f":"'Other Scope 3 Sources'!N21/'Institutional Data'!R21","v":3.1294039625300508E-2},{"$f":"'Other Scope 3 Sources'!O21/'Institutional Data'!S21","v":3.9089597204992534E-2},{"$f":"'Other Scope 3 Sources'!P21/'Institutional Data'!T21","v":3.7873403326361105E-2},{"$f":"'Other Scope 3 Sources'!Q21/'Institutional Data'!U21","v":3.518864171842967E-2},{"$f":"'Other Scope 3 Sources'!R21/'Institutional Data'!V21","v":3.910991233985165E-2},{"$f":"'Other Scope 3 Sources'!S21/'Institutional Data'!W21","v":3.7375975339562661E-2},{"$f":"'Other Scope 3 Sources'!T21/'Institutional Data'!X21","v":3.5179123057771218E-2},{"$f":"'Other Scope 3 Sources'!U21/'Institutional Data'!Y21","v":3.4189115130053536E-2},{"$f":"'Other Scope 3 Sources'!V21/'Institutional Data'!Z21","v":3.5400032589212968E-2},{"$f":"'Other Scope 3 Sources'!W21/'Institutional Data'!AB21","v":{"$error":"#DIV/0!"}}]
[null,null,"Outsourced Travel Emissions (per 1,000 GSF)","Outsourced Travel MTCDE/1,000 GSF",{"$f":"'Other Scope 3 Sources'!E68/'Institutional Data'!I9*1000","v":{"$error":"#DIV/0!"}},{"$f":"'Other Scope 3 Sources'!F68/'Institutional Data'!J9*1000","v":{"$error":"#DIV/0!"}},{"$f":"'Other Scope 3 Sources'!G68/'Institutional Data'!K9*1000","v":{"$error":"#DIV/0!"}},{"$f":"'Other Scope 3 Sources'!H68/'Institutional Data'!L9*1000","v":{"$error":"#DIV/0!"}},{"$f":"'Other Scope 3 Sources'!I68/'Institutional Data'!M9*1000","v":{"$error":"#DIV/0!"}},{"$f":"'Other Scope 3 Sources'!J68/'Institutional Data'!N9*1000","v":{"$error":"#DIV/0!"}},{"$f":"'Other Scope 3 Sources'!K68/'Institutional Data'!O9*1000","v":{"$error":"#DIV/0!"}},{"$f":"'Other Scope 3 Sources'!L68/'Institutional Data'!P9*1000","v":{"$error":"#DIV/0!"}},{"$f":"'Other Scope 3 Sources'!M68/'Institutional Data'!Q9*1000","v":{"$error":"#DIV/0!"}},{"$f":"'Other Scope 3 Sources'!N68/'Institutional Data'!R9*1000","v":3.3608792201945468},{"$f":"'Other Scope 3 Sources'!O68/'Institutional Data'!S9*1000","v":3.5221916377240938},{"$f":"'Other Scope 3 Sources'!P68/'Institutional Data'!T9*1000","v":3.054040352000627},{"$f":"'Other Scope 3 Sources'!Q68/'Institutional Data'!U9*1000","v":3.3178210026808244},{"$f":"'Other Scope 3 Sources'!R68/'Institutional Data'!V9*1000","v":3.4838135197758868},{"$f":"'Other Scope 3 Sources'!S68/'Institutional Data'!W9*1000","v":4.1981366948785457},{"$f":"'Other Scope 3 Sources'!T68/'Institutional Data'!X9*1000","v":3.6386081904179748},{"$f":"'Other Scope 3 Sources'!U68/'Institutional Data'!Y9*1000","v":3.209824380226924},{"$f":"'Other Scope 3 Sources'!V68/'Institutional Data'!Z9*1000","v":3.3149638721395251},{"$f":"'Other Scope 3 Sources'!W68/'Institutional Data'!AB9*1000","v":{"$error":"#DIV/0!"}}]
[null,null,"Outsourced Travel Emissions (per Campus User)","Outsourced Travel MTCDE/Campus User",{"$f":"'Other Scope 3 Sources'!E68/'Institutional Data'!I33","v":{"$error":"#DIV/0!"}},{"$f":"'Other Scope 3 Sources'!F68/'Institutional Data'!J33","v":{"$error":"#DIV/0!"}},{"$f":"'Other Scope 3 Sources'!G68/'Institutional Data'!K33","v":{"$error":"#DIV/0!"}},{"$f":"'Other Scope 3 Sources'!H68/'Institutional Data'!L33","v":{"$error":"#DIV/0!"}},{"$f":"'Other Scope 3 Sources'!I68/'Institutional Data'!M33","v":{"$error":"#DIV/0!"}},{"$f":"'Other Scope 3 Sources'!J68/'Institutional Data'!N33","v":{"$error":"#DIV/0!"}},{"$f":"'Other Scope 3 Sources'!K68/'Institutional Data'!O33","v":{"$error":"#DIV/0!"}},{"$f":"'Other Scope 3 Sources'!L68/'Institutional Data'!P33","v":{"$error":"#DIV/0!"}},{"$f":"'Other Scope 3 Sources'!M68/'Institutional Data'!Q33","v":{"$error":"#DIV/0!"}},{"$f":"'Other Scope 3 Sources'!N68/'Institutional Data'!R33","v":0.84181807431433675},{"$f":"'Other Scope 3 Sources'!O68/'Institutional Data'!S33","v":0.87463583851746241},{"$f":"'Other Scope 3 Sources'!P68/'Institutional Data'!T33","v":0.79869923862585668},{"$f":"'Other Scope 3 Sources'!Q68/'Institutional Data'!U33","v":0.8733496381239243},{"$f":"'Other Scope 3 Sources'!R68/'Institutional Data'!V33","v":0.94054189979254432},{"$f":"'Other Scope 3 Sources'!S68/'Institutional Data'!W33","v":1.0670366035756083},{"$f":"'Other Scope 3 Sources'!T68/'Institutional Data'!X33","v":0.91954255091936388},{"$f":"'Other Scope 3 Sources'!U68/'Institutional Data'!Y33","v":0.8464189938141381},{"$f":"'Other Scope 3 Sources'!V68/'Institutional Data'!Z33","v":0.89579104167388368},{"$f":"'Other Scope 3 Sources'!W68/'Institutional Data'!AB33","v":{"$error":"#DIV/0!"}}]
[null,null,"Outsourced Travel Emissions( per Student)","Outsourced Travel MTCDE/Student FTE",{"$f":"'Other Scope 3 Sources'!E68/'Institutional Data'!I21","v":{"$error":"#DIV/0!"}},{"$f":"'Other Scope 3 Sources'!F68/'Institutional Data'!J21","v":{"$error":"#DIV/0!"}},{"$f":"'Other Scope 3 Sources'!G68/'Institutional Data'!K21","v":{"$error":"#DIV/0!"}},{"$f":"'Other Scope 3 Sources'!H68/'Institutional Data'!L21","v":{"$error":"#DIV/0!"}},{"$f":"'Other Scope 3 Sources'!I68/'Institutional Data'!M21","v":{"$error":"#DIV/0!"}},{"$f":"'Other Scope 3 Sources'!J68/'Institutional Data'!N21","v":{"$error":"#DIV/0!"}},{"$f":"'Other Scope 3 Sources'!K68/'Institutional Data'!O21","v":{"$error":"#DIV/0!"}},{"$f":"'Other Scope 3 Sources'!L68/'Institutional Data'!P21","v":{"$error":"#DIV/0!"}},{"$f":"'Other Scope 3 Sources'!M68/'Institutional Data'!Q21","v":{"$error":"#DIV/0!"}},{"$f":"'Other Scope 3 Sources'!N68/'Institutional Data'!R21","v":1.03272403216447},{"$f":"'Other Scope 3 Sources'!O68/'Institutional Data'!S21","v":1.0707967290311147},{"$f":"'Other Scope 3 Sources'!P68/'Institutional Data'!T21","v":0.98110899011026942},{"$f":"'Other Scope 3 Sources'!Q68/'Institutional Data'!U21","v":1.0747988127658272},{"$f":"'Other Scope 3 Sources'!R68/'Institutional Data'!V21","v":1.1640541521863168},{"$f":"'Other Scope 3 Sources'!S68/'Institutional Data'!W21","v":1.2734852133705807},{"$f":"'Other Scope 3 Sources'!T68/'Institutional Data'!X21","v":1.0917792429342061},{"$f":"'Other Scope 3 Sources'!U68/'Institutional Data'!Y21","v":0.99792588845326924},{"$f":"'Other Scope 3 Sources'!V68/'Institutional Data'!Z21","v":1.0533974254521754},{"$f":"'Other Scope 3 Sources'!W68/'Institutional Data'!AB21","v":{"$error":"#DIV/0!"}}]
[null,null,"Directly Financed % of Total Outsourced Travel","% of Outsourced Travel MTCDE",{"$f":"'Other Scope 3 Sources'!E65/'Other Scope 3 Sources'!E68","v":{"$error":"#DIV/0!"}},{"$f":"'Other Scope 3 Sources'!F65/'Other Scope 3 Sources'!F68","v":{"$error":"#DIV/0!"}},{"$f":"'Other Scope 3 Sources'!G65/'Other Scope 3 Sources'!G68","v":{"$error":"#DIV/0!"}},{"$f":"'Other Scope 3 Sources'!H65/'Other Scope 3 Sources'!H68","v":{"$error":"#DIV/0!"}},{"$f":"'Other Scope 3 Sources'!I65/'Other Scope 3 Sources'!I68","v":{"$error":"#DIV/0!"}},{"$f":"'Other Scope 3 Sources'!J65/'Other Scope 3 Sources'!J68","v":{"$error":"#DIV/0!"}},{"$f":"'Other Scope 3 Sources'!K65/'Other Scope 3 Sources'!K68","v":{"$error":"#DIV/0!"}},{"$f":"'Other Scope 3 Sources'!L65/'Other Scope 3 Sources'!L68","v":{"$error":"#DIV/0!"}},{"$f":"'Other Scope 3 Sources'!M65/'Other Scope 3 Sources'!M68","v":{"$error":"#DIV/0!"}},{"$f":"'Other Scope 3 Sources'!N65/'Other Scope 3 Sources'!N68","v":0.72847725311553035},{"$f":"'Other Scope 3 Sources'!O65/'Other Scope 3 Sources'!O68","v":0.68464182866221857},{"$f":"'Other Scope 3 Sources'!P65/'Other Scope 3 Sources'!P68","v":0.67697967927720948},{"$f":"'Other Scope 3 Sources'!Q65/'Other Scope 3 Sources'!Q68","v":0.72680341442351948},{"$f":"'Other Scope 3 Sources'!R65/'Other Scope 3 Sources'!R68","v":0.73643825361602},{"$f":"'Other Scope 3 Sources'!S65/'Other Scope 3 Sources'!S68","v":0.77838586087042028},{"$f":"'Other Scope 3 Sources'!T65/'Other Scope 3 Sources'!T68","v":0.77040997314143822},{"$f":"'Other Scope 3 Sources'!U65/'Other Scope 3 Sources'!U68","v":0.76273878623509839},{"$f":"'Other Scope 3 Sources'!V65/'Other Scope 3 Sources'!V68","v":0.76728231781830558},{"$f":"'Other Scope 3 Sources'!W65/'Other Scope 3 Sources'!W68","v":0.77598104546127644}]
[null,null,"Other Directly Financed Travel % of Total Outsourced Travel","% of Outsourced Travel MTCDE",{"$f":"'Other Scope 3 Sources'!E66/'Other Scope 3 Sources'!E68","v":{"$error":"#DIV/0!"}},{"$f":"'Other Scope 3 Sources'!F66/'Other Scope 3 Sources'!F68","v":{"$error":"#DIV/0!"}},{"$f":"'Other Scope 3 Sources'!G66/'Other Scope 3 Sources'!G68","v":{"$error":"#DIV/0!"}},{"$f":"'Other Scope 3 Sources'!H66/'Other Scope 3 Sources'!H68","v":{"$error":"#DIV/0!"}},{"$f":"'Other Scope 3 Sources'!I66/'Other Scope 3 Sources'!I68","v":{"$error":"#DIV/0!"}},{"$f":"'Other Scope 3 Sources'!J66/'Other Scope 3 Sources'!J68","v":{"$error":"#DIV/0!"}},{"$f":"'Other Scope 3 Sources'!K66/'Other Scope 3 Sources'!K68","v":{"$error":"#DIV/0!"}},{"$f":"'Other Scope 3 Sources'!L66/'Other Scope 3 Sources'!L68","v":{"$error":"#DIV/0!"}},{"$f":"'Other Scope 3 Sources'!M66/'Other Scope 3 Sources'!M68","v":{"$error":"#DIV/0!"}},{"$f":"'Other Scope 3 Sources'!N66/'Other Scope 3 Sources'!N68","v":6.6605125323593736E-2},{"$f":"'Other Scope 3 Sources'!O66/'Other Scope 3 Sources'!O68","v":6.3524638613182527E-2},{"$f":"'Other Scope 3 Sources'!P66/'Other Scope 3 Sources'!P68","v":6.8382569818526168E-2},{"$f":"'Other Scope 3 Sources'!Q66/'Other Scope 3 Sources'!Q68","v":6.1218582890872258E-2},{"$f":"'Other Scope 3 Sources'!R66/'Other Scope 3 Sources'!R68","v":5.6889376075002891E-2},{"$f":"'Other Scope 3 Sources'!S66/'Other Scope 3 Sources'!S68","v":4.8449135971497838E-2},{"$f":"'Other Scope 3 Sources'!T66/'Other Scope 3 Sources'!T68","v":4.8776161759489185E-2},{"$f":"'Other Scope 3 Sources'!U66/'Other Scope 3 Sources'!U68","v":4.7043317364965906E-2},{"$f":"'Other Scope 3 Sources'!V66/'Other Scope 3 Sources'!V68","v":4.141723513852151E-2},{"$f":"'Other Scope 3 Sources'!W66/'Other Scope 3 Sources'!W68","v":2.5769287723974531E-2}]
[null,null,"Study Abroad % of Total Outsourced Travel MTCDE","% of Outsourced Travel MTCDE",{"$f":"'Other Scope 3 Sources'!E67/'Other Scope 3 Sources'!E68","v":{"$error":"#DIV/0!"}},{"$f":"'Other Scope 3 Sources'!F67/'Other Scope 3 Sources'!F68","v":{"$error":"#DIV/0!"}},{"$f":"'Other Scope 3 Sources'!G67/'Other Scope 3 Sources'!G68","v":{"$error":"#DIV/0!"}},{"$f":"'Other Scope 3 Sources'!H67/'Other Scope 3 Sources'!H68","v":{"$error":"#DIV/0!"}},{"$f":"'Other Scope 3 Sources'!I67/'Other Scope 3 Sources'!I68","v":{"$error":"#DIV/0!"}},{"$f":"'Other Scope 3 Sources'!J67/'Other Scope 3 Sources'!J68","v":{"$error":"#DIV/0!"}},{"$f":"'Other Scope 3 Sources'!K67/'Other Scope 3 Sources'!K68","v":{"$error":"#DIV/0!"}},{"$f":"'Other Scope 3 Sources'!L67/'Other Scope 3 Sources'!L68","v":{"$error":"#DIV/0!"}},{"$f":"'Other Scope 3 Sources'!M67/'Other Scope 3 Sources'!M68","v":{"$error":"#DIV/0!"}},{"$f":"'Other Scope 3 Sources'!N67/'Other Scope 3 Sources'!N68","v":0.20491762156087576},{"$f":"'Other Scope 3 Sources'!O67/'Other Scope 3 Sources'!O68","v":0.25183353272459885},{"$f":"'Other Scope 3 Sources'!P67/'Other Scope 3 Sources'!P68","v":0.25463775090426438},{"$f":"'Other Scope 3 Sources'!Q67/'Other Scope 3 Sources'!Q68","v":0.21197800268560829},{"$f":"'Other Scope 3 Sources'!R67/'Other Scope 3 Sources'!R68","v":0.20667237030897698},{"$f":"'Other Scope 3 Sources'!S67/'Other Scope 3 Sources'!S68","v":0.17316500315808186},{"$f":"'Other Scope 3 Sources'!T67/'Other Scope 3 Sources'!T68","v":0.18081386509907266},{"$f":"'Other Scope 3 Sources'!U67/'Other Scope 3 Sources'!U68","v":0.1902178963999358},{"$f":"'Other Scope 3 Sources'!V67/'Other Scope 3 Sources'!V68","v":0.19130044704317295},{"$f":"'Other Scope 3 Sources'!W67/'Other Scope 3 Sources'!W68","v":0.19824966681474898}]
[null,null,"Outsourced Travel % of Total MTCDE","% of Total MTCDE",{"$f":"SUM('GHG Summary_regional'!E21:E23)/'GHG Summary_regional'!E32","v":{"$error":"#DIV/0!"}},{"$f":"SUM('GHG Summary_regional'!F21:F23)/'GHG Summary_regional'!F32","v":{"$error":"#DIV/0!"}},{"$f":"SUM('GHG Summary_regional'!G21:G23)/'GHG Summary_regional'!G32","v":{"$error":"#DIV/0!"}},{"$f":"SUM('GHG Summary_regional'!H21:H23)/'GHG Summary_regional'!H32","v":{"$error":"#DIV/0!"}},{"$f":"SUM('GHG Summary_regional'!I21:I23)/'GHG Summary_regional'!I32","v":{"$error":"#DIV/0!"}},{"$f":"SUM('GHG Summary_regional'!J21:J23)/'GHG Summary_regional'!J32","v":{"$error":"#DIV/0!"}},{"$f":"SUM('GHG Summary_regional'!K21:K23)/'GHG Summary_regional'!K32","v":{"$error":"#DIV/0!"}},{"$f":"SUM('GHG Summary_regional'!L21:L23)/'GHG Summary_regional'!L32","v":{"$error":"#DIV/0!"}},{"$f":"SUM('GHG Summary_regional'!M21:M23)/'GHG Summary_regional'!M32","v":{"$error":"#DIV/0!"}},{"$f":"SUM('GHG Summary_regional'!N21:N23)/'GHG Summary_regional'!N32","v":0.25540645961054603},{"$f":"SUM('GHG Summary_regional'!O21:O23)/'GHG Summary_regional'!O32","v":0.27663843806313126},{"$f":"SUM('GHG Summary_regional'!P21:P23)/'GHG Summary_regional'!P32","v":0.25367338968598407},{"$f":"SUM('GHG Summary_regional'!Q21:Q23)/'GHG Summary_regional'!Q32","v":0.25240662784219836},{"$f":"SUM('GHG Summary_regional'!R21:R23)/'GHG Summary_regional'!R32","v":0.25647851183063047},{"$f":"SUM('GHG Summary_regional'!S21:S23)/'GHG Summary_regional'!S32","v":0.28951664374488506},{"$f":"SUM('GHG Summary_regional'!T21:T23)/'GHG Summary_regional'!T32","v":0.27025701993650225},{"$f":"SUM('GHG Summary_regional'!U21:U23)/'GHG Summary_regional'!U32","v":0.26680534731993449},{"$f":"SUM('GHG Summary_regional'!V21:V23)/'GHG Summary_regional'!V32","v":0.2854681364799726},{"$f":"SUM('GHG Summary_regional'!W21:W23)/'GHG Summary_regional'!W32","v":0.25173226691001155}]
[null,"Scope 3 Summary"]
[null,null,"Scope 3 Emissions (per 1,000 GSF)","MTCDE/1,000 GSF",{"$f":"'GHG Summary_regional'!E29/'Institutional Data'!I9*1000","v":{"$error":"#DIV/0!"}},{"$f":"'GHG Summary_regional'!F29/'Institutional Data'!J9*1000","v":{"$error":"#DIV/0!"}},{"$f":"'GHG Summary_regional'!G29/'Institutional Data'!K9*1000","v":{"$error":"#DIV/0!"}},{"$f":"'GHG Summary_regional'!H29/'Institutional Data'!L9*1000","v":{"$error":"#DIV/0!"}},{"$f":"'GHG Summary_regional'!I29/'Institutional Data'!M9*1000","v":{"$error":"#DIV/0!"}},{"$f":"'GHG Summary_regional'!J29/'Institutional Data'!N9*1000","v":{"$error":"#DIV/0!"}},{"$f":"'GHG Summary_regional'!K29/'Institutional Data'!O9*1000","v":{"$error":"#DIV/0!"}},{"$f":"'GHG Summary_regional'!L29/'Institutional Data'!P9*1000","v":{"$error":"#DIV/0!"}},{"$f":"'GHG Summary_regional'!M29/'Institutional Data'!Q9*1000","v":{"$error":"#DIV/0!"}},{"$f":"'GHG Summary_regional'!N29/'Institutional Data'!R9*1000","v":5.044148330922182},{"$f":"'GHG Summary_regional'!O29/'Institutional Data'!S9*1000","v":5.2204182666373375},{"$f":"'GHG Summary_regional'!P29/'Institutional Data'!T9*1000","v":4.6205336724472934},{"$f":"'GHG Summary_regional'!Q29/'Institutional Data'!U9*1000","v":4.9427823657975853},{"$f":"'GHG Summary_regional'!R29/'Institutional Data'!V9*1000","v":5.1380703623719182},{"$f":"'GHG Summary_regional'!S29/'Institutional Data'!W9*1000","v":6.195597268059144},{"$f":"'GHG Summary_regional'!T29/'Institutional Data'!X9*1000","v":5.5830194862639768},{"$f":"'GHG Summary_regional'!U29/'Institutional Data'!Y9*1000","v":5.0578767642716214},{"$f":"'GHG Summary_regional'!V29/'Institutional Data'!Z9*1000","v":4.7339573172826608},{"$f":"'GHG Summary_regional'!W29/'Institutional Data'!AB9*1000","v":{"$error":"#DIV/0!"}}]
[null,null,"Scope 3 Emissions (per Campus User)","MTCDE/Campus User",{"$f":"'GHG Summary_regional'!E29/'Institutional Data'!I33","v":{"$error":"#DIV/0!"}},{"$f":"'GHG Summary_regional'!F29/'Institutional Data'!J33","v":{"$error":"#DIV/0!"}},{"$f":"'GHG Summary_regional'!G29/'Institutional Data'!K33","v":{"$error":"#DIV/0!"}},{"$f":"'GHG Summary_regional'!H29/'Institutional Data'!L33","v":{"$error":"#DIV/0!"}},{"$f":"'GHG Summary_regional'!I29/'Institutional Data'!M33","v":{"$error":"#DIV/0!"}},{"$f":"'GHG Summary_regional'!J29/'Institutional Data'!N33","v":{"$error":"#DIV/0!"}},{"$f":"'GHG Summary_regional'!K29/'Institutional Data'!O33","v":{"$error":"#DIV/0!"}},{"$f":"'GHG Summary_regional'!L29/'Institutional Data'!P33","v":{"$error":"#DIV/0!"}},{"$f":"'GHG Summary_regional'!M29/'Institutional Data'!Q33","v":{"$error":"#DIV/0!"}},{"$f":"'GHG Summary_regional'!N29/'Institutional Data'!R33","v":1.2634358322007744},{"$f":"'GHG Summary_regional'!O29/'Institutional Data'!S33","v":1.2963419875139384},{"$f":"'GHG Summary_regional'!P29/'Institutional Data'!T33","v":1.2083719600532736},{"$f":"'GHG Summary_regional'!Q29/'Institutional Data'!U33","v":1.3010880294647142},{"$f":"'GHG Summary_regional'!R29/'Institutional Data'!V33","v":1.3871495797524571},{"$f":"'GHG Summary_regional'!S29/'Institutional Data'!W33","v":1.5747293493556438},{"$f":"'GHG Summary_regional'!T29/'Institutional Data'!X33","v":1.4109306942559154},{"$f":"'GHG Summary_regional'!U29/'Institutional Data'!Y33","v":1.333743673960142},{"$f":"'GHG Summary_regional'!V29/'Institutional Data'!Z33","v":1.2792406554196836},{"$f":"'GHG Summary_regional'!W29/'Institutional Data'!AB33","v":{"$error":"#DIV/0!"}}]
[null,null,"Scope 3 Emissions (per Student)","MTCDE/Student FTE",{"$f":"'GHG Summary_regional'!E29/'Institutional Data'!I21","v":{"$error":"#DIV/0!"}},{"$f":"'GHG Summary_regional'!F29/'Institutional Data'!J21","v":{"$error":"#DIV/0!"}},{"$f":"'GHG Summary_regional'!G29/'Institutional Data'!K21","v":{"$error":"#DIV/0!"}},{"$f":"'GHG Summary_regional'!H29/'Institutional Data'!L21","v":{"$error":"#DIV/0!"}},{"$f":"'GHG Summary_regional'!I29/'Institutional Data'!M21","v":{"$error":"#DIV/0!"}},{"$f":"'GHG Summary_regional'!J29/'Institutional Data'!N21","v":{"$error":"#DIV/0!"}},{"$f":"'GHG Summary_regional'!K29/'Institutional Data'!O21","v":{"$error":"#DIV/0!"}},{"$f":"'GHG Summary_regional'!L29/'Institutional Data'!P21","v":{"$error":"#DIV/0!"}},{"$f":"'GHG Summary_regional'!M29/'Institutional Data'!Q21","v":{"$error":"#DIV/0!"}},{"$f":"'GHG Summary_regional'!N29/'Institutional Data'!R21","v":1.5499554913621971},{"$f":"'GHG Summary_regional'!O29/'Institutional Data'!S21","v":1.5870819589196437},{"$f":"'GHG Summary_regional'!P29/'Institutional Data'!T21","v":1.4843442137808165},{"$f":"'GHG Summary_regional'!Q29/'Institutional Data'!U21","v":1.6012004909929063},{"$f":"'GHG Summary_regional'!R29/'Institutional Data'!V21","v":1.7167945716937343},{"$f":"'GHG Summary_regional'!S29/'Institutional Data'!W21","v":1.8794055749775311},{"$f":"'GHG Summary_regional'!T29/'Institutional Data'!X21","v":1.6752077907294576},{"$f":"'GHG Summary_regional'!U29/'Institutional Data'!Y21","v":1.5724804742482734},{"$f":"'GHG Summary_regional'!V29/'Institutional Data'!Z21","v":1.5043115528759983},{"$f":"'GHG Summary_regional'!W29/'Institutional Data'!AB21","v":{"$error":"#DIV/0!"}}]
[null,null,"Scope 3 % of Total MTCDE","% of Ttoal MTCDE",{"$f":"'GHG Summary_regional'!E29/'GHG Summary_regional'!E32","v":{"$error":"#DIV/0!"}},{"$f":"'GHG Summary_regional'!F29/'GHG Summary_regional'!F32","v":{"$error":"#DIV/0!"}},{"$f":"'GHG Summary_regional'!G29/'GHG Summary_regional'!G32","v":{"$error":"#DIV/0!"}},{"$f":"'GHG Summary_regional'!H29/'GHG Summary_regional'!H32","v":{"$error":"#DIV/0!"}},{"$f":"'GHG Summary_regional'!I29/'GHG Summary_regional'!I32","v":{"$error":"#DIV/0!"}},{"$f":"'GHG Summary_regional'!J29/'GHG Summary_regional'!J32","v":{"$error":"#DIV/0!"}},{"$f":"'GHG Summary_regional'!K29/'GHG Summary_regional'!K32","v":{"$error":"#DIV/0!"}},{"$f":"'GHG Summary_regional'!L29/'GHG Summary_regional'!L32","v":{"$error":"#DIV/0!"}},{"$f":"'GHG Summary_regional'!M29/'GHG Summary_regional'!M32","v":{"$error":"#DIV/0!"}},{"$f":"'GHG Summary_regional'!N29/'GHG Summary_regional'!N32","v":0.3833247143218389},{"$f":"'GHG Summary_regional'!O29/'GHG Summary_regional'!O32","v":0.41001981262210896},{"$f":"'GHG Summary_regional'!P29/'GHG Summary_regional'!P32","v":0.38378878592095722},{"$f":"'GHG Summary_regional'!Q29/'GHG Summary_regional'!Q32","v":0.37602722633342461},{"$f":"'GHG Summary_regional'!R29/'GHG Summary_regional'!R32","v":0.37826497679674648},{"$f":"'GHG Summary_regional'!S29/'GHG Summary_regional'!S32","v":0.42726777554234824},{"$f":"'GHG Summary_regional'!T29/'GHG Summary_regional'!T32","v":0.4146778464849768},{"$f":"'GHG Summary_regional'!U29/'GHG Summary_regional'!U32","v":0.42041819331483588},{"$f":"'GHG Summary_regional'!V29/'GHG Summary_regional'!V32","v":0.40766476669569324},{"$f":"'GHG Summary_regional'!W29/'GHG Summary_regional'!W32","v":0.32276080178572225}]
[]
[null,"De Minimus",null,null,"FY1995","FY1996","FY1997","FY1998","FY1999","FY2000","FY2001","FY2002","FY2003","FY2004","FY2005","FY2006","FY2007","FY2008","FY2009","FY2010","FY2011","FY2012","FY2014"]
[null,"Scope 1"]
[null,null,"Agriculture Emissions","Agriculture MTCDE/ Maintained Acre",{"$f":"'Other Scope 1'!E52/'Institutional Data'!I10","v":{"$error":"#DIV/0!"}},{"$f":"'Other Scope 1'!F52/'Institutional Data'!J10","v":{"$error":"#DIV/0!"}},{"$f":"'Other Scope 1'!G52/'Institutional Data'!K10","v":{"$error":"#DIV/0!"}},{"$f":"'Other Scope 1'!H52/'Institutional Data'!L10","v":{"$error":"#DIV/0!"}},{"$f":"'Other Scope 1'!I52/'Institutional Data'!M10","v":{"$error":"#DIV/0!"}},{"$f":"'Other Scope 1'!J52/'Institutional Data'!N10","v":{"$error":"#DIV/0!"}},{"$f":"'Other Scope 1'!K52/'Institutional Data'!O10","v":{"$error":"#DIV/0!"}},{"$f":"'Other Scope 1'!L52/'Institutional Data'!P10","v":{"$error":"#DIV/0!"}},{"$f":"'Other Scope 1'!M52/'Institutional Data'!Q10","v":{"$error":"#DIV/0!"}},{"$f":"'Other Scope 1'!N52/'Institutional Data'!R10","v":8.990185369930663E-2},{"$f":"'Other Scope 1'!O52/'Institutional Data'!S10","v":8.990185369930663E-2},{"$f":"'Other Scope 1'!P52/'Institutional Data'!T10","v":8.990185369930663E-2},{"$f":"'Other Scope 1'!Q52/'Institutional Data'!U10","v":9.4871329578509994E-2},{"$f":"'Other Scope 1'!R52/'Institutional Data'!V10","v":8.4932377820103239E-2},{"$f":"'Other Scope 1'!S52/'Institutional Data'!W10","v":0.11946917332674645},{"$f":"'Other Scope 1'!T52/'Institutional Data'!X10","v":2.8899732130590425E-2},{"$f":"'Other Scope 1'!U52/'Institutional Data'!Y10","v":2.9600000000000001E-2},{"$f":"'Other Scope 1'!V52/'Institutional Data'!Z10","v":0.02},{"$f":"'Other Scope 1'!W52/'Institutional Data'!AB10","v":{"$error":"#DIV/0!"}}]
[null,null,"Agriculture % of Total MTCDE","% of Total MTCDE",{"$f":"'Other Scope 1'!E52/'GHG Summary_regional'!E32","v":{"$error":"#DIV/0!"}},{"$f":"'Other Scope 1'!F52/'GHG Summary_regional'!F32","v":{"$error":"#DIV/0!"}},{"$f":"'Other Scope 1'!G52/'GHG Summary_regional'!G32","v":{"$error":"#DIV/0!"}},{"$f":"'Other Scope 1'!H52/'GHG Summary_regional'!H32","v":{"$error":"#DIV/0!"}},{"$f":"'Other Scope 1'!I52/'GHG Summary_regional'!I32","v":{"$error":"#DIV/0!"}},{"$f":"'Other Scope 1'!J52/'GHG Summary_regional'!J32","v":{"$error":"#DIV/0!"}},{"$f":"'Other Scope 1'!K52/'GHG Summary_regional'!K32","v":{"$error":"#DIV/0!"}},{"$f":"'Other Scope 1'!L52/'GHG Summary_regional'!L32","v":{"$error":"#DIV/0!"}},{"$f":"'Other Scope 1'!M52/'GHG Summary_regional'!M32","v":{"$error":"#DIV/0!"}},{"$f":"'Other Scope 1'!N52/'GHG Summary_regional'!N32","v":2.8799234118527089E-4},{"$f":"'Other Scope 1'!O52/'GHG Summary_regional'!O32","v":2.94007248853969E-4},{"$f":"'Other Scope 1'!P52/'GHG Summary_regional'!P32","v":2.9502703694879386E-4},{"$f":"'Other Scope 1'!Q52/'GHG Summary_regional'!Q32","v":2.8405470358449844E-4},{"$f":"'Other Scope 1'!R52/'GHG Summary_regional'!R32","v":2.4266469121836173E-4},{"$f":"'Other Scope 1'!S52/'GHG Summary_regional'!S32","v":3.2704409299260951E-4},{"$f":"'Other Scope 1'!T52/'GHG Summary_regional'!T32","v":8.2458693163910631E-5},{"$f":"'Other Scope 1'!U52/'GHG Summary_regional'!U32","v":8.3405553027970632E-5},{"$f":"'Other Scope 1'!V52/'GHG Summary_regional'!V32","v":5.5197483348023227E-5},{"$f":"'Other Scope 1'!W52/'GHG Summary_regional'!W32","v":2.2366260942693166E-5}]
[null,null,"Refrigerant Emissions","Refrigerant MTCDE/1M GSF",{"$f":"'Other Scope 1'!E51/'Institutional Data'!I9*1000000","v":{"$error":"#DIV/0!"}},{"$f":"'Other Scope 1'!F51/'Institutional Data'!J9*1000000","v":{"$error":"#DIV/0!"}},{"$f":"'Other Scope 1'!G51/'Institutional Data'!K9*1000000","v":{"$error":"#DIV/0!"}},{"$f":"'Other Scope 1'!H51/'Institutional Data'!L9*1000000","v":{"$error":"#DIV/0!"}},{"$f":"'Other Scope 1'!I51/'Institutional Data'!M9*1000000","v":{"$error":"#DIV/0!"}},{"$f":"'Other Scope 1'!J51/'Institutional Data'!N9*1000000","v":{"$error":"#DIV/0!"}},{"$f":"'Other Scope 1'!K51/'Institutional Data'!O9*1000000","v":{"$error":"#DIV/0!"}},{"$f":"'Other Scope 1'!L51/'Institutional Data'!P9*1000000","v":{"$error":"#DIV/0!"}},{"$f":"'Other Scope 1'!M51/'Institutional Data'!Q9*1000000","v":{"$error":"#DIV/0!"}},{"$f":"'Other Scope 1'!N51/'Institutional Data'!R9*1000000","v":0},{"$f":"'Other Scope 1'!O51/'Institutional Data'!S9*1000000","v":0},{"$f":"'Other Scope 1'!P51/'Institutional Data'!T9*1000000","v":0},{"$f":"'Other Scope 1'!Q51/'Institutional Data'!U9*1000000","v":0},{"$f":"'Other Scope 1'!R51/'Institutional Data'!V9*1000000","v":0},{"$f":"'Other Scope 1'!S51/'Institutional Data'!W9*1000000","v":0},{"$f":"'Other Scope 1'!T51/'Institutional Data'!X9*1000000","v":0},{"$f":"'Other Scope 1'!U51/'Institutional Data'!Y9*1000000","v":0},{"$f":"'Other Scope 1'!V51/'Institutional Data'!Z9*1000000","v":0},{"$f":"'Other Scope 1'!W51/'Institutional Data'!AB9*1000000","v":{"$error":"#DIV/0!"}}]
[null,null,"Refrigerant % of Total MTCDE","% of Total MTCDE",{"$f":"'Other Scope 1'!E51/'GHG Summary_regional'!E32","v":{"$error":"#DIV/0!"}},{"$f":"'Other Scope 1'!F51/'GHG Summary_regional'!F32","v":{"$error":"#DIV/0!"}},{"$f":"'Other Scope 1'!G51/'GHG Summary_regional'!G32","v":{"$error":"#DIV/0!"}},{"$f":"'Other Scope 1'!H51/'GHG Summary_regional'!H32","v":{"$error":"#DIV/0!"}},{"$f":"'Other Scope 1'!I51/'GHG Summary_regional'!I32","v":{"$error":"#DIV/0!"}},{"$f":"'Other Scope 1'!J51/'GHG Summary_regional'!J32","v":{"$error":"#DIV/0!"}},{"$f":"'Other Scope 1'!K51/'GHG Summary_regional'!K32","v":{"$error":"#DIV/0!"}},{"$f":"'Other Scope 1'!L51/'GHG Summary_regional'!L32","v":{"$error":"#DIV/0!"}},{"$f":"'Other Scope 1'!M51/'GHG Summary_regional'!M32","v":{"$error":"#DIV/0!"}},{"$f":"'Other Scope 1'!N51/'GHG Summary_regional'!N32","v":0},{"$f":"'Other Scope 1'!O51/'GHG Summary_regional'!O32","v":0},{"$f":"'Other Scope 1'!P51/'GHG Summary_regional'!P32","v":0},{"$f":"'Other Scope 1'!Q51/'GHG Summary_regional'!Q32","v":0},{"$f":"'Other Scope 1'!R51/'GHG Summary_regional'!R32","v":0},{"$f":"'Other Scope 1'!S51/'GHG Summary_regional'!S32","v":0},{"$f":"'Other Scope 1'!T51/'GHG Summary_regional'!T32","v":0},{"$f":"'Other Scope 1'!U51/'GHG Summary_regional'!U32","v":0},{"$f":"'Other Scope 1'!V51/'GHG Summary_regional'!V32","v":0},{"$f":"'Other Scope 1'!W51/'GHG Summary_regional'!W32","v":0}]
[null,null,"Fleet Fuel Consumption","Gallons/Maintained Acre",{"$f":"(SUM('Other Scope 1'!E8:E9,'Other Scope 1'!E11:E14)/'Institutional Data'!I10)","v":{"$error":"#DIV/0!"}},{"$f":"(SUM('Other Scope 1'!F8:F9,'Other Scope 1'!F11:F14)/'Institutional Data'!J10)","v":{"$error":"#DIV/0!"}},{"$f":"(SUM('Other Scope 1'!G8:G9,'Other Scope 1'!G11:G14)/'Institutional Data'!K10)","v":{"$error":"#DIV/0!"}},{"$f":"(SUM('Other Scope 1'!H8:H9,'Other Scope 1'!H11:H14)/'Institutional Data'!L10)","v":{"$error":"#DIV/0!"}},{"$f":"(SUM('Other Scope 1'!I8:I9,'Other Scope 1'!I11:I14)/'Institutional Data'!M10)","v":{"$error":"#DIV/0!"}},{"$f":"(SUM('Other Scope 1'!J8:J9,'Other Scope 1'!J11:J14)/'Institutional Data'!N10)","v":{"$error":"#DIV/0!"}},{"$f":"(SUM('Other Scope 1'!K8:K9,'Other Scope 1'!K11:K14)/'Institutional Data'!O10)","v":{"$error":"#DIV/0!"}},{"$f":"(SUM('Other Scope 1'!L8:L9,'Other Scope 1'!L11:L14)/'Institutional Data'!P10)","v":{"$error":"#DIV/0!"}},{"$f":"(SUM('Other Scope 1'!M8:M9,'Other Scope 1'!M11:M14)/'Institutional Data'!Q10)","v":{"$error":"#DIV/0!"}},{"$f":"(SUM('Other Scope 1'!N8:N9,'Other Scope 1'!N11:N14)/'Institutional Data'!R10)","v":581.226},{"$f":"(SUM('Other Scope 1'!O8:O9,'Other Scope 1'!O11:O14)/'Institutional Data'!S10)","v":588.59680000000003},{"$f":"(SUM('Other Scope 1'!P8:P9,'Other Scope 1'!P11:P14)/'Institutional Data'!T10)","v":578.65599999999995},{"$f":"(SUM('Other Scope 1'!Q8:Q9,'Other Scope 1'!Q11:Q14)/'Institutional Data'!U10)","v":393.00844800000004},{"$f":"(SUM('Other Scope 1'!R8:R9,'Other Scope 1'!R11:R14)/'Institutional Data'!V10)","v":394.73500000000001},{"$f":"(SUM('Other Scope 1'!S8:S9,'Other Scope 1'!S11:S14)/'Institutional Data'!W10)","v":402.85199999999998},{"$f":"(SUM('Other Scope 1'!T8:T9,'Other Scope 1'!T11:T14)/'Institutional Data'!X10)","v":189.71175999999997},{"$f":"(SUM('Other Scope 1'!U8:U9,'Other Scope 1'!U11:U14)/'Institutional Data'!Y10)","v":212.02799999999999},{"$f":"(SUM('Other Scope 1'!V8:V9,'Other Scope 1'!V11:V14)/'Institutional Data'!Z10)","v":230.08879999999999},{"$f":"(SUM('Other Scope 1'!W8:W9,'Other Scope 1'!W11:W14)/'Institutional Data'!AB10)","v":{"$error":"#DIV/0!"}}]
[null,null,"Fleet Fuel Carbon Intensity","Fleet MTCDE/1000 GGE",{"$f":"'Other Scope 1'!E55","v":{"$error":"#DIV/0!"}},{"$f":"'Other Scope 1'!F55","v":{"$error":"#DIV/0!"}},{"$f":"'Other Scope 1'!G55","v":{"$error":"#DIV/0!"}},{"$f":"'Other Scope 1'!H55","v":{"$error":"#DIV/0!"}},{"$f":"'Other Scope 1'!I55","v":{"$error":"#DIV/0!"}},{"$f":"'Other Scope 1'!J55","v":{"$error":"#DIV/0!"}},{"$f":"'Other Scope 1'!K55","v":{"$error":"#DIV/0!"}},{"$f":"'Other Scope 1'!L55","v":{"$error":"#DIV/0!"}},{"$f":"'Other Scope 1'!M55","v":{"$error":"#DIV/0!"}},{"$f":"'Other Scope 1'!N55","v":9.085996899894587},{"$f":"'Other Scope 1'!O55","v":9.0864856697270415},{"$f":"'Other Scope 1'!P55","v":9.1070087034538165},{"$f":"'Other Scope 1'!Q55","v":8.9508761003377888},{"$f":"'Other Scope 1'!R55","v":8.6706720530803949},{"$f":"'Other Scope 1'!S55","v":8.7469829585129872},{"$f":"'Other Scope 1'!T55","v":9.111389183864766},{"$f":"'Other Scope 1'!U55","v":9.1346288152956632},{"$f":"'Other Scope 1'!V55","v":9.7597106296979401},{"$f":"'Other Scope 1'!W55","v":9.4082175450684886}]
[null,null,"Fleet MTCDE/Acre","MTCDE/Acre",{"$f":"'Other Scope 1'!E50/'Institutional Data'!I10","v":{"$error":"#DIV/0!"}},{"$f":"'Other Scope 1'!F50/'Institutional Data'!J10","v":{"$error":"#DIV/0!"}},{"$f":"'Other Scope 1'!G50/'Institutional Data'!K10","v":{"$error":"#DIV/0!"}},{"$f":"'Other Scope 1'!H50/'Institutional Data'!L10","v":{"$error":"#DIV/0!"}},{"$f":"'Other Scope 1'!I50/'Institutional Data'!M10","v":{"$error":"#DIV/0!"}},{"$f":"'Other Scope 1'!J50/'Institutional Data'!N10","v":{"$error":"#DIV/0!"}},{"$f":"'Other Scope 1'!K50/'Institutional Data'!O10","v":{"$error":"#DIV/0!"}},{"$f":"'Other Scope 1'!L50/'Institutional Data'!P10","v":{"$error":"#DIV/0!"}},{"$f":"'Other Scope 1'!M50/'Institutional Data'!Q10","v":{"$error":"#DIV/0!"}},{"$f":"'Other Scope 1'!N50/'Institutional Data'!R10","v":5.2643999999999993},{"$f":"'Other Scope 1'!O50/'Institutional Data'!S10","v":5.3304},{"$f":"'Other Scope 1'!P50/'Institutional Data'!T10","v":5.2572000000000001},{"$f":"'Other Scope 1'!Q50/'Institutional Data'!U10","v":3.5348000000000002},{"$f":"'Other Scope 1'!R50/'Institutional Data'!V10","v":3.4671999999999996},{"$f":"'Other Scope 1'!S50/'Institutional Data'!W10","v":3.5636000000000001},{"$f":"'Other Scope 1'!T50/'Institutional Data'!X10","v":1.704},{"$f":"'Other Scope 1'!U50/'Institutional Data'!Y10","v":1.9096},{"$f":"'Other Scope 1'!V50/'Institutional Data'!Z10","v":2.2120000000000002},{"$f":"'Other Scope 1'!W50/'Institutional Data'!AB10","v":{"$error":"#DIV/0!"}}]
[null,"Paper"]
[null,null,"Paper Emissions (per 1,000 GSF)","Paper MTCDE/1,000 GSF",{"$f":"'Other Scope 3 Sources'!E71/'Institutional Data'!I9*1000","v":{"$error":"#DIV/0!"}},{"$f":"'Other Scope 3 Sources'!F71/'Institutional Data'!J9*1000","v":{"$error":"#DIV/0!"}},{"$f":"'Other Scope 3 Sources'!G71/'Institutional Data'!K9*1000","v":{"$error":"#DIV/0!"}},{"$f":"'Other Scope 3 Sources'!H71/'Institutional Data'!L9*1000","v":{"$error":"#DIV/0!"}},{"$f":"'Other Scope 3 Sources'!I71/'Institutional Data'!M9*1000","v":{"$error":"#DIV/0!"}},{"$f":"'Other Scope 3 Sources'!J71/'Institutional Data'!N9*1000","v":{"$error":"#DIV/0!"}},{"$f":"'Other Scope 3 Sources'!K71/'Institutional Data'!O9*1000","v":{"$error":"#DIV/0!"}},{"$f":"'Other Scope 3 Sources'!L71/'Institutional Data'!P9*1000","v":{"$error":"#DIV/0!"}},{"$f":"'Other Scope 3 Sources'!M71/'Institutional Data'!Q9*1000","v":{"$error":"#DIV/0!"}},{"$f":"'Other Scope 3 Sources'!N71/'Institutional Data'!R9*1000","v":3.9843458877604876E-2},{"$f":"'Other Scope 3 Sources'!O71/'Institutional Data'!S9*1000","v":3.9356236564458705E-2},{"$f":"'Other Scope 3 Sources'!P71/'Institutional Data'!T9*1000","v":3.7343648166257778E-2},{"$f":"'Other Scope 3 Sources'!Q71/'Institutional Data'!U9*1000","v":3.7199997292255801E-2},{"$f":"'Other Scope 3 Sources'!R71/'Institutional Data'!V9*1000","v":3.6682669604178007E-2},{"$f":"'Other Scope 3 Sources'!S71/'Institutional Data'!W9*1000","v":3.7519513957957822E-2},{"$f":"'Other Scope 3 Sources'!T71/'Institutional Data'!X9*1000","v":5.0692445903600142E-2},{"$f":"'Other Scope 3 Sources'!U71/'Institutional Data'!Y9*1000","v":7.453765500767752E-2},{"$f":"'Other Scope 3 Sources'!V71/'Institutional Data'!Z9*1000","v":7.6275910093392477E-2},{"$f":"'Other Scope 3 Sources'!W71/'Institutional Data'!AB9*1000","v":{"$error":"#DIV/0!"}}]
[null,null,"Paper Emissions (per Campus User)","Paper MTCDE/Campus User",{"$f":"'Other Scope 3 Sources'!F71/'Institutional Data'!I33","v":{"$error":"#DIV/0!"}},{"$f":"'Other Scope 3 Sources'!G71/'Institutional Data'!J33","v":{"$error":"#DIV/0!"}},{"$f":"'Other Scope 3 Sources'!H71/'Institutional Data'!K33","v":{"$error":"#DIV/0!"}},{"$f":"'Other Scope 3 Sources'!I71/'Institutional Data'!L33","v":{"$error":"#DIV/0!"}},{"$f":"'Other Scope 3 Sources'!J71/'Institutional Data'!M33","v":{"$error":"#DIV/0!"}},{"$f":"'Other Scope 3 Sources'!K71/'Institutional Data'!N33","v":{"$error":"#DIV/0!"}},{"$f":"'Other Scope 3 Sources'!L71/'Institutional Data'!O33","v":{"$error":"#DIV/0!"}},{"$f":"'Other Scope 3 Sources'!M71/'Institutional Data'!P33","v":{"$error":"#DIV/0!"}},{"$f":"'Other Scope 3 Sources'!N71/'Institutional Data'!Q33","v":{"$error":"#DIV/0!"}},{"$f":"'Other Scope 3 Sources'!O71/'Institutional Data'!R33","v":9.9798123136440042E-3},{"$f":"'Other Scope 3 Sources'!P71/'Institutional Data'!S33","v":9.7729988907387742E-3},{"$f":"'Other Scope 3 Sources'!Q71/'Institutional Data'!T33","v":9.7661916413001731E-3},{"$f":"'Other Scope 3 Sources'!R71/'Institutional Data'!U33","v":9.7921509771478135E-3},{"$f":"'Other Scope 3 Sources'!S71/'Institutional Data'!V33","v":9.9033968273925539E-3},{"$f":"'Other Scope 3 Sources'!S71/'Institutional Data'!W33","v":9.5363008999556076E-3},{"$f":"'Other Scope 3 Sources'!T71/'Institutional Data'!X33","v":1.2810904219171698E-2},{"$f":"'Other Scope 3 Sources'!U71/'Institutional Data'!Y33","v":1.9655308041620481E-2},{"$f":"'Other Scope 3 Sources'!V71/'Institutional Data'!Z33","v":2.0611771226660199E-2},{"$f":"'Other Scope 3 Sources'!W71/'Institutional Data'!AB33","v":{"$error":"#DIV/0!"}}]
[null,null,"Paper % of Total MTCDE","% of Total MTCDE",{"$f":"'GHG Summary_regional'!E26/'GHG Summary_regional'!E32","v":{"$error":"#DIV/0!"}},{"$f":"'GHG Summary_regional'!F26/'GHG Summary_regional'!F32","v":{"$error":"#DIV/0!"}},{"$f":"'GHG Summary_regional'!G26/'GHG Summary_regional'!G32","v":{"$error":"#DIV/0!"}},{"$f":"'GHG Summary_regional'!H26/'GHG Summary_regional'!H32","v":{"$error":"#DIV/0!"}},{"$f":"'GHG Summary_regional'!I26/'GHG Summary_regional'!I32","v":{"$error":"#DIV/0!"}},{"$f":"'GHG Summary_regional'!J26/'GHG Summary_regional'!J32","v":{"$error":"#DIV/0!"}},{"$f":"'GHG Summary_regional'!K26/'GHG Summary_regional'!K32","v":{"$error":"#DIV/0!"}},{"$f":"'GHG Summary_regional'!L26/'GHG Summary_regional'!L32","v":{"$error":"#DIV/0!"}},{"$f":"'GHG Summary_regional'!M26/'GHG Summary_regional'!M32","v":{"$error":"#DIV/0!"}},{"$f":"'GHG Summary_regional'!N26/'GHG Summary_regional'!N32","v":3.0278614921420413E-3},{"$f":"'GHG Summary_regional'!O26/'GHG Summary_regional'!O32","v":3.0911003520154869E-3},{"$f":"'GHG Summary_regional'!P26/'GHG Summary_regional'!P32","v":3.101822085412135E-3},{"$f":"'GHG Summary_regional'!Q26/'GHG Summary_regional'!Q32","v":2.8300278600594765E-3},{"$f":"'GHG Summary_regional'!R26/'GHG Summary_regional'!R32","v":2.7005798262874623E-3},{"$f":"'GHG Summary_regional'!S26/'GHG Summary_regional'!S32","v":2.5874630926855931E-3},{"$f":"'GHG Summary_regional'!T26/'GHG Summary_regional'!T32","v":3.7651730129331621E-3},{"$f":"'GHG Summary_regional'!U26/'GHG Summary_regional'!U32","v":6.1956800674966839E-3},{"$f":"'GHG Summary_regional'!V26/'GHG Summary_regional'!V32","v":6.5685005184147639E-3},{"$f":"'GHG Summary_regional'!W26/'GHG Summary_regional'!W32","v":3.0082620967922307E-3}]
[null,"Solid Waste"]
[null,null,"Solid Waste Production","Solid Waste Tons/Campus User",{"$f":"'Other Scope 3 Sources'!E32/'Institutional Data'!I33","v":{"$error":"#DIV/0!"}},{"$f":"'Other Scope 3 Sources'!F32/'Institutional Data'!J33","v":{"$error":"#DIV/0!"}},{"$f":"'Other Scope 3 Sources'!G32/'Institutional Data'!K33","v":{"$error":"#DIV/0!"}},{"$f":"'Other Scope 3 Sources'!H32/'Institutional Data'!L33","v":{"$error":"#DIV/0!"}},{"$f":"'Other Scope 3 Sources'!I32/'Institutional Data'!M33","v":{"$error":"#DIV/0!"}},{"$f":"'Other Scope 3 Sources'!J32/'Institutional Data'!N33","v":{"$error":"#DIV/0!"}},{"$f":"'Other Scope 3 Sources'!K32/'Institutional Data'!O33","v":{"$error":"#DIV/0!"}},{"$f":"'Other Scope 3 Sources'!L32/'Institutional Data'!P33","v":{"$error":"#DIV/0!"}},{"$f":"'Other Scope 3 Sources'!M32/'Institutional Data'!Q33","v":{"$error":"#DIV/0!"}},{"$f":"'Other Scope 3 Sources'!N32/'Institutional Data'!R33","v":7.4035172186605172E-2},{"$f":"'Other Scope 3 Sources'!O32/'Institutional Data'!S33","v":7.1433053297153146E-2},{"$f":"'Other Scope 3 Sources'!P32/'Institutional Data'!T33","v":7.2111938957852478E-2},{"$f":"'Other Scope 3 Sources'!Q32/'Institutional Data'!U33","v":7.0989572227855041E-2},{"$f":"'Other Scope 3 Sources'!R32/'Institutional Data'!V33","v":6.9387900505018765E-2},{"$f":"'Other Scope 3 Sources'!S32/'Institutional Data'!W33","v":6.5379151701037169E-2},{"$f":"'Other Scope 3 Sources'!T32/'Institutional Data'!X33","v":6.0967322291905324E-2},{"$f":"'Other Scope 3 Sources'!U32/'Institutional Data'!Y33","v":5.5146780133729034E-2},{"$f":"'Other Scope 3 Sources'!V32/'Institutional Data'!Z33","v":5.1823881941317075E-2},{"$f":"'Other Scope 3 Sources'!W32/'Institutional Data'!AB33","v":{"$error":"#DIV/0!"}}]
[null,null,"Solid Waste Emissions (per 1,000 GSF)","Solid Waste MTCDE/1,000 GSF",{"$f":"'Other Scope 3 Sources'!E69/'Institutional Data'!I9*1000","v":{"$error":"#DIV/0!"}},{"$f":"'Other Scope 3 Sources'!F69/'Institutional Data'!J9*1000","v":{"$error":"#DIV/0!"}},{"$f":"'Other Scope 3 Sources'!G69/'Institutional Data'!K9*1000","v":{"$error":"#DIV/0!"}},{"$f":"'Other Scope 3 Sources'!H69/'Institutional Data'!L9*1000","v":{"$error":"#DIV/0!"}},{"$f":"'Other Scope 3 Sources'!I69/'Institutional Data'!M9*1000","v":{"$error":"#DIV/0!"}},{"$f":"'Other Scope 3 Sources'!J69/'Institutional Data'!N9*1000","v":{"$error":"#DIV/0!"}},{"$f":"'Other Scope 3 Sources'!K69/'Institutional Data'!O9*1000","v":{"$error":"#DIV/0!"}},{"$f":"'Other Scope 3 Sources'!L69/'Institutional Data'!P9*1000","v":{"$error":"#DIV/0!"}},{"$f":"'Other Scope 3 Sources'!M69/'Institutional Data'!Q9*1000","v":{"$error":"#DIV/0!"}},{"$f":"'Other Scope 3 Sources'!N69/'Institutional Data'!R9*1000","v":5.6159903283080778E-2},{"$f":"'Other Scope 3 Sources'!O69/'Institutional Data'!S9*1000","v":5.4656085951489068E-2},{"$f":"'Other Scope 3 Sources'!P69/'Institutional Data'!T9*1000","v":5.2390467587356958E-2},{"$f":"'Other Scope 3 Sources'!Q69/'Institutional Data'!U9*1000","v":5.1240453824224264E-2},{"$f":"'Other Scope 3 Sources'!R69/'Institutional Data'!V9*1000","v":4.8833078174292825E-2},{"$f":"'Other Scope 3 Sources'!S69/'Institutional Data'!W9*1000","v":4.8873128470118397E-2},{"$f":"'Other Scope 3 Sources'!T69/'Institutional Data'!X9*1000","v":4.583678876339474E-2},{"$f":"'Other Scope 3 Sources'!U69/'Institutional Data'!Y9*1000","v":3.9734671982791119E-2},{"$f":"'Other Scope 3 Sources'!V69/'Institutional Data'!Z9*1000","v":3.6438091907472062E-2},{"$f":"'Other Scope 3 Sources'!W69/'Institutional Data'!AB9*1000","v":{"$error":"#DIV/0!"}}]
[null,null,"Solid Waste Emissions (per Campus User)","MTCDE/Campus User",{"$f":"'Other Scope 3 Sources'!E69/'Institutional Data'!I33","v":{"$error":"#DIV/0!"}},{"$f":"'Other Scope 3 Sources'!F69/'Institutional Data'!J33","v":{"$error":"#DIV/0!"}},{"$f":"'Other Scope 3 Sources'!G69/'Institutional Data'!K33","v":{"$error":"#DIV/0!"}},{"$f":"'Other Scope 3 Sources'!H69/'Institutional Data'!L33","v":{"$error":"#DIV/0!"}},{"$f":"'Other Scope 3 Sources'!I69/'Institutional Data'!M33","v":{"$error":"#DIV/0!"}},{"$f":"'Other Scope 3 Sources'!J69/'Institutional Data'!N33","v":{"$error":"#DIV/0!"}},{"$f":"'Other Scope 3 Sources'!K69/'Institutional Data'!O33","v":{"$error":"#DIV/0!"}},{"$f":"'Other Scope 3 Sources'!L69/'Institutional Data'!P33","v":{"$error":"#DIV/0!"}},{"$f":"'Other Scope 3 Sources'!M69/'Institutional Data'!Q33","v":{"$error":"#DIV/0!"}},{"$f":"'Other Scope 3 Sources'!N69/'Institutional Data'!R33","v":1.4066682715454984E-2},{"$f":"'Other Scope 3 Sources'!O69/'Institutional Data'!S33","v":1.3572280126459097E-2},{"$f":"'Other Scope 3 Sources'!P69/'Institutional Data'!T33","v":1.370126840199197E-2},{"$f":"'Other Scope 3 Sources'!Q69/'Institutional Data'!U33","v":1.348801872329246E-2},{"$f":"'Other Scope 3 Sources'!R69/'Institutional Data'!V33","v":1.3183701095953564E-2},{"$f":"'Other Scope 3 Sources'!S69/'Institutional Data'!W33","v":1.2422038823197062E-2},{"$f":"'Other Scope 3 Sources'!T69/'Institutional Data'!X33","v":1.1583791235462012E-2},{"$f":"'Other Scope 3 Sources'!U69/'Institutional Data'!Y33","v":1.0477888225408518E-2},{"$f":"'Other Scope 3 Sources'!V69/'Institutional Data'!Z33","v":9.8465375688502454E-3},{"$f":"'Other Scope 3 Sources'!W69/'Institutional Data'!AB33","v":{"$error":"#DIV/0!"}}]
[null,null,"Solid Waste Emmissions (per Student)","MTCDE/Student FTE",{"$f":"'Other Scope 3 Sources'!E69/'Institutional Data'!I21","v":{"$error":"#DIV/0!"}},{"$f":"'Other Scope 3 Sources'!F69/'Institutional Data'!J21","v":{"$error":"#DIV/0!"}},{"$f":"'Other Scope 3 Sources'!G69/'Institutional Data'!K21","v":{"$error":"#DIV/0!"}},{"$f":"'Other Scope 3 Sources'!H69/'Institutional Data'!L21","v":{"$error":"#DIV/0!"}},{"$f":"'Other Scope 3 Sources'!I69/'Institutional Data'!M21","v":{"$error":"#DIV/0!"}},{"$f":"'Other Scope 3 Sources'!J69/'Institutional Data'!N21","v":{"$error":"#DIV/0!"}},{"$f":"'Other Scope 3 Sources'!K69/'Institutional Data'!O21","v":{"$error":"#DIV/0!"}},{"$f":"'Other Scope 3 Sources'!L69/'Institutional Data'!P21","v":{"$error":"#DIV/0!"}},{"$f":"'Other Scope 3 Sources'!M69/'Institutional Data'!Q21","v":{"$error":"#DIV/0!"}},{"$f":"'Other Scope 3 Sources'!N69/'Institutional Data'!R21","v":1.7256699204178067E-2},{"$f":"'Other Scope 3 Sources'!O69/'Institutional Data'!S21","v":1.6616233322362593E-2},{"$f":"'Other Scope 3 Sources'!P69/'Institutional Data'!T21","v":1.6830412444408343E-2},{"$f":"'Other Scope 3 Sources'!Q69/'Institutional Data'!U21","v":1.6599201370827089E-2},{"$f":"'Other Scope 3 Sources'!R69/'Institutional Data'!V21","v":1.631670211110535E-2},{"$f":"'Other Scope 3 Sources'!S69/'Institutional Data'!W21","v":1.4825435892495907E-2},{"$f":"'Other Scope 3 Sources'!T69/'Institutional Data'!X21","v":1.3753515606989718E-2},{"$f":"'Other Scope 3 Sources'!U69/'Institutional Data'!Y21","v":1.2353404156654441E-2},{"$f":"'Other Scope 3 Sources'!V69/'Institutional Data'!Z21","v":1.1578947368421053E-2},{"$f":"'Other Scope 3 Sources'!W69/'Institutional Data'!AB21","v":{"$error":"#DIV/0!"}}]
[null,null,"Solid Waste % of Total MTCDE","% of Total MTCDE",{"$f":"'GHG Summary_regional'!E24/'GHG Summary_regional'!E32","v":{"$error":"#DIV/0!"}},{"$f":"'GHG Summary_regional'!F24/'GHG Summary_regional'!F32","v":{"$error":"#DIV/0!"}},{"$f":"'GHG Summary_regional'!G24/'GHG Summary_regional'!G32","v":{"$error":"#DIV/0!"}},{"$f":"'GHG Summary_regional'!H24/'GHG Summary_regional'!H32","v":{"$error":"#DIV/0!"}},{"$f":"'GHG Summary_regional'!I24/'GHG Summary_regional'!I32","v":{"$error":"#DIV/0!"}},{"$f":"'GHG Summary_regional'!J24/'GHG Summary_regional'!J32","v":{"$error":"#DIV/0!"}},{"$f":"'GHG Summary_regional'!K24/'GHG Summary_regional'!K32","v":{"$error":"#DIV/0!"}},{"$f":"'GHG Summary_regional'!L24/'GHG Summary_regional'!L32","v":{"$error":"#DIV/0!"}},{"$f":"'GHG Summary_regional'!M24/'GHG Summary_regional'!M32","v":{"$error":"#DIV/0!"}},{"$f":"'GHG Summary_regional'!N24/'GHG Summary_regional'!N32","v":4.2678124174816527E-3},{"$f":"'GHG Summary_regional'!O24/'GHG Summary_regional'!O32","v":4.2927744437080487E-3},{"$f":"'GHG Summary_regional'!P24/'GHG Summary_regional'!P32","v":4.3516345458279627E-3},{"$f":"'GHG Summary_regional'!Q24/'GHG Summary_regional'!Q32","v":3.8981699580616365E-3},{"$f":"'GHG Summary_regional'!R24/'GHG Summary_regional'!R32","v":3.5950934650076137E-3},{"$f":"'GHG Summary_regional'!S24/'GHG Summary_regional'!S32","v":3.3704438784098768E-3},{"$f":"'GHG Summary_regional'!T24/'GHG Summary_regional'!T32","v":3.4045198840799099E-3},{"$f":"'GHG Summary_regional'!U24/'GHG Summary_regional'!U32","v":3.3028046719063078E-3},{"$f":"'GHG Summary_regional'!V24/'GHG Summary_regional'!V32","v":3.1378665333684245E-3},{"$f":"'GHG Summary_regional'!W24/'GHG Summary_regional'!W32","v":3.1871921843337763E-3}]
[null,"Wastewater"]
[null,null,"Wastewater Production","Total Wastewater Gallons/Campus User",{"$f":"'Other Scope 3 Sources'!E41/'Institutional Data'!I33","v":{"$error":"#DIV/0!"}},{"$f":"'Other Scope 3 Sources'!F41/'Institutional Data'!J33","v":{"$error":"#DIV/0!"}},{"$f":"'Other Scope 3 Sources'!G41/'Institutional Data'!K33","v":{"$error":"#DIV/0!"}},{"$f":"'Other Scope 3 Sources'!H41/'Institutional Data'!L33","v":{"$error":"#DIV/0!"}},{"$f":"'Other Scope 3 Sources'!I41/'Institutional Data'!M33","v":{"$error":"#DIV/0!"}},{"$f":"'Other Scope 3 Sources'!J41/'Institutional Data'!N33","v":{"$error":"#DIV/0!"}},{"$f":"'Other Scope 3 Sources'!K41/'Institutional Data'!O33","v":{"$error":"#DIV/0!"}},{"$f":"'Other Scope 3 Sources'!L41/'Institutional Data'!P33","v":{"$error":"#DIV/0!"}},{"$f":"'Other Scope 3 Sources'!M41/'Institutional Data'!Q33","v":{"$error":"#DIV/0!"}},{"$f":"'Other Scope 3 Sources'!N41/'Institutional Data'!R33","v":7550.1535193303434},{"$f":"'Other Scope 3 Sources'!O41/'Institutional Data'!S33","v":7393.6903471063624},{"$f":"'Other Scope 3 Sources'!P41/'Institutional Data'!T33","v":7388.5403726689128},{"$f":"'Other Scope 3 Sources'!Q41/'Institutional Data'!U33","v":7408.1797170523332},{"$f":"'Other Scope 3 Sources'!R41/'Institutional Data'!V33","v":7492.3419458938415},{"$f":"'Other Scope 3 Sources'!S41/'Institutional Data'!W33","v":7214.6182251099717},{"$f":"'Other Scope 3 Sources'!T41/'Institutional Data'!X33","v":7902.5687824010256},{"$f":"'Other Scope 3 Sources'!U41/'Institutional Data'!Y33","v":5059.1695569778667},{"$f":"'Other Scope 3 Sources'!V41/'Institutional Data'!Z33","v":4890.7749333148577},{"$f":"'Other Scope 3 Sources'!W41/'Institutional Data'!AB33","v":{"$error":"#DIV/0!"}}]
[null,null,"Wastewater Emissions by Size","Wastewater MTCDE/1,000 GSF",{"$f":"'GHG Summary_regional'!E25/'Institutional Data'!I9*1000","v":{"$error":"#DIV/0!"}},{"$f":"'GHG Summary_regional'!F25/'Institutional Data'!J9*1000","v":{"$error":"#DIV/0!"}},{"$f":"'GHG Summary_regional'!G25/'Institutional Data'!K9*1000","v":{"$error":"#DIV/0!"}},{"$f":"'GHG Summary_regional'!H25/'Institutional Data'!L9*1000","v":{"$error":"#DIV/0!"}},{"$f":"'GHG Summary_regional'!I25/'Institutional Data'!M9*1000","v":{"$error":"#DIV/0!"}},{"$f":"'GHG Summary_regional'!J25/'Institutional Data'!N9*1000","v":{"$error":"#DIV/0!"}},{"$f":"'GHG Summary_regional'!K25/'Institutional Data'!O9*1000","v":{"$error":"#DIV/0!"}},{"$f":"'GHG Summary_regional'!L25/'Institutional Data'!P9*1000","v":{"$error":"#DIV/0!"}},{"$f":"'GHG Summary_regional'!M25/'Institutional Data'!Q9*1000","v":{"$error":"#DIV/0!"}},{"$f":"'GHG Summary_regional'!N25/'Institutional Data'!R9*1000","v":0.26784530818122954},{"$f":"'GHG Summary_regional'!O25/'Institutional Data'!S9*1000","v":0.26456998484601685},{"$f":"'GHG Summary_regional'!P25/'Institutional Data'!T9*1000","v":0.25104047774639376},{"$f":"'GHG Summary_regional'!Q25/'Institutional Data'!U9*1000","v":0.25007479319737519},{"$f":"'GHG Summary_regional'!R25/'Institutional Data'!V9*1000","v":0.24659708825038409},{"$f":"'GHG Summary_regional'!S25/'Institutional Data'!W9*1000","v":0.2522227251843267},{"$f":"'GHG Summary_regional'!T25/'Institutional Data'!X9*1000","v":0.20690043784370099},{"$f":"'GHG Summary_regional'!U25/'Institutional Data'!Y9*1000","v":0.17242161405458539},{"$f":"'GHG Summary_regional'!V25/'Institutional Data'!Z9*1000","v":0.16082038523052247},{"$f":"'GHG Summary_regional'!W25/'Institutional Data'!AB9*1000","v":{"$error":"#DIV/0!"}}]
[null,null,"Wastewater Emissions per Campus User","Wastewater MTCDE/FTE Student",{"$f":"'GHG Summary_regional'!E25/'Institutional Data'!I21","v":{"$error":"#DIV/0!"}},{"$f":"'GHG Summary_regional'!F25/'Institutional Data'!J21","v":{"$error":"#DIV/0!"}},{"$f":"'GHG Summary_regional'!G25/'Institutional Data'!K21","v":{"$error":"#DIV/0!"}},{"$f":"'GHG Summary_regional'!H25/'Institutional Data'!L21","v":{"$error":"#DIV/0!"}},{"$f":"'GHG Summary_regional'!I25/'Institutional Data'!M21","v":{"$error":"#DIV/0!"}},{"$f":"'GHG Summary_regional'!J25/'Institutional Data'!N21","v":{"$error":"#DIV/0!"}},{"$f":"'GHG Summary_regional'!K25/'Institutional Data'!O21","v":{"$error":"#DIV/0!"}},{"$f":"'GHG Summary_regional'!L25/'Institutional Data'!P21","v":{"$error":"#DIV/0!"}},{"$f":"'GHG Summary_regional'!M25/'Institutional Data'!Q21","v":{"$error":"#DIV/0!"}},{"$f":"'GHG Summary_regional'!N25/'Institutional Data'!R21","v":8.2302953643553625E-2},{"$f":"'GHG Summary_regional'!O25/'Institutional Data'!S21","v":8.043306654262132E-2},{"$f":"'GHG Summary_regional'!P25/'Institutional Data'!T21","v":8.0646632398691173E-2},{"$f":"'GHG Summary_regional'!Q25/'Institutional Data'!U21","v":8.1011028206169733E-2},{"$f":"'GHG Summary_regional'!R25/'Institutional Data'!V21","v":8.2396018864230494E-2},{"$f":"'GHG Summary_regional'!S25/'Institutional Data'!W21","v":7.6510588945356894E-2},{"$f":"'GHG Summary_regional'!T25/'Institutional Data'!X21","v":6.2081321090469814E-2},{"$f":"'GHG Summary_regional'!U25/'Institutional Data'!Y21","v":5.3605422606268709E-2},{"$f":"'GHG Summary_regional'!V25/'Institutional Data'!Z21","v":5.1103959589375914E-2},{"$f":"'GHG Summary_regional'!W25/'Institutional Data'!AB21","v":{"$error":"#DIV/0!"}}]
[null,null,"Wastewater % of Total MTCDE","% of Total MTCDE",{"$f":"'GHG Summary_regional'!E25/'GHG Summary_regional'!E32","v":{"$error":"#DIV/0!"}},{"$f":"'GHG Summary_regional'!F25/'GHG Summary_regional'!F32","v":{"$error":"#DIV/0!"}},{"$f":"'GHG Summary_regional'!G25/'GHG Summary_regional'!G32","v":{"$error":"#DIV/0!"}},{"$f":"'GHG Summary_regional'!H25/'GHG Summary_regional'!H32","v":{"$error":"#DIV/0!"}},{"$f":"'GHG Summary_regional'!I25/'GHG Summary_regional'!I32","v":{"$error":"#DIV/0!"}},{"$f":"'GHG Summary_regional'!J25/'GHG Summary_regional'!J32","v":{"$error":"#DIV/0!"}},{"$f":"'GHG Summary_regional'!K25/'GHG Summary_regional'!K32","v":{"$error":"#DIV/0!"}},{"$f":"'GHG Summary_regional'!L25/'GHG Summary_regional'!L32","v":{"$error":"#DIV/0!"}},{"$f":"'GHG Summary_regional'!M25/'GHG Summary_regional'!M32","v":{"$error":"#DIV/0!"}},{"$f":"'GHG Summary_regional'!N25/'GHG Summary_regional'!N32","v":2.035462074174255E-2},{"$f":"'GHG Summary_regional'!O25/'GHG Summary_regional'!O32","v":2.0779740256688911E-2},{"$f":"'GHG Summary_regional'!P25/'GHG Summary_regional'!P32","v":2.0851816478652571E-2},{"$f":"'GHG Summary_regional'!Q25/'GHG Summary_regional'!Q32","v":1.902469578927939E-2},{"$f":"'GHG Summary_regional'!R25/'GHG Summary_regional'!R32","v":1.8154488998106254E-2},{"$f":"'GHG Summary_regional'!S25/'GHG Summary_regional'!S32","v":1.7394068411502102E-2},{"$f":"'GHG Summary_regional'!T25/'GHG Summary_regional'!T32","v":1.5367495709608931E-2},{"$f":"'GHG Summary_regional'!U25/'GHG Summary_regional'!U32","v":1.433193943777232E-2},{"$f":"'GHG Summary_regional'!V25/'GHG Summary_regional'!V32","v":1.3849048572019027E-2},{"$f":"'GHG Summary_regional'!W25/'GHG Summary_regional'!W32","v":9.8336993944707612E-3}]
[]
[null,"Offsets",null,null,"FY1995","FY1996","FY1997","FY1998","FY1999","FY2000","FY2001","FY2002","FY2003","FY2004","FY2005","FY2006","FY2007","FY2008","FY2009","FY2010","FY2011","FY2012","FY2014"]
[null,"Offsets with Additionality"]
[null,null,"On-Campus Composting","Short Tons",{"$f":"Offsets!E8","v":0},{"$f":"Offsets!F8","v":0},{"$f":"Offsets!G8","v":0},{"$f":"Offsets!H8","v":0},{"$f":"Offsets!I8","v":0},{"$f":"Offsets!J8","v":0},{"$f":"Offsets!K8","v":0},{"$f":"Offsets!L8","v":0},{"$f":"Offsets!M8","v":0},{"$f":"Offsets!N8","v":342},{"$f":"Offsets!O8","v":359.44},{"$f":"Offsets!P8","v":235.02},{"$f":"Offsets!Q8","v":256.22000000000003},{"$f":"Offsets!R8","v":239},{"$f":"Offsets!S8","v":282},{"$f":"Offsets!T8","v":359.90999999999997},{"$f":"Offsets!U8","v":466.49},{"$f":"Offsets!V8","v":400.5},{"$f":"Offsets!W8","v":828}]
[null,null,"On-Campus Composting","MTCDE",{"$f":"Offsets!E10","v":0},{"$f":"Offsets!F10","v":0},{"$f":"Offsets!G10","v":0},{"$f":"Offsets!H10","v":0},{"$f":"Offsets!I10","v":0},{"$f":"Offsets!J10","v":0},{"$f":"Offsets!K10","v":0},{"$f":"Offsets!L10","v":0},{"$f":"Offsets!M10","v":0},{"$f":"Offsets!N10","v":-131.58110223},{"$f":"Offsets!O10","v":-138.29096896359999},{"$f":"Offsets!P10","v":-90.421610076300013},{"$f":"Offsets!Q10","v":-98.578099454300016},{"$f":"Offsets!R10","v":-91.952875535000004},{"$f":"Offsets!S10","v":-108.49669833},{"$f":"Offsets!T10","v":-138.47179679414998},{"$f":"Offsets!U10","v":-179.47739292185003},{"$f":"Offsets!V10","v":-154.08839603250001},{"$f":"Offsets!W10","v":-30.7}]
[null,null,"Composting/1,000 GSF","Short Tons/1,000 GSF",{"$f":"Offsets!E8/'Institutional Data'!I9*1000","v":{"$error":"#DIV/0!"}},{"$f":"Offsets!F8/'Institutional Data'!J9*1000","v":{"$error":"#DIV/0!"}},{"$f":"Offsets!G8/'Institutional Data'!K9*1000","v":{"$error":"#DIV/0!"}},{"$f":"Offsets!H8/'Institutional Data'!L9*1000","v":{"$error":"#DIV/0!"}},{"$f":"Offsets!I8/'Institutional Data'!M9*1000","v":{"$error":"#DIV/0!"}},{"$f":"Offsets!J8/'Institutional Data'!N9*1000","v":{"$error":"#DIV/0!"}},{"$f":"Offsets!K8/'Institutional Data'!O9*1000","v":{"$error":"#DIV/0!"}},{"$f":"Offsets!L8/'Institutional Data'!P9*1000","v":{"$error":"#DIV/0!"}},{"$f":"Offsets!M8/'Institutional Data'!Q9*1000","v":{"$error":"#DIV/0!"}},{"$f":"N111/'Institutional Data'!R9*1000","v":5.7665945561324018E-2},{"$f":"O111/'Institutional Data'!S9*1000","v":5.9865449304820295E-2},{"$f":"P111/'Institutional Data'!T9*1000","v":3.7141363487236158E-2},{"$f":"Q111/'Institutional Data'!U9*1000","v":4.0335942895564039E-2},{"$f":"R111/'Institutional Data'!V9*1000","v":3.710181140668025E-2},{"$f":"S111/'Institutional Data'!W9*1000","v":4.4775721270182416E-2},{"$f":"T111/'Institutional Data'!X9*1000","v":5.5303783586434459E-2},{"$f":"U111/'Institutional Data'!Y9*1000","v":6.3254631043353618E-2},{"$f":"V111/'Institutional Data'!Z9*1000","v":5.1342020155300316E-2},{"$f":"W111/'Institutional Data'!AB9*1000","v":{"$error":"#DIV/0!"}}]
[null,null,"Composting MTCDE/1,000 GSF ","MTCDE/1,000 GSF",{"$f":"Offsets!E10/'Institutional Data'!I9*1000","v":{"$error":"#DIV/0!"}},{"$f":"Offsets!F10/'Institutional Data'!J9*1000","v":{"$error":"#DIV/0!"}},{"$f":"Offsets!G10/'Institutional Data'!K9*1000","v":{"$error":"#DIV/0!"}},{"$f":"Offsets!H10/'Institutional Data'!L9*1000","v":{"$error":"#DIV/0!"}},{"$f":"Offsets!I10/'Institutional Data'!M9*1000","v":{"$error":"#DIV/0!"}},{"$f":"Offsets!J10/'Institutional Data'!N9*1000","v":{"$error":"#DIV/0!"}},{"$f":"Offsets!K10/'Institutional Data'!O9*1000","v":{"$error":"#DIV/0!"}},{"$f":"Offsets!L10/'Institutional Data'!P9*1000","v":{"$error":"#DIV/0!"}},{"$f":"Offsets!M10/'Institutional Data'!Q9*1000","v":{"$error":"#DIV/0!"}},{"$f":"N112/'Institutional Data'!R9*1000","v":-2.2186399643550264E-2},{"$f":"O112/'Institutional Data'!S9*1000","v":-2.3032636856790766E-2},{"$f":"P112/'Institutional Data'!T9*1000","v":-1.4289770602267866E-2},{"$f":"Q112/'Institutional Data'!U9*1000","v":-1.55188532914756E-2},{"$f":"R112/'Institutional Data'!V9*1000","v":-1.4274553332223902E-2},{"$f":"S112/'Institutional Data'!W9*1000","v":-1.7227013911911868E-2},{"$f":"T112/'Institutional Data'!X9*1000","v":-2.1277581291790727E-2},{"$f":"U112/'Institutional Data'!Y9*1000","v":-2.4336590859170889E-2},{"$f":"V112/'Institutional Data'!Z9*1000","v":-1.9753332171781556E-2},{"$f":"W112/'Institutional Data'!AB9*1000","v":{"$error":"#DIV/0!"}}]
[null,null,"Forest Preservation","MTCDE",{"$f":"Offsets!E11","v":0},{"$f":"Offsets!F11","v":0},{"$f":"Offsets!G11","v":0},{"$f":"Offsets!H11","v":0},{"$f":"Offsets!I11","v":0},{"$f":"Offsets!J11","v":0},{"$f":"Offsets!K11","v":0},{"$f":"Offsets!L11","v":0},{"$f":"Offsets!M11","v":0},{"$f":"Offsets!N11","v":0},{"$f":"Offsets!O11","v":0},{"$f":"Offsets!P11","v":0},{"$f":"Offsets!Q11","v":0},{"$f":"Offsets!R11","v":0},{"$f":"Offsets!S11","v":0},{"$f":"Offsets!T11","v":-490},{"$f":"Offsets!U11","v":-490},{"$f":"Offsets!V11","v":-490},{"$f":"Offsets!W11","v":-91.5}]
[null,null,"Forest Preservation MTCDE/1,000 GSF","MTCDE/1,000 GSF",{"$f":"Offsets!E11/'Institutional Data'!I9*1000","v":{"$error":"#DIV/0!"}},{"$f":"Offsets!F11/'Institutional Data'!J9*1000","v":{"$error":"#DIV/0!"}},{"$f":"Offsets!G11/'Institutional Data'!K9*1000","v":{"$error":"#DIV/0!"}},{"$f":"Offsets!H11/'Institutional Data'!L9*1000","v":{"$error":"#DIV/0!"}},{"$f":"Offsets!I11/'Institutional Data'!M9*1000","v":{"$error":"#DIV/0!"}},{"$f":"Offsets!J11/'Institutional Data'!N9*1000","v":{"$error":"#DIV/0!"}},{"$f":"Offsets!K11/'Institutional Data'!O9*1000","v":{"$error":"#DIV/0!"}},{"$f":"Offsets!L11/'Institutional Data'!P9*1000","v":{"$error":"#DIV/0!"}},{"$f":"Offsets!M11/'Institutional Data'!Q9*1000","v":{"$error":"#DIV/0!"}},{"$f":"N115/'Institutional Data'!R9*1000","v":0},{"$f":"O115/'Institutional Data'!S9*1000","v":0},{"$f":"P115/'Institutional Data'!T9*1000","v":0},{"$f":"Q115/'Institutional Data'!U9*1000","v":0},{"$f":"R115/'Institutional Data'!V9*1000","v":0},{"$f":"S115/'Institutional Data'!W9*1000","v":0},{"$f":"T115/'Institutional Data'!X9*1000","v":-7.5293417680400349E-2},{"$f":"U115/'Institutional Data'!Y9*1000","v":-6.6442515833658317E-2},{"$f":"V115/'Institutional Data'!Z9*1000","v":-6.2815455371029102E-2},{"$f":"W115/'Institutional Data'!AB9*1000","v":{"$error":"#DIV/0!"}}]
[null,null,"Retail Offsets (High End)","MTCDE",{"$f":"Offsets!E12","v":0},{"$f":"Offsets!F12","v":0},{"$f":"Offsets!G12","v":0},{"$f":"Offsets!H12","v":0},{"$f":"Offsets!I12","v":0},{"$f":"Offsets!J12","v":0},{"$f":"Offsets!K12","v":0},{"$f":"Offsets!L12","v":0},{"$f":"Offsets!M12","v":0},{"$f":"Offsets!N12","v":0},{"$f":"Offsets!O12","v":0},{"$f":"Offsets!P12","v":0},{"$f":"Offsets!Q12","v":0},{"$f":"Offsets!R12","v":0},{"$f":"Offsets!S12","v":-540},{"$f":"Offsets!T12","v":-615},{"$f":"Offsets!U12","v":0},{"$f":"Offsets!V12","v":-615},{"$f":"Offsets!W12","v":-525}]
[null,null,"Retail Offsets (Low End)","MTCDE",{"$f":"Offsets!E13","v":0},{"$f":"Offsets!F13","v":0},{"$f":"Offsets!G13","v":0},{"$f":"Offsets!H13","v":0},{"$f":"Offsets!I13","v":0},{"$f":"Offsets!J13","v":0},{"$f":"Offsets!K13","v":0},{"$f":"Offsets!L13","v":0},{"$f":"Offsets!M13","v":0},{"$f":"Offsets!N13","v":0},{"$f":"Offsets!O13","v":0},{"$f":"Offsets!P13","v":0},{"$f":"Offsets!Q13","v":0},{"$f":"Offsets!R13","v":0},{"$f":"Offsets!S13","v":0},{"$f":"Offsets!T13","v":0},{"$f":"Offsets!U13","v":0},{"$f":"Offsets!V13","v":0},{"$f":"Offsets!W13","v":0}]
[null,null,"Other","MTCDE",{"$f":"Offsets!E14","v":0},{"$f":"Offsets!F14","v":0},{"$f":"Offsets!G14","v":0},{"$f":"Offsets!H14","v":0},{"$f":"Offsets!I14","v":0},{"$f":"Offsets!J14","v":0},{"$f":"Offsets!K14","v":0},{"$f":"Offsets!L14","v":0},{"$f":"Offsets!M14","v":0},{"$f":"Offsets!N14","v":0},{"$f":"Offsets!O14","v":0},{"$f":"Offsets!P14","v":0},{"$f":"Offsets!Q14","v":0},{"$f":"Offsets!R14","v":0},{"$f":"Offsets!S14","v":0},{"$f":"Offsets!T14","v":0},{"$f":"Offsets!U14","v":0},{"$f":"Offsets!V14","v":0},{"$f":"Offsets!W14","v":0}]
[null,"Non-Additional Offsets"]
[null,null,"Green Power Certificates (GPCs)","kWh",{"$f":"Offsets!E19","v":0},{"$f":"Offsets!F19","v":0},{"$f":"Offsets!G19","v":0},{"$f":"Offsets!H19","v":0},{"$f":"Offsets!I19","v":0},{"$f":"Offsets!J19","v":0},{"$f":"Offsets!K19","v":0},{"$f":"Offsets!L19","v":0},{"$f":"Offsets!M19","v":0},{"$f":"Offsets!N19","v":253},{"$f":"Offsets!O19","v":2280},{"$f":"Offsets!P19","v":2280},{"$f":"Offsets!Q19","v":2280},{"$f":"Offsets!R19","v":2280},{"$f":"Offsets!S19","v":0},{"$f":"Offsets!T19","v":0},{"$f":"Offsets!U19","v":0},{"$f":"Offsets!V19","v":0},{"$f":"Offsets!W19","v":700}]
[null,null,"Purchased GPCs kWh/GSF","kWh/GSF",{"$f":"Offsets!E19/'Institutional Data'!I9","v":{"$error":"#DIV/0!"}},{"$f":"Offsets!F19/'Institutional Data'!J9","v":{"$error":"#DIV/0!"}},{"$f":"Offsets!G19/'Institutional Data'!K9","v":{"$error":"#DIV/0!"}},{"$f":"Offsets!H19/'Institutional Data'!L9","v":{"$error":"#DIV/0!"}},{"$f":"Offsets!I19/'Institutional Data'!M9","v":{"$error":"#DIV/0!"}},{"$f":"Offsets!J19/'Institutional Data'!N9","v":{"$error":"#DIV/0!"}},{"$f":"Offsets!K19/'Institutional Data'!O9","v":{"$error":"#DIV/0!"}},{"$f":"Offsets!L19/'Institutional Data'!P9","v":{"$error":"#DIV/0!"}},{"$f":"Offsets!M19/'Institutional Data'!Q9","v":{"$error":"#DIV/0!"}},{"$f":"Offsets!N19/'Institutional Data'!R9","v":4.2659310605306957E-5},{"$f":"Offsets!O19/'Institutional Data'!S9","v":3.7973855000831929E-4},{"$f":"Offsets!P19/'Institutional Data'!T9","v":3.603195845072693E-4},{"$f":"Offsets!Q19/'Institutional Data'!U9","v":3.5893353290877372E-4},{"$f":"Offsets!R19/'Institutional Data'!V9","v":3.5394196655745178E-4},{"$f":"Offsets!S19/'Institutional Data'!W9","v":0},{"$f":"Offsets!T19/'Institutional Data'!X9","v":0},{"$f":"Offsets!U19/'Institutional Data'!Y9","v":0},{"$f":"Offsets!V19/'Institutional Data'!Z9","v":0},{"$f":"Offsets!W19/'Institutional Data'!AB9","v":{"$error":"#DIV/0!"}}]
[null,null,"% Offset by GPCs","% of Total MTCDE",{"$f":"'GHG Summary_regional'!E37/'GHG Summary_regional'!E32*-1","v":{"$error":"#DIV/0!"}},{"$f":"'GHG Summary_regional'!F37/'GHG Summary_regional'!F32*-1","v":{"$error":"#DIV/0!"}},{"$f":"'GHG Summary_regional'!G37/'GHG Summary_regional'!G32*-1","v":{"$error":"#DIV/0!"}},{"$f":"'GHG Summary_regional'!H37/'GHG Summary_regional'!H32*-1","v":{"$error":"#DIV/0!"}},{"$f":"'GHG Summary_regional'!I37/'GHG Summary_regional'!I32*-1","v":{"$error":"#DIV/0!"}},{"$f":"'GHG Summary_regional'!J37/'GHG Summary_regional'!J32*-1","v":{"$error":"#DIV/0!"}},{"$f":"'GHG Summary_regional'!K37/'GHG Summary_regional'!K32*-1","v":{"$error":"#DIV/0!"}},{"$f":"'GHG Summary_regional'!L37/'GHG Summary_regional'!L32*-1","v":{"$error":"#DIV/0!"}},{"$f":"'GHG Summary_regional'!M37/'GHG Summary_regional'!M32*-1","v":{"$error":"#DIV/0!"}},{"$f":"'GHG Summary_regional'!N37/'GHG Summary_regional'!N32*-1","v":1.6860319616412284E-3},{"$f":"'GHG Summary_regional'!O37/'GHG Summary_regional'!O32*-1","v":1.8090193095384964E-3},{"$f":"'GHG Summary_regional'!P37/'GHG Summary_regional'!P32*-1","v":1.1869307961624707E-3},{"$f":"'GHG Summary_regional'!Q37/'GHG Summary_regional'!Q32*-1","v":1.1806126442970076E-3},{"$f":"'GHG Summary_regional'!R37/'GHG Summary_regional'!R32*-1","v":1.0508932739692887E-3},{"$f":"'GHG Summary_regional'!S37/'GHG Summary_regional'!S32*-1","v":7.1009787247453991E-3},{"$f":"'GHG Summary_regional'!T37/'GHG Summary_regional'!T32*-1","v":1.4191835258056512E-2},{"$f":"'GHG Summary_regional'!U37/'GHG Summary_regional'!U32*-1","v":7.5456935400501201E-3},{"$f":"'GHG Summary_regional'!V37/'GHG Summary_regional'!V32*-1","v":1.3899702154738638E-2},{"$f":"'GHG Summary_regional'!W37/'GHG Summary_regional'!W32*-1","v":-3.9364619259139936E-4}]
[null,null,"MTCDE Offset by GPCs/1,000 GSF","MTCDE/1,000 GSF",{"$f":"Offsets!E19/'Institutional Data'!I9*1000","v":{"$error":"#DIV/0!"}},{"$f":"Offsets!F19/'Institutional Data'!J9*1000","v":{"$error":"#DIV/0!"}},{"$f":"Offsets!G19/'Institutional Data'!K9*1000","v":{"$error":"#DIV/0!"}},{"$f":"Offsets!H19/'Institutional Data'!L9*1000","v":{"$error":"#DIV/0!"}},{"$f":"Offsets!I19/'Institutional Data'!M9*1000","v":{"$error":"#DIV/0!"}},{"$f":"Offsets!J19/'Institutional Data'!N9*1000","v":{"$error":"#DIV/0!"}},{"$f":"Offsets!K19/'Institutional Data'!O9*1000","v":{"$error":"#DIV/0!"}},{"$f":"Offsets!L19/'Institutional Data'!P9*1000","v":{"$error":"#DIV/0!"}},{"$f":"Offsets!M19/'Institutional Data'!Q9*1000","v":{"$error":"#DIV/0!"}},{"$f":"Offsets!N19/'Institutional Data'!R9*1000","v":4.2659310605306956E-2},{"$f":"Offsets!O19/'Institutional Data'!S9*1000","v":0.3797385500083193},{"$f":"Offsets!P19/'Institutional Data'!T9*1000","v":0.36031958450726931},{"$f":"Offsets!Q19/'Institutional Data'!U9*1000","v":0.35893353290877372},{"$f":"Offsets!R19/'Institutional Data'!V9*1000","v":0.3539419665574518},{"$f":"Offsets!S19/'Institutional Data'!W9*1000","v":0},{"$f":"Offsets!T19/'Institutional Data'!X9*1000","v":0},{"$f":"Offsets!U19/'Institutional Data'!Y9*1000","v":0},{"$f":"Offsets!V19/'Institutional Data'!Z9*1000","v":0},{"$f":"Offsets!W19/'Institutional Data'!AB9*1000","v":{"$error":"#DIV/0!"}}]
[null,null,"% of Scope 2 Electric Offset","% of Scope 2",{"$f":"Offsets!E20","v":{"$error":"#DIV/0!"}},{"$f":"Offsets!F20","v":{"$error":"#DIV/0!"}},{"$f":"Offsets!G20","v":{"$error":"#DIV/0!"}},{"$f":"Offsets!H20","v":{"$error":"#DIV/0!"}},{"$f":"Offsets!I20","v":{"$error":"#DIV/0!"}},{"$f":"Offsets!J20","v":{"$error":"#DIV/0!"}},{"$f":"Offsets!K20","v":{"$error":"#DIV/0!"}},{"$f":"Offsets!L20","v":{"$error":"#DIV/0!"}},{"$f":"Offsets!M20","v":{"$error":"#DIV/0!"}},{"$f":"Offsets!N20","v":4.2501604524155456E-6},{"$f":"Offsets!O20","v":3.6952098099904659E-5},{"$f":"Offsets!P20","v":3.2575724619746163E-5},{"$f":"Offsets!Q20","v":3.3105659819255666E-5},{"$f":"Offsets!R20","v":3.2596734102226813E-5},{"$f":"Offsets!S20","v":0},{"$f":"Offsets!T20","v":0},{"$f":"Offsets!U20","v":0},{"$f":"Offsets!V20","v":0},{"$f":"Offsets!W20","v":0}]
[null,"Offset Summary"]
[null,null,"Total Offset/1,000 GSF Offset","MTCDE/1,000 GSF",{"$f":"(Offsets!E29+Offsets!E30)/'Institutional Data'!I9*1000","v":{"$error":"#DIV/0!"}},{"$f":"(Offsets!F29+Offsets!F30)/'Institutional Data'!J9*1000","v":{"$error":"#DIV/0!"}},{"$f":"(Offsets!G29+Offsets!G30)/'Institutional Data'!K9*1000","v":{"$error":"#DIV/0!"}},{"$f":"(Offsets!H29+Offsets!H30)/'Institutional Data'!L9*1000","v":{"$error":"#DIV/0!"}},{"$f":"(Offsets!I29+Offsets!I30)/'Institutional Data'!M9*1000","v":{"$error":"#DIV/0!"}},{"$f":"(Offsets!J29+Offsets!J30)/'Institutional Data'!N9*1000","v":{"$error":"#DIV/0!"}},{"$f":"(Offsets!K29+Offsets!K30)/'Institutional Data'!O9*1000","v":{"$error":"#DIV/0!"}},{"$f":"(Offsets!L29+Offsets!L30)/'Institutional Data'!P9*1000","v":{"$error":"#DIV/0!"}},{"$f":"(Offsets!M29+Offsets!M30)/'Institutional Data'!Q9*1000","v":{"$error":"#DIV/0!"}},{"$f":"(Offsets!N29+Offsets!N30)/'Institutional Data'!R9*1000","v":-2.2186399643550264E-2},{"$f":"(Offsets!O29+Offsets!O30)/'Institutional Data'!S9*1000","v":-2.3032636856790766E-2},{"$f":"(Offsets!P29+Offsets!P30)/'Institutional Data'!T9*1000","v":-1.4289770602267866E-2},{"$f":"(Offsets!Q29+Offsets!Q30)/'Institutional Data'!U9*1000","v":-1.55188532914756E-2},{"$f":"(Offsets!R29+Offsets!R30)/'Institutional Data'!V9*1000","v":-1.4274553332223902E-2},{"$f":"-(Offsets!S29+Offsets!S30)/'Institutional Data'!W9*1000","v":0.10296775676970799},{"$f":"-(Offsets!T29+Offsets!T30)/'Institutional Data'!X9*1000","v":0.19107192116289762},{"$f":"-(Offsets!U29+Offsets!U30)/'Institutional Data'!Y9*1000","v":9.0779106692829195E-2},{"$f":"-(Offsets!V29+Offsets!V30)/'Institutional Data'!Z9*1000","v":0.16140859377379616},{"$f":"-(Offsets!W29+Offsets!W30)/'Institutional Data'!AB9*1000","v":{"$error":"#DIV/0!"}}]
[null,null,"Total MTCDE/Student FTE","MTCDE/Student FTE",{"$f":"(Offsets!E29+Offsets!E30)/'Institutional Data'!I21","v":{"$error":"#DIV/0!"}},{"$f":"(Offsets!F29+Offsets!F30)/'Institutional Data'!J21","v":{"$error":"#DIV/0!"}},{"$f":"(Offsets!G29+Offsets!G30)/'Institutional Data'!K21","v":{"$error":"#DIV/0!"}},{"$f":"(Offsets!H29+Offsets!H30)/'Institutional Data'!L21","v":{"$error":"#DIV/0!"}},{"$f":"(Offsets!I29+Offsets!I30)/'Institutional Data'!M21","v":{"$error":"#DIV/0!"}},{"$f":"(Offsets!J29+Offsets!J30)/'Institutional Data'!N21","v":{"$error":"#DIV/0!"}},{"$f":"(Offsets!K29+Offsets!K30)/'Institutional Data'!O21","v":{"$error":"#DIV/0!"}},{"$f":"(Offsets!L29+Offsets!L30)/'Institutional Data'!P21","v":{"$error":"#DIV/0!"}},{"$f":"(Offsets!M29+Offsets!M30)/'Institutional Data'!Q21","v":{"$error":"#DIV/0!"}},{"$f":"(Offsets!N29+Offsets!N30)/'Institutional Data'!R21","v":-6.8173911045138029E-3},{"$f":"(Offsets!O29+Offsets!O30)/'Institutional Data'!S21","v":-7.0022516500974708E-3},{"$f":"(Offsets!P29+Offsets!P30)/'Institutional Data'!T21","v":-4.5905819139928526E-3},{"$f":"(Offsets!Q29+Offsets!Q30)/'Institutional Data'!U21","v":-5.0272890188131749E-3},{"$f":"(Offsets!R29+Offsets!R30)/'Institutional Data'!V21","v":-4.7695874026142436E-3},{"$f":"(Offsets!S29+Offsets!S30)/'Institutional Data'!W21","v":-3.1234789438878717E-2},{"$f":"(Offsets!T29+Offsets!T30)/'Institutional Data'!X21","v":-5.7331910037076404E-2},{"$f":"(Offsets!U29+Offsets!U30)/'Institutional Data'!Y21","v":-2.8222983555577334E-2},{"$f":"(Offsets!V29+Offsets!V30)/'Institutional Data'!Z21","v":-5.129087485874613E-2},{"$f":"(Offsets!W29+Offsets!W30)/'Institutional Data'!AB21","v":{"$error":"#DIV/0!"}}]
[null,null,"Total MTCDE/Campus User","MTCDE/Campus User",{"$f":"(Offsets!E29+Offsets!E30)/'Institutional Data'!I33","v":{"$error":"#DIV/0!"}},{"$f":"(Offsets!F29+Offsets!F30)/'Institutional Data'!J33","v":{"$error":"#DIV/0!"}},{"$f":"(Offsets!G29+Offsets!G30)/'Institutional Data'!K33","v":{"$error":"#DIV/0!"}},{"$f":"(Offsets!H29+Offsets!H30)/'Institutional Data'!L33","v":{"$error":"#DIV/0!"}},{"$f":"(Offsets!I29+Offsets!I30)/'Institutional Data'!M33","v":{"$error":"#DIV/0!"}},{"$f":"(Offsets!J29+Offsets!J30)/'Institutional Data'!N33","v":{"$error":"#DIV/0!"}},{"$f":"(Offsets!K29+Offsets!K30)/'Institutional Data'!O33","v":{"$error":"#DIV/0!"}},{"$f":"(Offsets!L29+Offsets!L30)/'Institutional Data'!P33","v":{"$error":"#DIV/0!"}},{"$f":"(Offsets!M29+Offsets!M30)/'Institutional Data'!Q33","v":{"$error":"#DIV/0!"}},{"$f":"(Offsets!N29+Offsets!N30)/'Institutional Data'!R33","v":-5.5571506740491093E-3},{"$f":"(Offsets!O29+Offsets!O30)/'Institutional Data'!S33","v":-5.7194984607721235E-3},{"$f":"(Offsets!P29+Offsets!P30)/'Institutional Data'!T33","v":-3.7370917161238452E-3},{"$f":"(Offsets!Q29+Offsets!Q30)/'Institutional Data'!U33","v":-4.0850259538586465E-3},{"$f":"(Offsets!R29+Offsets!R30)/'Institutional Data'!V33","v":-3.8537698512185413E-3},{"$f":"(Offsets!S29+Offsets!S30)/'Institutional Data'!W33","v":-2.6171221531538801E-2},{"$f":"(Offsets!T29+Offsets!T30)/'Institutional Data'!X33","v":-4.828735401021883E-2},{"$f":"(Offsets!U29+Offsets!U30)/'Institutional Data'!Y33","v":-2.3938119673967532E-2},{"$f":"(Offsets!V29+Offsets!V30)/'Institutional Data'!Z33","v":-4.3616877265822564E-2},{"$f":"(Offsets!W29+Offsets!W30)/'Institutional Data'!AB33","v":{"$error":"#DIV/0!"}}]
[null,null,"% of Total Emissions Offset","% of Total MTCDE",{"$f":"-'GHG Summary_regional'!E37/'GHG Summary_regional'!E32","v":{"$error":"#DIV/0!"}},{"$f":"-'GHG Summary_regional'!F37/'GHG Summary_regional'!F32","v":{"$error":"#DIV/0!"}},{"$f":"-'GHG Summary_regional'!G37/'GHG Summary_regional'!G32","v":{"$error":"#DIV/0!"}},{"$f":"-'GHG Summary_regional'!H37/'GHG Summary_regional'!H32","v":{"$error":"#DIV/0!"}},{"$f":"-'GHG Summary_regional'!I37/'GHG Summary_regional'!I32","v":{"$error":"#DIV/0!"}},{"$f":"-'GHG Summary_regional'!J37/'GHG Summary_regional'!J32","v":{"$error":"#DIV/0!"}},{"$f":"-'GHG Summary_regional'!K37/'GHG Summary_regional'!K32","v":{"$error":"#DIV/0!"}},{"$f":"-'GHG Summary_regional'!L37/'GHG Summary_regional'!L32","v":{"$error":"#DIV/0!"}},{"$f":"-'GHG Summary_regional'!M37/'GHG Summary_regional'!M32","v":{"$error":"#DIV/0!"}},{"$f":"-'GHG Summary_regional'!N37/'GHG Summary_regional'!N32","v":1.6860319616412284E-3},{"$f":"-'GHG Summary_regional'!O37/'GHG Summary_regional'!O32","v":1.8090193095384964E-3},{"$f":"-'GHG Summary_regional'!P37/'GHG Summary_regional'!P32","v":1.1869307961624707E-3},{"$f":"-'GHG Summary_regional'!Q37/'GHG Summary_regional'!Q32","v":1.1806126442970076E-3},{"$f":"-'GHG Summary_regional'!R37/'GHG Summary_regional'!R32","v":1.0508932739692887E-3},{"$f":"-'GHG Summary_regional'!S37/'GHG Summary_regional'!S32","v":7.1009787247453991E-3},{"$f":"-'GHG Summary_regional'!T37/'GHG Summary_regional'!T32","v":1.4191835258056512E-2},{"$f":"-'GHG Summary_regional'!U37/'GHG Summary_regional'!U32","v":7.5456935400501201E-3},{"$f":"-'GHG Summary_regional'!V37/'GHG Summary_regional'!V32","v":1.3899702154738638E-2},{"$f":"-'GHG Summary_regional'!W37/'GHG Summary_regional'!W32","v":-3.9364619259139936E-4}]

{"sheet":"Scope 1 Conversion","index":15,"n_rows":38,"n_cols":18,"rows_kept":38,"cut":false,"hidden":false,"merged":[]}
[]
["Type","Units","MTCDE/Unit","MMBTU/Unit","MTCDE/MMBTU"]
["Residual Oil #5 and #6","Gallons",1.1757907498846028E-2,0.15,{"$f":"C3/D3","v":7.8386049992306861E-2}]
["Distilate Oil #1 - #4","Gallons",1.0046348146076316E-2,0.13800000000000001,{"$f":"C4/D4","v":7.2799624246929817E-2}]
["Natural Gas","MMBTU",5.2908293937247622E-2,1,5.2908293937247622E-2]
["Incinerated Waste","Tons",0.90513204301075278,15.38,5.8851238167149073E-2]
["Wood Chips","Tons",0.14559712191953175,15.38,9.4666529206457566E-3]
["Wood Pellets","Tons",0.14559712191953175,15.38,9.4666529206457566E-3]
["Grass Pellets","Tons",0.14559712191953175,15.38,9.4666529206457566E-3]
["Residual BioHeat","Gallons",9.1203230835701209E-3,0.14524000000000001,6.2794843593845504E-2]
["Distillate BioHeat","Gallons",7.9112983545868501E-3,0.13564000000000001,5.832570299754386E-2]
[]
["PROPANE"]
["Year",1995,1996,1997,1998,1999,2000,2001,2002,2003,2004,2005,2006,2007,2008,2009,2010,2011]
["Units","Gallons","Gallons","Gallons","Gallons","Gallons","Gallons","Gallons","Gallons","Gallons","Gallons","Gallons","Gallons","Gallons","Gallons","Gallons","Gallons","Gallons"]
["MTCDE/Unit",5.4464890609400868E-3,5.4314559694111321E-3,5.4296880557131045E-3,5.4423708319131835E-3,5.4516604997616059E-3,5.4224361144937609E-3,5.4360964630137459E-3,5.4314559694111321E-3,5.4586591212719658E-3,5.4419791334814008E-3,5.4388367406457659E-3,5.4388367406457659E-3,5.4388367406457659E-3,5.4388367406457659E-3,5.4388367406457659E-3,5.4388367406457659E-3,5.4388367406457659E-3]
["MMBTU/Unit",8.6261904761904762E-2,8.602380952380953E-2,8.60952380952381E-2,8.6047619047619039E-2,8.60952380952381E-2,8.5880952380952391E-2,8.6047619047619039E-2,8.602380952380953E-2,8.6404761904761901E-2,8.6190476190476192E-2,8.6190476190476192E-2,8.6190476190476192E-2,8.6190476190476192E-2,8.6190476190476192E-2,8.6190476190476192E-2,8.6190476190476192E-2,8.6190476190476192E-2]
["MTCDE/MMBTU",{"$f":"B16/B17","v":6.3138984421607411E-2},6.3138984421607397E-2,6.3066067018791583E-2,6.3248360525831132E-2,6.3321277928646974E-2,6.3138984421607411E-2,6.3175443123015318E-2,6.3138984421607397E-2,6.3175443123015318E-2,6.3138984421607411E-2,6.310252572019949E-2,6.310252572019949E-2,6.310252572019949E-2,6.310252572019949E-2,6.310252572019949E-2,{"$f":"Q16/Q17","v":6.310252572019949E-2},{"$f":"R16/R17","v":6.310252572019949E-2}]
[]
["COAL"]
["Year",1995,1996,1997,1998,1999,2000,2001,2002,2003,2004,2005,2006,2007,2008,2009,2010,2011]
["Units","Tons","Tons","Tons","Tons","Tons","Tons","Tons","Tons","Tons","Tons","Tons","Tons","Tons","Tons","Tons","Tons","Tons"]
["MTCDE/Unit",1.9962930498792484,1.98776627568263,1.9794227587200626,1.9842691610577836,1.9782824287582463,1.9792327037264268,1.9643133867259921,1.9519598121396453,1.9373255776296652,1.9267775254828607,1.9267775254828607,1.9267775254828607,1.9267775254828607,1.9267775254828607,1.9267775254828607,1.9267775254828607,1.9267775254828607]
["MMBTU/Unit",20.88,20.87,20.83,20.881,20.818000000000001,20.827999999999999,20.670999999999999,20.541,20.387,20.276,20.276,20.276,20.276,20.276,20.276,20.276,20.276]
["MTCDE/MMBTU",{"$f":"B23/B24","v":9.5607904687703471E-2},9.5245149769172491E-2,9.5027496818053905E-2,9.5027496818053905E-2,9.5027496818053905E-2,9.5027496818053905E-2,9.5027496818053905E-2,9.5027496818053905E-2,9.5027496818053919E-2,9.5027496818053891E-2,9.5027496818053891E-2,9.5027496818053891E-2,9.5027496818053891E-2,9.5027496818053891E-2,9.5027496818053891E-2,{"$f":"Q23/Q24","v":9.5027496818053891E-2},{"$f":"R23/R24","v":9.5027496818053891E-2}]
[]
[]
[]
["Type","Units","GGE"]
["Gasoline Fleet","Gallons",1]
["Diesel Fleet","Gallons",0.88]
["Natural Gas Fleet","MMBTU",{"$f":"114000/1000000","v":0.114}]
["E85 Fleet","Gallons",1.39]
["B5 Fleet","Gallons",0.88900000000000001]
["B20 Fleet","Gallons",0.9]
["B100","Gallons",0.96]
["Hydrogen","MMBTU",{"$f":"114000/1000000","v":0.114}]
["Other Fleet Fuel","MMBTU",{"$f":"114000/1000000","v":0.114}]

{"sheet":"Institutional Data","index":16,"n_rows":45,"n_cols":33,"rows_kept":45,"cut":false,"hidden":false,"merged":[[34,5,54,7],[31,1,31,3],[32,1,32,3],[33,1,41,3],[42,1,42,3],[43,1,51,3]]}
[{"$f":"$D$8","v":"University of Oregon"}]
[{"$f":"'Data Collection Notes_Sheena'!A2","v":"Go-Green Measurement, Benchmarking and Analysis Summary"}]
[]
["Institution Information"]
[]
[null,"General",null,null,null,"Space and Population",null,null,"FY1995","FY1996","FY1997","FY1998","FY1999","FY2000","FY2001","FY2002","FY2003","FY2004","FY2005","FY2006","FY2007","FY2008","FY2009","FY2010","FY2011","FY2012","FY2014"]
[null,"Address",null,null,null,"Gross Square Footage"]
[null,null,"Institution Name","University of Oregon",null,null,"Total Building Space","GSF",null,null,null,null,null,null,null,null,null,5930710,6004131,6327716,6352151,6441734,6298056,6507873,7374796,7800628,7945820]
[null,null,"Street Address",null,null,null,"Total GSF in Footprint","GSF",null,null,null,null,null,null,null,null,null,5930710,6004131,6327716,6352151,6441734,6298056,6507873,7374796,7800628,7945820]
[null,null,"Street Address2",null,null,null,"Maintained Acres","Acres",null,null,null,null,null,null,null,null,null,250,250,250,250,250,250,250,250,250,250]
[null,null,"Street Address 3",null,null,null,"GSF Research Building Space","GSF",null,null,null,null,null,null,null,null,null,145075,145705,145705,145705,171711,176202,176202,176202,313716,331652]
[null,null,"City",null,null,null,"GSF Medical/Dental ","GSF",null,null,null,null,null,null,null,null,null,null,null,null,null,null,null,null,null,null,13532]
[null,null,"State","Oregon",null,null,"GSF Residential","GSF",null,null,null,null,null,null,null,null,null,null,null,null,null,null,null,null,null,null,1028115]
[null,null,"Zip",null,null,null,"Tech Rating","1-5",null,null,null,null,null,null,null,null,null,2.9689978835266722,2.9519464807040392,2.9745382751045799,2.9665219212029545,2.9709943516307957,2.9705562897205233,2.97,2.9129999999999998,2.9129999999999998,2.15]
[null,"Classification",null,null,null,"Student Population"]
[null,null,"Carnegie Class","DRU: Doctoral/Research Universities",null,null,"Residential Students","Headcount"]
[null,null,"Control","Public",null,null,"Full-Time Students","Headcount"]
[null,null,"Urbanization","Large Town",null,null,"Part-Time Students","Headcount"]
[null,null,"CBECS Climate Zone",3,null,null,"Summer School Students","Headcount"]
[null,null,"Athletic Conference",null,null,null,"Total Enrollment (Plugged)","FTE",null,null,null,null,null,null,null,null,null,19300.8,19749.5,19697.2,19608.599999999999,19279,20762,21689,23721,24548,23771]
[null,null,"Other Affiliations",null,null,"Plug","Total Enrollment","FTE",{"$f":"IF($F$21=\"calc\",I16+I17+(I18+I19)/2,I20)","v":0},{"$f":"IF($F$21=\"calc\",J16+J17+(J18+J19)/2,J20)","v":0},{"$f":"IF($F$21=\"calc\",K16+K17+(K18+K19)/2,K20)","v":0},0,0,0,0,0,0,19300.8,19749.5,19697.2,19608.599999999999,19279,20762,{"$f":"IF($F$21=\"calc\",X16+X17+(X18+X19)/2,X20)","v":21689},{"$f":"IF($F$21=\"calc\",Y16+Y17+(Y18+Y19)/2,Y20)","v":23721},{"$f":"IF($F$21=\"calc\",Z16+Z17+(Z18+Z19)/2,Z20)","v":24548},{"$f":"IF($F$21=\"calc\",AA16+AA17+(AA18+AA19)/2,AA20)","v":23771}]
[null,null,null,null,null,"Faculty"]
[null,"Contact Information",null,null,null,null,"Full-Time Faculty","Headcount",null,null,null,null,null,null,null,null,null,1071,1071,1092,1065,1119,1133,1173,0,0,1308]
[null,"Primary Contact",null,null,null,null,"Part-Time Faculty","Headcount",null,null,null,null,null,null,null,null,null,570,577,574,576,595,602,613,0,0,574]
[null,null,"Name","Steve Mital",null,null,"Total Faculty (Plugged)","FTE",null,null,null,null,null,null,null,null,null,{"$f":"R23+(R24/2)","v":1356},{"$f":"S23+(S24/2)","v":1359.5},1379,1353,1416.5,1434,{"$f":"X23+(X24/2)","v":1479.5},1704,1678,0]
[null,null,"Title","Director",null,"Plug","Total Faculty","FTE",{"$f":"IF($F$26=\"calc\",I23+(I24)/2,I25)","v":0},{"$f":"IF($F$26=\"calc\",J23+(J24)/2,J25)","v":0},0,0,0,0,0,0,0,1356,1359.5,1379,1353,1416.5,1434,{"$f":"IF($F$26=\"calc\",X23+(X24)/2,X25)","v":1479.5},{"$f":"IF($F$26=\"calc\",Y23+(Y24)/2,Y25)","v":1704},{"$f":"IF($F$26=\"calc\",Z23+(Z24)/2,Z25)","v":1678},{"$f":"SUM(AA23:AA24)","v":1882}]
[null,null,"Department","Department of Sustainability",null,"Staff"]
[null,null,"Email","smital@uoregon.edu",null,null,"Full-Time Staff","Headcount",null,null,null,null,null,null,null,null,null,null,null,null,null,null,null,null,null,null,2570]
[null,null,"Phone","541-346-3489",null,null,"Part -Time Staff","Headcount",null,null,null,null,null,null,null,null,null,null,null,null,null,null,null,null,null,null,405,null,null,"s&F",2895.9,{"$f":"Z31+Z26","v":4319},{"$f":"AE29/AF29","v":0.67050243111831442}]
[null,null,"Responsible Entity",null,null,null,"Total Staff (Plugged)","FTE",null,null,null,null,null,null,null,null,null,3021,3069.8628691983122,3119.5160660981442,3169.9723737776499,3165,2583,2583,2542,2641,0,null,null,"students",5934,{"$f":"Z21","v":24548},{"$f":"AE30/AF30","v":0.24173048720873391}]
[null,null,null,null,null,"Plug","Total Staff","FTE",{"$f":"IF($F$31=\"calc\",I28+(I29)/2,I30)","v":0},{"$f":"IF($F$31=\"calc\",J28+(J29)/2,J30)","v":0},0,0,0,0,0,0,0,3021,3069.8628691983122,3119.5160660981442,3169.9723737776499,3165,2583,{"$f":"IF($F$31=\"calc\",X28+(X29)/2,X30)","v":2583},{"$f":"IF($F$31=\"calc\",Y28+(Y29)/2,Y30)","v":2542},{"$f":"IF($F$31=\"calc\",Z28+(Z29)/2,Z30)","v":2641},{"$f":"SUM(AA28:AA29)","v":2975}]
[null,"Boundaries",null,null,null,"Total Users"]
[null,"Please describe institutional boundaries:",null,null,null,null,"Total Campus FTE","FTE",{"$f":"I21+I26+I31","v":0},{"$f":"J21+J26+J31","v":0},0,0,0,0,0,0,0,23677.8,24178.86286919831,24195.716066098146,24131.57237377765,{"$f":"V21+V26+V31","v":23860.5},24779,25751.5,27967,28867,28628]
[]
[null,null,null,null,null,"Notes:  \nFY11:  Contact Institutional Research Office to request data for Population. Daisy Venegas-Rogers provided data for FY11 and her supervisor Andrea Larson can also assist in providing updated information.  They calculated the FTE for Students, Faculty and Staff which is a departure from previous years.  Having Daisy calculate the FTE numbers is more accurate than the previous years.\n\nFy10 faculty number from uoregon institutional research page on the website. http://ir.uoregon.edu/sites/ir/files/emplhc.pdf.   Change in research space from FY09 because of the change in some building categories in ROPA.\n\n"]
[]
[]
[]
[]
[]
[]
[]
[null,"Describe omissions and future plan for measurement: "]
[]
[null,null,null,null,null,null,null,null,null,null,null,null,null,null,null,null,null,null,null,null,null,null,null,null,null,null,null,{"$f":"458/Z20","v":1.8657324425615122E-2}]

{"sheet":"Attributes","index":17,"n_rows":53,"n_cols":7,"rows_kept":53,"cut":false,"hidden":false,"merged":[]}
[]
["Yes/No","Plug/Calc","Carnegie","Control","Urbanization","State","LEED"]
["Yes","Plug","Associate’s College","Public","Large City","Alabama","Certified"]
["No","Calc","Assoc/Pub-R-S: Associate’s—Public Rural-serving Small","Private Non-Profit","Mid-size City","Alaska","Silver"]
[null,null,"Assoc/Pub-R-M: Associate’s—Public Rural-serving Medium","Private for Profit","Urban Fringe of a Large City","Arizona","Gold"]
[null,null,"Assoc/Pub-R-L: Associate’s—Public Rural-serving Large",null,"Urban Fringe of a Mid-Size  City","Arkansas","Platinum"]
[null,null,"Assoc/Pub-S-SC: Associate’s—Public Suburban-serving Single Campus",null,"Large Town","California"]
[null,null,"Assoc/Pub-S-MC: Associate’s—Public Suburban-serving Multicampus",null,"Small Town","Colorado"]
[null,null,"Assoc/Pub-U-SC: Associate’s—Public Urban-serving Single Campus",null,"Rural","Connecticut"]
[null,null,"Assoc/Pub-U-MC: Associate’s—Public Urban-serving Multicampus",null,null,"Delaware"]
[null,null,"Assoc/Pub-Spec: Associate’s—Public Special Use",null,null,"District of Columbia"]
[null,null,"Assoc/PrivNFP: Associate’s—Private Not-for-profit",null,null,"Florida"]
[null,null,"Assoc/PrivFP: Associate’s—Private For-profit",null,null,"Georgia"]
[null,null,"Assoc/Pub2in4: Associate’s—Public 2-year Colleges under Universities",null,null,"Hawaii"]
[null,null,"Assoc/Pub4: Associate’s—Public 4-year, Primarily Associate’s",null,null,"Idaho"]
[null,null,"Assoc/PrivNFP4: Associate’s—Private Not-for-profit 4-year, Primarily Associate’s",null,null,"Illinois"]
[null,null,"Assoc/PrivFP4: Associate’s—Private For-profit 4-year, Primarily Associate’s",null,null,"Indiana"]
[null,null,"Baccalaureate College",null,null,"Iowa"]
[null,null,"Bac/A&S: Baccalaureate Colleges—Arts & Sciences",null,null,"Kansas"]
[null,null,"Bac/Diverse: Baccalaureate Colleges—Diverse Fields",null,null,"Kentucky"]
[null,null,"Bac/Assoc: Baccalaureate/Associate’s Colleges",null,null,"Louisiana"]
[null,null,"Doctorate-granting University",null,null,"Maine"]
[null,null,"RU/VH: Research Universities (very high research activity)",null,null,"Maryland"]
[null,null,"RU/H: Research Universities (high research activity)",null,null,"Massachusetts"]
[null,null,"DRU: Doctoral/Research Universities",null,null,"Michigan"]
[null,null,"Master’s College or University",null,null,"Minnesota"]
[null,null,"Master’s/L: Master’s Colleges and Universities (larger programs)",null,null,"Mississippi"]
[null,null,"Master’s/M: Master’s Colleges and Universities (medium programs)",null,null,"Missouri"]
[null,null,"Master’s/S: Master’s Colleges and Universities (smaller programs)",null,null,"Montana"]
[null,null,"Special Focus Institution",null,null,"Nebraska"]
[null,null,"Spec/Faith: Theological seminaries, Bible colleges, and other faith-related institutions",null,null,"New Hampshire"]
[null,null,"Spec/Medical: Medical schools and medical centers",null,null,"New Jersey"]
[null,null,"Spec/Health: Other health profession schools",null,null,"New Mexico"]
[null,null,"Spec/Engg: Schools of engineering",null,null,"New York"]
[null,null,"Spec/Tech: Other technology-related schools",null,null,"North Carolina"]
[null,null,"Spec/Bus: Schools of business and management",null,null,"North Dakota"]
[null,null,"Spec/Arts: Schools of art, music, and design",null,null,"Ohio"]
[null,null,"Spec/Law: Schools of law",null,null,"Oklahoma"]
[null,null,"Spec/Other: Other special-focus institutions",null,null,"Oregon"]
[null,null,"Tribal College",null,null,"Pennsylvania"]
[null,null,"Tribal: Tribal Colleges",null,null,"Puerto Rico"]
[null,null,null,null,null,"Rhode Island"]
[null,null,null,null,null,"South Carolina"]
[null,null,null,null,null,"South Dakota"]
[null,null,null,null,null,"Tennessee"]
[null,null,null,null,null,"Texas"]
[null,null,null,null,null,"Utah"]
[null,null,null,null,null,"Vermont"]
[null,null,null,null,null,"Virginia"]
[null,null,null,null,null,"Washington"]
[null,null,null,null,null,"West Virginia"]
[null,null,null,null,null,"Wisconsin"]
[null,null,null,null,null,"Wyoming"]

{"sheet":"Questionnaire","index":18,"n_rows":91,"n_cols":23,"rows_kept":91,"cut":false,"hidden":false,"merged":[[0,19,0,22]]}
[{"$f":"'Data Collection Notes_Sheena'!A2","v":"Go-Green Measurement, Benchmarking and Analysis Summary"},null,null,null,null,null,null,null,null,null,null,null,null,null,null,null,null,null,null,"Attributes"]
[{"$f":"'Institutional Data'!D8","v":"University of Oregon"},null,null,null,null,null,null,null,null,null,null,null,null,null,null,null,null,null,null,"Fleet Vehicles","Lower","1-Extremely Important","STARS"]
[null,null,null,null,null,null,null,null,null,null,null,null,null,null,null,null,null,null,null,"Refrigerants","Flat","2-Very Important","Green Globes"]
[null,"Sustainability Questionnaire",null,null,null,null,null,null,null,null,null,null,null,null,null,null,null,null,null,"Agriculture",null,"3-Moderately Important","Sustainable Sites Initiative"]
[null,"Background/Context",null,null,"Short Answer","Ellaboration",null,null,null,null,null,null,null,null,null,null,null,null,null,"Purchased Electric",null,"4-Marginally Important","Sustainability Report Card"]
[null,null,"What do you think the major emission source are at the institution",null,null,null,null,null,null,null,null,null,null,null,null,null,null,null,null,"Purchased Steam",null,"5-Not at all Important","Other (please specify)"]
[null,null,"Where do you want your emissions to be in 10 years (lower/flat)",null,null,null,null,null,null,null,null,null,null,null,null,null,null,null,null,"Purchased Chilled Water","Yes"]
[null,null,"Rate the relative importance of sustainability/climate issues at the institution (1-5)",null,null,null,null,null,null,null,null,null,null,null,null,null,null,null,null,"Student Commuting","No","Fully","LEED Silver"]
[null,null,"Does the institution participate in a sustainability rating systems (STARS, Green Globes, etc.), provide start date",null,null,null,null,null,null,null,null,null,null,null,null,null,null,null,null,"Faculty/Staff Commuting",null,"Partially","Energy Star Appliances"]
[null,null,"Does the institution have a sustainability coordinator/committee",null,null,null,null,null,null,null,null,null,null,null,null,null,null,null,null,"Outsourced Travel",null,"Limited","Offset Air Travel"]
[null,null,"Where is the sustainability department located organizationally",null,null,null,null,null,null,null,null,null,null,null,null,null,null,null,null,"Solid Waste",null,"Not at All","Public Transportation"]
[null,null,"Is there an active student environmental group on campus",null,null,null,null,null,null,null,null,null,null,null,null,null,null,null,null,"Paper","None",null,"15% Renewable Energy"]
[null,null,"How integrated are sustainability initiatives into Facilities operations (seek multiple perspectives)",null,null,null,null,null,null,null,null,null,null,null,null,null,null,null,null,"Wastewater","Less than 25%","More than sufficient","Sustainable Endowments"]
[null,null,"To what extent has sustainability been integrated into the curriculum",null,null,null,null,null,null,null,null,null,null,null,null,null,null,null,null,null,"25-50%","Sufficient","Recyclemania"]
[null,null,"Is the campus a signatory of the ACUPCC",null,null,null,null,null,null,null,null,null,null,null,null,null,null,null,null,"LEED Silver","50-75%","Insufficient"]
[null,null,null,"If yes, date signed",null,null,null,null,null,null,null,null,null,null,null,null,null,null,null,"LEED Platinum","More than 75%","None"]
[null,null,null,"Implementation date",null,null,null,null,null,null,null,null,null,null,null,null,null,null,null,"Energy-Star for Bussiness"]
[null,null,null,"What tangible actions have been completed (see text box to the right): Action 1",null,null,null,null,null,null,null,null,null,null,null,null,null,null,null,"ASHRAE Net-Zero Energy"]
[null,null,null,"What tangible actions have been completed: Action 2",null,null,null,null,null,null,null,null,null,null,null,null,null,null,null,"ASHRAE High Performance"]
[null,null,null,"What tangible actions have been completed: Action 3 (if applicable)",null,null,null,null,null,null,null,null,null,null,null,null,null,null,null,"ASHRAE Very Good"]
[null,null,null,"What tangible actions have been completed: Action 4 (if applicable",null,null,null,null,null,null,null,null,null,null,null,null,null,null,null,"ASHRAE Good"]
[null,null,null,"What tangible actions have been completed: Action 5 (if applicable)",null,null,null,null,null,null,null,null,null,null,null,null,null,null,null,"Other"]
[null,null,null,"What is the administrative body or person responsible for its implementation"]
[null,null,null,"What is the climate neutrality goal (year)"]
[null,null,null,"What are the intermediate carbon reduction targets (gross, net or normalized)"]
[null,null,null,"Target 1 (% reduction, baseline year, goal year, normalization if any)"]
[null,null,null,"Target 2 (% reduction, baseline year, goal year, normalization if any)"]
[null,null,null,"Target 3 (% reduction, baseline year, goal year, normalization if any)"]
[null,null,"If yes, why?  If no, why not?"]
[null,null,"If not a signatory of the PCC, has the campus developed any institutional carbon reduction goals"]
[null,null,null,"Target 1 (% reduction, baseline year, goal year, normalization if any)"]
[null,null,null,"Target 2 (% reduction, baseline year, goal year, normalization if any)"]
[null,null,null,"Target 3 (% reduction, baseline year, goal year, normalization if any)"]
[null,null,null,"Final reducation goal (Kyoto compliant, neutrality, % below baseline year, goal year, normalization if any)"]
[null,null,"How does campus leadership perceive the purchase of carbon offsets"]
[null,null,"If purchasing offsets, where do these funds come from?"]
[null,"Institutional Policies"]
[null,null,"Is there an energy performance or \"green\" standard for new and/or renovated buildings"]
[null,null,null,"If so, what is the standard for new buildings"]
[null,null,null,"Standard for renovated buildings"]
[null,null,null,"If standard for renovated buildings, what is the renovation threshold (Project $ amount, % of building , etc.)"]
[null,null,"Is there a revolving fund to aid in financing energy and other sustainability projects"]
[null,null,"Does Facilities keep any savings realized from energy efficiency/conservation projects"]
[null,null,"Is there an option for faculty, staff or students to purchase offsets for their institution-related travel"]
[null,null,"Has the local municipality created any carbon management plans or goals"]
[null,"Energy"]
[null,null,"Are there any plans to change the primary stationary fuel source on campus"]
[null,null,"What percent of campus has electric heat"]
[null,null,"Do campus buildings have a centralized energy control system"]
[null,null,"Are there formalized or scheduled HVAC set-back policies."]
[null,null,null,"Daily/seasonally"]
[null,null,null,"HVAC-linked occupancy/CO2 sensors"]
[null,null,null,"Spring/Winter break shut-downs"]
[null,null,null,"Institutional thermostat set-points"]
[null,null,"Have any energy intiatives focused on changing campus culture"]
[null,null,null,"Dorm competitions"]
[null,null,null,"Energy awareness campaigns"]
[null,null,null,"Other"]
[null,null,"What sort of renewable energy installations are currently on campus or in progress"]
[null,null,"Have any studies been conducted regarding the renewable energy potential of campus space"]
[null,null,null,"Wind"]
[null,null,null,"Solar Thermal"]
[null,null,null,"Solar PV"]
[null,null,null,"Geothermal"]
[null,null,null,"Hydro"]
[null,null,"Are any renewable energy projects planned for the next 3 years"]
[null,"Commuting"]
[null,null,"Does the campus charge for parking permits for faculty, staff or students"]
[null,null,null,"Faculty"]
[null,null,null,"Staff"]
[null,null,null,"Students"]
[null,null,"If yes, what is the cost for each"]
[null,null,null,"Faculty"]
[null,null,null,"Staff"]
[null,null,null,"Students"]
[null,null,"Are there sufficient public transit resources available to the campus"]
[null,null,"Do the students feel safe/comfortable walking and biking through the local community"]
[null,null,"Are there affordable student housing options available within 3 miles of campus"]
[null,null,"Have programs been implemented in order to reduce commuting emissions"]
[null,null,null,"Creation of vanpools"]
[null,null,null,"Reserved spaces for carpools/vanpools"]
[null,null,null,"Discounted/free parking for carpools/vanpools"]
[null,null,null,"Guaranteed ride-home programs"]
[null,null,null,"Subsidized transit passes"]
[null,null,null,"Increased frequency of public transit"]
[null,null,null,"Commuter message boards (electronic or otherwise)"]
[null,null,null,"Car or bike-sharing programs"]
[null,null,null,"Bike paths and shelters"]
[null,null,null,"Telecommuting policies/expansion of e-learning"]
[null,null,"Is there a campus shuttle"]
[null,null,null,"If so, how is its route/destinations determined"]