Workbook
Name Type_of_Beef: [1]!T_Beef[#Data]
Name YN: [1]!T_YN[#Data]

Sheet Instructions
B2: Tyson Foods SY 26-27 Commodity Calculator
B6: Instructions
B8: 1.) | C8: Fill out the individual calculator tabs for the corresponding commodities you are diverting for SY26-27.
C10: 1a. | D10: The fields to fill out are all in this color
C11: 1b. | D11: Ensure that you enter in your Carry Forward balance if you have one on each specific commodity tab.
C13: 1c. | D13: This calculator allows you to plan out your total diversions for each commodity. This is calculated by taking both of your inputs (Carry Forward lbs. if applicable and your new total diversions) and comparing with your planned items.
C16: 1d. | D16: Look at your specific product needs either by entering your needed cases or your ADP for that product along with the frequency of that product on your menu. This will calculate out the lb. utilization.
C19: 1e. | D19: There are Forecast sections on the right side of the pages to help plan out when you need your cases by month.
B22: 2.) | C22: The Commodity and Forecast Summary Tabs should auto populate based on selections in the individual calculator tabs.
B24: 3.) | C24: Print out or reference the summary forms as a consolidated snapshot.
B29: If you have any questions please reach out to your Tyson K-12 contact

Sheet Catalog
A1: MaterialCode | B1: ProductBrand | C1: Description | D1: Commodity | E1: NetCaseWeight_lbs | F1: ServingsPerCase | G1: ServingSize_oz | H1: CNPortion | I1: CSCPoints | J1: MMA_oz | K1: EqGrain_oz | L1: WhiteLbsDFperCase | M1: DarkLbsDFperCase | N1: CheeseLbsDFperCase | O1: BeefLbsDFperCase | P1: PorkLbsDFperCase
A2: 10000006919 | C2: Cheeseburger Meatloaf | D2: 100154 / 100155 | E2: 18.13 | F2: 100 | G2: 2.9 | H2: 1 piece | I2: 30 | J2: 2 | L2: 0 | M2: 0 | N2: 0 | O2: 14.75 | P2: 0
A3: 10000008443 | C3: Down Home Beef Salisbury Steak | D3: 100154 / 100155 | E3: 31.88 | F3: 170 | G3: 3 | H3: 1 piece | I3: 30 | J3: 2 | L3: 0 | M3: 0 | N3: 0 | O3: 24.25 | P3: 0
A4: 10000008737 | C4: Fine Beef Crumbles | D4: 100154 / 100155 | E4: 40 | F4: 266 | G4: 2.4 | H4: 2.4 oz. | I4: 0 | J4: 2 | L4: 0 | M4: 0 | N4: 0 | O4: 32.28 | P4: 0
A5: 10000009860 | C5: Breaded Beef Patties | D5: 100154 / 100155 | E5: 29.94 | F5: 143 | G5: 3.35 | H5: 1 piece | I5: 0 | J5: 2 | K5: 1 | L5: 0 | M5: 0 | N5: 0 | O5: 27.76 | P5: 0
A6: 10000011750 | C6: Beef Meatballs | D6: 100154 / 100155 | E6: 30 | F6: 192 | G6: 2.5 | H6: 5 pieces | I6: 30 | J6: 2 | L6: 0 | M6: 0 | N6: 0 | O6: 24.39 | P6: 0
A7: 10000013716 | C7: Smokie Grill® Beef Rib Pattie with Honey BBQ Sauce | D7: 100154 / 100155 | E7: 20.25 | F7: 100 | G7: 3.25 | H7: 1 piece | I7: 0 | J7: 2 | L7: 0 | M7: 0 | N7: 0 | O7: 9.46 | P7: 0
A8: 10000013717 | C8: Smokie Grill® Pork Rib Pattie with Honey BBQ Sauce | D8: 100193 | E8: 20.25 | F8: 100 | G8: 3.25 | H8: 1 piece | I8: 0 | J8: 2 | L8: 0 | M8: 0 | N8: 0 | O8: 0 | P8: 11.45
A9: 10000013740 | C9: Wonderbites® Beef Dipper with Teriyaki | D9: 100154 / 100155 | E9: 25 | F9: 143 | G9: 2.8 | H9: 4 pieces | I9: 0 | J9: 2 | L9: 0 | M9: 0 | N9: 0 | O9: 23.73 | P9: 0
A10: 10000013782 | C10: Flame Grilled Beef Pattie with Onion | D10: 100154 / 100155 | E10: 16.25 | F10: 100 | G10: 2.6 | H10: 1 piece | I10: 0 | J10: 2 | L10: 0 | M10: 0 | N10: 0 | O10: 15.21 | P10: 0
A11: 10000015230 | C11: Flame Grilled Beef Burger | D11: 100154 / 100155 | E11: 30 | F11: 160 | G11: 3 | H11: 1 piece | I11: 0 | J11: 3 | L11: 0 | M11: 0 | N11: 0 | O11: 43.99 | P11: 0
A12: 10000015320 | C12: Flame Grilled Beef Burger | D12: 100154 / 100155 | E12: 31.41 | F12: 250 | G12: 2.01 | H12: 1 piece | I12: 30 | J12: 2 | L12: 0 | M12: 0 | N12: 0 | O12: 45.52 | P12: 0
A13: 10000015327 | C13: Flame Grilled Beef Burger | D13: 100154 / 100155 | E13: 29.53 | F13: 175 | G13: 2.7 | H13: 1 piece | I13: 0 | J13: 2.5 | L13: 0 | M13: 0 | N13: 0 | O13: 42.79 | P13: 0
A14: 10000015924 | C14: Flame Grilled Beef Burger | D14: 100154 / 100155 | E14: 30 | F14: 200 | G14: 2.4 | H14: 1 piece | I14: 0 | J14: 2.25 | L14: 0 | M14: 0 | N14: 0 | O14: 43.47 | P14: 0
A15: 10000015932 | C15: Flame Grilled Beef Burger | D15: 100154 / 100155 | E15: 30 | F15: 160 | G15: 3 | H15: 1 piece | I15: 0 | J15: 2.75 | L15: 0 | M15: 0 | N15: 0 | O15: 43.04 | P15: 0
A16: 10000016904 | C16: Breaded Pork Steak | D16: 100193 | E16: 20.45 | F16: 85 | G16: 3.85 | H16: 1 piece | I16: 0 | J16: 2 | K16: 1 | L16: 0 | M16: 0 | N16: 0 | O16: 0 | P16: 17.37
A17: 10000029467 | C17: Pork Sausage Pattie | D17: 100193 | E17: 18.75 | F17: 250 | G17: 1.2 | H17: 1 piece | I17: 25 | J17: 1 | L17: 0 | M17: 0 | N17: 0 | O17: 0 | P17: 22.83
A18: 10000037344 | C18: Loaded Cheeseburger Mini Patties | D18: 100154 / 100155 | E18: 28.51 | F18: 343 | G18: 1.33 | H18: 1 piece | I18: 0 | J18: 1 | L18: 0 | M18: 0 | N18: 0 | O18: 21.77 | P18: 0
A19: 10000037600 | C19: Flame Grilled Gluten Free Chopped Beef Burger | D19: 100154 / 100155 | E19: 20.13 | F19: 140 | G19: 2.3 | H19: 1 piece | I19: 0 | J19: 2 | L19: 0 | M19: 0 | N19: 0 | O19: 25.36 | P19: 0
A20: 10000038479 | C20: Whole Grain Breaded Nashville Hot MWWM Chicken Tenders | D20: 100103 W | E20: 30.6 | F20: 105 | G20: 4.65 | H20: 3 pieces | I20: 25 | J20: 2 | K20: 1 | L20: 26.65 | M20: 0 | N20: 0 | O20: 0 | P20: 0
A21: 10000038942 | C21: Wings of Fire Bone-In Chicken Wings | D21: 100103 W | E21: 30 | F21: 79 | H21: 4 pieces | I21: 0 | J21: 2 | L21: 24.13 | M21: 0 | N21: 0 | O21: 0 | P21: 0
A22: 10000043537 | C22: Taco Seasoned Chopped Chicken | D22: 100103 D | E22: 30 | F22: 240 | G22: 2 | H22: 2.00 oz. | I22: 25 | J22: 2 | L22: 0 | M22: 39.58 | N22: 0 | O22: 0 | P22: 0
A23: 10000044195 | C23: Breaded Traditional Chicken Thigh | D23: 100103 D | E23: 29.64 | F23: 78 | H23: 1 piece | I23: 0 | J23: 3.25 | K23: 1.25 | L23: 0 | M23: 23.27 | N23: 0 | O23: 0 | P23: 0
A24: 10000044196 | C24: Mesquite Glazed Chicken Thigh | D24: 100103 D | E24: 23.08 | F24: 78 | H24: 1 piece | I24: 0 | J24: 3.25 | L24: 0 | M24: 19.19 | N24: 0 | O24: 0 | P24: 0
A25: 10000051698 | C25: Whole Grain Breaded Homestyle Whole Muscle Boneless Chicken Wings | D25: 100103 W | E25: 30.24 | F25: 128 | G25: 3.78 | H25: 6 pieces | I25: 40 | J25: 2 | K25: 1 | L25: 32.43 | M25: 0 | N25: 0 | O25: 0 | P25: 0
A26: 10000052436 | C26: Fully Cooked Chicken Drumsticks With BBQ Sauce | D26: 100103 D | E26: 31.25 | F26: 89 | H26: 1 piece | I26: 40 | J26: 2.5 | L26: 0 | M26: 21.58 | N26: 0 | O26: 0 | P26: 0
A27: 10000055325 | C27: IW Loaded Cheeseburger Mini Twin Sandwiches | D27: 100154 / 100155 | E27: 24.3 | F27: 80 | G27: 4.86 | H27: 2 pieces | I27: 40 | J27: 2 | K27: 2 | L27: 0 | M27: 0 | N27: 0 | O27: 10.54 | P27: 0
A28: 10000055327 | C28: IW Cheeseburger Mini Twin Sandwiches | D28: 100154 / 100155 | E28: 29.16 | F28: 96 | G28: 4.86 | H28: 2 pieces | I28: 40 | J28: 2 | K28: 2 | L28: 0 | M28: 0 | N28: 0 | O28: 11.75 | P28: 0
A29: 10000055425 | C29: Flame Grilled Beef Pattie | D29: 100154 / 100155 | E29: 31.25 | F29: 200 | G29: 2.5 | H29: 1 piece | I29: 0 | J29: 2 | L29: 0 | M29: 0 | N29: 0 | O29: 26.24 | P29: 0
A30: 10000059993 | C30: AdvancePierre™ Philly Beef Steak | D30: 100154 / 100155 | E30: 20 | F30: 118 | G30: 2.7 | H30: 2.7 oz | I30: 0 | J30: 2 | L30: 0 | M30: 0 | N30: 0 | O30: 20.08 | P30: 0
A31: 10000060843 | C31: Mega Minis® Whole Grain Breaded Homestyle Chicken Chunks | D31: 100103 D | E31: 30.26 | F31: 112 | G31: 4.3 | H31: 10 pieces | I31: 0 | J31: 2 | K31: 1 | L31: 0 | M31: 35.57 | N31: 0 | O31: 0 | P31: 0
A32: 10000064752 | C32: Mega Minis® Whole Grain Breaded Waffle Flavored Chicken Chunks | D32: 100103 W | E32: 30.26 | F32: 149 | G32: 3.24 | H32: 6 pieces | I32: 0 | J32: 1 | K32: 1 | L32: 25.02 | M32: 0 | N32: 0 | O32: 0 | P32: 0
A33: 10000065887 | C33: Golden Crispy Breaded Beef Bites | D33: 100154 / 100155 | E33: 29.9 | F33: 137 | G33: 3.48 | H33: 6 pieces | I33: 30 | J33: 2 | K33: 1 | L33: 0 | M33: 0 | N33: 0 | O33: 24.14 | P33: 0
A34: 10000065888 | C34: Hot 'N Spicy Breaded Beef Bites | D34: 100154 / 100155 | E34: 29.9 | F34: 137 | G34: 3.48 | H34: 6 pieces | I34: 30 | J34: 2 | K34: 1 | L34: 0 | M34: 0 | N34: 0 | O34: 24.14 | P34: 0
A35: 10000068472 | C35: Beef Taco Meat | D35: 100154 / 100155 | E35: 12 | F35: 71 | G35: 2.7 | H35: 2.70 oz. | I35: 0 | J35: 2 | L35: 0 | M35: 0 | N35: 0 | O35: 12.05 | P35: 0
A36: 10000068745 | C36: Whole Grain Breaded Hot 'N Spicy MWWM Chicken Filets | D36: 100103 W | E36: 30 | F36: 211 | G36: 2.27 | H36: 1 piece | I36: 25 | J36: 1 | K36: 0.5 | L36: 32.38 | M36: 0 | N36: 0 | O36: 0 | P36: 0
A37: 10000069005 | C37: Harvest Breaded Beef Pattie | D37: 100154 / 100155 | E37: 30 | F37: 150 | G37: 3.2 | H37: 1 piece | I37: 30 | J37: 2 | K37: 1 | L37: 0 | M37: 0 | N37: 0 | O37: 15.47 | P37: 0
A38: 10000069033 | C38: Mini Breaded Beef Pattie | D38: 100154 / 100155 | E38: 30.78 | F38: 250 | G38: 1.97 | H38: 1 piece | I38: 0 | J38: 1 | K38: 0.5 | L38: 0 | M38: 0 | N38: 0 | O38: 23.04 | P38: 0
A39: 10000069050 | C39: Gluten Free Beef Burger | D39: 100154 / 100155 | E39: 21.25 | F39: 170 | G39: 2 | H39: 1 piece | I39: 0 | J39: 2 | L39: 0 | M39: 0 | N39: 0 | O39: 33.58 | P39: 0
A40: 10000069097 | C40: Flame Grilled Beef Pattie | D40: 100154 / 100155 | E40: 15.09 | F40: 115 | G40: 2.1 | H40: 1 piece | I40: 20 | J40: 2 | L40: 0 | M40: 0 | N40: 0 | O40: 11.8 | P40: 0
A41: 10000070346 | C41: Seasoned Beef Crumbles | D41: 100154 / 100155 | E41: 12 | F41: 71 | G41: 2.7 | H41: 2.70 oz. | I41: 0 | J41: 2 | L41: 0 | M41: 0 | N41: 0 | O41: 12.88 | P41: 0
A42: 10000070875 | C42: Whole Grain Breaded White Meat Chicken Patties | D42: 100103 W | E42: 30.02 | F42: 118 | G42: 4.07 | H42: 1 piece | I42: 0 | J42: 2 | K42: 1 | L42: 29.6 | M42: 0 | N42: 0 | O42: 0 | P42: 0
A43: 10000070876 | C43: Whole Grain Breaded White Meat Chicken Nuggets | D43: 100103 W | E43: 30.12 | F43: 122 | G43: 3.95 | H43: 5 pieces | I43: 0 | J43: 2 | K43: 1 | L43: 29.72 | M43: 0 | N43: 0 | O43: 0 | P43: 0
A44: 10000070877 | C44: Whole Grain Breaded White Meat Popcorn Chicken | D44: 100103 W | E44: 30.19 | F44: 122 | G44: 3.96 | H44: 12 pieces | I44: 0 | J44: 2 | K44: 1 | L44: 29.8 | M44: 0 | N44: 0 | O44: 0 | P44: 0
A45: 10000072176 | C45: Whole Grain Breaded Homestyle Chicken Breast Tenders | D45: 100103 W | E45: 30 | F45: 126 | G45: 3.78 | H45: 3 pieces | I45: 0 | J45: 2 | K45: 1 | L45: 32.74 | M45: 0 | N45: 0 | O45: 0 | P45: 0
A46: 10000072312 | C46: Whole Grain Breaded Golden Crispy Chicken Patties | D46: 100103 W/D | E46: 32.82 | F46: 175 | G46: 3 | H46: 1 piece | I46: 0 | J46: 2 | K46: 1 | L46: 16.98 | M46: 7.28 | N46: 0 | O46: 0 | P46: 0
A47: 10000072313 | C47: Whole Grain Breaded Golden Crispy Chicken Tenders | D47: 100103 W/D | E47: 31.86 | F47: 150 | G47: 3.39 | H47: 3 pieces | I47: 0 | J47: 2 | K47: 1 | L47: 13.82 | M47: 5.92 | N47: 0 | O47: 0 | P47: 0
A48: 10000072314 | C48: Whole Grain Breaded Golden Crispy Chicken Nuggets | D48: 100103 W/D | E48: 32.81 | F48: 175 | G48: 3 | H48: 5 pieces | I48: 0 | J48: 2 | K48: 1 | L48: 16.98 | M48: 7.28 | N48: 0 | O48: 0 | P48: 0
A49: 10000072315 | C49: Whole Grain Breaded Golden Crispy Chicken Fries | D49: 100103 W/D | E49: 31.5 | F49: 146 | G49: 3.44 | H49: 8 pieces | I49: 0 | J49: 2 | K49: 1 | L49: 13.66 | M49: 5.85 | N49: 0 | O49: 0 | P49: 0
A50: 10000072319 | C50: Whole Grain Breaded Golden Crispy Popcorn Chicken | D50: 100103 W/D | E50: 32.79 | F50: 155 | G50: 3.36 | H50: 12 pieces | I50: 0 | J50: 2 | K50: 1 | L50: 14.22 | M50: 6.1 | N50: 0 | O50: 0 | P50: 0
A51: 10000072325 | C51: Whole Grain Breaded Golden Crispy Chicken Patties | D51: 100103 W/D | E51: 20 | F51: 200 | G51: 1.6 | H51: 1 piece | I51: 0 | J51: 2 | K51: 0.25 | L51: 9.28 | M51: 3.97 | N51: 0 | O51: 0 | P51: 0
A52: 10000072330 | C52: Whole Grain Breaded Hot 'N Spicy Chicken Patties | D52: 100103 W/D | E52: 32.82 | F52: 175 | G52: 3 | H52: 1 piece | I52: 0 | J52: 2 | K52: 1 | L52: 16.98 | M52: 7.28 | N52: 0 | O52: 0 | P52: 0
A53: 10000072336 | C53: Whole Grain Breaded Hot 'N Spicy Chicken Tenders | D53: 100103 W/D | E53: 31.86 | F53: 149 | G53: 3.42 | H53: 3 pieces | I53: 0 | J53: 2 | K53: 1 | L53: 13.82 | M53: 5.92 | N53: 0 | O53: 0 | P53: 0
A54: 10000072337 | C54: Whole Grain Breaded Hot 'N Spicy Popcorn Chicken | D54: 100103 W/D | E54: 32.79 | F54: 159 | G54: 3.3 | H54: 12 pieces | I54: 0 | J54: 2 | K54: 1 | L54: 14.22 | M54: 6.1 | N54: 0 | O54: 0 | P54: 0
A55: 10000072367 | C55: All Natural** Low Sodium 1/2" Diced White Chicken | D55: 100103 W | E55: 30 | F55: 177 | G55: 2.7 | H55: 2.70 oz. | I55: 0 | J55: 2 | L55: 41.26 | M55: 0 | N55: 0 | O55: 0 | P55: 0
A56: 10000073050 | C56: Deluxe Beef Meatballs | D56: 100154 / 100155 | E56: 30 | F56: 174 | G56: 2.75 | H56: 5 pieces | I56: 0 | J56: 2 | L56: 0 | M56: 0 | N56: 0 | O56: 34.06 | P56: 0
A57: 10000080125 | C57: Flame Grilled Beef Pattie | D57: 100154 / 100155 | E57: 31.5 | F57: 210 | G57: 2.4 | H57: 1 piece | I57: 0 | J57: 2.25 | L57: 0 | M57: 0 | N57: 0 | O57: 26.3 | P57: 0
A58: 10000096170 | C58: Flame Grilled Chopped Beef Steak | D58: 100154 / 100155 | E58: 18.75 | F58: 100 | G58: 3 | H58: 1 piece | I58: 30 | J58: 3 | L58: 0 | M58: 0 | N58: 0 | O58: 21.3 | P58: 0
A59: 10000096694 | C59: Breaded Beef Fingers | D59: 100154 / 100155 | E59: 29.93 | F59: 133 | G59: 3.6 | H59: 4 pieces | I59: 0 | J59: 2 | K59: 1 | L59: 0 | M59: 0 | N59: 0 | O59: 24.23 | P59: 0
A60: 10000097370 | C60: Fine Beef Crumbles | D60: 100154 / 100155 | E60: 40 | F60: 256 | G60: 2.5 | H60: 2.5 oz. | I60: 0 | J60: 2 | L60: 0 | M60: 0 | N60: 0 | O60: 32.43 | P60: 0
A61: 10000097689 | C61: All Natural** Beef Meatball | D61: 100154 / 100155 | E61: 30 | F61: 152 | G61: 3.15 | H61: 3 pieces | I61: 30 | J61: 2 | L61: 0 | M61: 0 | N61: 0 | O61: 25.87 | P61: 0
A62: 10000097886 | C62: Breaded Beef Fingers | D62: 100154 / 100155 | E62: 30.31 | F62: 125 | G62: 3.88 | H62: 4 pieces | I62: 30 | J62: 2 | K62: 1 | L62: 0 | M62: 0 | N62: 0 | O62: 15.44 | P62: 0
A63: 10021540928 | C63: Whole Grain Breaded Chicken Patties | D63: 100103 W/D | E63: 30.8 | F63: 150 | G63: 3.29 | H63: 1 piece | I63: 0 | J63: 2 | K63: 1 | L63: 7.62 | M63: 7.03 | N63: 0 | O63: 0 | P63: 0
A64: 10021550928 | C64: Whole Grain Breaded Chicken Nuggets | D64: 100103 W/D | E64: 28.35 | F64: 137 | G64: 3.3 | H64: 5 pieces | I64: 0 | J64: 2 | K64: 1 | L64: 7.01 | M64: 6.47 | N64: 0 | O64: 0 | P64: 0
A65: 10029400928 | C65: Whole Grain Breaded Popcorn Chicken | D65: 100103 W/D | E65: 30 | F65: 124 | G65: 3.85 | H65: 15 pieces | I65: 0 | J65: 2 | K65: 1 | L65: 13.84 | M65: 11.33 | N65: 0 | O65: 0 | P65: 0
A66: 10035220928 | C66: Fajita Seasoned Chicken Strips, White and Dark Meat, 2.8 oz. | D66: 100103 W/D | E66: 30 | F66: 171 | G66: 2.8 | H66: 2.80 oz. | I66: 0 | J66: 2 | L66: 20.62 | M66: 20.62 | N66: 0 | O66: 0 | P66: 0
A67: 10037310928 | C67: Whole Grain Breaded Chicken Patties | D67: 100103 W/D | E67: 26.25 | F67: 103 | G67: 4.07 | H67: 1 piece | I67: 0 | J67: 2 | K67: 1 | L67: 15.52 | M67: 12.69 | N67: 0 | O67: 0 | P67: 0
A68: 10037320928 | C68: Whole Grain Breaded Chicken Nuggets | D68: 100103 W/D | E68: 26.42 | F68: 107 | G68: 3.95 | H68: 5 pieces | I68: 0 | J68: 2 | K68: 1 | L68: 15.41 | M68: 12.61 | N68: 0 | O68: 0 | P68: 0
A69: 10038570928 | C69: Krisp N Krunchy™ Whole Grain Breaded Chicken Patties Fritter | D69: 100103 W/D | E69: 31.05 | F69: 140 | G69: 3.53 | H69: 1 piece | I69: 0 | J69: 2 | K69: 1 | L69: 10.55 | M69: 8.64 | N69: 0 | O69: 0 | P69: 0
A70: 10038590928 | C70: Krisp N Krunchy™ Whole Grain Breaded Chicken Tenders | D70: 100103 W/D | E70: 31.86 | F70: 141 | G70: 3.6 | H70: 3 pieces | I70: 0 | J70: 2 | K70: 1 | L70: 10.81 | M70: 8.85 | N70: 0 | O70: 0 | P70: 0
A71: 10046210928 | C71: Fajita Chicken Strips | D71: 100103 D | E71: 30 | F71: 160 | G71: 3 | H71: 3.00 oz. | I71: 25 | J71: 2 | L71: 0 | M71: 45.84 | N71: 0 | O71: 0 | P71: 0
A72: 10055670928 | C72: Whole Grain Breaded Hot 'N Spicy Chicken Patties | D72: 100103 W/D | E72: 30.28 | F72: 148 | G72: 3.26 | H72: 1 piece | I72: 0 | J72: 2 | K72: 0.75 | L72: 14.73 | M72: 12.06 | N72: 0 | O72: 0 | P72: 0
A73: 10057780928 | C73: Golden Crispy Chicken Patties | D73: 100103 W/D | E73: 20 | F73: 200 | G73: 1.6 | H73: 1 piece | I73: 25 | J73: 1 | K73: 0.25 | L73: 6.89 | M73: 6.36 | N73: 0 | O73: 0 | P73: 0
A74: 10061470928 | C74: Whole Grain Breaded MWWM Honey Sriracha Glazed Boneless Chicken Wings | D74: 100103 W | E74: 28.5 | F74: 88 | G74: 5.16 | H74: 6 pieces | I74: 25 | J74: 2 | K74: 1 | L74: 22.66 | M74: 0 | N74: 0 | O74: 0 | P74: 0
A75: 10110260328 | C75: Chicken Meatballs | D75: 100103 D | E75: 10 | F75: 55 | G75: 2.88 | H75: 5 pieces | I75: 15 | J75: 2 | L75: 0 | M75: 12.47 | N75: 0 | O75: 0 | P75: 0
A76: 10164770928 | C76: Whole Grain Breaded Patties | D76: 100103 W/D | E76: 30.6 | F76: 144 | G76: 3.4 | H76: 1 piece | I76: 0 | J76: 2 | K76: 1 | L76: 8.29 | M76: 7.8 | N76: 0 | O76: 0 | P76: 0
A77: 10164780928 | C77: Whole Grain Breaded Chicken Nuggets | D77: 100103 W/D | E77: 30.6 | F77: 144 | G77: 3.4 | H77: 5 pieces | I77: 0 | J77: 2 | K77: 1 | L77: 8.29 | M77: 7.8 | N77: 0 | O77: 0 | P77: 0
A78: 10167020928 | C78: Chicken Strips with Grill Marks | D78: 100103 D | E78: 30 | F78: 168 | G78: 2.85 | H78: 2.85 oz. | I78: 0 | J78: 2 | L78: 0 | M78: 45.84 | N78: 0 | O78: 0 | P78: 0
A79: 10174430928 | C79: Chicken Sausage Patties | D79: 100103 D | E79: 30.07 | F79: 336 | G79: 1.43 | H79: 1 piece | I79: 25 | J79: 1 | L79: 0 | M79: 44.75 | N79: 0 | O79: 0 | P79: 0
A80: 10195430928 | C80: Whole Grain Breaded Pancake Flavored Chicken Sausage Bites | D80: 100103 D | E80: 30 | F80: 165 | G80: 2.9 | H80: 5 pieces | I80: 25 | J80: 1 | K80: 1 | L80: 0 | M80: 22.95 | N80: 0 | O80: 0 | P80: 0
A81: 10197770328 | C81: Chicken Meatballs | D81: 100103 D | E81: 10 | F81: 54 | G81: 2.92 | H81: 3 pieces | I81: 15 | J81: 2 | L81: 0 | M81: 11.13 | N81: 0 | O81: 0 | P81: 0
A82: 10209800328 | C82: Sliced Black Forest Chicken Ham | D82: 100103 D | E82: 12 | F82: 55 | G82: 3.5 | H82: 7 slices | I82: 15 | J82: 2 | L82: 0 | M82: 17.29 | N82: 0 | O82: 0 | P82: 0
A83: 10214220928 | C83: Whole Grain Breaded MWWM Homestyle Boneless Chicken Wings | D83: 100103 W | E83: 10 | F83: 34 | G83: 4.68 | H83: 6 pieces | I83: 0 | J83: 2 | K83: 1 | L83: 10.46 | M83: 0 | N83: 0 | O83: 0 | P83: 0
A84: 10218790928 | C84: Seasoned Glazed Mesquite & Smoke Flavored ProPortion® Bone-In Chicken | D84: 100103 W/D | E84: 23.08 | F84: 78 | H84: 1 piece | I84: 25 | L84: 9.32 | M84: 9.78 | N84: 0 | O84: 0 | P84: 0
A85: 10221780928 | C85: Whole Grain Battered Tempura Style Chicken Nuggets | D85: 100103 W | E85: 23.12 | F85: 98 | G85: 3.75 | H85: 5 pieces | I85: 10 | J85: 2 | K85: 1 | L85: 17.91 | M85: 0 | N85: 0 | O85: 0 | P85: 0
A86: 10264350928 | C86: Glazed Oven Roasted Chicken Drumsticks | D86: 100103 D | E86: 30 | F86: 100 | H86: 1 piece | I86: 10 | J86: 2.5 | L86: 0 | M86: 24.79 | N86: 0 | O86: 0 | P86: 0
A87: 10264360928 | C87: Mesquite Glazed Chicken Drumsticks | D87: 100103 D | E87: 30 | F87: 100 | H87: 1 piece | I87: 10 | J87: 2.5 | L87: 0 | M87: 24.9 | N87: 0 | O87: 0 | P87: 0
A88: 10269760928 | C88: Mega Minis® Whole Grain Breaded Homestyle MWWM Chicken Chunks | D88: 100103 W | E88: 30.26 | F88: 112 | G88: 4.3 | H88: 10 pieces | I88: 0 | J88: 2 | K88: 1 | L88: 32.84 | M88: 0 | N88: 0 | O88: 0 | P88: 0
A89: 10270240928 | C89: Whole Grain Mini Chicken Corn Dog Bites | D89: 100103 D | E89: 30.15 | F89: 120 | G89: 4 | H89: 6 pieces | I89: 0 | J89: 2 | K89: 2 | L89: 0 | M89: 19.14 | N89: 0 | O89: 0 | P89: 0
A90: 10286860928 | C90: Mega Minis® Whole Grain Breaded Nashville Hot MWWM Chicken Chunks | D90: 100103 W | E90: 31.5 | F90: 112 | G90: 4.5 | H90: 10 pieces | I90: 25 | J90: 2 | K90: 1 | L90: 27.42 | M90: 0 | N90: 0 | O90: 0 | P90: 0
A91: 10299010928 | C91: Grilled Chicken Patties | D91: 100103 W/D | E91: 30 | F91: 192 | G91: 2.47 | H91: 1 piece | I91: 0 | J91: 2 | L91: 23.58 | M91: 15.72 | N91: 0 | O91: 0 | P91: 0
A92: 10346960928 | C92: Oven Roasted Glazed Chicken Wings | D92: 100103 W | E92: 30 | F92: 79 | H92: 4 pieces | I92: 0 | J92: 2 | L92: 26.39 | M92: 0 | N92: 0 | O92: 0 | P92: 0
A93: 10363650928 | C93: Whole Grain Chicken Corn Dogs | D93: 100103 D | E93: 12 | F93: 48 | G93: 4 | H93: 1 piece | I93: 0 | J93: 2 | K93: 2 | L93: 0 | M93: 7.01 | N93: 0 | O93: 0 | P93: 0
A94: 10365230928 | C94: IW Breaded Chicken Biscuit Sandwich | D94: 100103 W/D | E94: 21.88 | F94: 100 | G94: 3.5 | H94: 1 Sandwich | I94: 40 | J94: 1 | K94: 2 | L94: 3.97 | M94: 2.65 | N94: 0 | O94: 0 | P94: 0
A95: 10368640928 | C95: Whole Grain Breaded Homestyle Whole Muscle Chicken Tenderloins | D95: 100103 W | E95: 30 | F95: 107 | G95: 4.46 | H95: 2 pieces | I95: 25 | J95: 2.5 | K95: 1 | L95: 34.07 | M95: 0 | N95: 0 | O95: 0 | P95: 0
A96: 10383500928 | C96: Red Label® Whole Muscle Grilled Chicken Filets | D96: 100103 W | E96: 10 | F96: 54 | G96: 3 | H96: 1 piece | I96: 0 | J96: 2.25 | L96: 13.75 | M96: 0 | N96: 0 | O96: 0 | P96: 0
A97: 10460120928 | C97: All Natural** Low Sodium Diced Chicken | D97: 100103 W/D | E97: 10 | F97: 70 | G97: 2.3 | H97: 2.30 oz. | I97: 10 | J97: 2 | L97: 8.53 | M97: 5.69 | N97: 0 | O97: 0 | P97: 0
A98: 10460210928 | C98: All Natural** Low Sodium Pulled Chicken | D98: 100103 W/D | E98: 10 | F98: 73 | G98: 2.2 | H98: 2.20 oz. | I98: 10 | J98: 2 | L98: 4.97 | M98: 9.24 | N98: 0 | O98: 0 | P98: 0
A99: 10703000928 | C99: Whole Grain Breaded Homestyle Whole Muscle Chicken Breast Filets | D99: 100103 W | E99: 30 | F99: 120 | G99: 4 | H99: 1 piece | I99: 0 | J99: 2 | K99: 1 | L99: 30.95 | M99: 0 | N99: 0 | O99: 0 | P99: 0
A100: 10703020928 | C100: Whole Grain Breaded Golden Crispy MWWM Chicken Filets | D100: 100103 W | E100: 30.82 | F100: 120 | G100: 4.11 | H100: 1 piece | I100: 0 | J100: 2 | K100: 1 | L100: 33.96 | M100: 0 | N100: 0 | O100: 0 | P100: 0
...

Sheet Chicken
A1: SY 26/27 Chicken Commodity Calculator
A3: TOTAL New Chicken Diverted lbs | B3: 0
A4: New Diverted White lbs (70%) | B4: =0.7*B3 -> 0 | D4: Utilization | E4: =IF(B8>0, R117/B8, 0) -> 0
A5: New Diverted Dark lbs (30%) | B5: =0.3*B3 -> 0 | E5: =IF(B9>0, S117/B9, 0) -> 0
A6: White Carryover lbs | B6: 0
A7: Dark Carryover lbs | B7: 0
A8: Total White lbs Available | B8: =B4+B6 -> 0 | C8: Planned White lbs | D8: =R117 -> 0 | E8: Net White lbs | F8: =B8-R117 -> 0
A9: Total Dark lbs Available | B9: =B5+B7 -> 0 | C9: Planned Dark lbs | D9: =S117 -> 0 | E9: Net Dark lbs | F9: =B9-S117 -> 0 | M9: Populate either Cases or ADP & Menu Frequency
A11: Material Code | B11: Description | C11: Commodity | D11: Net Case Weight (lbs) | E11: Servings Per Case | F11: Serving Size (oz) | G11: Cool School Points | H11: CN Portion | I11: M/MA (oz) | J11: Eq Grain (oz) | K11: White Lbs DF per Case | L11: Dark Lbs DF per Case | M11: Cases | N11: ADP | O11: Menu Frequency | P11: Total Servings | Q11: Total Cases | R11: Total White Lbs | S11: Total Dark Lbs | T11: July | U11: August | V11: September | W11: October | X11: November | Y11: December | Z11: January | AA11: February | AB11: March | AC11: April | AD11: May | AE11: June | AF11: Cases Left To Forecast
B12: CHICKEN - WHITE
A13: 10000038479 | B13: =IFERROR(_xlfn.XLOOKUP(A13,Catalog[MaterialCode],Catalog[Description],""),"") -> Whole Grain Breaded Nashville Hot MWWM Chicken Tenders | C13: =IFERROR(_xlfn.XLOOKUP(A13,Catalog[MaterialCode],Catalog[Commodity],""),"") -> 100103 W | D13: =IFERROR(_xlfn.XLOOKUP(A13,Catalog[MaterialCode],Catalog[NetCaseWeight_lbs],0),0) -> 30.6 | E13: =IFERROR(_xlfn.XLOOKUP(A13,Catalog[MaterialCode],Catalog[ServingsPerCase],0),0) -> 105 | F13: =IFERROR(_xlfn.XLOOKUP(A13,Catalog[MaterialCode],Catalog[ServingSize_oz],0),0) -> 4.65 | G13: =IFERROR(_xlfn.XLOOKUP(A13,Catalog[MaterialCode],Catalog[CSCPoints],0),0) -> 25 | H13: =IFERROR(_xlfn.XLOOKUP(A13,Catalog[MaterialCode],Catalog[CNPortion],0),0) -> 3 pieces | I13: =IFERROR(_xlfn.XLOOKUP(A13,Catalog[MaterialCode],Catalog[MMA_oz],0),0) -> 2 | J13: =IFERROR(_xlfn.XLOOKUP(A13,Catalog[MaterialCode],Catalog[EqGrain_oz],0),0) -> 1 | K13: =IFERROR(_xlfn.XLOOKUP(A13,Catalog[MaterialCode],Catalog[WhiteLbsDFperCase],0),0) -> 26.65 | L13: =IFERROR(_xlfn.XLOOKUP(A13,Catalog[MaterialCode],Catalog[DarkLbsDFperCase],0),0) -> 0 | M13: 0 | N13: 0 | O13: 0 | P13: =IF(M13>0,M13*E13,IF(AND(N13>0,O13>0),N13*O13,0)) -> 0 | Q13: =IF(M13>0,M13,IF(E13>0,ROUNDUP(P13/E13,0),0)) -> 0 | R13: =Q13*K13 -> 0 | S13: =Q13*L13 -> 0 | T13: 0 | U13: 0 | V13: 0 | W13: 0 | X13: 0 | Y13: 0 | Z13: 0 | AA13: 0 | AB13: 0 | AC13: 0 | AD13: 0 | AE13: 0 | AF13: =Q13-SUM(T13:AE13) -> 0
A14: 10000038942 | B14: =IFERROR(_xlfn.XLOOKUP(A14,Catalog[MaterialCode],Catalog[Description],""),"") -> Wings of Fire Bone-In Chicken Wings | C14: =IFERROR(_xlfn.XLOOKUP(A14,Catalog[MaterialCode],Catalog[Commodity],""),"") -> 100103 W | D14: =IFERROR(_xlfn.XLOOKUP(A14,Catalog[MaterialCode],Catalog[NetCaseWeight_lbs],0),0) -> 30 | E14: =IFERROR(_xlfn.XLOOKUP(A14,Catalog[MaterialCode],Catalog[ServingsPerCase],0),0) -> 79 | F14: =IFERROR(_xlfn.XLOOKUP(A14,Catalog[MaterialCode],Catalog[ServingSize_oz],0),0) -> 0 | G14: =IFERROR(_xlfn.XLOOKUP(A14,Catalog[MaterialCode],Catalog[CSCPoints],0),0) -> 0 | H14: =IFERROR(_xlfn.XLOOKUP(A14,Catalog[MaterialCode],Catalog[CNPortion],0),0) -> 4 pieces | I14: =IFERROR(_xlfn.XLOOKUP(A14,Catalog[MaterialCode],Catalog[MMA_oz],0),0) -> 2 | J14: =IFERROR(_xlfn.XLOOKUP(A14,Catalog[MaterialCode],Catalog[EqGrain_oz],0),0) -> 0 | K14: =IFERROR(_xlfn.XLOOKUP(A14,Catalog[MaterialCode],Catalog[WhiteLbsDFperCase],0),0) -> 24.13 | L14: =IFERROR(_xlfn.XLOOKUP(A14,Catalog[MaterialCode],Catalog[DarkLbsDFperCase],0),0) -> 0 | M14: 0 | N14: 0 | O14: 0 | P14: =IF(M14>0,M14*E14,IF(AND(N14>0,O14>0),N14*O14,0)) -> 0 | Q14: =IF(M14>0,M14,IF(E14>0,ROUNDUP(P14/E14,0),0)) -> 0 | R14: =Q14*K14 -> 0 | S14: =Q14*L14 -> 0 | T14: 0 | U14: 0 | V14: 0 | W14: 0 | X14: 0 | Y14: 0 | Z14: 0 | AA14: 0 | AB14: 0 | AC14: 0 | AD14: 0 | AE14: 0 | AF14: =Q14-SUM(T14:AE14) -> 0
A15: 10000051698 | B15: =IFERROR(_xlfn.XLOOKUP(A15,Catalog[MaterialCode],Catalog[Description],""),"") -> Whole Grain Breaded Homestyle Whole Muscle Boneless Chicken Wings | C15: =IFERROR(_xlfn.XLOOKUP(A15,Catalog[MaterialCode],Catalog[Commodity],""),"") -> 100103 W | D15: =IFERROR(_xlfn.XLOOKUP(A15,Catalog[MaterialCode],Catalog[NetCaseWeight_lbs],0),0) -> 30.24 | E15: =IFERROR(_xlfn.XLOOKUP(A15,Catalog[MaterialCode],Catalog[ServingsPerCase],0),0) -> 128 | F15: =IFERROR(_xlfn.XLOOKUP(A15,Catalog[MaterialCode],Catalog[ServingSize_oz],0),0) -> 3.78 | G15: =IFERROR(_xlfn.XLOOKUP(A15,Catalog[MaterialCode],Catalog[CSCPoints],0),0) -> 40 | H15: =IFERROR(_xlfn.XLOOKUP(A15,Catalog[MaterialCode],Catalog[CNPortion],0),0) -> 6 pieces | I15: =IFERROR(_xlfn.XLOOKUP(A15,Catalog[MaterialCode],Catalog[MMA_oz],0),0) -> 2 | J15: =IFERROR(_xlfn.XLOOKUP(A15,Catalog[MaterialCode],Catalog[EqGrain_oz],0),0) -> 1 | K15: =IFERROR(_xlfn.XLOOKUP(A15,Catalog[MaterialCode],Catalog[WhiteLbsDFperCase],0),0) -> 32.43 | L15: =IFERROR(_xlfn.XLOOKUP(A15,Catalog[MaterialCode],Catalog[DarkLbsDFperCase],0),0) -> 0 | M15: 0 | N15: 0 | O15: 0 | P15: =IF(M15>0,M15*E15,IF(AND(N15>0,O15>0),N15*O15,0)) -> 0 | Q15: =IF(M15>0,M15,IF(E15>0,ROUNDUP(P15/E15,0),0)) -> 0 | R15: =Q15*K15 -> 0 | S15: =Q15*L15 -> 0 | T15: 0 | U15: 0 | V15: 0 | W15: 0 | X15: 0 | Y15: 0 | Z15: 0 | AA15: 0 | AB15: 0 | AC15: 0 | AD15: 0 | AE15: 0 | AF15: =Q15-SUM(T15:AE15) -> 0
A16: 10000064752 | B16: =IFERROR(_xlfn.XLOOKUP(A16,Catalog[MaterialCode],Catalog[Description],""),"") -> Mega Minis® Whole Grain Breaded Waffle Flavored Chicken Chunks | C16: =IFERROR(_xlfn.XLOOKUP(A16,Catalog[MaterialCode],Catalog[Commodity],""),"") -> 100103 W | D16: =IFERROR(_xlfn.XLOOKUP(A16,Catalog[MaterialCode],Catalog[NetCaseWeight_lbs],0),0) -> 30.26 | E16: =IFERROR(_xlfn.XLOOKUP(A16,Catalog[MaterialCode],Catalog[ServingsPerCase],0),0) -> 149 | F16: =IFERROR(_xlfn.XLOOKUP(A16,Catalog[MaterialCode],Catalog[ServingSize_oz],0),0) -> 3.24 | G16: =IFERROR(_xlfn.XLOOKUP(A16,Catalog[MaterialCode],Catalog[CSCPoints],0),0) -> 0 | H16: =IFERROR(_xlfn.XLOOKUP(A16,Catalog[MaterialCode],Catalog[CNPortion],0),0) -> 6 pieces | I16: =IFERROR(_xlfn.XLOOKUP(A16,Catalog[MaterialCode],Catalog[MMA_oz],0),0) -> 1 | J16: =IFERROR(_xlfn.XLOOKUP(A16,Catalog[MaterialCode],Catalog[EqGrain_oz],0),0) -> 1 | K16: =IFERROR(_xlfn.XLOOKUP(A16,Catalog[MaterialCode],Catalog[WhiteLbsDFperCase],0),0) -> 25.02 | L16: =IFERROR(_xlfn.XLOOKUP(A16,Catalog[MaterialCode],Catalog[DarkLbsDFperCase],0),0) -> 0 | M16: 0 | N16: 0 | O16: 0 | P16: =IF(M16>0,M16*E16,IF(AND(N16>0,O16>0),N16*O16,0)) -> 0 | Q16: =IF(M16>0,M16,IF(E16>0,ROUNDUP(P16/E16,0),0)) -> 0 | R16: =Q16*K16 -> 0 | S16: =Q16*L16 -> 0 | T16: 0 | U16: 0 | V16: 0 | W16: 0 | X16: 0 | Y16: 0 | Z16: 0 | AA16: 0 | AB16: 0 | AC16: 0 | AD16: 0 | AE16: 0 | AF16: =Q16-SUM(T16:AE16) -> 0
A17: 10000068745 | B17: =IFERROR(_xlfn.XLOOKUP(A17,Catalog[MaterialCode],Catalog[Description],""),"") -> Whole Grain Breaded Hot 'N Spicy MWWM Chicken Filets | C17: =IFERROR(_xlfn.XLOOKUP(A17,Catalog[MaterialCode],Catalog[Commodity],""),"") -> 100103 W | D17: =IFERROR(_xlfn.XLOOKUP(A17,Catalog[MaterialCode],Catalog[NetCaseWeight_lbs],0),0) -> 30 | E17: =IFERROR(_xlfn.XLOOKUP(A17,Catalog[MaterialCode],Catalog[ServingsPerCase],0),0) -> 211 | F17: =IFERROR(_xlfn.XLOOKUP(A17,Catalog[MaterialCode],Catalog[ServingSize_oz],0),0) -> 2.27 | G17: =IFERROR(_xlfn.XLOOKUP(A17,Catalog[MaterialCode],Catalog[CSCPoints],0),0) -> 25 | H17: =IFERROR(_xlfn.XLOOKUP(A17,Catalog[MaterialCode],Catalog[CNPortion],0),0) -> 1 piece | I17: =IFERROR(_xlfn.XLOOKUP(A17,Catalog[MaterialCode],Catalog[MMA_oz],0),0) -> 1 | J17: =IFERROR(_xlfn.XLOOKUP(A17,Catalog[MaterialCode],Catalog[EqGrain_oz],0),0) -> 0.5 | K17: =IFERROR(_xlfn.XLOOKUP(A17,Catalog[MaterialCode],Catalog[WhiteLbsDFperCase],0),0) -> 32.38 | L17: =IFERROR(_xlfn.XLOOKUP(A17,Catalog[MaterialCode],Catalog[DarkLbsDFperCase],0),0) -> 0 | M17: 0 | N17: 0 | O17: 0 | P17: =IF(M17>0,M17*E17,IF(AND(N17>0,O17>0),N17*O17,0)) -> 0 | Q17: =IF(M17>0,M17,IF(E17>0,ROUNDUP(P17/E17,0),0)) -> 0 | R17: =Q17*K17 -> 0 | S17: =Q17*L17 -> 0 | T17: 0 | U17: 0 | V17: 0 | W17: 0 | X17: 0 | Y17: 0 | Z17: 0 | AA17: 0 | AB17: 0 | AC17: 0 | AD17: 0 | AE17: 0 | AF17: =Q17-SUM(T17:AE17) -> 0
A18: 10000070875 | B18: =IFERROR(_xlfn.XLOOKUP(A18,Catalog[MaterialCode],Catalog[Description],""),"") -> Whole Grain Breaded White Meat Chicken Patties | C18: =IFERROR(_xlfn.XLOOKUP(A18,Catalog[MaterialCode],Catalog[Commodity],""),"") -> 100103 W | D18: =IFERROR(_xlfn.XLOOKUP(A18,Catalog[MaterialCode],Catalog[NetCaseWeight_lbs],0),0) -> 30.02 | E18: =IFERROR(_xlfn.XLOOKUP(A18,Catalog[MaterialCode],Catalog[ServingsPerCase],0),0) -> 118 | F18: =IFERROR(_xlfn.XLOOKUP(A18,Catalog[MaterialCode],Catalog[ServingSize_oz],0),0) -> 4.07 | G18: =IFERROR(_xlfn.XLOOKUP(A18,Catalog[MaterialCode],Catalog[CSCPoints],0),0) -> 0 | H18: =IFERROR(_xlfn.XLOOKUP(A18,Catalog[MaterialCode],Catalog[CNPortion],0),0) -> 1 piece | I18: =IFERROR(_xlfn.XLOOKUP(A18,Catalog[MaterialCode],Catalog[MMA_oz],0),0) -> 2 | J18: =IFERROR(_xlfn.XLOOKUP(A18,Catalog[MaterialCode],Catalog[EqGrain_oz],0),0) -> 1 | K18: 29.2 | L18: =IFERROR(_xlfn.XLOOKUP(A18,Catalog[MaterialCode],Catalog[DarkLbsDFperCase],0),0) -> 0 | M18: 0 | N18: 0 | O18: 0 | P18: =IF(M18>0,M18*E18,IF(AND(N18>0,O18>0),N18*O18,0)) -> 0 | Q18: =IF(M18>0,M18,IF(E18>0,ROUNDUP(P18/E18,0),0)) -> 0 | R18: =Q18*K18 -> 0 | S18: =Q18*L18 -> 0 | T18: 0 | U18: 0 | V18: 0 | W18: 0 | X18: 0 | Y18: 0 | Z18: 0 | AA18: 0 | AB18: 0 | AC18: 0 | AD18: 0 | AE18: 0 | AF18: =Q18-SUM(T18:AE18) -> 0
A19: 10000070876 | B19: =IFERROR(_xlfn.XLOOKUP(A19,Catalog[MaterialCode],Catalog[Description],""),"") -> Whole Grain Breaded White Meat Chicken Nuggets | C19: =IFERROR(_xlfn.XLOOKUP(A19,Catalog[MaterialCode],Catalog[Commodity],""),"") -> 100103 W | D19: =IFERROR(_xlfn.XLOOKUP(A19,Catalog[MaterialCode],Catalog[NetCaseWeight_lbs],0),0) -> 30.12 | E19: =IFERROR(_xlfn.XLOOKUP(A19,Catalog[MaterialCode],Catalog[ServingsPerCase],0),0) -> 122 | F19: =IFERROR(_xlfn.XLOOKUP(A19,Catalog[MaterialCode],Catalog[ServingSize_oz],0),0) -> 3.95 | G19: =IFERROR(_xlfn.XLOOKUP(A19,Catalog[MaterialCode],Catalog[CSCPoints],0),0) -> 0 | H19: =IFERROR(_xlfn.XLOOKUP(A19,Catalog[MaterialCode],Catalog[CNPortion],0),0) -> 5 pieces | I19: =IFERROR(_xlfn.XLOOKUP(A19,Catalog[MaterialCode],Catalog[MMA_oz],0),0) -> 2 | J19: =IFERROR(_xlfn.XLOOKUP(A19,Catalog[MaterialCode],Catalog[EqGrain_oz],0),0) -> 1 | K19: 29.32 | L19: =IFERROR(_xlfn.XLOOKUP(A19,Catalog[MaterialCode],Catalog[DarkLbsDFperCase],0),0) -> 0 | M19: 0 | N19: 0 | O19: 0 | P19: =IF(M19>0,M19*E19,IF(AND(N19>0,O19>0),N19*O19,0)) -> 0 | Q19: =IF(M19>0,M19,IF(E19>0,ROUNDUP(P19/E19,0),0)) -> 0 | R19: =Q19*K19 -> 0 | S19: =Q19*L19 -> 0 | T19: 0 | U19: 0 | V19: 0 | W19: 0 | X19: 0 | Y19: 0 | Z19: 0 | AA19: 0 | AB19: 0 | AC19: 0 | AD19: 0 | AE19: 0 | AF19: =Q19-SUM(T19:AE19) -> 0
A20: 10000070877 | B20: =IFERROR(_xlfn.XLOOKUP(A20,Catalog[MaterialCode],Catalog[Description],""),"") -> Whole Grain Breaded White Meat Popcorn Chicken | C20: =IFERROR(_xlfn.XLOOKUP(A20,Catalog[MaterialCode],Catalog[Commodity],""),"") -> 100103 W | D20: =IFERROR(_xlfn.XLOOKUP(A20,Catalog[MaterialCode],Catalog[NetCaseWeight_lbs],0),0) -> 30.19 | E20: =IFERROR(_xlfn.XLOOKUP(A20,Catalog[MaterialCode],Catalog[ServingsPerCase],0),0) -> 122 | F20: =IFERROR(_xlfn.XLOOKUP(A20,Catalog[MaterialCode],Catalog[ServingSize_oz],0),0) -> 3.96 | G20: =IFERROR(_xlfn.XLOOKUP(A20,Catalog[MaterialCode],Catalog[CSCPoints],0),0) -> 0 | H20: =IFERROR(_xlfn.XLOOKUP(A20,Catalog[MaterialCode],Catalog[CNPortion],0),0) -> 12 pieces | I20: =IFERROR(_xlfn.XLOOKUP(A20,Catalog[MaterialCode],Catalog[MMA_oz],0),0) -> 2 | J20: =IFERROR(_xlfn.XLOOKUP(A20,Catalog[MaterialCode],Catalog[EqGrain_oz],0),0) -> 1 | K20: 29.4 | L20: =IFERROR(_xlfn.XLOOKUP(A20,Catalog[MaterialCode],Catalog[DarkLbsDFperCase],0),0) -> 0 | M20: 0 | N20: 0 | O20: 0 | P20: =IF(M20>0,M20*E20,IF(AND(N20>0,O20>0),N20*O20,0)) -> 0 | Q20: =IF(M20>0,M20,IF(E20>0,ROUNDUP(P20/E20,0),0)) -> 0 | R20: =Q20*K20 -> 0 | S20: =Q20*L20 -> 0 | T20: 0 | U20: 0 | V20: 0 | W20: 0 | X20: 0 | Y20: 0 | Z20: 0 | AA20: 0 | AB20: 0 | AC20: 0 | AD20: 0 | AE20: 0 | AF20: =Q20-SUM(T20:AE20) -> 0
A21: 10000072176 | B21: =IFERROR(_xlfn.XLOOKUP(A21,Catalog[MaterialCode],Catalog[Description],""),"") -> Whole Grain Breaded Homestyle Chicken Breast Tenders | C21: =IFERROR(_xlfn.XLOOKUP(A21,Catalog[MaterialCode],Catalog[Commodity],""),"") -> 100103 W | D21: =IFERROR(_xlfn.XLOOKUP(A21,Catalog[MaterialCode],Catalog[NetCaseWeight_lbs],0),0) -> 30 | E21: =IFERROR(_xlfn.XLOOKUP(A21,Catalog[MaterialCode],Catalog[ServingsPerCase],0),0) -> 126 | F21: =IFERROR(_xlfn.XLOOKUP(A21,Catalog[MaterialCode],Catalog[ServingSize_oz],0),0) -> 3.78 | G21: =IFERROR(_xlfn.XLOOKUP(A21,Catalog[MaterialCode],Catalog[CSCPoints],0),0) -> 0 | H21: =IFERROR(_xlfn.XLOOKUP(A21,Catalog[MaterialCode],Catalog[CNPortion],0),0) -> 3 pieces | I21: =IFERROR(_xlfn.XLOOKUP(A21,Catalog[MaterialCode],Catalog[MMA_oz],0),0) -> 2 | J21: =IFERROR(_xlfn.XLOOKUP(A21,Catalog[MaterialCode],Catalog[EqGrain_oz],0),0) -> 1 | K21: =IFERROR(_xlfn.XLOOKUP(A21,Catalog[MaterialCode],Catalog[WhiteLbsDFperCase],0),0) -> 32.74 | L21: =IFERROR(_xlfn.XLOOKUP(A21,Catalog[MaterialCode],Catalog[DarkLbsDFperCase],0),0) -> 0 | M21: 0 | N21: 0 | O21: 0 | P21: =IF(M21>0,M21*E21,IF(AND(N21>0,O21>0),N21*O21,0)) -> 0 | Q21: =IF(M21>0,M21,IF(E21>0,ROUNDUP(P21/E21,0),0)) -> 0 | R21: =Q21*K21 -> 0 | S21: =Q21*L21 -> 0 | T21: 0 | U21: 0 | V21: 0 | W21: 0 | X21: 0 | Y21: 0 | Z21: 0 | AA21: 0 | AB21: 0 | AC21: 0 | AD21: 0 | AE21: 0 | AF21: =Q21-SUM(T21:AE21) -> 0
A22: 10000072367 | B22: =IFERROR(_xlfn.XLOOKUP(A22,Catalog[MaterialCode],Catalog[Description],""),"") -> All Natural** Low Sodium 1/2" Diced White Chicken | C22: =IFERROR(_xlfn.XLOOKUP(A22,Catalog[MaterialCode],Catalog[Commodity],""),"") -> 100103 W | D22: =IFERROR(_xlfn.XLOOKUP(A22,Catalog[MaterialCode],Catalog[NetCaseWeight_lbs],0),0) -> 30 | E22: =IFERROR(_xlfn.XLOOKUP(A22,Catalog[MaterialCode],Catalog[ServingsPerCase],0),0) -> 177 | F22: =IFERROR(_xlfn.XLOOKUP(A22,Catalog[MaterialCode],Catalog[ServingSize_oz],0),0) -> 2.7 | G22: =IFERROR(_xlfn.XLOOKUP(A22,Catalog[MaterialCode],Catalog[CSCPoints],0),0) -> 0 | H22: =IFERROR(_xlfn.XLOOKUP(A22,Catalog[MaterialCode],Catalog[CNPortion],0),0) -> 2.70 oz. | I22: =IFERROR(_xlfn.XLOOKUP(A22,Catalog[MaterialCode],Catalog[MMA_oz],0),0) -> 2 | J22: =IFERROR(_xlfn.XLOOKUP(A22,Catalog[MaterialCode],Catalog[EqGrain_oz],0),0) -> 0 | K22: =IFERROR(_xlfn.XLOOKUP(A22,Catalog[MaterialCode],Catalog[WhiteLbsDFperCase],0),0) -> 41.26 | L22: =IFERROR(_xlfn.XLOOKUP(A22,Catalog[MaterialCode],Catalog[DarkLbsDFperCase],0),0) -> 0 | M22: 0 | N22: 0 | O22: 0 | P22: =IF(M22>0,M22*E22,IF(AND(N22>0,O22>0),N22*O22,0)) -> 0 | Q22: =IF(M22>0,M22,IF(E22>0,ROUNDUP(P22/E22,0),0)) -> 0 | R22: =Q22*K22 -> 0 | S22: =Q22*L22 -> 0 | T22: 0 | U22: 0 | V22: 0 | W22: 0 | X22: 0 | Y22: 0 | Z22: 0 | AA22: 0 | AB22: 0 | AC22: 0 | AD22: 0 | AE22: 0 | AF22: =Q22-SUM(T22:AE22) -> 0
A23: 10061470928 | B23: =IFERROR(_xlfn.XLOOKUP(A23,Catalog[MaterialCode],Catalog[Description],""),"") -> Whole Grain Breaded MWWM Honey Sriracha Glazed Boneless Chicken Wings | C23: =IFERROR(_xlfn.XLOOKUP(A23,Catalog[MaterialCode],Catalog[Commodity],""),"") -> 100103 W | D23: =IFERROR(_xlfn.XLOOKUP(A23,Catalog[MaterialCode],Catalog[NetCaseWeight_lbs],0),0) -> 28.5 | E23: =IFERROR(_xlfn.XLOOKUP(A23,Catalog[MaterialCode],Catalog[ServingsPerCase],0),0) -> 88 | F23: =IFERROR(_xlfn.XLOOKUP(A23,Catalog[MaterialCode],Catalog[ServingSize_oz],0),0) -> 5.16 | G23: =IFERROR(_xlfn.XLOOKUP(A23,Catalog[MaterialCode],Catalog[CSCPoints],0),0) -> 25 | H23: =IFERROR(_xlfn.XLOOKUP(A23,Catalog[MaterialCode],Catalog[CNPortion],0),0) -> 6 pieces | I23: =IFERROR(_xlfn.XLOOKUP(A23,Catalog[MaterialCode],Catalog[MMA_oz],0),0) -> 2 | J23: =IFERROR(_xlfn.XLOOKUP(A23,Catalog[MaterialCode],Catalog[EqGrain_oz],0),0) -> 1 | K23: =IFERROR(_xlfn.XLOOKUP(A23,Catalog[MaterialCode],Catalog[WhiteLbsDFperCase],0),0) -> 22.66 | L23: =IFERROR(_xlfn.XLOOKUP(A23,Catalog[MaterialCode],Catalog[DarkLbsDFperCase],0),0) -> 0 | M23: 0 | N23: 0 | O23: 0 | P23: =IF(M23>0,M23*E23,IF(AND(N23>0,O23>0),N23*O23,0)) -> 0 | Q23: =IF(M23>0,M23,IF(E23>0,ROUNDUP(P23/E23,0),0)) -> 0 | R23: =Q23*K23 -> 0 | S23: =Q23*L23 -> 0 | T23: 0 | U23: 0 | V23: 0 | W23: 0 | X23: 0 | Y23: 0 | Z23: 0 | AA23: 0 | AB23: 0 | AC23: 0 | AD23: 0 | AE23: 0 | AF23: =Q23-SUM(T23:AE23) -> 0
A24: 10214220928 | B24: =IFERROR(_xlfn.XLOOKUP(A24,Catalog[MaterialCode],Catalog[Description],""),"") -> Whole Grain Breaded MWWM Homestyle Boneless Chicken Wings | C24: =IFERROR(_xlfn.XLOOKUP(A24,Catalog[MaterialCode],Catalog[Commodity],""),"") -> 100103 W | D24: =IFERROR(_xlfn.XLOOKUP(A24,Catalog[MaterialCode],Catalog[NetCaseWeight_lbs],0),0) -> 10 | E24: =IFERROR(_xlfn.XLOOKUP(A24,Catalog[MaterialCode],Catalog[ServingsPerCase],0),0) -> 34 | F24: =IFERROR(_xlfn.XLOOKUP(A24,Catalog[MaterialCode],Catalog[ServingSize_oz],0),0) -> 4.68 | G24: =IFERROR(_xlfn.XLOOKUP(A24,Catalog[MaterialCode],Catalog[CSCPoints],0),0) -> 0 | H24: =IFERROR(_xlfn.XLOOKUP(A24,Catalog[MaterialCode],Catalog[CNPortion],0),0) -> 6 pieces | I24: =IFERROR(_xlfn.XLOOKUP(A24,Catalog[MaterialCode],Catalog[MMA_oz],0),0) -> 2 | J24: =IFERROR(_xlfn.XLOOKUP(A24,Catalog[MaterialCode],Catalog[EqGrain_oz],0),0) -> 1 | K24: =IFERROR(_xlfn.XLOOKUP(A24,Catalog[MaterialCode],Catalog[WhiteLbsDFperCase],0),0) -> 10.46 | L24: =IFERROR(_xlfn.XLOOKUP(A24,Catalog[MaterialCode],Catalog[DarkLbsDFperCase],0),0) -> 0 | M24: 0 | N24: 0 | O24: 0 | P24: =IF(M24>0,M24*E24,IF(AND(N24>0,O24>0),N24*O24,0)) -> 0 | Q24: =IF(M24>0,M24,IF(E24>0,ROUNDUP(P24/E24,0),0)) -> 0 | R24: =Q24*K24 -> 0 | S24: =Q24*L24 -> 0 | T24: 0 | U24: 0 | V24: 0 | W24: 0 | X24: 0 | Y24: 0 | Z24: 0 | AA24: 0 | AB24: 0 | AC24: 0 | AD24: 0 | AE24: 0 | AF24: =Q24-SUM(T24:AE24) -> 0
A25: 10221780928 | B25: =IFERROR(_xlfn.XLOOKUP(A25,Catalog[MaterialCode],Catalog[Description],""),"") -> Whole Grain Battered Tempura Style Chicken Nuggets | C25: =IFERROR(_xlfn.XLOOKUP(A25,Catalog[MaterialCode],Catalog[Commodity],""),"") -> 100103 W | D25: =IFERROR(_xlfn.XLOOKUP(A25,Catalog[MaterialCode],Catalog[NetCaseWeight_lbs],0),0) -> 23.12 | E25: =IFERROR(_xlfn.XLOOKUP(A25,Catalog[MaterialCode],Catalog[ServingsPerCase],0),0) -> 98 | F25: =IFERROR(_xlfn.XLOOKUP(A25,Catalog[MaterialCode],Catalog[ServingSize_oz],0),0) -> 3.75 | G25: =IFERROR(_xlfn.XLOOKUP(A25,Catalog[MaterialCode],Catalog[CSCPoints],0),0) -> 10 | H25: =IFERROR(_xlfn.XLOOKUP(A25,Catalog[MaterialCode],Catalog[CNPortion],0),0) -> 5 pieces | I25: =IFERROR(_xlfn.XLOOKUP(A25,Catalog[MaterialCode],Catalog[MMA_oz],0),0) -> 2 | J25: =IFERROR(_xlfn.XLOOKUP(A25,Catalog[MaterialCode],Catalog[EqGrain_oz],0),0) -> 1 | K25: =IFERROR(_xlfn.XLOOKUP(A25,Catalog[MaterialCode],Catalog[WhiteLbsDFperCase],0),0) -> 17.91 | L25: =IFERROR(_xlfn.XLOOKUP(A25,Catalog[MaterialCode],Catalog[DarkLbsDFperCase],0),0) -> 0 | M25: 0 | N25: 0 | O25: 0 | P25: =IF(M25>0,M25*E25,IF(AND(N25>0,O25>0),N25*O25,0)) -> 0 | Q25: =IF(M25>0,M25,IF(E25>0,ROUNDUP(P25/E25,0),0)) -> 0 | R25: =Q25*K25 -> 0 | S25: =Q25*L25 -> 0 | T25: 0 | U25: 0 | V25: 0 | W25: 0 | X25: 0 | Y25: 0 | Z25: 0 | AA25: 0 | AB25: 0 | AC25: 0 | AD25: 0 | AE25: 0 | AF25: =Q25-SUM(T25:AE25) -> 0
A26: 10269760928 | B26: =IFERROR(_xlfn.XLOOKUP(A26,Catalog[MaterialCode],Catalog[Description],""),"") -> Mega Minis® Whole Grain Breaded Homestyle MWWM Chicken Chunks | C26: =IFERROR(_xlfn.XLOOKUP(A26,Catalog[MaterialCode],Catalog[Commodity],""),"") -> 100103 W | D26: =IFERROR(_xlfn.XLOOKUP(A26,Catalog[MaterialCode],Catalog[NetCaseWeight_lbs],0),0) -> 30.26 | E26: =IFERROR(_xlfn.XLOOKUP(A26,Catalog[MaterialCode],Catalog[ServingsPerCase],0),0) -> 112 | F26: =IFERROR(_xlfn.XLOOKUP(A26,Catalog[MaterialCode],Catalog[ServingSize_oz],0),0) -> 4.3 | G26: =IFERROR(_xlfn.XLOOKUP(A26,Catalog[MaterialCode],Catalog[CSCPoints],0),0) -> 0 | H26: =IFERROR(_xlfn.XLOOKUP(A26,Catalog[MaterialCode],Catalog[CNPortion],0),0) -> 10 pieces | I26: =IFERROR(_xlfn.XLOOKUP(A26,Catalog[MaterialCode],Catalog[MMA_oz],0),0) -> 2 | J26: =IFERROR(_xlfn.XLOOKUP(A26,Catalog[MaterialCode],Catalog[EqGrain_oz],0),0) -> 1 | K26: =IFERROR(_xlfn.XLOOKUP(A26,Catalog[MaterialCode],Catalog[WhiteLbsDFperCase],0),0) -> 32.84 | L26: =IFERROR(_xlfn.XLOOKUP(A26,Catalog[MaterialCode],Catalog[DarkLbsDFperCase],0),0) -> 0 | M26: 0 | N26: 0 | O26: 0 | P26: =IF(M26>0,M26*E26,IF(AND(N26>0,O26>0),N26*O26,0)) -> 0 | Q26: =IF(M26>0,M26,IF(E26>0,ROUNDUP(P26/E26,0),0)) -> 0 | R26: =Q26*K26 -> 0 | S26: =Q26*L26 -> 0 | T26: 0 | U26: 0 | V26: 0 | W26: 0 | X26: 0 | Y26: 0 | Z26: 0 | AA26: 0 | AB26: 0 | AC26: 0 | AD26: 0 | AE26: 0 | AF26: =Q26-SUM(T26:AE26) -> 0
A27: 10286860928 | B27: =IFERROR(_xlfn.XLOOKUP(A27,Catalog[MaterialCode],Catalog[Description],""),"") -> Mega Minis® Whole Grain Breaded Nashville Hot MWWM Chicken Chunks | C27: =IFERROR(_xlfn.XLOOKUP(A27,Catalog[MaterialCode],Catalog[Commodity],""),"") -> 100103 W | D27: =IFERROR(_xlfn.XLOOKUP(A27,Catalog[MaterialCode],Catalog[NetCaseWeight_lbs],0),0) -> 31.5 | E27: =IFERROR(_xlfn.XLOOKUP(A27,Catalog[MaterialCode],Catalog[ServingsPerCase],0),0) -> 112 | F27: =IFERROR(_xlfn.XLOOKUP(A27,Catalog[MaterialCode],Catalog[ServingSize_oz],0),0) -> 4.5 | G27: =IFERROR(_xlfn.XLOOKUP(A27,Catalog[MaterialCode],Catalog[CSCPoints],0),0) -> 25 | H27: =IFERROR(_xlfn.XLOOKUP(A27,Catalog[MaterialCode],Catalog[CNPortion],0),0) -> 10 pieces | I27: =IFERROR(_xlfn.XLOOKUP(A27,Catalog[MaterialCode],Catalog[MMA_oz],0),0) -> 2 | J27: =IFERROR(_xlfn.XLOOKUP(A27,Catalog[MaterialCode],Catalog[EqGrain_oz],0),0) -> 1 | K27: =IFERROR(_xlfn.XLOOKUP(A27,Catalog[MaterialCode],Catalog[WhiteLbsDFperCase],0),0) -> 27.42 | L27: =IFERROR(_xlfn.XLOOKUP(A27,Catalog[MaterialCode],Catalog[DarkLbsDFperCase],0),0) -> 0 | M27: 0 | N27: 0 | O27: 0 | P27: =IF(M27>0,M27*E27,IF(AND(N27>0,O27>0),N27*O27,0)) -> 0 | Q27: =IF(M27>0,M27,IF(E27>0,ROUNDUP(P27/E27,0),0)) -> 0 | R27: =Q27*K27 -> 0 | S27: =Q27*L27 -> 0 | T27: 0 | U27: 0 | V27: 0 | W27: 0 | X27: 0 | Y27: 0 | Z27: 0 | AA27: 0 | AB27: 0 | AC27: 0 | AD27: 0 | AE27: 0 | AF27: =Q27-SUM(T27:AE27) -> 0
A28: 10346960928 | B28: =IFERROR(_xlfn.XLOOKUP(A28,Catalog[MaterialCode],Catalog[Description],""),"") -> Oven Roasted Glazed Chicken Wings | C28: =IFERROR(_xlfn.XLOOKUP(A28,Catalog[MaterialCode],Catalog[Commodity],""),"") -> 100103 W | D28: =IFERROR(_xlfn.XLOOKUP(A28,Catalog[MaterialCode],Catalog[NetCaseWeight_lbs],0),0) -> 30 | E28: =IFERROR(_xlfn.XLOOKUP(A28,Catalog[MaterialCode],Catalog[ServingsPerCase],0),0) -> 79 | F28: =IFERROR(_xlfn.XLOOKUP(A28,Catalog[MaterialCode],Catalog[ServingSize_oz],0),0) -> 0 | G28: =IFERROR(_xlfn.XLOOKUP(A28,Catalog[MaterialCode],Catalog[CSCPoints],0),0) -> 0 | H28: =IFERROR(_xlfn.XLOOKUP(A28,Catalog[MaterialCode],Catalog[CNPortion],0),0) -> 4 pieces | I28: =IFERROR(_xlfn.XLOOKUP(A28,Catalog[MaterialCode],Catalog[MMA_oz],0),0) -> 2 | J28: =IFERROR(_xlfn.XLOOKUP(A28,Catalog[MaterialCode],Catalog[EqGrain_oz],0),0) -> 0 | K28: =IFERROR(_xlfn.XLOOKUP(A28,Catalog[MaterialCode],Catalog[WhiteLbsDFperCase],0),0) -> 26.39 | L28: =IFERROR(_xlfn.XLOOKUP(A28,Catalog[MaterialCode],Catalog[DarkLbsDFperCase],0),0) -> 0 | M28: 0 | N28: 0 | O28: 0 | P28: =IF(M28>0,M28*E28,IF(AND(N28>0,O28>0),N28*O28,0)) -> 0 | Q28: =IF(M28>0,M28,IF(E28>0,ROUNDUP(P28/E28,0),0)) -> 0 | R28: =Q28*K28 -> 0 | S28: =Q28*L28 -> 0 | T28: 0 | U28: 0 | V28: 0 | W28: 0 | X28: 0 | Y28: 0 | Z28: 0 | AA28: 0 | AB28: 0 | AC28: 0 | AD28: 0 | AE28: 0 | AF28: =Q28-SUM(T28:AE28) -> 0
A29: 10368640928 | B29: =IFERROR(_xlfn.XLOOKUP(A29,Catalog[MaterialCode],Catalog[Description],""),"") -> Whole Grain Breaded Homestyle Whole Muscle Chicken Tenderloins | C29: =IFERROR(_xlfn.XLOOKUP(A29,Catalog[MaterialCode],Catalog[Commodity],""),"") -> 100103 W | D29: =IFERROR(_xlfn.XLOOKUP(A29,Catalog[MaterialCode],Catalog[NetCaseWeight_lbs],0),0) -> 30 | E29: =IFERROR(_xlfn.XLOOKUP(A29,Catalog[MaterialCode],Catalog[ServingsPerCase],0),0) -> 107 | F29: =IFERROR(_xlfn.XLOOKUP(A29,Catalog[MaterialCode],Catalog[ServingSize_oz],0),0) -> 4.46 | G29: =IFERROR(_xlfn.XLOOKUP(A29,Catalog[MaterialCode],Catalog[CSCPoints],0),0) -> 25 | H29: =IFERROR(_xlfn.XLOOKUP(A29,Catalog[MaterialCode],Catalog[CNPortion],0),0) -> 2 pieces | I29: =IFERROR(_xlfn.XLOOKUP(A29,Catalog[MaterialCode],Catalog[MMA_oz],0),0) -> 2.5 | J29: =IFERROR(_xlfn.XLOOKUP(A29,Catalog[MaterialCode],Catalog[EqGrain_oz],0),0) -> 1 | K29: =IFERROR(_xlfn.XLOOKUP(A29,Catalog[MaterialCode],Catalog[WhiteLbsDFperCase],0),0) -> 34.07 | L29: =IFERROR(_xlfn.XLOOKUP(A29,Catalog[MaterialCode],Catalog[DarkLbsDFperCase],0),0) -> 0 | M29: 0 | N29: 0 | O29: 0 | P29: =IF(M29>0,M29*E29,IF(AND(N29>0,O29>0),N29*O29,0)) -> 0 | Q29: =IF(M29>0,M29,IF(E29>0,ROUNDUP(P29/E29,0),0)) -> 0 | R29: =Q29*K29 -> 0 | S29: =Q29*L29 -> 0 | T29: 0 | U29: 0 | V29: 0 | W29: 0 | X29: 0 | Y29: 0 | Z29: 0 | AA29: 0 | AB29: 0 | AC29: 0 | AD29: 0 | AE29: 0 | AF29: =Q29-SUM(T29:AE29) -> 0
A30: 10383500928 | B30: =IFERROR(_xlfn.XLOOKUP(A30,Catalog[MaterialCode],Catalog[Description],""),"") -> Red Label® Whole Muscle Grilled Chicken Filets | C30: =IFERROR(_xlfn.XLOOKUP(A30,Catalog[MaterialCode],Catalog[Commodity],""),"") -> 100103 W | D30: =IFERROR(_xlfn.XLOOKUP(A30,Catalog[MaterialCode],Catalog[NetCaseWeight_lbs],0),0) -> 10 | E30: =IFERROR(_xlfn.XLOOKUP(A30,Catalog[MaterialCode],Catalog[ServingsPerCase],0),0) -> 54 | F30: =IFERROR(_xlfn.XLOOKUP(A30,Catalog[MaterialCode],Catalog[ServingSize_oz],0),0) -> 3 | G30: =IFERROR(_xlfn.XLOOKUP(A30,Catalog[MaterialCode],Catalog[CSCPoints],0),0) -> 0 | H30: =IFERROR(_xlfn.XLOOKUP(A30,Catalog[MaterialCode],Catalog[CNPortion],0),0) -> 1 piece | I30: =IFERROR(_xlfn.XLOOKUP(A30,Catalog[MaterialCode],Catalog[MMA_oz],0),0) -> 2.25 | J30: =IFERROR(_xlfn.XLOOKUP(A30,Catalog[MaterialCode],Catalog[EqGrain_oz],0),0) -> 0 | K30: =IFERROR(_xlfn.XLOOKUP(A30,Catalog[MaterialCode],Catalog[WhiteLbsDFperCase],0),0) -> 13.75 | L30: =IFERROR(_xlfn.XLOOKUP(A30,Catalog[MaterialCode],Catalog[DarkLbsDFperCase],0),0) -> 0 | M30: 0 | N30: 0 | O30: 0 | P30: =IF(M30>0,M30*E30,IF(AND(N30>0,O30>0),N30*O30,0)) -> 0 | Q30: =IF(M30>0,M30,IF(E30>0,ROUNDUP(P30/E30,0),0)) -> 0 | R30: =Q30*K30 -> 0 | S30: =Q30*L30 -> 0 | T30: 0 | U30: 0 | V30: 0 | W30: 0 | X30: 0 | Y30: 0 | Z30: 0 | AA30: 0 | AB30: 0 | AC30: 0 | AD30: 0 | AE30: 0 | AF30: =Q30-SUM(T30:AE30) -> 0
A31: 10703000928 | B31: =IFERROR(_xlfn.XLOOKUP(A31,Catalog[MaterialCode],Catalog[Description],""),"") -> Whole Grain Breaded Homestyle Whole Muscle Chicken Breast Filets | C31: =IFERROR(_xlfn.XLOOKUP(A31,Catalog[MaterialCode],Catalog[Commodity],""),"") -> 100103 W | D31: =IFERROR(_xlfn.XLOOKUP(A31,Catalog[MaterialCode],Catalog[NetCaseWeight_lbs],0),0) -> 30 | E31: =IFERROR(_xlfn.XLOOKUP(A31,Catalog[MaterialCode],Catalog[ServingsPerCase],0),0) -> 120 | F31: =IFERROR(_xlfn.XLOOKUP(A31,Catalog[MaterialCode],Catalog[ServingSize_oz],0),0) -> 4 | G31: =IFERROR(_xlfn.XLOOKUP(A31,Catalog[MaterialCode],Catalog[CSCPoints],0),0) -> 0 | H31: =IFERROR(_xlfn.XLOOKUP(A31,Catalog[MaterialCode],Catalog[CNPortion],0),0) -> 1 piece | I31: =IFERROR(_xlfn.XLOOKUP(A31,Catalog[MaterialCode],Catalog[MMA_oz],0),0) -> 2 | J31: =IFERROR(_xlfn.XLOOKUP(A31,Catalog[MaterialCode],Catalog[EqGrain_oz],0),0) -> 1 | K31: =IFERROR(_xlfn.XLOOKUP(A31,Catalog[MaterialCode],Catalog[WhiteLbsDFperCase],0),0) -> 30.95 | L31: =IFERROR(_xlfn.XLOOKUP(A31,Catalog[MaterialCode],Catalog[DarkLbsDFperCase],0),0) -> 0 | M31: 0 | N31: 0 | O31: 0 | P31: =IF(M31>0,M31*E31,IF(AND(N31>0,O31>0),N31*O31,0)) -> 0 | Q31: =IF(M31>0,M31,IF(E31>0,ROUNDUP(P31/E31,0),0)) -> 0 | R31: =Q31*K31 -> 0 | S31: =Q31*L31 -> 0 | T31: 0 | U31: 0 | V31: 0 | W31: 0 | X31: 0 | Y31: 0 | Z31: 0 | AA31: 0 | AB31: 0 | AC31: 0 | AD31: 0 | AE31: 0 | AF31: =Q31-SUM(T31:AE31) -> 0
A32: 10703020928 | B32: =IFERROR(_xlfn.XLOOKUP(A32,Catalog[MaterialCode],Catalog[Description],""),"") -> Whole Grain Breaded Golden Crispy MWWM Chicken Filets | C32: =IFERROR(_xlfn.XLOOKUP(A32,Catalog[MaterialCode],Catalog[Commodity],""),"") -> 100103 W | D32: =IFERROR(_xlfn.XLOOKUP(A32,Catalog[MaterialCode],Catalog[NetCaseWeight_lbs],0),0) -> 30.82 | E32: =IFERROR(_xlfn.XLOOKUP(A32,Catalog[MaterialCode],Catalog[ServingsPerCase],0),0) -> 120 | F32: =IFERROR(_xlfn.XLOOKUP(A32,Catalog[MaterialCode],Catalog[ServingSize_oz],0),0) -> 4.11 | G32: =IFERROR(_xlfn.XLOOKUP(A32,Catalog[MaterialCode],Catalog[CSCPoints],0),0) -> 0 | H32: =IFERROR(_xlfn.XLOOKUP(A32,Catalog[MaterialCode],Catalog[CNPortion],0),0) -> 1 piece | I32: =IFERROR(_xlfn.XLOOKUP(A32,Catalog[MaterialCode],Catalog[MMA_oz],0),0) -> 2 | J32: =IFERROR(_xlfn.XLOOKUP(A32,Catalog[MaterialCode],Catalog[EqGrain_oz],0),0) -> 1 | K32: =IFERROR(_xlfn.XLOOKUP(A32,Catalog[MaterialCode],Catalog[WhiteLbsDFperCase],0),0) -> 33.96 | L32: =IFERROR(_xlfn.XLOOKUP(A32,Catalog[MaterialCode],Catalog[DarkLbsDFperCase],0),0) -> 0 | M32: 0 | N32: 0 | O32: 0 | P32: =IF(M32>0,M32*E32,IF(AND(N32>0,O32>0),N32*O32,0)) -> 0 | Q32: =IF(M32>0,M32,IF(E32>0,ROUNDUP(P32/E32,0),0)) -> 0 | R32: =Q32*K32 -> 0 | S32: =Q32*L32 -> 0 | T32: 0 | U32: 0 | V32: 0 | W32: 0 | X32: 0 | Y32: 0 | Z32: 0 | AA32: 0 | AB32: 0 | AC32: 0 | AD32: 0 | AE32: 0 | AF32: =Q32-SUM(T32:AE32) -> 0
... A40: 17033220928 | B40: =IFERROR(_xlfn.XLOOKUP(A40,Catalog[MaterialCode],Catalog[Description],""),"") -> Whole Grain Breaded Homestyle MWWM Chicken Tenders | C40: =IFERROR(_xlfn.XLOOKUP(A40,Catalog[MaterialCode],Catalog[Commodity],""),"") -> 100103 W | D40: =IFERROR(_xlfn.XLOOKUP(A40,Catalog[MaterialCode],Catalog[NetCaseWeight_lbs],0),0) -> 30.9 | E40: =IFERROR(_xlfn.XLOOKUP(A40,Catalog[MaterialCode],Catalog[ServingsPerCase],0),0) -> 110 | F40: =IFERROR(_xlfn.XLOOKUP(A40,Catalog[MaterialCode],Catalog[ServingSize_oz],0),0) -> 4.5 | G40: =IFERROR(_xlfn.XLOOKUP(A40,Catalog[MaterialCode],Catalog[CSCPoints],0),0) -> 10 | H40: =IFERROR(_xlfn.XLOOKUP(A40,Catalog[MaterialCode],Catalog[CNPortion],0),0) -> 3 pieces | I40: =IFERROR(_xlfn.XLOOKUP(A40,Catalog[MaterialCode],Catalog[MMA_oz],0),0) -> 2 | J40: =IFERROR(_xlfn.XLOOKUP(A40,Catalog[MaterialCode],Catalog[EqGrain_oz],0),0) -> 1 | K40: =IFERROR(_xlfn.XLOOKUP(A40,Catalog[MaterialCode],Catalog[WhiteLbsDFperCase],0),0) -> 32.63 | L40: =IFERROR(_xlfn.XLOOKUP(A40,Catalog[MaterialCode],Catalog[DarkLbsDFperCase],0),0) -> 0 | M40: 0 | N40: 0 | O40: 0 | P40: =IF(M40>0,M40*E40,IF(AND(N40>0,O40>0),N40*O40,0)) -> 0 | Q40: =IF(M40>0,M40,IF(E40>0,ROUNDUP(P40/E40,0),0)) -> 0 | R40: =Q40*K40 -> 0 | S40: =Q40*L40 -> 0 | T40: 0 | U40: 0 | V40: 0 | W40: 0 | X40: 0 | Y40: 0 | Z40: 0 | AA40: 0 | AB40: 0 | AC40: 0 | AD40: 0 | AE40: 0 | AF40: =Q40-SUM(T40:AE40) -> 0
B41: CHICKEN - DARK
A42: 10000043537 | B42: =IFERROR(_xlfn.XLOOKUP(A42,Catalog[MaterialCode],Catalog[Description],""),"") -> Taco Seasoned Chopped Chicken | C42: =IFERROR(_xlfn.XLOOKUP(A42,Catalog[MaterialCode],Catalog[Commodity],""),"") -> 100103 D | D42: =IFERROR(_xlfn.XLOOKUP(A42,Catalog[MaterialCode],Catalog[NetCaseWeight_lbs],0),0) -> 30 | E42: =IFERROR(_xlfn.XLOOKUP(A42,Catalog[MaterialCode],Catalog[ServingsPerCase],0),0) -> 240 | F42: =IFERROR(_xlfn.XLOOKUP(A42,Catalog[MaterialCode],Catalog[ServingSize_oz],0),0) -> 2 | G42: =IFERROR(_xlfn.XLOOKUP(A42,Catalog[MaterialCode],Catalog[CSCPoints],0),0) -> 25 | H42: =IFERROR(_xlfn.XLOOKUP(A42,Catalog[MaterialCode],Catalog[CNPortion],0),0) -> 2.00 oz. | I42: =IFERROR(_xlfn.XLOOKUP(A42,Catalog[MaterialCode],Catalog[MMA_oz],0),0) -> 2 | J42: =IFERROR(_xlfn.XLOOKUP(A42,Catalog[MaterialCode],Catalog[EqGrain_oz],0),0) -> 0 | K42: =IFERROR(_xlfn.XLOOKUP(A42,Catalog[MaterialCode],Catalog[WhiteLbsDFperCase],0),0) -> 0 | L42: =IFERROR(_xlfn.XLOOKUP(A42,Catalog[MaterialCode],Catalog[DarkLbsDFperCase],0),0) -> 39.58 | M42: 0 | N42: 0 | O42: 0 | P42: =IF(M42>0,M42*E42,IF(AND(N42>0,O42>0),N42*O42,0)) -> 0 | Q42: =IF(M42>0,M42,IF(E42>0,ROUNDUP(P42/E42,0),0)) -> 0 | R42: =Q42*K42 -> 0 | S42: =Q42*L42 -> 0 | T42: 0 | U42: 0 | V42: 0 | W42: 0 | X42: 0 | Y42: 0 | Z42: 0 | AA42: 0 | AB42: 0 | AC42: 0 | AD42: 0 | AE42: 0 | AF42: =Q42-SUM(T42:AE42) -> 0
A43: 10000044195 | B43: =IFERROR(_xlfn.XLOOKUP(A43,Catalog[MaterialCode],Catalog[Description],""),"") -> Breaded Traditional Chicken Thigh | C43: =IFERROR(_xlfn.XLOOKUP(A43,Catalog[MaterialCode],Catalog[Commodity],""),"") -> 100103 D | D43: =IFERROR(_xlfn.XLOOKUP(A43,Catalog[MaterialCode],Catalog[NetCaseWeight_lbs],0),0) -> 29.64 | E43: =IFERROR(_xlfn.XLOOKUP(A43,Catalog[MaterialCode],Catalog[ServingsPerCase],0),0) -> 78 | F43: =IFERROR(_xlfn.XLOOKUP(A43,Catalog[MaterialCode],Catalog[ServingSize_oz],0),0) -> 0 | G43: =IFERROR(_xlfn.XLOOKUP(A43,Catalog[MaterialCode],Catalog[CSCPoints],0),0) -> 0 | H43: =IFERROR(_xlfn.XLOOKUP(A43,Catalog[MaterialCode],Catalog[CNPortion],0),0) -> 1 piece | I43: =IFERROR(_xlfn.XLOOKUP(A43,Catalog[MaterialCode],Catalog[MMA_oz],0),0) -> 3.25 | J43: =IFERROR(_xlfn.XLOOKUP(A43,Catalog[MaterialCode],Catalog[EqGrain_oz],0),0) -> 1.25 | K43: =IFERROR(_xlfn.XLOOKUP(A43,Catalog[MaterialCode],Catalog[WhiteLbsDFperCase],0),0) -> 0 | L43: =IFERROR(_xlfn.XLOOKUP(A43,Catalog[MaterialCode],Catalog[DarkLbsDFperCase],0),0) -> 23.27 | M43: 0 | N43: 0 | O43: 0 | P43: =IF(M43>0,M43*E43,IF(AND(N43>0,O43>0),N43*O43,0)) -> 0 | Q43: =IF(M43>0,M43,IF(E43>0,ROUNDUP(P43/E43,0),0)) -> 0 | R43: =Q43*K43 -> 0 | S43: =Q43*L43 -> 0 | T43: 0 | U43: 0 | V43: 0 | W43: 0 | X43: 0 | Y43: 0 | Z43: 0 | AA43: 0 | AB43: 0 | AC43: 0 | AD43: 0 | AE43: 0 | AF43: =Q43-SUM(T43:AE43) -> 0
A44: 10000044196 | B44: =IFERROR(_xlfn.XLOOKUP(A44,Catalog[MaterialCode],Catalog[Description],""),"") -> Mesquite Glazed Chicken Thigh | C44: =IFERROR(_xlfn.XLOOKUP(A44,Catalog[MaterialCode],Catalog[Commodity],""),"") -> 100103 D | D44: =IFERROR(_xlfn.XLOOKUP(A44,Catalog[MaterialCode],Catalog[NetCaseWeight_lbs],0),0) -> 23.08 | E44: =IFERROR(_xlfn.XLOOKUP(A44,Catalog[MaterialCode],Catalog[ServingsPerCase],0),0) -> 78 | F44: =IFERROR(_xlfn.XLOOKUP(A44,Catalog[MaterialCode],Catalog[ServingSize_oz],0),0) -> 0 | G44: =IFERROR(_xlfn.XLOOKUP(A44,Catalog[MaterialCode],Catalog[CSCPoints],0),0) -> 0 | H44: =IFERROR(_xlfn.XLOOKUP(A44,Catalog[MaterialCode],Catalog[CNPortion],0),0) -> 1 piece | I44: =IFERROR(_xlfn.XLOOKUP(A44,Catalog[MaterialCode],Catalog[MMA_oz],0),0) -> 3.25 | J44: =IFERROR(_xlfn.XLOOKUP(A44,Catalog[MaterialCode],Catalog[EqGrain_oz],0),0) -> 0 | K44: =IFERROR(_xlfn.XLOOKUP(A44,Catalog[MaterialCode],Catalog[WhiteLbsDFperCase],0),0) -> 0 | L44: =IFERROR(_xlfn.XLOOKUP(A44,Catalog[MaterialCode],Catalog[DarkLbsDFperCase],0),0) -> 19.19 | M44: 0 | N44: 0 | O44: 0 | P44: =IF(M44>0,M44*E44,IF(AND(N44>0,O44>0),N44*O44,0)) -> 0 | Q44: =IF(M44>0,M44,IF(E44>0,ROUNDUP(P44/E44,0),0)) -> 0 | R44: =Q44*K44 -> 0 | S44: =Q44*L44 -> 0 | T44: 0 | U44: 0 | V44: 0 | W44: 0 | X44: 0 | Y44: 0 | Z44: 0 | AA44: 0 | AB44: 0 | AC44: 0 | AD44: 0 | AE44: 0 | AF44: =Q44-SUM(T44:AE44) -> 0
A45: 10000052436 | B45: =IFERROR(_xlfn.XLOOKUP(A45,Catalog[MaterialCode],Catalog[Description],""),"") -> Fully Cooked Chicken Drumsticks With BBQ Sauce | C45: =IFERROR(_xlfn.XLOOKUP(A45,Catalog[MaterialCode],Catalog[Commodity],""),"") -> 100103 D | D45: =IFERROR(_xlfn.XLOOKUP(A45,Catalog[MaterialCode],Catalog[NetCaseWeight_lbs],0),0) -> 31.25 | E45: =IFERROR(_xlfn.XLOOKUP(A45,Catalog[MaterialCode],Catalog[ServingsPerCase],0),0) -> 89 | F45: =IFERROR(_xlfn.XLOOKUP(A45,Catalog[MaterialCode],Catalog[ServingSize_oz],0),0) -> 0 | G45: =IFERROR(_xlfn.XLOOKUP(A45,Catalog[MaterialCode],Catalog[CSCPoints],0),0) -> 40 | H45: =IFERROR(_xlfn.XLOOKUP(A45,Catalog[MaterialCode],Catalog[CNPortion],0),0) -> 1 piece | I45: =IFERROR(_xlfn.XLOOKUP(A45,Catalog[MaterialCode],Catalog[MMA_oz],0),0) -> 2.5 | J45: =IFERROR(_xlfn.XLOOKUP(A45,Catalog[MaterialCode],Catalog[EqGrain_oz],0),0) -> 0 | K45: =IFERROR(_xlfn.XLOOKUP(A45,Catalog[MaterialCode],Catalog[WhiteLbsDFperCase],0),0) -> 0 | L45: =IFERROR(_xlfn.XLOOKUP(A45,Catalog[MaterialCode],Catalog[DarkLbsDFperCase],0),0) -> 21.58 | M45: 0 | N45: 0 | O45: 0 | P45: =IF(M45>0,M45*E45,IF(AND(N45>0,O45>0),N45*O45,0)) -> 0 | Q45: =IF(M45>0,M45,IF(E45>0,ROUNDUP(P45/E45,0),0)) -> 0 | R45: =Q45*K45 -> 0 | S45: =Q45*L45 -> 0 | T45: 0 | U45: 0 | V45: 0 | W45: 0 | X45: 0 | Y45: 0 | Z45: 0 | AA45: 0 | AB45: 0 | AC45: 0 | AD45: 0 | AE45: 0 | AF45: =Q45-SUM(T45:AE45) -> 0
A46: 10000060843 | B46: =IFERROR(_xlfn.XLOOKUP(A46,Catalog[MaterialCode],Catalog[Description],""),"") -> Mega Minis® Whole Grain Breaded Homestyle Chicken Chunks | C46: =IFERROR(_xlfn.XLOOKUP(A46,Catalog[MaterialCode],Catalog[Commodity],""),"") -> 100103 D | D46: =IFERROR(_xlfn.XLOOKUP(A46,Catalog[MaterialCode],Catalog[NetCaseWeight_lbs],0),0) -> 30.26 | E46: =IFERROR(_xlfn.XLOOKUP(A46,Catalog[MaterialCode],Catalog[ServingsPerCase],0),0) -> 112 | F46: =IFERROR(_xlfn.XLOOKUP(A46,Catalog[MaterialCode],Catalog[ServingSize_oz],0),0) -> 4.3 | G46: =IFERROR(_xlfn.XLOOKUP(A46,Catalog[MaterialCode],Catalog[CSCPoints],0),0) -> 0 | H46: =IFERROR(_xlfn.XLOOKUP(A46,Catalog[MaterialCode],Catalog[CNPortion],0),0) -> 10 pieces | I46: =IFERROR(_xlfn.XLOOKUP(A46,Catalog[MaterialCode],Catalog[MMA_oz],0),0) -> 2 | J46: =IFERROR(_xlfn.XLOOKUP(A46,Catalog[MaterialCode],Catalog[EqGrain_oz],0),0) -> 1 | K46: =IFERROR(_xlfn.XLOOKUP(A46,Catalog[MaterialCode],Catalog[WhiteLbsDFperCase],0),0) -> 0 | L46: =IFERROR(_xlfn.XLOOKUP(A46,Catalog[MaterialCode],Catalog[DarkLbsDFperCase],0),0) -> 35.57 | M46: 0 | N46: 0 | O46: 0 | P46: =IF(M46>0,M46*E46,IF(AND(N46>0,O46>0),N46*O46,0)) -> 0 | Q46: =IF(M46>0,M46,IF(E46>0,ROUNDUP(P46/E46,0),0)) -> 0 | R46: =Q46*K46 -> 0 | S46: =Q46*L46 -> 0 | T46: 0 | U46: 0 | V46: 0 | W46: 0 | X46: 0 | Y46: 0 | Z46: 0 | AA46: 0 | AB46: 0 | AC46: 0 | AD46: 0 | AE46: 0 | AF46: =Q46-SUM(T46:AE46) -> 0
A47: 10046210928 | B47: =IFERROR(_xlfn.XLOOKUP(A47,Catalog[MaterialCode],Catalog[Description],""),"") -> Fajita Chicken Strips | C47: =IFERROR(_xlfn.XLOOKUP(A47,Catalog[MaterialCode],Catalog[Commodity],""),"") -> 100103 D | D47: =IFERROR(_xlfn.XLOOKUP(A47,Catalog[MaterialCode],Catalog[NetCaseWeight_lbs],0),0) -> 30 | E47: =IFERROR(_xlfn.XLOOKUP(A47,Catalog[MaterialCode],Catalog[ServingsPerCase],0),0) -> 160 | F47: =IFERROR(_xlfn.XLOOKUP(A47,Catalog[MaterialCode],Catalog[ServingSize_oz],0),0) -> 3 | G47: =IFERROR(_xlfn.XLOOKUP(A47,Catalog[MaterialCode],Catalog[CSCPoints],0),0) -> 25 | H47: =IFERROR(_xlfn.XLOOKUP(A47,Catalog[MaterialCode],Catalog[CNPortion],0),0) -> 3.00 oz. | I47: =IFERROR(_xlfn.XLOOKUP(A47,Catalog[MaterialCode],Catalog[MMA_oz],0),0) -> 2 | J47: =IFERROR(_xlfn.XLOOKUP(A47,Catalog[MaterialCode],Catalog[EqGrain_oz],0),0) -> 0 | K47: =IFERROR(_xlfn.XLOOKUP(A47,Catalog[MaterialCode],Catalog[WhiteLbsDFperCase],0),0) -> 0 | L47: =IFERROR(_xlfn.XLOOKUP(A47,Catalog[MaterialCode],Catalog[DarkLbsDFperCase],0),0) -> 45.84 | M47: 0 | N47: 0 | O47: 0 | P47: =IF(M47>0,M47*E47,IF(AND(N47>0,O47>0),N47*O47,0)) -> 0 | Q47: =IF(M47>0,M47,IF(E47>0,ROUNDUP(P47/E47,0),0)) -> 0 | R47: =Q47*K47 -> 0 | S47: =Q47*L47 -> 0 | T47: 0 | U47: 0 | V47: 0 | W47: 0 | X47: 0 | Y47: 0 | Z47: 0 | AA47: 0 | AB47: 0 | AC47: 0 | AD47: 0 | AE47: 0 | AF47: =Q47-SUM(T47:AE47) -> 0
A48: 10110260328 | B48: =IFERROR(_xlfn.XLOOKUP(A48,Catalog[MaterialCode],Catalog[Description],""),"") -> Chicken Meatballs | C48: =IFERROR(_xlfn.XLOOKUP(A48,Catalog[MaterialCode],Catalog[Commodity],""),"") -> 100103 D | D48: =IFERROR(_xlfn.XLOOKUP(A48,Catalog[MaterialCode],Catalog[NetCaseWeight_lbs],0),0) -> 10 | E48: =IFERROR(_xlfn.XLOOKUP(A48,Catalog[MaterialCode],Catalog[ServingsPerCase],0),0) -> 55 | F48: =IFERROR(_xlfn.XLOOKUP(A48,Catalog[MaterialCode],Catalog[ServingSize_oz],0),0) -> 2.88 | G48: =IFERROR(_xlfn.XLOOKUP(A48,Catalog[MaterialCode],Catalog[CSCPoints],0),0) -> 15 | H48: =IFERROR(_xlfn.XLOOKUP(A48,Catalog[MaterialCode],Catalog[CNPortion],0),0) -> 5 pieces | I48: =IFERROR(_xlfn.XLOOKUP(A48,Catalog[MaterialCode],Catalog[MMA_oz],0),0) -> 2 | J48: =IFERROR(_xlfn.XLOOKUP(A48,Catalog[MaterialCode],Catalog[EqGrain_oz],0),0) -> 0 | K48: =IFERROR(_xlfn.XLOOKUP(A48,Catalog[MaterialCode],Catalog[WhiteLbsDFperCase],0),0) -> 0 | L48: =IFERROR(_xlfn.XLOOKUP(A48,Catalog[MaterialCode],Catalog[DarkLbsDFperCase],0),0) -> 12.47 | M48: 0 | N48: 0 | O48: 0 | P48: =IF(M48>0,M48*E48,IF(AND(N48>0,O48>0),N48*O48,0)) -> 0 | Q48: =IF(M48>0,M48,IF(E48>0,ROUNDUP(P48/E48,0),0)) -> 0 | R48: =Q48*K48 -> 0 | S48: =Q48*L48 -> 0 | T48: 0 | U48: 0 | V48: 0 | W48: 0 | X48: 0 | Y48: 0 | Z48: 0 | AA48: 0 | AB48: 0 | AC48: 0 | AD48: 0 | AE48: 0 | AF48: =Q48-SUM(T48:AE48) -> 0
A49: 10167020928 | B49: =IFERROR(_xlfn.XLOOKUP(A49,Catalog[MaterialCode],Catalog[Description],""),"") -> Chicken Strips with Grill Marks | C49: =IFERROR(_xlfn.XLOOKUP(A49,Catalog[MaterialCode],Catalog[Commodity],""),"") -> 100103 D | D49: =IFERROR(_xlfn.XLOOKUP(A49,Catalog[MaterialCode],Catalog[NetCaseWeight_lbs],0),0) -> 30 | E49: =IFERROR(_xlfn.XLOOKUP(A49,Catalog[MaterialCode],Catalog[ServingsPerCase],0),0) -> 168 | F49: =IFERROR(_xlfn.XLOOKUP(A49,Catalog[MaterialCode],Catalog[ServingSize_oz],0),0) -> 2.85 | G49: =IFERROR(_xlfn.XLOOKUP(A49,Catalog[MaterialCode],Catalog[CSCPoints],0),0) -> 0 | H49: =IFERROR(_xlfn.XLOOKUP(A49,Catalog[MaterialCode],Catalog[CNPortion],0),0) -> 2.85 oz. | I49: =IFERROR(_xlfn.XLOOKUP(A49,Catalog[MaterialCode],Catalog[MMA_oz],0),0) -> 2 | J49: =IFERROR(_xlfn.XLOOKUP(A49,Catalog[MaterialCode],Catalog[EqGrain_oz],0),0) -> 0 | K49: =IFERROR(_xlfn.XLOOKUP(A49,Catalog[MaterialCode],Catalog[WhiteLbsDFperCase],0),0) -> 0 | L49: =IFERROR(_xlfn.XLOOKUP(A49,Catalog[MaterialCode],Catalog[DarkLbsDFperCase],0),0) -> 45.84 | M49: 0 | N49: 0 | O49: 0 | P49: =IF(M49>0,M49*E49,IF(AND(N49>0,O49>0),N49*O49,0)) -> 0 | Q49: =IF(M49>0,M49,IF(E49>0,ROUNDUP(P49/E49,0),0)) -> 0 | R49: =Q49*K49 -> 0 | S49: =Q49*L49 -> 0 | T49: 0 | U49: 0 | V49: 0 | W49: 0 | X49: 0 | Y49: 0 | Z49: 0 | AA49: 0 | AB49: 0 | AC49: 0 | AD49: 0 | AE49: 0 | AF49: =Q49-SUM(T49:AE49) -> 0
A50: 10174430928 | B50: =IFERROR(_xlfn.XLOOKUP(A50,Catalog[MaterialCode],Catalog[Description],""),"") -> Chicken Sausage Patties | C50: =IFERROR(_xlfn.XLOOKUP(A50,Catalog[MaterialCode],Catalog[Commodity],""),"") -> 100103 D | D50: =IFERROR(_xlfn.XLOOKUP(A50,Catalog[MaterialCode],Catalog[NetCaseWeight_lbs],0),0) -> 30.07 | E50: =IFERROR(_xlfn.XLOOKUP(A50,Catalog[MaterialCode],Catalog[ServingsPerCase],0),0) -> 336 | F50: =IFERROR(_xlfn.XLOOKUP(A50,Catalog[MaterialCode],Catalog[ServingSize_oz],0),0) -> 1.43 | G50: =IFERROR(_xlfn.XLOOKUP(A50,Catalog[MaterialCode],Catalog[CSCPoints],0),0) -> 25 | H50: =IFERROR(_xlfn.XLOOKUP(A50,Catalog[MaterialCode],Catalog[CNPortion],0),0) -> 1 piece | I50: =IFERROR(_xlfn.XLOOKUP(A50,Catalog[MaterialCode],Catalog[MMA_oz],0),0) -> 1 | J50: =IFERROR(_xlfn.XLOOKUP(A50,Catalog[MaterialCode],Catalog[EqGrain_oz],0),0) -> 0 | K50: =IFERROR(_xlfn.XLOOKUP(A50,Catalog[MaterialCode],Catalog[WhiteLbsDFperCase],0),0) -> 0 | L50: =IFERROR(_xlfn.XLOOKUP(A50,Catalog[MaterialCode],Catalog[DarkLbsDFperCase],0),0) -> 44.75 | M50: 0 | N50: 0 | O50: 0 | P50: =IF(M50>0,M50*E50,IF(AND(N50>0,O50>0),N50*O50,0)) -> 0 | Q50: =IF(M50>0,M50,IF(E50>0,ROUNDUP(P50/E50,0),0)) -> 0 | R50: =Q50*K50 -> 0 | S50: =Q50*L50 -> 0 | T50: 0 | U50: 0 | V50: 0 | W50: 0 | X50: 0 | Y50: 0 | Z50: 0 | AA50: 0 | AB50: 0 | AC50: 0 | AD50: 0 | AE50: 0 | AF50: =Q50-SUM(T50:AE50) -> 0
A51: 10195430928 | B51: =IFERROR(_xlfn.XLOOKUP(A51,Catalog[MaterialCode],Catalog[Description],""),"") -> Whole Grain Breaded Pancake Flavored Chicken Sausage Bites | C51: =IFERROR(_xlfn.XLOOKUP(A51,Catalog[MaterialCode],Catalog[Commodity],""),"") -> 100103 D | D51: =IFERROR(_xlfn.XLOOKUP(A51,Catalog[MaterialCode],Catalog[NetCaseWeight_lbs],0),0) -> 30 | E51: =IFERROR(_xlfn.XLOOKUP(A51,Catalog[MaterialCode],Catalog[ServingsPerCase],0),0) -> 165 | F51: =IFERROR(_xlfn.XLOOKUP(A51,Catalog[MaterialCode],Catalog[ServingSize_oz],0),0) -> 2.9 | G51: =IFERROR(_xlfn.XLOOKUP(A51,Catalog[MaterialCode],Catalog[CSCPoints],0),0) -> 25 | H51: =IFERROR(_xlfn.XLOOKUP(A51,Catalog[MaterialCode],Catalog[CNPortion],0),0) -> 5 pieces | I51: =IFERROR(_xlfn.XLOOKUP(A51,Catalog[MaterialCode],Catalog[MMA_oz],0),0) -> 1 | J51: =IFERROR(_xlfn.XLOOKUP(A51,Catalog[MaterialCode],Catalog[EqGrain_oz],0),0) -> 1 | K51: =IFERROR(_xlfn.XLOOKUP(A51,Catalog[MaterialCode],Catalog[WhiteLbsDFperCase],0),0) -> 0 | L51: =IFERROR(_xlfn.XLOOKUP(A51,Catalog[MaterialCode],Catalog[DarkLbsDFperCase],0),0) -> 22.95 | M51: 0 | N51: 0 | O51: 0 | P51: =IF(M51>0,M51*E51,IF(AND(N51>0,O51>0),N51*O51,0)) -> 0 | Q51: =IF(M51>0,M51,IF(E51>0,ROUNDUP(P51/E51,0),0)) -> 0 | R51: =Q51*K51 -> 0 | S51: =Q51*L51 -> 0 | T51: 0 | U51: 0 | V51: 0 | W51: 0 | X51: 0 | Y51: 0 | Z51: 0 | AA51: 0 | AB51: 0 | AC51: 0 | AD51: 0 | AE51: 0 | AF51: =Q51-SUM(T51:AE51) -> 0
A52: 10197770328 | B52: =IFERROR(_xlfn.XLOOKUP(A52,Catalog[MaterialCode],Catalog[Description],""),"") -> Chicken Meatballs | C52: =IFERROR(_xlfn.XLOOKUP(A52,Catalog[MaterialCode],Catalog[Commodity],""),"") -> 100103 D | D52: =IFERROR(_xlfn.XLOOKUP(A52,Catalog[MaterialCode],Catalog[NetCaseWeight_lbs],0),0) -> 10 | E52: =IFERROR(_xlfn.XLOOKUP(A52,Catalog[MaterialCode],Catalog[ServingsPerCase],0),0) -> 54 | F52: =IFERROR(_xlfn.XLOOKUP(A52,Catalog[MaterialCode],Catalog[ServingSize_oz],0),0) -> 2.92 | G52: =IFERROR(_xlfn.XLOOKUP(A52,Catalog[MaterialCode],Catalog[CSCPoints],0),0) -> 15 | H52: =IFERROR(_xlfn.XLOOKUP(A52,Catalog[MaterialCode],Catalog[CNPortion],0),0) -> 3 pieces | I52: =IFERROR(_xlfn.XLOOKUP(A52,Catalog[MaterialCode],Catalog[MMA_oz],0),0) -> 2 | J52: =IFERROR(_xlfn.XLOOKUP(A52,Catalog[MaterialCode],Catalog[EqGrain_oz],0),0) -> 0 | K52: =IFERROR(_xlfn.XLOOKUP(A52,Catalog[MaterialCode],Catalog[WhiteLbsDFperCase],0),0) -> 0 | L52: =IFERROR(_xlfn.XLOOKUP(A52,Catalog[MaterialCode],Catalog[DarkLbsDFperCase],0),0) -> 11.13 | M52: 0 | N52: 0 | O52: 0 | P52: =IF(M52>0,M52*E52,IF(AND(N52>0,O52>0),N52*O52,0)) -> 0 | Q52: =IF(M52>0,M52,IF(E52>0,ROUNDUP(P52/E52,0),0)) -> 0 | R52: =Q52*K52 -> 0 | S52: =Q52*L52 -> 0 | T52: 0 | U52: 0 | V52: 0 | W52: 0 | X52: 0 | Y52: 0 | Z52: 0 | AA52: 0 | AB52: 0 | AC52: 0 | AD52: 0 | AE52: 0 | AF52: =Q52-SUM(T52:AE52) -> 0
A53: 10209800328 | B53: =IFERROR(_xlfn.XLOOKUP(A53,Catalog[MaterialCode],Catalog[Description],""),"") -> Sliced Black Forest Chicken Ham | C53: =IFERROR(_xlfn.XLOOKUP(A53,Catalog[MaterialCode],Catalog[Commodity],""),"") -> 100103 D | D53: =IFERROR(_xlfn.XLOOKUP(A53,Catalog[MaterialCode],Catalog[NetCaseWeight_lbs],0),0) -> 12 | E53: =IFERROR(_xlfn.XLOOKUP(A53,Catalog[MaterialCode],Catalog[ServingsPerCase],0),0) -> 55 | F53: =IFERROR(_xlfn.XLOOKUP(A53,Catalog[MaterialCode],Catalog[ServingSize_oz],0),0) -> 3.5 | G53: =IFERROR(_xlfn.XLOOKUP(A53,Catalog[MaterialCode],Catalog[CSCPoints],0),0) -> 15 | H53: =IFERROR(_xlfn.XLOOKUP(A53,Catalog[MaterialCode],Catalog[CNPortion],0),0) -> 7 slices | I53: =IFERROR(_xlfn.XLOOKUP(A53,Catalog[MaterialCode],Catalog[MMA_oz],0),0) -> 2 | J53: =IFERROR(_xlfn.XLOOKUP(A53,Catalog[MaterialCode],Catalog[EqGrain_oz],0),0) -> 0 | K53: =IFERROR(_xlfn.XLOOKUP(A53,Catalog[MaterialCode],Catalog[WhiteLbsDFperCase],0),0) -> 0 | L53: =IFERROR(_xlfn.XLOOKUP(A53,Catalog[MaterialCode],Catalog[DarkLbsDFperCase],0),0) -> 17.29 | M53: 0 | N53: 0 | O53: 0 | P53: =IF(M53>0,M53*E53,IF(AND(N53>0,O53>0),N53*O53,0)) -> 0 | Q53: =IF(M53>0,M53,IF(E53>0,ROUNDUP(P53/E53,0),0)) -> 0 | R53: =Q53*K53 -> 0 | S53: =Q53*L53 -> 0 | T53: 0 | U53: 0 | V53: 0 | W53: 0 | X53: 0 | Y53: 0 | Z53: 0 | AA53: 0 | AB53: 0 | AC53: 0 | AD53: 0 | AE53: 0 | AF53: =Q53-SUM(T53:AE53) -> 0
... A58: 16660100928 | B58: =IFERROR(_xlfn.XLOOKUP(A58,Catalog[MaterialCode],Catalog[Description],""),"") -> Whole Grain Breaded Traditional Chicken Drumsticks | C58: =IFERROR(_xlfn.XLOOKUP(A58,Catalog[MaterialCode],Catalog[Commodity],""),"") -> 100103 D | D58: =IFERROR(_xlfn.XLOOKUP(A58,Catalog[MaterialCode],Catalog[NetCaseWeight_lbs],0),0) -> 29.64 | E58: =IFERROR(_xlfn.XLOOKUP(A58,Catalog[MaterialCode],Catalog[ServingsPerCase],0),0) -> 92 | F58: =IFERROR(_xlfn.XLOOKUP(A58,Catalog[MaterialCode],Catalog[ServingSize_oz],0),0) -> 0 | G58: =IFERROR(_xlfn.XLOOKUP(A58,Catalog[MaterialCode],Catalog[CSCPoints],0),0) -> 0 | H58: =IFERROR(_xlfn.XLOOKUP(A58,Catalog[MaterialCode],Catalog[CNPortion],0),0) -> 1 piece | I58: =IFERROR(_xlfn.XLOOKUP(A58,Catalog[MaterialCode],Catalog[MMA_oz],0),0) -> 2 | J58: =IFERROR(_xlfn.XLOOKUP(A58,Catalog[MaterialCode],Catalog[EqGrain_oz],0),0) -> 1 | K58: =IFERROR(_xlfn.XLOOKUP(A58,Catalog[MaterialCode],Catalog[WhiteLbsDFperCase],0),0) -> 0 | L58: =IFERROR(_xlfn.XLOOKUP(A58,Catalog[MaterialCode],Catalog[DarkLbsDFperCase],0),0) -> 22.5 | M58: 0 | N58: 0 | O58: 0 | P58: =IF(M58>0,M58*E58,IF(AND(N58>0,O58>0),N58*O58,0)) -> 0 | Q58: =IF(M58>0,M58,IF(E58>0,ROUNDUP(P58/E58,0),0)) -> 0 | R58: =Q58*K58 -> 0 | S58: =Q58*L58 -> 0 | T58: 0 | U58: 0 | V58: 0 | W58: 0 | X58: 0 | Y58: 0 | Z58: 0 | AA58: 0 | AB58: 0 | AC58: 0 | AD58: 0 | AE58: 0 | AF58: =Q58-SUM(T58:AE58) -> 0
B59: CHICKEN -WHITE/DARK
A60: 10000072312 | B60: =IFERROR(_xlfn.XLOOKUP(A60,Catalog[MaterialCode],Catalog[Description],""),"") -> Whole Grain Breaded Golden Crispy Chicken Patties | C60: =IFERROR(_xlfn.XLOOKUP(A60,Catalog[MaterialCode],Catalog[Commodity],""),"") -> 100103 W/D | D60: =IFERROR(_xlfn.XLOOKUP(A60,Catalog[MaterialCode],Catalog[NetCaseWeight_lbs],0),0) -> 32.82 | E60: =IFERROR(_xlfn.XLOOKUP(A60,Catalog[MaterialCode],Catalog[ServingsPerCase],0),0) -> 175 | F60: =IFERROR(_xlfn.XLOOKUP(A60,Catalog[MaterialCode],Catalog[ServingSize_oz],0),0) -> 3 | G60: =IFERROR(_xlfn.XLOOKUP(A60,Catalog[MaterialCode],Catalog[CSCPoints],0),0) -> 0 | H60: =IFERROR(_xlfn.XLOOKUP(A60,Catalog[MaterialCode],Catalog[CNPortion],0),0) -> 1 piece | I60: =IFERROR(_xlfn.XLOOKUP(A60,Catalog[MaterialCode],Catalog[MMA_oz],0),0) -> 2 | J60: =IFERROR(_xlfn.XLOOKUP(A60,Catalog[MaterialCode],Catalog[EqGrain_oz],0),0) -> 1 | K60: 15.5 | L60: 6.64 | M60: 0 | N60: 0 | O60: 0 | P60: =IF(M60>0,M60*E60,IF(AND(N60>0,O60>0),N60*O60,0)) -> 0 | Q60: =IF(M60>0,M60,IF(E60>0,ROUNDUP(P60/E60,0),0)) -> 0 | R60: =Q60*K60 -> 0 | S60: =Q60*L60 -> 0 | T60: 0 | U60: 0 | V60: 0 | W60: 0 | X60: 0 | Y60: 0 | Z60: 0 | AA60: 0 | AB60: 0 | AC60: 0 | AD60: 0 | AE60: 0 | AF60: =Q60-SUM(T60:AE60) -> 0
A61: 10000072313 | B61: =IFERROR(_xlfn.XLOOKUP(A61,Catalog[MaterialCode],Catalog[Description],""),"") -> Whole Grain Breaded Golden Crispy Chicken Tenders | C61: =IFERROR(_xlfn.XLOOKUP(A61,Catalog[MaterialCode],Catalog[Commodity],""),"") -> 100103 W/D | D61: =IFERROR(_xlfn.XLOOKUP(A61,Catalog[MaterialCode],Catalog[NetCaseWeight_lbs],0),0) -> 31.86 | E61: =IFERROR(_xlfn.XLOOKUP(A61,Catalog[MaterialCode],Catalog[ServingsPerCase],0),0) -> 150 | F61: =IFERROR(_xlfn.XLOOKUP(A61,Catalog[MaterialCode],Catalog[ServingSize_oz],0),0) -> 3.39 | G61: =IFERROR(_xlfn.XLOOKUP(A61,Catalog[MaterialCode],Catalog[CSCPoints],0),0) -> 0 | H61: =IFERROR(_xlfn.XLOOKUP(A61,Catalog[MaterialCode],Catalog[CNPortion],0),0) -> 3 pieces | I61: =IFERROR(_xlfn.XLOOKUP(A61,Catalog[MaterialCode],Catalog[MMA_oz],0),0) -> 2 | J61: =IFERROR(_xlfn.XLOOKUP(A61,Catalog[MaterialCode],Catalog[EqGrain_oz],0),0) -> 1 | K61: =IFERROR(_xlfn.XLOOKUP(A61,Catalog[MaterialCode],Catalog[WhiteLbsDFperCase],0),0) -> 13.82 | L61: =IFERROR(_xlfn.XLOOKUP(A61,Catalog[MaterialCode],Catalog[DarkLbsDFperCase],0),0) -> 5.92 | M61: 0 | N61: 0 | O61: 0 | P61: =IF(M61>0,M61*E61,IF(AND(N61>0,O61>0),N61*O61,0)) -> 0 | Q61: =IF(M61>0,M61,IF(E61>0,ROUNDUP(P61/E61,0),0)) -> 0 | R61: =Q61*K61 -> 0 | S61: =Q61*L61 -> 0 | T61: 0 | U61: 0 | V61: 0 | W61: 0 | X61: 0 | Y61: 0 | Z61: 0 | AA61: 0 | AB61: 0 | AC61: 0 | AD61: 0 | AE61: 0 | AF61: =Q61-SUM(T61:AE61) -> 0
A62: 10000072314 | B62: =IFERROR(_xlfn.XLOOKUP(A62,Catalog[MaterialCode],Catalog[Description],""),"") -> Whole Grain Breaded Golden Crispy Chicken Nuggets | C62: =IFERROR(_xlfn.XLOOKUP(A62,Catalog[MaterialCode],Catalog[Commodity],""),"") -> 100103 W/D | D62: =IFERROR(_xlfn.XLOOKUP(A62,Catalog[MaterialCode],Catalog[NetCaseWeight_lbs],0),0) -> 32.81 | E62: =IFERROR(_xlfn.XLOOKUP(A62,Catalog[MaterialCode],Catalog[ServingsPerCase],0),0) -> 175 | F62: =IFERROR(_xlfn.XLOOKUP(A62,Catalog[MaterialCode],Catalog[ServingSize_oz],0),0) -> 3 | G62: =IFERROR(_xlfn.XLOOKUP(A62,Catalog[MaterialCode],Catalog[CSCPoints],0),0) -> 0 | H62: =IFERROR(_xlfn.XLOOKUP(A62,Catalog[MaterialCode],Catalog[CNPortion],0),0) -> 5 pieces | I62: =IFERROR(_xlfn.XLOOKUP(A62,Catalog[MaterialCode],Catalog[MMA_oz],0),0) -> 2 | J62: =IFERROR(_xlfn.XLOOKUP(A62,Catalog[MaterialCode],Catalog[EqGrain_oz],0),0) -> 1 | K62: 15.49 | L62: 6.64 | M62: 0 | N62: 0 | O62: 0 | P62: =IF(M62>0,M62*E62,IF(AND(N62>0,O62>0),N62*O62,0)) -> 0 | Q62: =IF(M62>0,M62,IF(E62>0,ROUNDUP(P62/E62,0),0)) -> 0 | R62: =Q62*K62 -> 0 | S62: =Q62*L62 -> 0 | T62: 0 | U62: 0 | V62: 0 | W62: 0 | X62: 0 | Y62: 0 | Z62: 0 | AA62: 0 | AB62: 0 | AC62: 0 | AD62: 0 | AE62: 0 | AF62: =Q62-SUM(T62:AE62) -> 0
A63: 10000072315 | B63: =IFERROR(_xlfn.XLOOKUP(A63,Catalog[MaterialCode],Catalog[Description],""),"") -> Whole Grain Breaded Golden Crispy Chicken Fries | C63: =IFERROR(_xlfn.XLOOKUP(A63,Catalog[MaterialCode],Catalog[Commodity],""),"") -> 100103 W/D | D63: =IFERROR(_xlfn.XLOOKUP(A63,Catalog[MaterialCode],Catalog[NetCaseWeight_lbs],0),0) -> 31.5 | E63: =IFERROR(_xlfn.XLOOKUP(A63,Catalog[MaterialCode],Catalog[ServingsPerCase],0),0) -> 146 | F63: =IFERROR(_xlfn.XLOOKUP(A63,Catalog[MaterialCode],Catalog[ServingSize_oz],0),0) -> 3.44 | G63: =IFERROR(_xlfn.XLOOKUP(A63,Catalog[MaterialCode],Catalog[CSCPoints],0),0) -> 0 | H63: =IFERROR(_xlfn.XLOOKUP(A63,Catalog[MaterialCode],Catalog[CNPortion],0),0) -> 8 pieces | I63: =IFERROR(_xlfn.XLOOKUP(A63,Catalog[MaterialCode],Catalog[MMA_oz],0),0) -> 2 | J63: =IFERROR(_xlfn.XLOOKUP(A63,Catalog[MaterialCode],Catalog[EqGrain_oz],0),0) -> 1 | K63: 12.46 | L63: 5.34 | M63: 0 | N63: 0 | O63: 0 | P63: =IF(M63>0,M63*E63,IF(AND(N63>0,O63>0),N63*O63,0)) -> 0 | Q63: =IF(M63>0,M63,IF(E63>0,ROUNDUP(P63/E63,0),0)) -> 0 | R63: =Q63*K63 -> 0 | S63: =Q63*L63 -> 0 | T63: 0 | U63: 0 | V63: 0 | W63: 0 | X63: 0 | Y63: 0 | Z63: 0 | AA63: 0 | AB63: 0 | AC63: 0 | AD63: 0 | AE63: 0 | AF63: =Q63-SUM(T63:AE63) -> 0
A64: 10000072319 | B64: =IFERROR(_xlfn.XLOOKUP(A64,Catalog[MaterialCode],Catalog[Description],""),"") -> Whole Grain Breaded Golden Crispy Popcorn Chicken | C64: =IFERROR(_xlfn.XLOOKUP(A64,Catalog[MaterialCode],Catalog[Commodity],""),"") -> 100103 W/D | D64: =IFERROR(_xlfn.XLOOKUP(A64,Catalog[MaterialCode],Catalog[NetCaseWeight_lbs],0),0) -> 32.79 | E64: =IFERROR(_xlfn.XLOOKUP(A64,Catalog[MaterialCode],Catalog[ServingsPerCase],0),0) -> 155 | F64: =IFERROR(_xlfn.XLOOKUP(A64,Catalog[MaterialCode],Catalog[ServingSize_oz],0),0) -> 3.36 | G64: =IFERROR(_xlfn.XLOOKUP(A64,Catalog[MaterialCode],Catalog[CSCPoints],0),0) -> 0 | H64: =IFERROR(_xlfn.XLOOKUP(A64,Catalog[MaterialCode],Catalog[CNPortion],0),0) -> 12 pieces | I64: =IFERROR(_xlfn.XLOOKUP(A64,Catalog[MaterialCode],Catalog[MMA_oz],0),0) -> 2 | J64: =IFERROR(_xlfn.XLOOKUP(A64,Catalog[MaterialCode],Catalog[EqGrain_oz],0),0) -> 1 | K64: 12.98 | L64: 5.56 | M64: 0 | N64: 0 | O64: 0 | P64: =IF(M64>0,M64*E64,IF(AND(N64>0,O64>0),N64*O64,0)) -> 0 | Q64: =IF(M64>0,M64,IF(E64>0,ROUNDUP(P64/E64,0),0)) -> 0 | R64: =Q64*K64 -> 0 | S64: =Q64*L64 -> 0 | T64: 0 | U64: 0 | V64: 0 | W64: 0 | X64: 0 | Y64: 0 | Z64: 0 | AA64: 0 | AB64: 0 | AC64: 0 | AD64: 0 | AE64: 0 | AF64: =Q64-SUM(T64:AE64) -> 0
A65: 10000072325 | B65: =IFERROR(_xlfn.XLOOKUP(A65,Catalog[MaterialCode],Catalog[Description],""),"") -> Whole Grain Breaded Golden Crispy Chicken Patties | C65: =IFERROR(_xlfn.XLOOKUP(A65,Catalog[MaterialCode],Catalog[Commodity],""),"") -> 100103 W/D | D65: =IFERROR(_xlfn.XLOOKUP(A65,Catalog[MaterialCode],Catalog[NetCaseWeight_lbs],0),0) -> 20 | E65: =IFERROR(_xlfn.XLOOKUP(A65,Catalog[MaterialCode],Catalog[ServingsPerCase],0),0) -> 200 | F65: =IFERROR(_xlfn.XLOOKUP(A65,Catalog[MaterialCode],Catalog[ServingSize_oz],0),0) -> 1.6 | G65: =IFERROR(_xlfn.XLOOKUP(A65,Catalog[MaterialCode],Catalog[CSCPoints],0),0) -> 0 | H65: =IFERROR(_xlfn.XLOOKUP(A65,Catalog[MaterialCode],Catalog[CNPortion],0),0) -> 1 piece | I65: =IFERROR(_xlfn.XLOOKUP(A65,Catalog[MaterialCode],Catalog[MMA_oz],0),0) -> 2 | J65: =IFERROR(_xlfn.XLOOKUP(A65,Catalog[MaterialCode],Catalog[EqGrain_oz],0),0) -> 0.25 | K65: 8.46 | L65: 3.63 | M65: 0 | N65: 0 | O65: 0 | P65: =IF(M65>0,M65*E65,IF(AND(N65>0,O65>0),N65*O65,0)) -> 0 | Q65: =IF(M65>0,M65,IF(E65>0,ROUNDUP(P65/E65,0),0)) -> 0 | R65: =Q65*K65 -> 0 | S65: =Q65*L65 -> 0 | T65: 0 | U65: 0 | V65: 0 | W65: 0 | X65: 0 | Y65: 0 | Z65: 0 | AA65: 0 | AB65: 0 | AC65: 0 | AD65: 0 | AE65: 0 | AF65: =Q65-SUM(T65:AE65) -> 0
A66: 10000072330 | B66: =IFERROR(_xlfn.XLOOKUP(A66,Catalog[MaterialCode],Catalog[Description],""),"") -> Whole Grain Breaded Hot 'N Spicy Chicken Patties | C66: =IFERROR(_xlfn.XLOOKUP(A66,Catalog[MaterialCode],Catalog[Commodity],""),"") -> 100103 W/D | D66: =IFERROR(_xlfn.XLOOKUP(A66,Catalog[MaterialCode],Catalog[NetCaseWeight_lbs],0),0) -> 32.82 | E66: =IFERROR(_xlfn.XLOOKUP(A66,Catalog[MaterialCode],Catalog[ServingsPerCase],0),0) -> 175 | F66: =IFERROR(_xlfn.XLOOKUP(A66,Catalog[MaterialCode],Catalog[ServingSize_oz],0),0) -> 3 | G66: =IFERROR(_xlfn.XLOOKUP(A66,Catalog[MaterialCode],Catalog[CSCPoints],0),0) -> 0 | H66: =IFERROR(_xlfn.XLOOKUP(A66,Catalog[MaterialCode],Catalog[CNPortion],0),0) -> 1 piece | I66: =IFERROR(_xlfn.XLOOKUP(A66,Catalog[MaterialCode],Catalog[MMA_oz],0),0) -> 2 | J66: =IFERROR(_xlfn.XLOOKUP(A66,Catalog[MaterialCode],Catalog[EqGrain_oz],0),0) -> 1 | K66: 15.5 | L66: 6.64 | M66: 0 | N66: 0 | O66: 0 | P66: =IF(M66>0,M66*E66,IF(AND(N66>0,O66>0),N66*O66,0)) -> 0 | Q66: =IF(M66>0,M66,IF(E66>0,ROUNDUP(P66/E66,0),0)) -> 0 | R66: =Q66*K66 -> 0 | S66: =Q66*L66 -> 0 | T66: 0 | U66: 0 | V66: 0 | W66: 0 | X66: 0 | Y66: 0 | Z66: 0 | AA66: 0 | AB66: 0 | AC66: 0 | AD66: 0 | AE66: 0 | AF66: =Q66-SUM(T66:AE66) -> 0
A67: 10000072336 | B67: =IFERROR(_xlfn.XLOOKUP(A67,Catalog[MaterialCode],Catalog[Description],""),"") -> Whole Grain Breaded Hot 'N Spicy Chicken Tenders | C67: =IFERROR(_xlfn.XLOOKUP(A67,Catalog[MaterialCode],Catalog[Commodity],""),"") -> 100103 W/D | D67: =IFERROR(_xlfn.XLOOKUP(A67,Catalog[MaterialCode],Catalog[NetCaseWeight_lbs],0),0) -> 31.86 | E67: =IFERROR(_xlfn.XLOOKUP(A67,Catalog[MaterialCode],Catalog[ServingsPerCase],0),0) -> 149 | F67: =IFERROR(_xlfn.XLOOKUP(A67,Catalog[MaterialCode],Catalog[ServingSize_oz],0),0) -> 3.42 | G67: =IFERROR(_xlfn.XLOOKUP(A67,Catalog[MaterialCode],Catalog[CSCPoints],0),0) -> 0 | H67: =IFERROR(_xlfn.XLOOKUP(A67,Catalog[MaterialCode],Catalog[CNPortion],0),0) -> 3 pieces | I67: =IFERROR(_xlfn.XLOOKUP(A67,Catalog[MaterialCode],Catalog[MMA_oz],0),0) -> 2 | J67: =IFERROR(_xlfn.XLOOKUP(A67,Catalog[MaterialCode],Catalog[EqGrain_oz],0),0) -> 1 | K67: 12.61 | L67: 5.4 | M67: 0 | N67: 0 | O67: 0 | P67: =IF(M67>0,M67*E67,IF(AND(N67>0,O67>0),N67*O67,0)) -> 0 | Q67: =IF(M67>0,M67,IF(E67>0,ROUNDUP(P67/E67,0),0)) -> 0 | R67: =Q67*K67 -> 0 | S67: =Q67*L67 -> 0 | T67: 0 | U67: 0 | V67: 0 | W67: 0 | X67: 0 | Y67: 0 | Z67: 0 | AA67: 0 | AB67: 0 | AC67: 0 | AD67: 0 | AE67: 0 | AF67: =Q67-SUM(T67:AE67) -> 0
A68: 10000072337 | B68: =IFERROR(_xlfn.XLOOKUP(A68,Catalog[MaterialCode],Catalog[Description],""),"") -> Whole Grain Breaded Hot 'N Spicy Popcorn Chicken | C68: =IFERROR(_xlfn.XLOOKUP(A68,Catalog[MaterialCode],Catalog[Commodity],""),"") -> 100103 W/D | D68: =IFERROR(_xlfn.XLOOKUP(A68,Catalog[MaterialCode],Catalog[NetCaseWeight_lbs],0),0) -> 32.79 | E68: =IFERROR(_xlfn.XLOOKUP(A68,Catalog[MaterialCode],Catalog[ServingsPerCase],0),0) -> 159 | F68: =IFERROR(_xlfn.XLOOKUP(A68,Catalog[MaterialCode],Catalog[ServingSize_oz],0),0) -> 3.3 | G68: =IFERROR(_xlfn.XLOOKUP(A68,Catalog[MaterialCode],Catalog[CSCPoints],0),0) -> 0 | H68: =IFERROR(_xlfn.XLOOKUP(A68,Catalog[MaterialCode],Catalog[CNPortion],0),0) -> 12 pieces | I68: =IFERROR(_xlfn.XLOOKUP(A68,Catalog[MaterialCode],Catalog[MMA_oz],0),0) -> 2 | J68: =IFERROR(_xlfn.XLOOKUP(A68,Catalog[MaterialCode],Catalog[EqGrain_oz],0),0) -> 1 | K68: 12.98 | L68: 5.56 | M68: 0 | N68: 0 | O68: 0 | P68: =IF(M68>0,M68*E68,IF(AND(N68>0,O68>0),N68*O68,0)) -> 0 | Q68: =IF(M68>0,M68,IF(E68>0,ROUNDUP(P68/E68,0),0)) -> 0 | R68: =Q68*K68 -> 0 | S68: =Q68*L68 -> 0 | T68: 0 | U68: 0 | V68: 0 | W68: 0 | X68: 0 | Y68: 0 | Z68: 0 | AA68: 0 | AB68: 0 | AC68: 0 | AD68: 0 | AE68: 0 | AF68: =Q68-SUM(T68:AE68) -> 0
A69: 10021540928 | B69: =IFERROR(_xlfn.XLOOKUP(A69,Catalog[MaterialCode],Catalog[Description],""),"") -> Whole Grain Breaded Chicken Patties | C69: =IFERROR(_xlfn.XLOOKUP(A69,Catalog[MaterialCode],Catalog[Commodity],""),"") -> 100103 W/D | D69: =IFERROR(_xlfn.XLOOKUP(A69,Catalog[MaterialCode],Catalog[NetCaseWeight_lbs],0),0) -> 30.8 | E69: =IFERROR(_xlfn.XLOOKUP(A69,Catalog[MaterialCode],Catalog[ServingsPerCase],0),0) -> 150 | F69: =IFERROR(_xlfn.XLOOKUP(A69,Catalog[MaterialCode],Catalog[ServingSize_oz],0),0) -> 3.29 | G69: =IFERROR(_xlfn.XLOOKUP(A69,Catalog[MaterialCode],Catalog[CSCPoints],0),0) -> 0 | H69: =IFERROR(_xlfn.XLOOKUP(A69,Catalog[MaterialCode],Catalog[CNPortion],0),0) -> 1 piece | I69: =IFERROR(_xlfn.XLOOKUP(A69,Catalog[MaterialCode],Catalog[MMA_oz],0),0) -> 2 | J69: =IFERROR(_xlfn.XLOOKUP(A69,Catalog[MaterialCode],Catalog[EqGrain_oz],0),0) -> 1 | K69: =IFERROR(_xlfn.XLOOKUP(A69,Catalog[MaterialCode],Catalog[WhiteLbsDFperCase],0),0) -> 7.62 | L69: =IFERROR(_xlfn.XLOOKUP(A69,Catalog[MaterialCode],Catalog[DarkLbsDFperCase],0),0) -> 7.03 | M69: 0 | N69: 0 | O69: 0 | P69: =IF(M69>0,M69*E69,IF(AND(N69>0,O69>0),N69*O69,0)) -> 0 | Q69: =IF(M69>0,M69,IF(E69>0,ROUNDUP(P69/E69,0),0)) -> 0 | R69: =Q69*K69 -> 0 | S69: =Q69*L69 -> 0 | T69: 0 | U69: 0 | V69: 0 | W69: 0 | X69: 0 | Y69: 0 | Z69: 0 | AA69: 0 | AB69: 0 | AC69: 0 | AD69: 0 | AE69: 0 | AF69: =Q69-SUM(T69:AE69) -> 0
A70: 10021550928 | B70: =IFERROR(_xlfn.XLOOKUP(A70,Catalog[MaterialCode],Catalog[Description],""),"") -> Whole Grain Breaded Chicken Nuggets | C70: =IFERROR(_xlfn.XLOOKUP(A70,Catalog[MaterialCode],Catalog[Commodity],""),"") -> 100103 W/D | D70: =IFERROR(_xlfn.XLOOKUP(A70,Catalog[MaterialCode],Catalog[NetCaseWeight_lbs],0),0) -> 28.35 | E70: =IFERROR(_xlfn.XLOOKUP(A70,Catalog[MaterialCode],Catalog[ServingsPerCase],0),0) -> 137 | F70: =IFERROR(_xlfn.XLOOKUP(A70,Catalog[MaterialCode],Catalog[ServingSize_oz],0),0) -> 3.3 | G70: =IFERROR(_xlfn.XLOOKUP(A70,Catalog[MaterialCode],Catalog[CSCPoints],0),0) -> 0 | H70: =IFERROR(_xlfn.XLOOKUP(A70,Catalog[MaterialCode],Catalog[CNPortion],0),0) -> 5 pieces | I70: =IFERROR(_xlfn.XLOOKUP(A70,Catalog[MaterialCode],Catalog[MMA_oz],0),0) -> 2 | J70: =IFERROR(_xlfn.XLOOKUP(A70,Catalog[MaterialCode],Catalog[EqGrain_oz],0),0) -> 1 | K70: =IFERROR(_xlfn.XLOOKUP(A70,Catalog[MaterialCode],Catalog[WhiteLbsDFperCase],0),0) -> 7.01 | L70: =IFERROR(_xlfn.XLOOKUP(A70,Catalog[MaterialCode],Catalog[DarkLbsDFperCase],0),0) -> 6.47 | M70: 0 | N70: 0 | O70: 0 | P70: =IF(M70>0,M70*E70,IF(AND(N70>0,O70>0),N70*O70,0)) -> 0 | Q70: =IF(M70>0,M70,IF(E70>0,ROUNDUP(P70/E70,0),0)) -> 0 | R70: =Q70*K70 -> 0 | S70: =Q70*L70 -> 0 | T70: 0 | U70: 0 | V70: 0 | W70: 0 | X70: 0 | Y70: 0 | Z70: 0 | AA70: 0 | AB70: 0 | AC70: 0 | AD70: 0 | AE70: 0 | AF70: =Q70-SUM(T70:AE70) -> 0
A71: 10029400928 | B71: =IFERROR(_xlfn.XLOOKUP(A71,Catalog[MaterialCode],Catalog[Description],""),"") -> Whole Grain Breaded Popcorn Chicken | C71: =IFERROR(_xlfn.XLOOKUP(A71,Catalog[MaterialCode],Catalog[Commodity],""),"") -> 100103 W/D | D71: =IFERROR(_xlfn.XLOOKUP(A71,Catalog[MaterialCode],Catalog[NetCaseWeight_lbs],0),0) -> 30 | E71: =IFERROR(_xlfn.XLOOKUP(A71,Catalog[MaterialCode],Catalog[ServingsPerCase],0),0) -> 124 | F71: =IFERROR(_xlfn.XLOOKUP(A71,Catalog[MaterialCode],Catalog[ServingSize_oz],0),0) -> 3.85 | G71: =IFERROR(_xlfn.XLOOKUP(A71,Catalog[MaterialCode],Catalog[CSCPoints],0),0) -> 0 | H71: =IFERROR(_xlfn.XLOOKUP(A71,Catalog[MaterialCode],Catalog[CNPortion],0),0) -> 15 pieces | I71: =IFERROR(_xlfn.XLOOKUP(A71,Catalog[MaterialCode],Catalog[MMA_oz],0),0) -> 2 | J71: =IFERROR(_xlfn.XLOOKUP(A71,Catalog[MaterialCode],Catalog[EqGrain_oz],0),0) -> 1 | K71: =IFERROR(_xlfn.XLOOKUP(A71,Catalog[MaterialCode],Catalog[WhiteLbsDFperCase],0),0) -> 13.84 | L71: =IFERROR(_xlfn.XLOOKUP(A71,Catalog[MaterialCode],Catalog[DarkLbsDFperCase],0),0) -> 11.33 | M71: 0 | N71: 0 | O71: 0 | P71: =IF(M71>0,M71*E71,IF(AND(N71>0,O71>0),N71*O71,0)) -> 0 | Q71: =IF(M71>0,M71,IF(E71>0,ROUNDUP(P71/E71,0),0)) -> 0 | R71: =Q71*K71 -> 0 | S71: =Q71*L71 -> 0 | T71: 0 | U71: 0 | V71: 0 | W71: 0 | X71: 0 | Y71: 0 | Z71: 0 | AA71: 0 | AB71: 0 | AC71: 0 | AD71: 0 | AE71: 0 | AF71: =Q71-SUM(T71:AE71) -> 0
A72: 10035220928 | B72: =IFERROR(_xlfn.XLOOKUP(A72,Catalog[MaterialCode],Catalog[Description],""),"") -> Fajita Seasoned Chicken Strips, White and Dark Meat, 2.8 oz. | C72: =IFERROR(_xlfn.XLOOKUP(A72,Catalog[MaterialCode],Catalog[Commodity],""),"") -> 100103 W/D | D72: =IFERROR(_xlfn.XLOOKUP(A72,Catalog[MaterialCode],Catalog[NetCaseWeight_lbs],0),0) -> 30 | E72: =IFERROR(_xlfn.XLOOKUP(A72,Catalog[MaterialCode],Catalog[ServingsPerCase],0),0) -> 171 | F72: =IFERROR(_xlfn.XLOOKUP(A72,Catalog[MaterialCode],Catalog[ServingSize_oz],0),0) -> 2.8 | G72: =IFERROR(_xlfn.XLOOKUP(A72,Catalog[MaterialCode],Catalog[CSCPoints],0),0) -> 0 | H72: =IFERROR(_xlfn.XLOOKUP(A72,Catalog[MaterialCode],Catalog[CNPortion],0),0) -> 2.80 oz. | I72: =IFERROR(_xlfn.XLOOKUP(A72,Catalog[MaterialCode],Catalog[MMA_oz],0),0) -> 2 | J72: =IFERROR(_xlfn.XLOOKUP(A72,Catalog[MaterialCode],Catalog[EqGrain_oz],0),0) -> 0 | K72: =IFERROR(_xlfn.XLOOKUP(A72,Catalog[MaterialCode],Catalog[WhiteLbsDFperCase],0),0) -> 20.62 | L72: =IFERROR(_xlfn.XLOOKUP(A72,Catalog[MaterialCode],Catalog[DarkLbsDFperCase],0),0) -> 20.62 | M72: 0 | N72: 0 | O72: 0 | P72: =IF(M72>0,M72*E72,IF(AND(N72>0,O72>0),N72*O72,0)) -> 0 | Q72: =IF(M72>0,M72,IF(E72>0,ROUNDUP(P72/E72,0),0)) -> 0 | R72: =Q72*K72 -> 0 | S72: =Q72*L72 -> 0 | T72: 0 | U72: 0 | V72: 0 | W72: 0 | X72: 0 | Y72: 0 | Z72: 0 | AA72: 0 | AB72: 0 | AC72: 0 | AD72: 0 | AE72: 0 | AF72: =Q72-SUM(T72:AE72) -> 0
A73: 10037310928 | B73: =IFERROR(_xlfn.XLOOKUP(A73,Catalog[MaterialCode],Catalog[Description],""),"") -> Whole Grain Breaded Chicken Patties | C73: =IFERROR(_xlfn.XLOOKUP(A73,Catalog[MaterialCode],Catalog[Commodity],""),"") -> 100103 W/D | D73: =IFERROR(_xlfn.XLOOKUP(A73,Catalog[MaterialCode],Catalog[NetCaseWeight_lbs],0),0) -> 26.25 | E73: =IFERROR(_xlfn.XLOOKUP(A73,Catalog[MaterialCode],Catalog[ServingsPerCase],0),0) -> 103 | F73: =IFERROR(_xlfn.XLOOKUP(A73,Catalog[MaterialCode],Catalog[ServingSize_oz],0),0) -> 4.07 | G73: =IFERROR(_xlfn.XLOOKUP(A73,Catalog[MaterialCode],Catalog[CSCPoints],0),0) -> 0 | H73: =IFERROR(_xlfn.XLOOKUP(A73,Catalog[MaterialCode],Catalog[CNPortion],0),0) -> 1 piece | I73: =IFERROR(_xlfn.XLOOKUP(A73,Catalog[MaterialCode],Catalog[MMA_oz],0),0) -> 2 | J73: =IFERROR(_xlfn.XLOOKUP(A73,Catalog[MaterialCode],Catalog[EqGrain_oz],0),0) -> 1 | K73: =IFERROR(_xlfn.XLOOKUP(A73,Catalog[MaterialCode],Catalog[WhiteLbsDFperCase],0),0) -> 15.52 | L73: =IFERROR(_xlfn.XLOOKUP(A73,Catalog[MaterialCode],Catalog[DarkLbsDFperCase],0),0) -> 12.69 | M73: 0 | N73: 0 | O73: 0 | P73: =IF(M73>0,M73*E73,IF(AND(N73>0,O73>0),N73*O73,0)) -> 0 | Q73: =IF(M73>0,M73,IF(E73>0,ROUNDUP(P73/E73,0),0)) -> 0 | R73: =Q73*K73 -> 0 | S73: =Q73*L73 -> 0 | T73: 0 | U73: 0 | V73: 0 | W73: 0 | X73: 0 | Y73: 0 | Z73: 0 | AA73: 0 | AB73: 0 | AC73: 0 | AD73: 0 | AE73: 0 | AF73: =Q73-SUM(T73:AE73) -> 0
A74: 10037320928 | B74: =IFERROR(_xlfn.XLOOKUP(A74,Catalog[MaterialCode],Catalog[Description],""),"") -> Whole Grain Breaded Chicken Nuggets | C74: =IFERROR(_xlfn.XLOOKUP(A74,Catalog[MaterialCode],Catalog[Commodity],""),"") -> 100103 W/D | D74: =IFERROR(_xlfn.XLOOKUP(A74,Catalog[MaterialCode],Catalog[NetCaseWeight_lbs],0),0) -> 26.42 | E74: =IFERROR(_xlfn.XLOOKUP(A74,Catalog[MaterialCode],Catalog[ServingsPerCase],0),0) -> 107 | F74: =IFERROR(_xlfn.XLOOKUP(A74,Catalog[MaterialCode],Catalog[ServingSize_oz],0),0) -> 3.95 | G74: =IFERROR(_xlfn.XLOOKUP(A74,Catalog[MaterialCode],Catalog[CSCPoints],0),0) -> 0 | H74: =IFERROR(_xlfn.XLOOKUP(A74,Catalog[MaterialCode],Catalog[CNPortion],0),0) -> 5 pieces | I74: =IFERROR(_xlfn.XLOOKUP(A74,Catalog[MaterialCode],Catalog[MMA_oz],0),0) -> 2 | J74: =IFERROR(_xlfn.XLOOKUP(A74,Catalog[MaterialCode],Catalog[EqGrain_oz],0),0) -> 1 | K74: =IFERROR(_xlfn.XLOOKUP(A74,Catalog[MaterialCode],Catalog[WhiteLbsDFperCase],0),0) -> 15.41 | L74: =IFERROR(_xlfn.XLOOKUP(A74,Catalog[MaterialCode],Catalog[DarkLbsDFperCase],0),0) -> 12.61 | M74: 0 | N74: 0 | O74: 0 | P74: =IF(M74>0,M74*E74,IF(AND(N74>0,O74>0),N74*O74,0)) -> 0 | Q74: =IF(M74>0,M74,IF(E74>0,ROUNDUP(P74/E74,0),0)) -> 0 | R74: =Q74*K74 -> 0 | S74: =Q74*L74 -> 0 | T74: 0 | U74: 0 | V74: 0 | W74: 0 | X74: 0 | Y74: 0 | Z74: 0 | AA74: 0 | AB74: 0 | AC74: 0 | AD74: 0 | AE74: 0 | AF74: =Q74-SUM(T74:AE74) -> 0
A75: 10038570928 | B75: =IFERROR(_xlfn.XLOOKUP(A75,Catalog[MaterialCode],Catalog[Description],""),"") -> Krisp N Krunchy™ Whole Grain Breaded Chicken Patties Fritter | C75: =IFERROR(_xlfn.XLOOKUP(A75,Catalog[MaterialCode],Catalog[Commodity],""),"") -> 100103 W/D | D75: =IFERROR(_xlfn.XLOOKUP(A75,Catalog[MaterialCode],Catalog[NetCaseWeight_lbs],0),0) -> 31.05 | E75: =IFERROR(_xlfn.XLOOKUP(A75,Catalog[MaterialCode],Catalog[ServingsPerCase],0),0) -> 140 | F75: =IFERROR(_xlfn.XLOOKUP(A75,Catalog[MaterialCode],Catalog[ServingSize_oz],0),0) -> 3.53 | G75: =IFERROR(_xlfn.XLOOKUP(A75,Catalog[MaterialCode],Catalog[CSCPoints],0),0) -> 0 | H75: =IFERROR(_xlfn.XLOOKUP(A75,Catalog[MaterialCode],Catalog[CNPortion],0),0) -> 1 piece | I75: =IFERROR(_xlfn.XLOOKUP(A75,Catalog[MaterialCode],Catalog[MMA_oz],0),0) -> 2 | J75: =IFERROR(_xlfn.XLOOKUP(A75,Catalog[MaterialCode],Catalog[EqGrain_oz],0),0) -> 1 | K75: =IFERROR(_xlfn.XLOOKUP(A75,Catalog[MaterialCode],Catalog[WhiteLbsDFperCase],0),0) -> 10.55 | L75: =IFERROR(_xlfn.XLOOKUP(A75,Catalog[MaterialCode],Catalog[DarkLbsDFperCase],0),0) -> 8.64 | M75: 0 | N75: 0 | O75: 0 | P75: =IF(M75>0,M75*E75,IF(AND(N75>0,O75>0),N75*O75,0)) -> 0 | Q75: =IF(M75>0,M75,IF(E75>0,ROUNDUP(P75/E75,0),0)) -> 0 | R75: =Q75*K75 -> 0 | S75: =Q75*L75 -> 0 | T75: 0 | U75: 0 | V75: 0 | W75: 0 | X75: 0 | Y75: 0 | Z75: 0 | AA75: 0 | AB75: 0 | AC75: 0 | AD75: 0 | AE75: 0 | AF75: =Q75-SUM(T75:AE75) -> 0
A76: 10038590928 | B76: =IFERROR(_xlfn.XLOOKUP(A76,Catalog[MaterialCode],Catalog[Description],""),"") -> Krisp N Krunchy™ Whole Grain Breaded Chicken Tenders | C76: =IFERROR(_xlfn.XLOOKUP(A76,Catalog[MaterialCode],Catalog[Commodity],""),"") -> 100103 W/D | D76: =IFERROR(_xlfn.XLOOKUP(A76,Catalog[MaterialCode],Catalog[NetCaseWeight_lbs],0),0) -> 31.86 | E76: =IFERROR(_xlfn.XLOOKUP(A76,Catalog[MaterialCode],Catalog[ServingsPerCase],0),0) -> 141 | F76: =IFERROR(_xlfn.XLOOKUP(A76,Catalog[MaterialCode],Catalog[ServingSize_oz],0),0) -> 3.6 | G76: =IFERROR(_xlfn.XLOOKUP(A76,Catalog[MaterialCode],Catalog[CSCPoints],0),0) -> 0 | H76: =IFERROR(_xlfn.XLOOKUP(A76,Catalog[MaterialCode],Catalog[CNPortion],0),0) -> 3 pieces | I76: =IFERROR(_xlfn.XLOOKUP(A76,Catalog[MaterialCode],Catalog[MMA_oz],0),0) -> 2 | J76: =IFERROR(_xlfn.XLOOKUP(A76,Catalog[MaterialCode],Catalog[EqGrain_oz],0),0) -> 1 | K76: =IFERROR(_xlfn.XLOOKUP(A76,Catalog[MaterialCode],Catalog[WhiteLbsDFperCase],0),0) -> 10.81 | L76: =IFERROR(_xlfn.XLOOKUP(A76,Catalog[MaterialCode],Catalog[DarkLbsDFperCase],0),0) -> 8.85 | M76: 0 | N76: 0 | O76: 0 | P76: =IF(M76>0,M76*E76,IF(AND(N76>0,O76>0),N76*O76,0)) -> 0 | Q76: =IF(M76>0,M76,IF(E76>0,ROUNDUP(P76/E76,0),0)) -> 0 | R76: =Q76*K76 -> 0 | S76: =Q76*L76 -> 0 | T76: 0 | U76: 0 | V76: 0 | W76: 0 | X76: 0 | Y76: 0 | Z76: 0 | AA76: 0 | AB76: 0 | AC76: 0 | AD76: 0 | AE76: 0 | AF76: =Q76-SUM(T76:AE76) -> 0
A77: 10055670928 | B77: =IFERROR(_xlfn.XLOOKUP(A77,Catalog[MaterialCode],Catalog[Description],""),"") -> Whole Grain Breaded Hot 'N Spicy Chicken Patties | C77: =IFERROR(_xlfn.XLOOKUP(A77,Catalog[MaterialCode],Catalog[Commodity],""),"") -> 100103 W/D | D77: =IFERROR(_xlfn.XLOOKUP(A77,Catalog[MaterialCode],Catalog[NetCaseWeight_lbs],0),0) -> 30.28 | E77: =IFERROR(_xlfn.XLOOKUP(A77,Catalog[MaterialCode],Catalog[ServingsPerCase],0),0) -> 148 | F77: =IFERROR(_xlfn.XLOOKUP(A77,Catalog[MaterialCode],Catalog[ServingSize_oz],0),0) -> 3.26 | G77: =IFERROR(_xlfn.XLOOKUP(A77,Catalog[MaterialCode],Catalog[CSCPoints],0),0) -> 0 | H77: =IFERROR(_xlfn.XLOOKUP(A77,Catalog[MaterialCode],Catalog[CNPortion],0),0) -> 1 piece | I77: =IFERROR(_xlfn.XLOOKUP(A77,Catalog[MaterialCode],Catalog[MMA_oz],0),0) -> 2 | J77: =IFERROR(_xlfn.XLOOKUP(A77,Catalog[MaterialCode],Catalog[EqGrain_oz],0),0) -> 0.75 | K77: =IFERROR(_xlfn.XLOOKUP(A77,Catalog[MaterialCode],Catalog[WhiteLbsDFperCase],0),0) -> 14.73 | L77: =IFERROR(_xlfn.XLOOKUP(A77,Catalog[MaterialCode],Catalog[DarkLbsDFperCase],0),0) -> 12.06 | M77: 0 | N77: 0 | O77: 0 | P77: =IF(M77>0,M77*E77,IF(AND(N77>0,O77>0),N77*O77,0)) -> 0 | Q77: =IF(M77>0,M77,IF(E77>0,ROUNDUP(P77/E77,0),0)) -> 0 | R77: =Q77*K77 -> 0 | S77: =Q77*L77 -> 0 | T77: 0 | U77: 0 | V77: 0 | W77: 0 | X77: 0 | Y77: 0 | Z77: 0 | AA77: 0 | AB77: 0 | AC77: 0 | AD77: 0 | AE77: 0 | AF77: =Q77-SUM(T77:AE77) -> 0
A78: 10057780928 | B78: =IFERROR(_xlfn.XLOOKUP(A78,Catalog[MaterialCode],Catalog[Description],""),"") -> Golden Crispy Chicken Patties | C78: =IFERROR(_xlfn.XLOOKUP(A78,Catalog[MaterialCode],Catalog[Commodity],""),"") -> 100103 W/D | D78: =IFERROR(_xlfn.XLOOKUP(A78,Catalog[MaterialCode],Catalog[NetCaseWeight_lbs],0),0) -> 20 | E78: =IFERROR(_xlfn.XLOOKUP(A78,Catalog[MaterialCode],Catalog[ServingsPerCase],0),0) -> 200 | F78: =IFERROR(_xlfn.XLOOKUP(A78,Catalog[MaterialCode],Catalog[ServingSize_oz],0),0) -> 1.6 | G78: =IFERROR(_xlfn.XLOOKUP(A78,Catalog[MaterialCode],Catalog[CSCPoints],0),0) -> 25 | H78: =IFERROR(_xlfn.XLOOKUP(A78,Catalog[MaterialCode],Catalog[CNPortion],0),0) -> 1 piece | I78: =IFERROR(_xlfn.XLOOKUP(A78,Catalog[MaterialCode],Catalog[MMA_oz],0),0) -> 1 | J78: =IFERROR(_xlfn.XLOOKUP(A78,Catalog[MaterialCode],Catalog[EqGrain_oz],0),0) -> 0.25 | K78: =IFERROR(_xlfn.XLOOKUP(A78,Catalog[MaterialCode],Catalog[WhiteLbsDFperCase],0),0) -> 6.89 | L78: =IFERROR(_xlfn.XLOOKUP(A78,Catalog[MaterialCode],Catalog[DarkLbsDFperCase],0),0) -> 6.36 | M78: 0 | N78: 0 | O78: 0 | P78: =IF(M78>0,M78*E78,IF(AND(N78>0,O78>0),N78*O78,0)) -> 0 | Q78: =IF(M78>0,M78,IF(E78>0,ROUNDUP(P78/E78,0),0)) -> 0 | R78: =Q78*K78 -> 0 | S78: =Q78*L78 -> 0 | T78: 0 | U78: 0 | V78: 0 | W78: 0 | X78: 0 | Y78: 0 | Z78: 0 | AA78: 0 | AB78: 0 | AC78: 0 | AD78: 0 | AE78: 0 | AF78: =Q78-SUM(T78:AE78) -> 0
A79: 10164770928 | B79: =IFERROR(_xlfn.XLOOKUP(A79,Catalog[MaterialCode],Catalog[Description],""),"") -> Whole Grain Breaded Patties | C79: =IFERROR(_xlfn.XLOOKUP(A79,Catalog[MaterialCode],Catalog[Commodity],""),"") -> 100103 W/D | D79: =IFERROR(_xlfn.XLOOKUP(A79,Catalog[MaterialCode],Catalog[NetCaseWeight_lbs],0),0) -> 30.6 | E79: =IFERROR(_xlfn.XLOOKUP(A79,Catalog[MaterialCode],Catalog[ServingsPerCase],0),0) -> 144 | F79: =IFERROR(_xlfn.XLOOKUP(A79,Catalog[MaterialCode],Catalog[ServingSize_oz],0),0) -> 3.4 | G79: =IFERROR(_xlfn.XLOOKUP(A79,Catalog[MaterialCode],Catalog[CSCPoints],0),0) -> 0 | H79: =IFERROR(_xlfn.XLOOKUP(A79,Catalog[MaterialCode],Catalog[CNPortion],0),0) -> 1 piece | I79: =IFERROR(_xlfn.XLOOKUP(A79,Catalog[MaterialCode],Catalog[MMA_oz],0),0) -> 2 | J79: =IFERROR(_xlfn.XLOOKUP(A79,Catalog[MaterialCode],Catalog[EqGrain_oz],0),0) -> 1 | K79: =IFERROR(_xlfn.XLOOKUP(A79,Catalog[MaterialCode],Catalog[WhiteLbsDFperCase],0),0) -> 8.29 | L79: =IFERROR(_xlfn.XLOOKUP(A79,Catalog[MaterialCode],Catalog[DarkLbsDFperCase],0),0) -> 7.8 | M79: 0 | N79: 0 | O79: 0 | P79: =IF(M79>0,M79*E79,IF(AND(N79>0,O79>0),N79*O79,0)) -> 0 | Q79: =IF(M79>0,M79,IF(E79>0,ROUNDUP(P79/E79,0),0)) -> 0 | R79: =Q79*K79 -> 0 | S79: =Q79*L79 -> 0 | T79: 0 | U79: 0 | V79: 0 | W79: 0 | X79: 0 | Y79: 0 | Z79: 0 | AA79: 0 | AB79: 0 | AC79: 0 | AD79: 0 | AE79: 0 | AF79: =Q79-SUM(T79:AE79) -> 0
A80: 10164780928 | B80: =IFERROR(_xlfn.XLOOKUP(A80,Catalog[MaterialCode],Catalog[Description],""),"") -> Whole Grain Breaded Chicken Nuggets | C80: =IFERROR(_xlfn.XLOOKUP(A80,Catalog[MaterialCode],Catalog[Commodity],""),"") -> 100103 W/D | D80: =IFERROR(_xlfn.XLOOKUP(A80,Catalog[MaterialCode],Catalog[NetCaseWeight_lbs],0),0) -> 30.6 | E80: =IFERROR(_xlfn.XLOOKUP(A80,Catalog[MaterialCode],Catalog[ServingsPerCase],0),0) -> 144 | F80: =IFERROR(_xlfn.XLOOKUP(A80,Catalog[MaterialCode],Catalog[ServingSize_oz],0),0) -> 3.4 | G80: =IFERROR(_xlfn.XLOOKUP(A80,Catalog[MaterialCode],Catalog[CSCPoints],0),0) -> 0 | H80: =IFERROR(_xlfn.XLOOKUP(A80,Catalog[MaterialCode],Catalog[CNPortion],0),0) -> 5 pieces | I80: =IFERROR(_xlfn.XLOOKUP(A80,Catalog[MaterialCode],Catalog[MMA_oz],0),0) -> 2 | J80: =IFERROR(_xlfn.XLOOKUP(A80,Catalog[MaterialCode],Catalog[EqGrain_oz],0),0) -> 1 | K80: =IFERROR(_xlfn.XLOOKUP(A80,Catalog[MaterialCode],Catalog[WhiteLbsDFperCase],0),0) -> 8.29 | L80: =IFERROR(_xlfn.XLOOKUP(A80,Catalog[MaterialCode],Catalog[DarkLbsDFperCase],0),0) -> 7.8 | M80: 0 | N80: 0 | O80: 0 | P80: =IF(M80>0,M80*E80,IF(AND(N80>0,O80>0),N80*O80,0)) -> 0 | Q80: =IF(M80>0,M80,IF(E80>0,ROUNDUP(P80/E80,0),0)) -> 0 | R80: =Q80*K80 -> 0 | S80: =Q80*L80 -> 0 | T80: 0 | U80: 0 | V80: 0 | W80: 0 | X80: 0 | Y80: 0 | Z80: 0 | AA80: 0 | AB80: 0 | AC80: 0 | AD80: 0 | AE80: 0 | AF80: =Q80-SUM(T80:AE80) -> 0
... A94: 16660000928 | B94: =IFERROR(_xlfn.XLOOKUP(A94,Catalog[MaterialCode],Catalog[Description],""),"") -> Whole Grain Breaded Traditional ProPortion® Bone-In Chicken | C94: =IFERROR(_xlfn.XLOOKUP(A94,Catalog[MaterialCode],Catalog[Commodity],""),"") -> 100103 W/D | D94: =IFERROR(_xlfn.XLOOKUP(A94,Catalog[MaterialCode],Catalog[NetCaseWeight_lbs],0),0) -> 29.64 | E94: =IFERROR(_xlfn.XLOOKUP(A94,Catalog[MaterialCode],Catalog[ServingsPerCase],0),0) -> 78 | F94: =IFERROR(_xlfn.XLOOKUP(A94,Catalog[MaterialCode],Catalog[ServingSize_oz],0),0) -> 0 | G94: =IFERROR(_xlfn.XLOOKUP(A94,Catalog[MaterialCode],Catalog[CSCPoints],0),0) -> 0 | H94: =IFERROR(_xlfn.XLOOKUP(A94,Catalog[MaterialCode],Catalog[CNPortion],0),0) -> 1 piece | I94: =IFERROR(_xlfn.XLOOKUP(A94,Catalog[MaterialCode],Catalog[MMA_oz],0),0) -> 0 | J94: =IFERROR(_xlfn.XLOOKUP(A94,Catalog[MaterialCode],Catalog[EqGrain_oz],0),0) -> 0 | K94: =IFERROR(_xlfn.XLOOKUP(A94,Catalog[MaterialCode],Catalog[WhiteLbsDFperCase],0),0) -> 13.974 | L94: =IFERROR(_xlfn.XLOOKUP(A94,Catalog[MaterialCode],Catalog[DarkLbsDFperCase],0),0) -> 9.316 | M94: 0 | N94: 0 | O94: 0 | P94: =IF(M94>0,M94*E94,IF(AND(N94>0,O94>0),N94*O94,0)) -> 0 | Q94: =IF(M94>0,M94,IF(E94>0,ROUNDUP(P94/E94,0),0)) -> 0 | R94: =Q94*K94 -> 0 | S94: =Q94*L94 -> 0 | T94: 0 | U94: 0 | V94: 0 | W94: 0 | X94: 0 | Y94: 0 | Z94: 0 | AA94: 0 | AB94: 0 | AC94: 0 | AD94: 0 | AE94: 0 | AF94: =Q94-SUM(T94:AE94) -> 0
B95: =IFERROR(_xlfn.XLOOKUP(A95,Catalog[MaterialCode],Catalog[Description],""),"") | C95: =IFERROR(_xlfn.XLOOKUP(A95,Catalog[MaterialCode],Catalog[Commodity],""),"") | D95: =IFERROR(_xlfn.XLOOKUP(A95,Catalog[MaterialCode],Catalog[NetCaseWeight_lbs],0),0) -> 0 | E95: =IFERROR(_xlfn.XLOOKUP(A95,Catalog[MaterialCode],Catalog[ServingsPerCase],0),0) -> 0 | F95: =IFERROR(_xlfn.XLOOKUP(A95,Catalog[MaterialCode],Catalog[ServingSize_oz],0),0) -> 0 | G95: =IFERROR(_xlfn.XLOOKUP(A95,Catalog[MaterialCode],Catalog[CSCPoints],0),0) -> 0 | H95: =IFERROR(_xlfn.XLOOKUP(A95,Catalog[MaterialCode],Catalog[CNPortion],0),0) -> 0 | I95: =IFERROR(_xlfn.XLOOKUP(A95,Catalog[MaterialCode],Catalog[MMA_oz],0),0) -> 0 | J95: =IFERROR(_xlfn.XLOOKUP(A95,Catalog[MaterialCode],Catalog[EqGrain_oz],0),0) -> 0 | K95: =IFERROR(_xlfn.XLOOKUP(A95,Catalog[MaterialCode],Catalog[WhiteLbsDFperCase],0),0) -> 0 | L95: =IFERROR(_xlfn.XLOOKUP(A95,Catalog[MaterialCode],Catalog[DarkLbsDFperCase],0),0) -> 0 | M95: 0 | N95: 0 | O95: 0 | P95: =IF(M95>0,M95*E95,IF(AND(N95>0,O95>0),N95*O95,0)) -> 0 | Q95: =IF(M95>0,M95,IF(E95>0,ROUNDUP(P95/E95,0),0)) -> 0 | R95: =Q95*K95 -> 0 | S95: =Q95*L95 -> 0 | T95: 0 | U95: 0 | V95: 0 | W95: 0 | X95: 0 | Y95: 0 | Z95: 0 | AA95: 0 | AB95: 0 | AC95: 0 | AD95: 0 | AE95: 0 | AF95: =Q95-SUM(T95:AE95) -> 0
B96: =IFERROR(_xlfn.XLOOKUP(A96,Catalog[MaterialCode],Catalog[Description],""),"") | C96: =IFERROR(_xlfn.XLOOKUP(A96,Catalog[MaterialCode],Catalog[Commodity],""),"") | D96: =IFERROR(_xlfn.XLOOKUP(A96,Catalog[MaterialCode],Catalog[NetCaseWeight_lbs],0),0) -> 0 | E96: =IFERROR(_xlfn.XLOOKUP(A96,Catalog[MaterialCode],Catalog[ServingsPerCase],0),0) -> 0 | F96: =IFERROR(_xlfn.XLOOKUP(A96,Catalog[MaterialCode],Catalog[ServingSize_oz],0),0) -> 0 | G96: =IFERROR(_xlfn.XLOOKUP(A96,Catalog[MaterialCode],Catalog[CSCPoints],0),0) -> 0 | H96: =IFERROR(_xlfn.XLOOKUP(A96,Catalog[MaterialCode],Catalog[CNPortion],0),0) -> 0 | I96: =IFERROR(_xlfn.XLOOKUP(A96,Catalog[MaterialCode],Catalog[MMA_oz],0),0) -> 0 | J96: =IFERROR(_xlfn.XLOOKUP(A96,Catalog[MaterialCode],Catalog[EqGrain_oz],0),0) -> 0 | K96: =IFERROR(_xlfn.XLOOKUP(A96,Catalog[MaterialCode],Catalog[WhiteLbsDFperCase],0),0) -> 0 | L96: =IFERROR(_xlfn.XLOOKUP(A96,Catalog[MaterialCode],Catalog[DarkLbsDFperCase],0),0) -> 0 | M96: 0 | N96: 0 | O96: 0 | P96: =IF(M96>0,M96*E96,IF(AND(N96>0,O96>0),N96*O96,0)) -> 0 | Q96: =IF(M96>0,M96,IF(E96>0,ROUNDUP(P96/E96,0),0)) -> 0 | R96: =Q96*K96 -> 0 | S96: =Q96*L96 -> 0 | T96: 0 | U96: 0 | V96: 0 | W96: 0 | X96: 0 | Y96: 0 | Z96: 0 | AA96: 0 | AB96: 0 | AC96: 0 | AD96: 0 | AE96: 0 | AF96: =Q96-SUM(T96:AE96) -> 0
B97: =IFERROR(_xlfn.XLOOKUP(A97,Catalog[MaterialCode],Catalog[Description],""),"") | C97: =IFERROR(_xlfn.XLOOKUP(A97,Catalog[MaterialCode],Catalog[Commodity],""),"") | D97: =IFERROR(_xlfn.XLOOKUP(A97,Catalog[MaterialCode],Catalog[NetCaseWeight_lbs],0),0) -> 0 | E97: =IFERROR(_xlfn.XLOOKUP(A97,Catalog[MaterialCode],Catalog[ServingsPerCase],0),0) -> 0 | F97: =IFERROR(_xlfn.XLOOKUP(A97,Catalog[MaterialCode],Catalog[ServingSize_oz],0),0) -> 0 | G97: =IFERROR(_xlfn.XLOOKUP(A97,Catalog[MaterialCode],Catalog[CSCPoints],0),0) -> 0 | H97: =IFERROR(_xlfn.XLOOKUP(A97,Catalog[MaterialCode],Catalog[CNPortion],0),0) -> 0 | I97: =IFERROR(_xlfn.XLOOKUP(A97,Catalog[MaterialCode],Catalog[MMA_oz],0),0) -> 0 | J97: =IFERROR(_xlfn.XLOOKUP(A97,Catalog[MaterialCode],Catalog[EqGrain_oz],0),0) -> 0 | K97: =IFERROR(_xlfn.XLOOKUP(A97,Catalog[MaterialCode],Catalog[WhiteLbsDFperCase],0),0) -> 0 | L97: =IFERROR(_xlfn.XLOOKUP(A97,Catalog[MaterialCode],Catalog[DarkLbsDFperCase],0),0) -> 0 | M97: 0 | N97: 0 | O97: 0 | P97: =IF(M97>0,M97*E97,IF(AND(N97>0,O97>0),N97*O97,0)) -> 0 | Q97: =IF(M97>0,M97,IF(E97>0,ROUNDUP(P97/E97,0),0)) -> 0 | R97: =Q97*K97 -> 0 | S97: =Q97*L97 -> 0 | T97: 0 | U97: 0 | V97: 0 | W97: 0 | X97: 0 | Y97: 0 | Z97: 0 | AA97: 0 | AB97: 0 | AC97: 0 | AD97: 0 | AE97: 0 | AF97: =Q97-SUM(T97:AE97) -> 0
B98: =IFERROR(_xlfn.XLOOKUP(A98,Catalog[MaterialCode],Catalog[Description],""),"") | C98: =IFERROR(_xlfn.XLOOKUP(A98,Catalog[MaterialCode],Catalog[Commodity],""),"") | D98: =IFERROR(_xlfn.XLOOKUP(A98,Catalog[MaterialCode],Catalog[NetCaseWeight_lbs],0),0) -> 0 | E98: =IFERROR(_xlfn.XLOOKUP(A98,Catalog[MaterialCode],Catalog[ServingsPerCase],0),0) -> 0 | F98: =IFERROR(_xlfn.XLOOKUP(A98,Catalog[MaterialCode],Catalog[ServingSize_oz],0),0) -> 0 | G98: =IFERROR(_xlfn.XLOOKUP(A98,Catalog[MaterialCode],Catalog[CSCPoints],0),0) -> 0 | H98: =IFERROR(_xlfn.XLOOKUP(A98,Catalog[MaterialCode],Catalog[CNPortion],0),0) -> 0 | I98: =IFERROR(_xlfn.XLOOKUP(A98,Catalog[MaterialCode],Catalog[MMA_oz],0),0) -> 0 | J98: =IFERROR(_xlfn.XLOOKUP(A98,Catalog[MaterialCode],Catalog[EqGrain_oz],0),0) -> 0 | K98: =IFERROR(_xlfn.XLOOKUP(A98,Catalog[MaterialCode],Catalog[WhiteLbsDFperCase],0),0) -> 0 | L98: =IFERROR(_xlfn.XLOOKUP(A98,Catalog[MaterialCode],Catalog[DarkLbsDFperCase],0),0) -> 0 | M98: 0 | N98: 0 | O98: 0 | P98: =IF(M98>0,M98*E98,IF(AND(N98>0,O98>0),N98*O98,0)) -> 0 | Q98: =IF(M98>0,M98,IF(E98>0,ROUNDUP(P98/E98,0),0)) -> 0 | R98: =Q98*K98 -> 0 | S98: =Q98*L98 -> 0 | T98: 0 | U98: 0 | V98: 0 | W98: 0 | X98: 0 | Y98: 0 | Z98: 0 | AA98: 0 | AB98: 0 | AC98: 0 | AD98: 0 | AE98: 0 | AF98: =Q98-SUM(T98:AE98) -> 0
B99: =IFERROR(_xlfn.XLOOKUP(A99,Catalog[MaterialCode],Catalog[Description],""),"") | C99: =IFERROR(_xlfn.XLOOKUP(A99,Catalog[MaterialCode],Catalog[Commodity],""),"") | D99: =IFERROR(_xlfn.XLOOKUP(A99,Catalog[MaterialCode],Catalog[NetCaseWeight_lbs],0),0) -> 0 | E99: =IFERROR(_xlfn.XLOOKUP(A99,Catalog[MaterialCode],Catalog[ServingsPerCase],0),0) -> 0 | F99: =IFERROR(_xlfn.XLOOKUP(A99,Catalog[MaterialCode],Catalog[ServingSize_oz],0),0) -> 0 | G99: =IFERROR(_xlfn.XLOOKUP(A99,Catalog[MaterialCode],Catalog[CSCPoints],0),0) -> 0 | H99: =IFERROR(_xlfn.XLOOKUP(A99,Catalog[MaterialCode],Catalog[CNPortion],0),0) -> 0 | I99: =IFERROR(_xlfn.XLOOKUP(A99,Catalog[MaterialCode],Catalog[MMA_oz],0),0) -> 0 | J99: =IFERROR(_xlfn.XLOOKUP(A99,Catalog[MaterialCode],Catalog[EqGrain_oz],0),0) -> 0 | K99: =IFERROR(_xlfn.XLOOKUP(A99,Catalog[MaterialCode],Catalog[WhiteLbsDFperCase],0),0) -> 0 | L99: =IFERROR(_xlfn.XLOOKUP(A99,Catalog[MaterialCode],Catalog[DarkLbsDFperCase],0),0) -> 0 | M99: 0 | N99: 0 | O99: 0 | P99: =IF(M99>0,M99*E99,IF(AND(N99>0,O99>0),N99*O99,0)) -> 0 | Q99: =IF(M99>0,M99,IF(E99>0,ROUNDUP(P99/E99,0),0)) -> 0 | R99: =Q99*K99 -> 0 | S99: =Q99*L99 -> 0 | T99: 0 | U99: 0 | V99: 0 | W99: 0 | X99: 0 | Y99: 0 | Z99: 0 | AA99: 0 | AB99: 0 | AC99: 0 | AD99: 0 | AE99: 0 | AF99: =Q99-SUM(T99:AE99) -> 0
B100: =IFERROR(_xlfn.XLOOKUP(A100,Catalog[MaterialCode],Catalog[Description],""),"") | C100: =IFERROR(_xlfn.XLOOKUP(A100,Catalog[MaterialCode],Catalog[Commodity],""),"") | D100: =IFERROR(_xlfn.XLOOKUP(A100,Catalog[MaterialCode],Catalog[NetCaseWeight_lbs],0),0) -> 0 | E100: =IFERROR(_xlfn.XLOOKUP(A100,Catalog[MaterialCode],Catalog[ServingsPerCase],0),0) -> 0 | F100: =IFERROR(_xlfn.XLOOKUP(A100,Catalog[MaterialCode],Catalog[ServingSize_oz],0),0) -> 0 | G100: =IFERROR(_xlfn.XLOOKUP(A100,Catalog[MaterialCode],Catalog[CSCPoints],0),0) -> 0 | H100: =IFERROR(_xlfn.XLOOKUP(A100,Catalog[MaterialCode],Catalog[CNPortion],0),0) -> 0 | I100: =IFERROR(_xlfn.XLOOKUP(A100,Catalog[MaterialCode],Catalog[MMA_oz],0),0) -> 0 | J100: =IFERROR(_xlfn.XLOOKUP(A100,Catalog[MaterialCode],Catalog[EqGrain_oz],0),0) -> 0 | K100: =IFERROR(_xlfn.XLOOKUP(A100,Catalog[MaterialCode],Catalog[WhiteLbsDFperCase],0),0) -> 0 | L100: =IFERROR(_xlfn.XLOOKUP(A100,Catalog[MaterialCode],Catalog[DarkLbsDFperCase],0),0) -> 0 | M100: 0 | N100: 0 | O100: 0 | P100: =IF(M100>0,M100*E100,IF(AND(N100>0,O100>0),N100*O100,0)) -> 0 | Q100: =IF(M100>0,M100,IF(E100>0,ROUNDUP(P100/E100,0),0)) -> 0 | R100: =Q100*K100 -> 0 | S100: =Q100*L100 -> 0 | T100: 0 | U100: 0 | V100: 0 | W100: 0 | X100: 0 | Y100: 0 | Z100: 0 | AA100: 0 | AB100: 0 | AC100: 0 | AD100: 0 | AE100: 0 | AF100: =Q100-SUM(T100:AE100) -> 0
B101: =IFERROR(_xlfn.XLOOKUP(A101,Catalog[MaterialCode],Catalog[Description],""),"") | C101: =IFERROR(_xlfn.XLOOKUP(A101,Catalog[MaterialCode],Catalog[Commodity],""),"") | D101: =IFERROR(_xlfn.XLOOKUP(A101,Catalog[MaterialCode],Catalog[NetCaseWeight_lbs],0),0) -> 0 | E101: =IFERROR(_xlfn.XLOOKUP(A101,Catalog[MaterialCode],Catalog[ServingsPerCase],0),0) -> 0 | F101: =IFERROR(_xlfn.XLOOKUP(A101,Catalog[MaterialCode],Catalog[ServingSize_oz],0),0) -> 0 | G101: =IFERROR(_xlfn.XLOOKUP(A101,Catalog[MaterialCode],Catalog[CSCPoints],0),0) -> 0 | H101: =IFERROR(_xlfn.XLOOKUP(A101,Catalog[MaterialCode],Catalog[CNPortion],0),0) -> 0 | I101: =IFERROR(_xlfn.XLOOKUP(A101,Catalog[MaterialCode],Catalog[MMA_oz],0),0) -> 0 | J101: =IFERROR(_xlfn.XLOOKUP(A101,Catalog[MaterialCode],Catalog[EqGrain_oz],0),0) -> 0 | K101: =IFERROR(_xlfn.XLOOKUP(A101,Catalog[MaterialCode],Catalog[WhiteLbsDFperCase],0),0) -> 0 | L101: =IFERROR(_xlfn.XLOOKUP(A101,Catalog[MaterialCode],Catalog[DarkLbsDFperCase],0),0) -> 0 | M101: 0 | N101: 0 | O101: 0 | P101: =IF(M101>0,M101*E101,IF(AND(N101>0,O101>0),N101*O101,0)) -> 0 | Q101: =IF(M101>0,M101,IF(E101>0,ROUNDUP(P101/E101,0),0)) -> 0 | R101: =Q101*K101 -> 0 | S101: =Q101*L101 -> 0 | T101: 0 | U101: 0 | V101: 0 | W101: 0 | X101: 0 | Y101: 0 | Z101: 0 | AA101: 0 | AB101: 0 | AC101: 0 | AD101: 0 | AE101: 0 | AF101: =Q101-SUM(T101:AE101) -> 0
B102: =IFERROR(_xlfn.XLOOKUP(A102,Catalog[MaterialCode],Catalog[Description],""),"") | C102: =IFERROR(_xlfn.XLOOKUP(A102,Catalog[MaterialCode],Catalog[Commodity],""),"") | D102: =IFERROR(_xlfn.XLOOKUP(A102,Catalog[MaterialCode],Catalog[NetCaseWeight_lbs],0),0) -> 0 | E102: =IFERROR(_xlfn.XLOOKUP(A102,Catalog[MaterialCode],Catalog[ServingsPerCase],0),0) -> 0 | F102: =IFERROR(_xlfn.XLOOKUP(A102,Catalog[MaterialCode],Catalog[ServingSize_oz],0),0) -> 0 | G102: =IFERROR(_xlfn.XLOOKUP(A102,Catalog[MaterialCode],Catalog[CSCPoints],0),0) -> 0 | H102: =IFERROR(_xlfn.XLOOKUP(A102,Catalog[MaterialCode],Catalog[CNPortion],0),0) -> 0 | I102: =IFERROR(_xlfn.XLOOKUP(A102,Catalog[MaterialCode],Catalog[MMA_oz],0),0) -> 0 | J102: =IFERROR(_xlfn.XLOOKUP(A102,Catalog[MaterialCode],Catalog[EqGrain_oz],0),0) -> 0 | K102: =IFERROR(_xlfn.XLOOKUP(A102,Catalog[MaterialCode],Catalog[WhiteLbsDFperCase],0),0) -> 0 | L102: =IFERROR(_xlfn.XLOOKUP(A102,Catalog[MaterialCode],Catalog[DarkLbsDFperCase],0),0) -> 0 | M102: 0 | N102: 0 | O102: 0 | P102: =IF(M102>0,M102*E102,IF(AND(N102>0,O102>0),N102*O102,0)) -> 0 | Q102: =IF(M102>0,M102,IF(E102>0,ROUNDUP(P102/E102,0),0)) -> 0 | R102: =Q102*K102 -> 0 | S102: =Q102*L102 -> 0 | T102: 0 | U102: 0 | V102: 0 | W102: 0 | X102: 0 | Y102: 0 | Z102: 0 | AA102: 0 | AB102: 0 | AC102: 0 | AD102: 0 | AE102: 0 | AF102: =Q102-SUM(T102:AE102) -> 0
B103: =IFERROR(_xlfn.XLOOKUP(A103,Catalog[MaterialCode],Catalog[Description],""),"") | C103: =IFERROR(_xlfn.XLOOKUP(A103,Catalog[MaterialCode],Catalog[Commodity],""),"") | D103: =IFERROR(_xlfn.XLOOKUP(A103,Catalog[MaterialCode],Catalog[NetCaseWeight_lbs],0),0) -> 0 | E103: =IFERROR(_xlfn.XLOOKUP(A103,Catalog[MaterialCode],Catalog[ServingsPerCase],0),0) -> 0 | F103: =IFERROR(_xlfn.XLOOKUP(A103,Catalog[MaterialCode],Catalog[ServingSize_oz],0),0) -> 0 | G103: =IFERROR(_xlfn.XLOOKUP(A103,Catalog[MaterialCode],Catalog[CSCPoints],0),0) -> 0 | H103: =IFERROR(_xlfn.XLOOKUP(A103,Catalog[MaterialCode],Catalog[CNPortion],0),0) -> 0 | I103: =IFERROR(_xlfn.XLOOKUP(A103,Catalog[MaterialCode],Catalog[MMA_oz],0),0) -> 0 | J103: =IFERROR(_xlfn.XLOOKUP(A103,Catalog[MaterialCode],Catalog[EqGrain_oz],0),0) -> 0 | K103: =IFERROR(_xlfn.XLOOKUP(A103,Catalog[MaterialCode],Catalog[WhiteLbsDFperCase],0),0) -> 0 | L103: =IFERROR(_xlfn.XLOOKUP(A103,Catalog[MaterialCode],Catalog[DarkLbsDFperCase],0),0) -> 0 | M103: 0 | N103: 0 | O103: 0 | P103: =IF(M103>0,M103*E103,IF(AND(N103>0,O103>0),N103*O103,0)) -> 0 | Q103: =IF(M103>0,M103,IF(E103>0,ROUNDUP(P103/E103,0),0)) -> 0 | R103: =Q103*K103 -> 0 | S103: =Q103*L103 -> 0 | T103: 0 | U103: 0 | V103: 0 | W103: 0 | X103: 0 | Y103: 0 | Z103: 0 | AA103: 0 | AB103: 0 | AC103: 0 | AD103: 0 | AE103: 0 | AF103: =Q103-SUM(T103:AE103) -> 0
B104: =IFERROR(_xlfn.XLOOKUP(A104,Catalog[MaterialCode],Catalog[Description],""),"") | C104: =IFERROR(_xlfn.XLOOKUP(A104,Catalog[MaterialCode],Catalog[Commodity],""),"") | D104: =IFERROR(_xlfn.XLOOKUP(A104,Catalog[MaterialCode],Catalog[NetCaseWeight_lbs],0),0) -> 0 | E104: =IFERROR(_xlfn.XLOOKUP(A104,Catalog[MaterialCode],Catalog[ServingsPerCase],0),0) -> 0 | F104: =IFERROR(_xlfn.XLOOKUP(A104,Catalog[MaterialCode],Catalog[ServingSize_oz],0),0) -> 0 | G104: =IFERROR(_xlfn.XLOOKUP(A104,Catalog[MaterialCode],Catalog[CSCPoints],0),0) -> 0 | H104: =IFERROR(_xlfn.XLOOKUP(A104,Catalog[MaterialCode],Catalog[CNPortion],0),0) -> 0 | I104: =IFERROR(_xlfn.XLOOKUP(A104,Catalog[MaterialCode],Catalog[MMA_oz],0),0) -> 0 | J104: =IFERROR(_xlfn.XLOOKUP(A104,Catalog[MaterialCode],Catalog[EqGrain_oz],0),0) -> 0 | K104: =IFERROR(_xlfn.XLOOKUP(A104,Catalog[MaterialCode],Catalog[WhiteLbsDFperCase],0),0) -> 0 | L104: =IFERROR(_xlfn.XLOOKUP(A104,Catalog[MaterialCode],Catalog[DarkLbsDFperCase],0),0) -> 0 | M104: 0 | N104: 0 | O104: 0 | P104: =IF(M104>0,M104*E104,IF(AND(N104>0,O104>0),N104*O104,0)) -> 0 | Q104: =IF(M104>0,M104,IF(E104>0,ROUNDUP(P104/E104,0),0)) -> 0 | R104: =Q104*K104 -> 0 | S104: =Q104*L104 -> 0 | T104: 0 | U104: 0 | V104: 0 | W104: 0 | X104: 0 | Y104: 0 | Z104: 0 | AA104: 0 | AB104: 0 | AC104: 0 | AD104: 0 | AE104: 0 | AF104: =Q104-SUM(T104:AE104) -> 0
B105: =IFERROR(_xlfn.XLOOKUP(A105,Catalog[MaterialCode],Catalog[Description],""),"") | C105: =IFERROR(_xlfn.XLOOKUP(A105,Catalog[MaterialCode],Catalog[Commodity],""),"") | D105: =IFERROR(_xlfn.XLOOKUP(A105,Catalog[MaterialCode],Catalog[NetCaseWeight_lbs],0),0) -> 0 | E105: =IFERROR(_xlfn.XLOOKUP(A105,Catalog[MaterialCode],Catalog[ServingsPerCase],0),0) -> 0 | F105: =IFERROR(_xlfn.XLOOKUP(A105,Catalog[MaterialCode],Catalog[ServingSize_oz],0),0) -> 0 | G105: =IFERROR(_xlfn.XLOOKUP(A105,Catalog[MaterialCode],Catalog[CSCPoints],0),0) -> 0 | H105: =IFERROR(_xlfn.XLOOKUP(A105,Catalog[MaterialCode],Catalog[CNPortion],0),0) -> 0 | I105: =IFERROR(_xlfn.XLOOKUP(A105,Catalog[MaterialCode],Catalog[MMA_oz],0),0) -> 0 | J105: =IFERROR(_xlfn.XLOOKUP(A105,Catalog[MaterialCode],Catalog[EqGrain_oz],0),0) -> 0 | K105: =IFERROR(_xlfn.XLOOKUP(A105,Catalog[MaterialCode],Catalog[WhiteLbsDFperCase],0),0) -> 0 | L105: =IFERROR(_xlfn.XLOOKUP(A105,Catalog[MaterialCode],Catalog[DarkLbsDFperCase],0),0) -> 0 | M105: 0 | N105: 0 | O105: 0 | P105: =IF(M105>0,M105*E105,IF(AND(N105>0,O105>0),N105*O105,0)) -> 0 | Q105: =IF(M105>0,M105,IF(E105>0,ROUNDUP(P105/E105,0),0)) -> 0 | R105: =Q105*K105 -> 0 | S105: =Q105*L105 -> 0 | T105: 0 | U105: 0 | V105: 0 | W105: 0 | X105: 0 | Y105: 0 | Z105: 0 | AA105: 0 | AB105: 0 | AC105: 0 | AD105: 0 | AE105: 0 | AF105: =Q105-SUM(T105:AE105) -> 0
B106: =IFERROR(_xlfn.XLOOKUP(A106,Catalog[MaterialCode],Catalog[Description],""),"") | C106: =IFERROR(_xlfn.XLOOKUP(A106,Catalog[MaterialCode],Catalog[Commodity],""),"") | D106: =IFERROR(_xlfn.XLOOKUP(A106,Catalog[MaterialCode],Catalog[NetCaseWeight_lbs],0),0) -> 0 | E106: =IFERROR(_xlfn.XLOOKUP(A106,Catalog[MaterialCode],Catalog[ServingsPerCase],0),0) -> 0 | F106: =IFERROR(_xlfn.XLOOKUP(A106,Catalog[MaterialCode],Catalog[ServingSize_oz],0),0) -> 0 | G106: =IFERROR(_xlfn.XLOOKUP(A106,Catalog[MaterialCode],Catalog[CSCPoints],0),0) -> 0 | H106: =IFERROR(_xlfn.XLOOKUP(A106,Catalog[MaterialCode],Catalog[CNPortion],0),0) -> 0 | I106: =IFERROR(_xlfn.XLOOKUP(A106,Catalog[MaterialCode],Catalog[MMA_oz],0),0) -> 0 | J106: =IFERROR(_xlfn.XLOOKUP(A106,Catalog[MaterialCode],Catalog[EqGrain_oz],0),0) -> 0 | K106: =IFERROR(_xlfn.XLOOKUP(A106,Catalog[MaterialCode],Catalog[WhiteLbsDFperCase],0),0) -> 0 | L106: =IFERROR(_xlfn.XLOOKUP(A106,Catalog[MaterialCode],Catalog[DarkLbsDFperCase],0),0) -> 0 | M106: 0 | N106: 0 | O106: 0 | P106: =IF(M106>0,M106*E106,IF(AND(N106>0,O106>0),N106*O106,0)) -> 0 | Q106: =IF(M106>0,M106,IF(E106>0,ROUNDUP(P106/E106,0),0)) -> 0 | R106: =Q106*K106 -> 0 | S106: =Q106*L106 -> 0 | T106: 0 | U106: 0 | V106: 0 | W106: 0 | X106: 0 | Y106: 0 | Z106: 0 | AA106: 0 | AB106: 0 | AC106: 0 | AD106: 0 | AE106: 0 | AF106: =Q106-SUM(T106:AE106) -> 0
... B115: =IFERROR(_xlfn.XLOOKUP(A115,Catalog[MaterialCode],Catalog[Description],""),"") | C115: =IFERROR(_xlfn.XLOOKUP(A115,Catalog[MaterialCode],Catalog[Commodity],""),"") | D115: =IFERROR(_xlfn.XLOOKUP(A115,Catalog[MaterialCode],Catalog[NetCaseWeight_lbs],0),0) -> 0 | E115: =IFERROR(_xlfn.XLOOKUP(A115,Catalog[MaterialCode],Catalog[ServingsPerCase],0),0) -> 0 | F115: =IFERROR(_xlfn.XLOOKUP(A115,Catalog[MaterialCode],Catalog[ServingSize_oz],0),0) -> 0 | G115: =IFERROR(_xlfn.XLOOKUP(A115,Catalog[MaterialCode],Catalog[CSCPoints],0),0) -> 0 | H115: =IFERROR(_xlfn.XLOOKUP(A115,Catalog[MaterialCode],Catalog[CNPortion],0),0) -> 0 | I115: =IFERROR(_xlfn.XLOOKUP(A115,Catalog[MaterialCode],Catalog[MMA_oz],0),0) -> 0 | J115: =IFERROR(_xlfn.XLOOKUP(A115,Catalog[MaterialCode],Catalog[EqGrain_oz],0),0) -> 0 | K115: =IFERROR(_xlfn.XLOOKUP(A115,Catalog[MaterialCode],Catalog[WhiteLbsDFperCase],0),0) -> 0 | L115: =IFERROR(_xlfn.XLOOKUP(A115,Catalog[MaterialCode],Catalog[DarkLbsDFperCase],0),0) -> 0 | M115: 0 | N115: 0 | O115: 0 | P115: =IF(M115>0,M115*E115,IF(AND(N115>0,O115>0),N115*O115,0)) -> 0 | Q115: =IF(M115>0,M115,IF(E115>0,ROUNDUP(P115/E115,0),0)) -> 0 | R115: =Q115*K115 -> 0 | S115: =Q115*L115 -> 0 | T115: 0 | U115: 0 | V115: 0 | W115: 0 | X115: 0 | Y115: 0 | Z115: 0 | AA115: 0 | AB115: 0 | AC115: 0 | AD115: 0 | AE115: 0 | AF115: =Q115-SUM(T115:AE115) -> 0
A117: Totals: | Q117: =SUM(Q13:Q115) -> 0 | R117: =SUM(R13:R115) -> 0 | S117: =SUM(S13:S115) -> 0 | AE117: =SUM(AF13:AF115) -> 0

Sheet Cheese
A1: SY 26/27 Cheese Commodity Calculator
A3: New Cheese Diverted lbs | B3: 0 | D3: Utilization | E3: =IF(B5>0, (Q110)/B5, 0) -> 0
A4: Carryover lbs | B4: 0
A5: Total lbs Available | B5: =B3+B4 -> 0 | C5: Planned lbs | D5: =Q110 -> 0 | E5: Net lbs | F5: =B5-D5 -> 0
L9: Populate either Cases or ADP & Menu Frequency
A10: Material Code | B10: Description | C10: Commodity | D10: Net Case Weight (lbs) | E10: Servings Per Case | F10: Serving Size (oz) | G10: Cool School Points | H10: CN Portion | I10: M/MA (oz) | J10: Eq Grain (oz) | K10: Cheese Lbs DF per Case | L10: Cases | M10: ADP | N10: Menu Frequency | O10: Total Servings | P10: Total Cases | Q10: Total Cheese Lbs | R10: July | S10: August | T10: September | U10: October | V10: November | W10: December | X10: January | Y10: February | Z10: March | AA10: April | AB10: May | AC10: June | AD10: Cases Left To Forecast
A11: 17020111120 | B11: =IFERROR(_xlfn.XLOOKUP(A11,Catalog[MaterialCode],Catalog[Description],""),"") -> Reduced Fat Cheese Breadsticks | C11: =IFERROR(_xlfn.XLOOKUP(A11,Catalog[MaterialCode],Catalog[Commodity],""),"") -> 110244 | D11: =IFERROR(_xlfn.XLOOKUP(A11,Catalog[MaterialCode],Catalog[NetCaseWeight_lbs],0),0) -> 20.86 | E11: =IFERROR(_xlfn.XLOOKUP(A11,Catalog[MaterialCode],Catalog[ServingsPerCase],0),0) -> 144 | F11: =IFERROR(_xlfn.XLOOKUP(A11,Catalog[MaterialCode],Catalog[ServingSize_oz],0),0) -> 2.32 | G11: =IFERROR(_xlfn.XLOOKUP(A11,Catalog[MaterialCode],Catalog[CSCPoints],0),0) -> 10 | H11: =IFERROR(_xlfn.XLOOKUP(A11,Catalog[MaterialCode],Catalog[CNPortion],0),0) -> 1 stick | I11: =IFERROR(_xlfn.XLOOKUP(A11,Catalog[MaterialCode],Catalog[MMA_oz],0),0) -> 1 | J11: =IFERROR(_xlfn.XLOOKUP(A11,Catalog[MaterialCode],Catalog[EqGrain_oz],0),0) -> 1 | K11: =IFERROR(_xlfn.XLOOKUP(A11,Catalog[MaterialCode],Catalog[CheeseLbsDFperCase],0),0) -> 8.83 | L11: 0 | M11: 0 | N11: 0 | O11: =IF(L11>0,L11*E11,IF(AND(M11>0,N11>0),M11*N11,0)) -> 0 | P11: =IF(L11>0,L11,IF(E11>0,ROUNDUP(O11/E11,0),0)) -> 0 | Q11: =P11*K11 -> 0 | R11: 0 | S11: 0 | T11: 0 | U11: 0 | V11: 0 | W11: 0 | X11: 0 | Y11: 0 | Z11: 0 | AA11: 0 | AB11: 0 | AC11: 0 | AD11: =P11-SUM(R11:AC11) -> 0
A12: 17021081120 | B12: =IFERROR(_xlfn.XLOOKUP(A12,Catalog[MaterialCode],Catalog[Description],""),"") -> Par-baked LMPS Cheese Breadstick | C12: =IFERROR(_xlfn.XLOOKUP(A12,Catalog[MaterialCode],Catalog[Commodity],""),"") -> 110244 | D12: =IFERROR(_xlfn.XLOOKUP(A12,Catalog[MaterialCode],Catalog[NetCaseWeight_lbs],0),0) -> 20.2 | E12: =IFERROR(_xlfn.XLOOKUP(A12,Catalog[MaterialCode],Catalog[ServingsPerCase],0),0) -> 108 | F12: =IFERROR(_xlfn.XLOOKUP(A12,Catalog[MaterialCode],Catalog[ServingSize_oz],0),0) -> 2.99 | G12: =IFERROR(_xlfn.XLOOKUP(A12,Catalog[MaterialCode],Catalog[CSCPoints],0),0) -> 0 | H12: =IFERROR(_xlfn.XLOOKUP(A12,Catalog[MaterialCode],Catalog[CNPortion],0),0) -> 1 stick | I12: =IFERROR(_xlfn.XLOOKUP(A12,Catalog[MaterialCode],Catalog[MMA_oz],0),0) -> 1 | J12: =IFERROR(_xlfn.XLOOKUP(A12,Catalog[MaterialCode],Catalog[EqGrain_oz],0),0) -> 2 | K12: =IFERROR(_xlfn.XLOOKUP(A12,Catalog[MaterialCode],Catalog[CheeseLbsDFperCase],0),0) -> 6.75 | L12: 0 | M12: 0 | N12: 0 | O12: =IF(L12>0,L12*E12,IF(AND(M12>0,N12>0),M12*N12,0)) -> 0 | P12: =IF(L12>0,L12,IF(E12>0,ROUNDUP(O12/E12,0),0)) -> 0 | Q12: =P12*K12 -> 0 | R12: 0 | S12: 0 | T12: 0 | U12: 0 | V12: 0 | W12: 0 | X12: 0 | Y12: 0 | Z12: 0 | AA12: 0 | AB12: 0 | AC12: 0 | AD12: =P12-SUM(R12:AC12) -> 0
A13: 17023721120 | B13: =IFERROR(_xlfn.XLOOKUP(A13,Catalog[MaterialCode],Catalog[Description],""),"") -> Pepperoni Pizza Sticks | C13: =IFERROR(_xlfn.XLOOKUP(A13,Catalog[MaterialCode],Catalog[Commodity],""),"") -> 110244 | D13: =IFERROR(_xlfn.XLOOKUP(A13,Catalog[MaterialCode],Catalog[NetCaseWeight_lbs],0),0) -> 17.19 | E13: =IFERROR(_xlfn.XLOOKUP(A13,Catalog[MaterialCode],Catalog[ServingsPerCase],0),0) -> 72 | F13: =IFERROR(_xlfn.XLOOKUP(A13,Catalog[MaterialCode],Catalog[ServingSize_oz],0),0) -> 3.82 | G13: =IFERROR(_xlfn.XLOOKUP(A13,Catalog[MaterialCode],Catalog[CSCPoints],0),0) -> 20 | H13: =IFERROR(_xlfn.XLOOKUP(A13,Catalog[MaterialCode],Catalog[CNPortion],0),0) -> 1 stick | I13: =IFERROR(_xlfn.XLOOKUP(A13,Catalog[MaterialCode],Catalog[MMA_oz],0),0) -> 1 | J13: =IFERROR(_xlfn.XLOOKUP(A13,Catalog[MaterialCode],Catalog[EqGrain_oz],0),0) -> 2.25 | K13: =IFERROR(_xlfn.XLOOKUP(A13,Catalog[MaterialCode],Catalog[CheeseLbsDFperCase],0),0) -> 3.465 | L13: 0 | M13: 0 | N13: 0 | O13: =IF(L13>0,L13*E13,IF(AND(M13>0,N13>0),M13*N13,0)) -> 0 | P13: =IF(L13>0,L13,IF(E13>0,ROUNDUP(O13/E13,0),0)) -> 0 | Q13: =P13*K13 -> 0 | R13: 0 | S13: 0 | T13: 0 | U13: 0 | V13: 0 | W13: 0 | X13: 0 | Y13: 0 | Z13: 0 | AA13: 0 | AB13: 0 | AC13: 0 | AD13: =P13-SUM(R13:AC13) -> 0
A14: 17026721120 | B14: =IFERROR(_xlfn.XLOOKUP(A14,Catalog[MaterialCode],Catalog[Description],""),"") -> IW Cheese Breadsticks | C14: =IFERROR(_xlfn.XLOOKUP(A14,Catalog[MaterialCode],Catalog[Commodity],""),"") -> 110244 | D14: =IFERROR(_xlfn.XLOOKUP(A14,Catalog[MaterialCode],Catalog[NetCaseWeight_lbs],0),0) -> 11.3 | E14: =IFERROR(_xlfn.XLOOKUP(A14,Catalog[MaterialCode],Catalog[ServingsPerCase],0),0) -> 72 | F14: =IFERROR(_xlfn.XLOOKUP(A14,Catalog[MaterialCode],Catalog[ServingSize_oz],0),0) -> 2.51 | G14: =IFERROR(_xlfn.XLOOKUP(A14,Catalog[MaterialCode],Catalog[CSCPoints],0),0) -> 20 | H14: =IFERROR(_xlfn.XLOOKUP(A14,Catalog[MaterialCode],Catalog[CNPortion],0),0) -> 1 stick | I14: =IFERROR(_xlfn.XLOOKUP(A14,Catalog[MaterialCode],Catalog[MMA_oz],0),0) -> 0.5 | J14: =IFERROR(_xlfn.XLOOKUP(A14,Catalog[MaterialCode],Catalog[EqGrain_oz],0),0) -> 1.75 | K14: =IFERROR(_xlfn.XLOOKUP(A14,Catalog[MaterialCode],Catalog[CheeseLbsDFperCase],0),0) -> 2.925 | L14: 0 | M14: 0 | N14: 0 | O14: =IF(L14>0,L14*E14,IF(AND(M14>0,N14>0),M14*N14,0)) -> 0 | P14: =IF(L14>0,L14,IF(E14>0,ROUNDUP(O14/E14,0),0)) -> 0 | Q14: =P14*K14 -> 0 | R14: 0 | S14: 0 | T14: 0 | U14: 0 | V14: 0 | W14: 0 | X14: 0 | Y14: 0 | Z14: 0 | AA14: 0 | AB14: 0 | AC14: 0 | AD14: =P14-SUM(R14:AC14) -> 0
B15: =IFERROR(_xlfn.XLOOKUP(A15,Catalog[MaterialCode],Catalog[Description],""),"") | C15: =IFERROR(_xlfn.XLOOKUP(A15,Catalog[MaterialCode],Catalog[Commodity],""),"") | D15: =IFERROR(_xlfn.XLOOKUP(A15,Catalog[MaterialCode],Catalog[NetCaseWeight_lbs],0),0) -> 0 | E15: =IFERROR(_xlfn.XLOOKUP(A15,Catalog[MaterialCode],Catalog[ServingsPerCase],0),0) -> 0 | F15: =IFERROR(_xlfn.XLOOKUP(A15,Catalog[MaterialCode],Catalog[ServingSize_oz],0),0) -> 0 | G15: =IFERROR(_xlfn.XLOOKUP(A15,Catalog[MaterialCode],Catalog[CSCPoints],0),0) -> 0 | H15: =IFERROR(_xlfn.XLOOKUP(A15,Catalog[MaterialCode],Catalog[CNPortion],0),0) -> 0 | I15: =IFERROR(_xlfn.XLOOKUP(A15,Catalog[MaterialCode],Catalog[MMA_oz],0),0) -> 0 | J15: =IFERROR(_xlfn.XLOOKUP(A15,Catalog[MaterialCode],Catalog[EqGrain_oz],0),0) -> 0 | K15: =IFERROR(_xlfn.XLOOKUP(A15,Catalog[MaterialCode],Catalog[CheeseLbsDFperCase],0),0) -> 0 | L15: 0 | M15: 0 | N15: 0 | O15: =IF(L15>0,L15*E15,IF(AND(M15>0,N15>0),M15*N15,0)) -> 0 | P15: =IF(L15>0,L15,IF(E15>0,ROUNDUP(O15/E15,0),0)) -> 0 | Q15: =P15*K15 -> 0 | R15: 0 | S15: 0 | T15: 0 | U15: 0 | V15: 0 | W15: 0 | X15: 0 | Y15: 0 | Z15: 0 | AA15: 0 | AB15: 0 | AC15: 0 | AD15: =P15-SUM(R15:AC15) -> 0
B16: =IFERROR(_xlfn.XLOOKUP(A16,Catalog[MaterialCode],Catalog[Description],""),"") | C16: =IFERROR(_xlfn.XLOOKUP(A16,Catalog[MaterialCode],Catalog[Commodity],""),"") | D16: =IFERROR(_xlfn.XLOOKUP(A16,Catalog[MaterialCode],Catalog[NetCaseWeight_lbs],0),0) -> 0 | E16: =IFERROR(_xlfn.XLOOKUP(A16,Catalog[MaterialCode],Catalog[ServingsPerCase],0),0) -> 0 | F16: =IFERROR(_xlfn.XLOOKUP(A16,Catalog[MaterialCode],Catalog[ServingSize_oz],0),0) -> 0 | G16: =IFERROR(_xlfn.XLOOKUP(A16,Catalog[MaterialCode],Catalog[CSCPoints],0),0) -> 0 | H16: =IFERROR(_xlfn.XLOOKUP(A16,Catalog[MaterialCode],Catalog[CNPortion],0),0) -> 0 | I16: =IFERROR(_xlfn.XLOOKUP(A16,Catalog[MaterialCode],Catalog[MMA_oz],0),0) -> 0 | J16: =IFERROR(_xlfn.XLOOKUP(A16,Catalog[MaterialCode],Catalog[EqGrain_oz],0),0) -> 0 | K16: =IFERROR(_xlfn.XLOOKUP(A16,Catalog[MaterialCode],Catalog[CheeseLbsDFperCase],0),0) -> 0 | L16: 0 | M16: 0 | N16: 0 | O16: =IF(L16>0,L16*E16,IF(AND(M16>0,N16>0),M16*N16,0)) -> 0 | P16: =IF(L16>0,L16,IF(E16>0,ROUNDUP(O16/E16,0),0)) -> 0 | Q16: =P16*K16 -> 0 | R16: 0 | S16: 0 | T16: 0 | U16: 0 | V16: 0 | W16: 0 | X16: 0 | Y16: 0 | Z16: 0 | AA16: 0 | AB16: 0 | AC16: 0 | AD16: =P16-SUM(R16:AC16) -> 0
B17: =IFERROR(_xlfn.XLOOKUP(A17,Catalog[MaterialCode],Catalog[Description],""),"") | C17: =IFERROR(_xlfn.XLOOKUP(A17,Catalog[MaterialCode],Catalog[Commodity],""),"") | D17: =IFERROR(_xlfn.XLOOKUP(A17,Catalog[MaterialCode],Catalog[NetCaseWeight_lbs],0),0) -> 0 | E17: =IFERROR(_xlfn.XLOOKUP(A17,Catalog[MaterialCode],Catalog[ServingsPerCase],0),0) -> 0 | F17: =IFERROR(_xlfn.XLOOKUP(A17,Catalog[MaterialCode],Catalog[ServingSize_oz],0),0) -> 0 | G17: =IFERROR(_xlfn.XLOOKUP(A17,Catalog[MaterialCode],Catalog[CSCPoints],0),0) -> 0 | H17: =IFERROR(_xlfn.XLOOKUP(A17,Catalog[MaterialCode],Catalog[CNPortion],0),0) -> 0 | I17: =IFERROR(_xlfn.XLOOKUP(A17,Catalog[MaterialCode],Catalog[MMA_oz],0),0) -> 0 | J17: =IFERROR(_xlfn.XLOOKUP(A17,Catalog[MaterialCode],Catalog[EqGrain_oz],0),0) -> 0 | K17: =IFERROR(_xlfn.XLOOKUP(A17,Catalog[MaterialCode],Catalog[CheeseLbsDFperCase],0),0) -> 0 | L17: 0 | M17: 0 | N17: 0 | O17: =IF(L17>0,L17*E17,IF(AND(M17>0,N17>0),M17*N17,0)) -> 0 | P17: =IF(L17>0,L17,IF(E17>0,ROUNDUP(O17/E17,0),0)) -> 0 | Q17: =P17*K17 -> 0 | R17: 0 | S17: 0 | T17: 0 | U17: 0 | V17: 0 | W17: 0 | X17: 0 | Y17: 0 | Z17: 0 | AA17: 0 | AB17: 0 | AC17: 0 | AD17: =P17-SUM(R17:AC17) -> 0
B18: =IFERROR(_xlfn.XLOOKUP(A18,Catalog[MaterialCode],Catalog[Description],""),"") | C18: =IFERROR(_xlfn.XLOOKUP(A18,Catalog[MaterialCode],Catalog[Commodity],""),"") | D18: =IFERROR(_xlfn.XLOOKUP(A18,Catalog[MaterialCode],Catalog[NetCaseWeight_lbs],0),0) -> 0 | E18: =IFERROR(_xlfn.XLOOKUP(A18,Catalog[MaterialCode],Catalog[ServingsPerCase],0),0) -> 0 | F18: =IFERROR(_xlfn.XLOOKUP(A18,Catalog[MaterialCode],Catalog[ServingSize_oz],0),0) -> 0 | G18: =IFERROR(_xlfn.XLOOKUP(A18,Catalog[MaterialCode],Catalog[CSCPoints],0),0) -> 0 | H18: =IFERROR(_xlfn.XLOOKUP(A18,Catalog[MaterialCode],Catalog[CNPortion],0),0) -> 0 | I18: =IFERROR(_xlfn.XLOOKUP(A18,Catalog[MaterialCode],Catalog[MMA_oz],0),0) -> 0 | J18: =IFERROR(_xlfn.XLOOKUP(A18,Catalog[MaterialCode],Catalog[EqGrain_oz],0),0) -> 0 | K18: =IFERROR(_xlfn.XLOOKUP(A18,Catalog[MaterialCode],Catalog[CheeseLbsDFperCase],0),0) -> 0 | L18: 0 | M18: 0 | N18: 0 | O18: =IF(L18>0,L18*E18,IF(AND(M18>0,N18>0),M18*N18,0)) -> 0 | P18: =IF(L18>0,L18,IF(E18>0,ROUNDUP(O18/E18,0),0)) -> 0 | Q18: =P18*K18 -> 0 | R18: 0 | S18: 0 | T18: 0 | U18: 0 | V18: 0 | W18: 0 | X18: 0 | Y18: 0 | Z18: 0 | AA18: 0 | AB18: 0 | AC18: 0 | AD18: =P18-SUM(R18:AC18) -> 0
B19: =IFERROR(_xlfn.XLOOKUP(A19,Catalog[MaterialCode],Catalog[Description],""),"") | C19: =IFERROR(_xlfn.XLOOKUP(A19,Catalog[MaterialCode],Catalog[Commodity],""),"") | D19: =IFERROR(_xlfn.XLOOKUP(A19,Catalog[MaterialCode],Catalog[NetCaseWeight_lbs],0),0) -> 0 | E19: =IFERROR(_xlfn.XLOOKUP(A19,Catalog[MaterialCode],Catalog[ServingsPerCase],0),0) -> 0 | F19: =IFERROR(_xlfn.XLOOKUP(A19,Catalog[MaterialCode],Catalog[ServingSize_oz],0),0) -> 0 | G19: =IFERROR(_xlfn.XLOOKUP(A19,Catalog[MaterialCode],Catalog[CSCPoints],0),0) -> 0 | H19: =IFERROR(_xlfn.XLOOKUP(A19,Catalog[MaterialCode],Catalog[CNPortion],0),0) -> 0 | I19: =IFERROR(_xlfn.XLOOKUP(A19,Catalog[MaterialCode],Catalog[MMA_oz],0),0) -> 0 | J19: =IFERROR(_xlfn.XLOOKUP(A19,Catalog[MaterialCode],Catalog[EqGrain_oz],0),0) -> 0 | K19: =IFERROR(_xlfn.XLOOKUP(A19,Catalog[MaterialCode],Catalog[CheeseLbsDFperCase],0),0) -> 0 | L19: 0 | M19: 0 | N19: 0 | O19: =IF(L19>0,L19*E19,IF(AND(M19>0,N19>0),M19*N19,0)) -> 0 | P19: =IF(L19>0,L19,IF(E19>0,ROUNDUP(O19/E19,0),0)) -> 0 | Q19: =P19*K19 -> 0 | R19: 0 | S19: 0 | T19: 0 | U19: 0 | V19: 0 | W19: 0 | X19: 0 | Y19: 0 | Z19: 0 | AA19: 0 | AB19: 0 | AC19: 0 | AD19: =P19-SUM(R19:AC19) -> 0
B20: =IFERROR(_xlfn.XLOOKUP(A20,Catalog[MaterialCode],Catalog[Description],""),"") | C20: =IFERROR(_xlfn.XLOOKUP(A20,Catalog[MaterialCode],Catalog[Commodity],""),"") | D20: =IFERROR(_xlfn.XLOOKUP(A20,Catalog[MaterialCode],Catalog[NetCaseWeight_lbs],0),0) -> 0 | E20: =IFERROR(_xlfn.XLOOKUP(A20,Catalog[MaterialCode],Catalog[ServingsPerCase],0),0) -> 0 | F20: =IFERROR(_xlfn.XLOOKUP(A20,Catalog[MaterialCode],Catalog[ServingSize_oz],0),0) -> 0 | G20: =IFERROR(_xlfn.XLOOKUP(A20,Catalog[MaterialCode],Catalog[CSCPoints],0),0) -> 0 | H20: =IFERROR(_xlfn.XLOOKUP(A20,Catalog[MaterialCode],Catalog[CNPortion],0),0) -> 0 | I20: =IFERROR(_xlfn.XLOOKUP(A20,Catalog[MaterialCode],Catalog[MMA_oz],0),0) -> 0 | J20: =IFERROR(_xlfn.XLOOKUP(A20,Catalog[MaterialCode],Catalog[EqGrain_oz],0),0) -> 0 | K20: =IFERROR(_xlfn.XLOOKUP(A20,Catalog[MaterialCode],Catalog[CheeseLbsDFperCase],0),0) -> 0 | L20: 0 | M20: 0 | N20: 0 | O20: =IF(L20>0,L20*E20,IF(AND(M20>0,N20>0),M20*N20,0)) -> 0 | P20: =IF(L20>0,L20,IF(E20>0,ROUNDUP(O20/E20,0),0)) -> 0 | Q20: =P20*K20 -> 0 | R20: 0 | S20: 0 | T20: 0 | U20: 0 | V20: 0 | W20: 0 | X20: 0 | Y20: 0 | Z20: 0 | AA20: 0 | AB20: 0 | AC20: 0 | AD20: =P20-SUM(R20:AC20) -> 0
B21: =IFERROR(_xlfn.XLOOKUP(A21,Catalog[MaterialCode],Catalog[Description],""),"") | C21: =IFERROR(_xlfn.XLOOKUP(A21,Catalog[MaterialCode],Catalog[Commodity],""),"") | D21: =IFERROR(_xlfn.XLOOKUP(A21,Catalog[MaterialCode],Catalog[NetCaseWeight_lbs],0),0) -> 0 | E21: =IFERROR(_xlfn.XLOOKUP(A21,Catalog[MaterialCode],Catalog[ServingsPerCase],0),0) -> 0 | F21: =IFERROR(_xlfn.XLOOKUP(A21,Catalog[MaterialCode],Catalog[ServingSize_oz],0),0) -> 0 | G21: =IFERROR(_xlfn.XLOOKUP(A21,Catalog[MaterialCode],Catalog[CSCPoints],0),0) -> 0 | H21: =IFERROR(_xlfn.XLOOKUP(A21,Catalog[MaterialCode],Catalog[CNPortion],0),0) -> 0 | I21: =IFERROR(_xlfn.XLOOKUP(A21,Catalog[MaterialCode],Catalog[MMA_oz],0),0) -> 0 | J21: =IFERROR(_xlfn.XLOOKUP(A21,Catalog[MaterialCode],Catalog[EqGrain_oz],0),0) -> 0 | K21: =IFERROR(_xlfn.XLOOKUP(A21,Catalog[MaterialCode],Catalog[CheeseLbsDFperCase],0),0) -> 0 | L21: 0 | M21: 0 | N21: 0 | O21: =IF(L21>0,L21*E21,IF(AND(M21>0,N21>0),M21*N21,0)) -> 0 | P21: =IF(L21>0,L21,IF(E21>0,ROUNDUP(O21/E21,0),0)) -> 0 | Q21: =P21*K21 -> 0 | R21: 0 | S21: 0 | T21: 0 | U21: 0 | V21: 0 | W21: 0 | X21: 0 | Y21: 0 | Z21: 0 | AA21: 0 | AB21: 0 | AC21: 0 | AD21: =P21-SUM(R21:AC21) -> 0
B22: =IFERROR(_xlfn.XLOOKUP(A22,Catalog[MaterialCode],Catalog[Description],""),"") | C22: =IFERROR(_xlfn.XLOOKUP(A22,Catalog[MaterialCode],Catalog[Commodity],""),"") | D22: =IFERROR(_xlfn.XLOOKUP(A22,Catalog[MaterialCode],Catalog[NetCaseWeight_lbs],0),0) -> 0 | E22: =IFERROR(_xlfn.XLOOKUP(A22,Catalog[MaterialCode],Catalog[ServingsPerCase],0),0) -> 0 | F22: =IFERROR(_xlfn.XLOOKUP(A22,Catalog[MaterialCode],Catalog[ServingSize_oz],0),0) -> 0 | G22: =IFERROR(_xlfn.XLOOKUP(A22,Catalog[MaterialCode],Catalog[CSCPoints],0),0) -> 0 | H22: =IFERROR(_xlfn.XLOOKUP(A22,Catalog[MaterialCode],Catalog[CNPortion],0),0) -> 0 | I22: =IFERROR(_xlfn.XLOOKUP(A22,Catalog[MaterialCode],Catalog[MMA_oz],0),0) -> 0 | J22: =IFERROR(_xlfn.XLOOKUP(A22,Catalog[MaterialCode],Catalog[EqGrain_oz],0),0) -> 0 | K22: =IFERROR(_xlfn.XLOOKUP(A22,Catalog[MaterialCode],Catalog[CheeseLbsDFperCase],0),0) -> 0 | L22: 0 | M22: 0 | N22: 0 | O22: =IF(L22>0,L22*E22,IF(AND(M22>0,N22>0),M22*N22,0)) -> 0 | P22: =IF(L22>0,L22,IF(E22>0,ROUNDUP(O22/E22,0),0)) -> 0 | Q22: =P22*K22 -> 0 | R22: 0 | S22: 0 | T22: 0 | U22: 0 | V22: 0 | W22: 0 | X22: 0 | Y22: 0 | Z22: 0 | AA22: 0 | AB22: 0 | AC22: 0 | AD22: =P22-SUM(R22:AC22) -> 0
B23: =IFERROR(_xlfn.XLOOKUP(A23,Catalog[MaterialCode],Catalog[Description],""),"") | C23: =IFERROR(_xlfn.XLOOKUP(A23,Catalog[MaterialCode],Catalog[Commodity],""),"") | D23: =IFERROR(_xlfn.XLOOKUP(A23,Catalog[MaterialCode],Catalog[NetCaseWeight_lbs],0),0) -> 0 | E23: =IFERROR(_xlfn.XLOOKUP(A23,Catalog[MaterialCode],Catalog[ServingsPerCase],0),0) -> 0 | F23: =IFERROR(_xlfn.XLOOKUP(A23,Catalog[MaterialCode],Catalog[ServingSize_oz],0),0) -> 0 | G23: =IFERROR(_xlfn.XLOOKUP(A23,Catalog[MaterialCode],Catalog[CSCPoints],0),0) -> 0 | H23: =IFERROR(_xlfn.XLOOKUP(A23,Catalog[MaterialCode],Catalog[CNPortion],0),0) -> 0 | I23: =IFERROR(_xlfn.XLOOKUP(A23,Catalog[MaterialCode],Catalog[MMA_oz],0),0) -> 0 | J23: =IFERROR(_xlfn.XLOOKUP(A23,Catalog[MaterialCode],Catalog[EqGrain_oz],0),0) -> 0 | K23: =IFERROR(_xlfn.XLOOKUP(A23,Catalog[MaterialCode],Catalog[CheeseLbsDFperCase],0),0) -> 0 | L23: 0 | M23: 0 | N23: 0 | O23: =IF(L23>0,L23*E23,IF(AND(M23>0,N23>0),M23*N23,0)) -> 0 | P23: =IF(L23>0,L23,IF(E23>0,ROUNDUP(O23/E23,0),0)) -> 0 | Q23: =P23*K23 -> 0 | R23: 0 | S23: 0 | T23: 0 | U23: 0 | V23: 0 | W23: 0 | X23: 0 | Y23: 0 | Z23: 0 | AA23: 0 | AB23: 0 | AC23: 0 | AD23: =P23-SUM(R23:AC23) -> 0
B24: =IFERROR(_xlfn.XLOOKUP(A24,Catalog[MaterialCode],Catalog[Description],""),"") | C24: =IFERROR(_xlfn.XLOOKUP(A24,Catalog[MaterialCode],Catalog[Commodity],""),"") | D24: =IFERROR(_xlfn.XLOOKUP(A24,Catalog[MaterialCode],Catalog[NetCaseWeight_lbs],0),0) -> 0 | E24: =IFERROR(_xlfn.XLOOKUP(A24,Catalog[MaterialCode],Catalog[ServingsPerCase],0),0) -> 0 | F24: =IFERROR(_xlfn.XLOOKUP(A24,Catalog[MaterialCode],Catalog[ServingSize_oz],0),0) -> 0 | G24: =IFERROR(_xlfn.XLOOKUP(A24,Catalog[MaterialCode],Catalog[CSCPoints],0),0) -> 0 | H24: =IFERROR(_xlfn.XLOOKUP(A24,Catalog[MaterialCode],Catalog[CNPortion],0),0) -> 0 | I24: =IFERROR(_xlfn.XLOOKUP(A24,Catalog[MaterialCode],Catalog[MMA_oz],0),0) -> 0 | J24: =IFERROR(_xlfn.XLOOKUP(A24,Catalog[MaterialCode],Catalog[EqGrain_oz],0),0) -> 0 | K24: =IFERROR(_xlfn.XLOOKUP(A24,Catalog[MaterialCode],Catalog[CheeseLbsDFperCase],0),0) -> 0 | L24: 0 | M24: 0 | N24: 0 | O24: =IF(L24>0,L24*E24,IF(AND(M24>0,N24>0),M24*N24,0)) -> 0 | P24: =IF(L24>0,L24,IF(E24>0,ROUNDUP(O24/E24,0),0)) -> 0 | Q24: =P24*K24 -> 0 | R24: 0 | S24: 0 | T24: 0 | U24: 0 | V24: 0 | W24: 0 | X24: 0 | Y24: 0 | Z24: 0 | AA24: 0 | AB24: 0 | AC24: 0 | AD24: =P24-SUM(R24:AC24) -> 0
B25: =IFERROR(_xlfn.XLOOKUP(A25,Catalog[MaterialCode],Catalog[Description],""),"") | C25: =IFERROR(_xlfn.XLOOKUP(A25,Catalog[MaterialCode],Catalog[Commodity],""),"") | D25: =IFERROR(_xlfn.XLOOKUP(A25,Catalog[MaterialCode],Catalog[NetCaseWeight_lbs],0),0) -> 0 | E25: =IFERROR(_xlfn.XLOOKUP(A25,Catalog[MaterialCode],Catalog[ServingsPerCase],0),0) -> 0 | F25: =IFERROR(_xlfn.XLOOKUP(A25,Catalog[MaterialCode],Catalog[ServingSize_oz],0),0) -> 0 | G25: =IFERROR(_xlfn.XLOOKUP(A25,Catalog[MaterialCode],Catalog[CSCPoints],0),0) -> 0 | H25: =IFERROR(_xlfn.XLOOKUP(A25,Catalog[MaterialCode],Catalog[CNPortion],0),0) -> 0 | I25: =IFERROR(_xlfn.XLOOKUP(A25,Catalog[MaterialCode],Catalog[MMA_oz],0),0) -> 0 | J25: =IFERROR(_xlfn.XLOOKUP(A25,Catalog[MaterialCode],Catalog[EqGrain_oz],0),0) -> 0 | K25: =IFERROR(_xlfn.XLOOKUP(A25,Catalog[MaterialCode],Catalog[CheeseLbsDFperCase],0),0) -> 0 | L25: 0 | M25: 0 | N25: 0 | O25: =IF(L25>0,L25*E25,IF(AND(M25>0,N25>0),M25*N25,0)) -> 0 | P25: =IF(L25>0,L25,IF(E25>0,ROUNDUP(O25/E25,0),0)) -> 0 | Q25: =P25*K25 -> 0 | R25: 0 | S25: 0 | T25: 0 | U25: 0 | V25: 0 | W25: 0 | X25: 0 | Y25: 0 | Z25: 0 | AA25: 0 | AB25: 0 | AC25: 0 | AD25: =P25-SUM(R25:AC25) -> 0
B26: =IFERROR(_xlfn.XLOOKUP(A26,Catalog[MaterialCode],Catalog[Description],""),"") | C26: =IFERROR(_xlfn.XLOOKUP(A26,Catalog[MaterialCode],Catalog[Commodity],""),"") | D26: =IFERROR(_xlfn.XLOOKUP(A26,Catalog[MaterialCode],Catalog[NetCaseWeight_lbs],0),0) -> 0 | E26: =IFERROR(_xlfn.XLOOKUP(A26,Catalog[MaterialCode],Catalog[ServingsPerCase],0),0) -> 0 | F26: =IFERROR(_xlfn.XLOOKUP(A26,Catalog[MaterialCode],Catalog[ServingSize_oz],0),0) -> 0 | G26: =IFERROR(_xlfn.XLOOKUP(A26,Catalog[MaterialCode],Catalog[CSCPoints],0),0) -> 0 | H26: =IFERROR(_xlfn.XLOOKUP(A26,Catalog[MaterialCode],Catalog[CNPortion],0),0) -> 0 | I26: =IFERROR(_xlfn.XLOOKUP(A26,Catalog[MaterialCode],Catalog[MMA_oz],0),0) -> 0 | J26: =IFERROR(_xlfn.XLOOKUP(A26,Catalog[MaterialCode],Catalog[EqGrain_oz],0),0) -> 0 | K26: =IFERROR(_xlfn.XLOOKUP(A26,Catalog[MaterialCode],Catalog[CheeseLbsDFperCase],0),0) -> 0 | L26: 0 | M26: 0 | N26: 0 | O26: =IF(L26>0,L26*E26,IF(AND(M26>0,N26>0),M26*N26,0)) -> 0 | P26: =IF(L26>0,L26,IF(E26>0,ROUNDUP(O26/E26,0),0)) -> 0 | Q26: =P26*K26 -> 0 | R26: 0 | S26: 0 | T26: 0 | U26: 0 | V26: 0 | W26: 0 | X26: 0 | Y26: 0 | Z26: 0 | AA26: 0 | AB26: 0 | AC26: 0 | AD26: =P26-SUM(R26:AC26) -> 0
... B108: =IFERROR(_xlfn.XLOOKUP(A108,Catalog[MaterialCode],Catalog[Description],""),"") | C108: =IFERROR(_xlfn.XLOOKUP(A108,Catalog[MaterialCode],Catalog[Commodity],""),"") | D108: =IFERROR(_xlfn.XLOOKUP(A108,Catalog[MaterialCode],Catalog[NetCaseWeight_lbs],0),0) -> 0 | E108: =IFERROR(_xlfn.XLOOKUP(A108,Catalog[MaterialCode],Catalog[ServingsPerCase],0),0) -> 0 | F108: =IFERROR(_xlfn.XLOOKUP(A108,Catalog[MaterialCode],Catalog[ServingSize_oz],0),0) -> 0 | G108: =IFERROR(_xlfn.XLOOKUP(A108,Catalog[MaterialCode],Catalog[CSCPoints],0),0) -> 0 | H108: =IFERROR(_xlfn.XLOOKUP(A108,Catalog[MaterialCode],Catalog[CNPortion],0),0) -> 0 | I108: =IFERROR(_xlfn.XLOOKUP(A108,Catalog[MaterialCode],Catalog[MMA_oz],0),0) -> 0 | J108: =IFERROR(_xlfn.XLOOKUP(A108,Catalog[MaterialCode],Catalog[EqGrain_oz],0),0) -> 0 | K108: =IFERROR(_xlfn.XLOOKUP(A108,Catalog[MaterialCode],Catalog[CheeseLbsDFperCase],0),0) -> 0 | L108: 0 | M108: 0 | N108: 0 | O108: =IF(L108>0,L108*E108,IF(AND(M108>0,N108>0),M108*N108,0)) -> 0 | P108: =IF(L108>0,L108,IF(E108>0,ROUNDUP(O108/E108,0),0)) -> 0 | Q108: =P108*K108 -> 0 | R108: 0 | S108: 0 | T108: 0 | U108: 0 | V108: 0 | W108: 0 | X108: 0 | Y108: 0 | Z108: 0 | AA108: 0 | AB108: 0 | AC108: 0 | AD108: =P108-SUM(R108:AC108) -> 0
B109: =IFERROR(_xlfn.XLOOKUP(A109,Catalog[MaterialCode],Catalog[Description],""),"")
A110: Totals: | P110: =SUM(P11:P108) -> 0 | Q110: =SUM(Q11:Q108) -> 0 | AC110: =SUM(AD11:AD108) -> 0

Sheet Beef
A1: SY 26/27 Beef Commodity Calculator
A3: New Beef Diverted lbs | B3: 0 | D3: Utilization | E3: =IF(B5>0, (Q111)/B5, 0) -> 0
A4: Carryover lbs | B4: 0
A5: Total lbs Available | B5: =B3+B4 -> 0 | C5: Planned lbs | D5: =Q111 -> 0 | E5: Net lbs | F5: =B5-D5 -> 0
L9: Populate either Cases or ADP & Menu Frequency
A10: Material Code | B10: Description | C10: Commodity | D10: Net Case Weight (lbs) | E10: Servings Per Case | F10: Serving Size (oz) | G10: Cool School Points | H10: CN Portion | I10: M/MA (oz) | J10: Eq Grain (oz) | K10: Beef Lbs DF per Case | L10: Cases | M10: ADP | N10: Menu Frequency | O10: Total Servings | P10: Total Cases | Q10: Total Beef Lbs | R10: July | S10: August | T10: September | U10: October | V10: November | W10: December | X10: January | Y10: February | Z10: March | AA10: April | AB10: May | AC10: June | AD10: Cases Left To Forecast
A11: 10000006919 | B11: =IFERROR(_xlfn.XLOOKUP(A11,Catalog[MaterialCode],Catalog[Description],""),"") -> Cheeseburger Meatloaf | C11: =IFERROR(_xlfn.XLOOKUP(A11,Catalog[MaterialCode],Catalog[Commodity],""),"") -> 100154 / 100155 | D11: =IFERROR(_xlfn.XLOOKUP(A11,Catalog[MaterialCode],Catalog[NetCaseWeight_lbs],0),0) -> 18.13 | E11: =IFERROR(_xlfn.XLOOKUP(A11,Catalog[MaterialCode],Catalog[ServingsPerCase],0),0) -> 100 | F11: =IFERROR(_xlfn.XLOOKUP(A11,Catalog[MaterialCode],Catalog[ServingSize_oz],0),0) -> 2.9 | G11: =IFERROR(_xlfn.XLOOKUP(A11,Catalog[MaterialCode],Catalog[CSCPoints],0),0) -> 30 | H11: =IFERROR(_xlfn.XLOOKUP(A11,Catalog[MaterialCode],Catalog[CNPortion],0),0) -> 1 piece | I11: =IFERROR(_xlfn.XLOOKUP(A11,Catalog[MaterialCode],Catalog[MMA_oz],0),0) -> 2 | J11: =IFERROR(_xlfn.XLOOKUP(A11,Catalog[MaterialCode],Catalog[EqGrain_oz],0),0) -> 0 | K11: =IFERROR(_xlfn.XLOOKUP(A11,Catalog[MaterialCode],Catalog[BeefLbsDFperCase],0),0) -> 14.75 | L11: 0 | M11: 0 | N11: 0 | O11: =IF(L11>0,L11*E11,IF(AND(M11>0,N11>0),M11*N11,0)) -> 0 | P11: =IF(L11>0,L11,IF(E11>0,ROUNDUP(O11/E11,0),0)) -> 0 | Q11: =P11*K11 -> 0 | R11: 0 | S11: 0 | T11: 0 | U11: 0 | V11: 0 | W11: 0 | X11: 0 | Y11: 0 | Z11: 0 | AA11: 0 | AB11: 0 | AC11: 0 | AD11: =P11-SUM(R11:AC11) -> 0
A12: 10000008443 | B12: =IFERROR(_xlfn.XLOOKUP(A12,Catalog[MaterialCode],Catalog[Description],""),"") -> Down Home Beef Salisbury Steak | C12: =IFERROR(_xlfn.XLOOKUP(A12,Catalog[MaterialCode],Catalog[Commodity],""),"") -> 100154 / 100155 | D12: =IFERROR(_xlfn.XLOOKUP(A12,Catalog[MaterialCode],Catalog[NetCaseWeight_lbs],0),0) -> 31.88 | E12: =IFERROR(_xlfn.XLOOKUP(A12,Catalog[MaterialCode],Catalog[ServingsPerCase],0),0) -> 170 | F12: =IFERROR(_xlfn.XLOOKUP(A12,Catalog[MaterialCode],Catalog[ServingSize_oz],0),0) -> 3 | G12: =IFERROR(_xlfn.XLOOKUP(A12,Catalog[MaterialCode],Catalog[CSCPoints],0),0) -> 30 | H12: =IFERROR(_xlfn.XLOOKUP(A12,Catalog[MaterialCode],Catalog[CNPortion],0),0) -> 1 piece | I12: =IFERROR(_xlfn.XLOOKUP(A12,Catalog[MaterialCode],Catalog[MMA_oz],0),0) -> 2 | J12: =IFERROR(_xlfn.XLOOKUP(A12,Catalog[MaterialCode],Catalog[EqGrain_oz],0),0) -> 0 | K12: =IFERROR(_xlfn.XLOOKUP(A12,Catalog[MaterialCode],Catalog[BeefLbsDFperCase],0),0) -> 24.25 | L12: 0 | M12: 0 | N12: 0 | O12: =IF(L12>0,L12*E12,IF(AND(M12>0,N12>0),M12*N12,0)) -> 0 | P12: =IF(L12>0,L12,IF(E12>0,ROUNDUP(O12/E12,0),0)) -> 0 | Q12: =P12*K12 -> 0 | R12: 0 | S12: 0 | T12: 0 | U12: 0 | V12: 0 | W12: 0 | X12: 0 | Y12: 0 | Z12: 0 | AA12: 0 | AB12: 0 | AC12: 0 | AD12: =P12-SUM(R12:AC12) -> 0
A13: 10000008737 | B13: =IFERROR(_xlfn.XLOOKUP(A13,Catalog[MaterialCode],Catalog[Description],""),"") -> Fine Beef Crumbles | C13: =IFERROR(_xlfn.XLOOKUP(A13,Catalog[MaterialCode],Catalog[Commodity],""),"") -> 100154 / 100155 | D13: =IFERROR(_xlfn.XLOOKUP(A13,Catalog[MaterialCode],Catalog[NetCaseWeight_lbs],0),0) -> 40 | E13: =IFERROR(_xlfn.XLOOKUP(A13,Catalog[MaterialCode],Catalog[ServingsPerCase],0),0) -> 266 | F13: =IFERROR(_xlfn.XLOOKUP(A13,Catalog[MaterialCode],Catalog[ServingSize_oz],0),0) -> 2.4 | G13: =IFERROR(_xlfn.XLOOKUP(A13,Catalog[MaterialCode],Catalog[CSCPoints],0),0) -> 0 | H13: =IFERROR(_xlfn.XLOOKUP(A13,Catalog[MaterialCode],Catalog[CNPortion],0),0) -> 2.4 oz. | I13: =IFERROR(_xlfn.XLOOKUP(A13,Catalog[MaterialCode],Catalog[MMA_oz],0),0) -> 2 | J13: =IFERROR(_xlfn.XLOOKUP(A13,Catalog[MaterialCode],Catalog[EqGrain_oz],0),0) -> 0 | K13: 31.42 | L13: 0 | M13: 0 | N13: 0 | O13: =IF(L13>0,L13*E13,IF(AND(M13>0,N13>0),M13*N13,0)) -> 0 | P13: =IF(L13>0,L13,IF(E13>0,ROUNDUP(O13/E13,0),0)) -> 0 | Q13: =P13*K13 -> 0 | R13: 0 | S13: 0 | T13: 0 | U13: 0 | V13: 0 | W13: 0 | X13: 0 | Y13: 0 | Z13: 0 | AA13: 0 | AB13: 0 | AC13: 0 | AD13: =P13-SUM(R13:AC13) -> 0
A14: 10000009860 | B14: =IFERROR(_xlfn.XLOOKUP(A14,Catalog[MaterialCode],Catalog[Description],""),"") -> Breaded Beef Patties | C14: =IFERROR(_xlfn.XLOOKUP(A14,Catalog[MaterialCode],Catalog[Commodity],""),"") -> 100154 / 100155 | D14: =IFERROR(_xlfn.XLOOKUP(A14,Catalog[MaterialCode],Catalog[NetCaseWeight_lbs],0),0) -> 29.94 | E14: =IFERROR(_xlfn.XLOOKUP(A14,Catalog[MaterialCode],Catalog[ServingsPerCase],0),0) -> 143 | F14: =IFERROR(_xlfn.XLOOKUP(A14,Catalog[MaterialCode],Catalog[ServingSize_oz],0),0) -> 3.35 | G14: =IFERROR(_xlfn.XLOOKUP(A14,Catalog[MaterialCode],Catalog[CSCPoints],0),0) -> 0 | H14: =IFERROR(_xlfn.XLOOKUP(A14,Catalog[MaterialCode],Catalog[CNPortion],0),0) -> 1 piece | I14: =IFERROR(_xlfn.XLOOKUP(A14,Catalog[MaterialCode],Catalog[MMA_oz],0),0) -> 2 | J14: =IFERROR(_xlfn.XLOOKUP(A14,Catalog[MaterialCode],Catalog[EqGrain_oz],0),0) -> 1 | K14: =IFERROR(_xlfn.XLOOKUP(A14,Catalog[MaterialCode],Catalog[BeefLbsDFperCase],0),0) -> 27.76 | L14: 0 | M14: 0 | N14: 0 | O14: =IF(L14>0,L14*E14,IF(AND(M14>0,N14>0),M14*N14,0)) -> 0 | P14: =IF(L14>0,L14,IF(E14>0,ROUNDUP(O14/E14,0),0)) -> 0 | Q14: =P14*K14 -> 0 | R14: 0 | S14: 0 | T14: 0 | U14: 0 | V14: 0 | W14: 0 | X14: 0 | Y14: 0 | Z14: 0 | AA14: 0 | AB14: 0 | AC14: 0 | AD14: =P14-SUM(R14:AC14) -> 0
A15: 10000011750 | B15: =IFERROR(_xlfn.XLOOKUP(A15,Catalog[MaterialCode],Catalog[Description],""),"") -> Beef Meatballs | C15: =IFERROR(_xlfn.XLOOKUP(A15,Catalog[MaterialCode],Catalog[Commodity],""),"") -> 100154 / 100155 | D15: =IFERROR(_xlfn.XLOOKUP(A15,Catalog[MaterialCode],Catalog[NetCaseWeight_lbs],0),0) -> 30 | E15: =IFERROR(_xlfn.XLOOKUP(A15,Catalog[MaterialCode],Catalog[ServingsPerCase],0),0) -> 192 | F15: =IFERROR(_xlfn.XLOOKUP(A15,Catalog[MaterialCode],Catalog[ServingSize_oz],0),0) -> 2.5 | G15: =IFERROR(_xlfn.XLOOKUP(A15,Catalog[MaterialCode],Catalog[CSCPoints],0),0) -> 30 | H15: =IFERROR(_xlfn.XLOOKUP(A15,Catalog[MaterialCode],Catalog[CNPortion],0),0) -> 5 pieces | I15: =IFERROR(_xlfn.XLOOKUP(A15,Catalog[MaterialCode],Catalog[MMA_oz],0),0) -> 2 | J15: =IFERROR(_xlfn.XLOOKUP(A15,Catalog[MaterialCode],Catalog[EqGrain_oz],0),0) -> 0 | K15: =IFERROR(_xlfn.XLOOKUP(A15,Catalog[MaterialCode],Catalog[BeefLbsDFperCase],0),0) -> 24.39 | L15: 0 | M15: 0 | N15: 0 | O15: =IF(L15>0,L15*E15,IF(AND(M15>0,N15>0),M15*N15,0)) -> 0 | P15: =IF(L15>0,L15,IF(E15>0,ROUNDUP(O15/E15,0),0)) -> 0 | Q15: =P15*K15 -> 0 | R15: 0 | S15: 0 | T15: 0 | U15: 0 | V15: 0 | W15: 0 | X15: 0 | Y15: 0 | Z15: 0 | AA15: 0 | AB15: 0 | AC15: 0 | AD15: =P15-SUM(R15:AC15) -> 0
A16: 10000013716 | B16: =IFERROR(_xlfn.XLOOKUP(A16,Catalog[MaterialCode],Catalog[Description],""),"") -> Smokie Grill® Beef Rib Pattie with Honey BBQ Sauce | C16: =IFERROR(_xlfn.XLOOKUP(A16,Catalog[MaterialCode],Catalog[Commodity],""),"") -> 100154 / 100155 | D16: =IFERROR(_xlfn.XLOOKUP(A16,Catalog[MaterialCode],Catalog[NetCaseWeight_lbs],0),0) -> 20.25 | E16: =IFERROR(_xlfn.XLOOKUP(A16,Catalog[MaterialCode],Catalog[ServingsPerCase],0),0) -> 100 | F16: =IFERROR(_xlfn.XLOOKUP(A16,Catalog[MaterialCode],Catalog[ServingSize_oz],0),0) -> 3.25 | G16: =IFERROR(_xlfn.XLOOKUP(A16,Catalog[MaterialCode],Catalog[CSCPoints],0),0) -> 0 | H16: =IFERROR(_xlfn.XLOOKUP(A16,Catalog[MaterialCode],Catalog[CNPortion],0),0) -> 1 piece | I16: =IFERROR(_xlfn.XLOOKUP(A16,Catalog[MaterialCode],Catalog[MMA_oz],0),0) -> 2 | J16: =IFERROR(_xlfn.XLOOKUP(A16,Catalog[MaterialCode],Catalog[EqGrain_oz],0),0) -> 0 | K16: =IFERROR(_xlfn.XLOOKUP(A16,Catalog[MaterialCode],Catalog[BeefLbsDFperCase],0),0) -> 9.46 | L16: 0 | M16: 0 | N16: 0 | O16: =IF(L16>0,L16*E16,IF(AND(M16>0,N16>0),M16*N16,0)) -> 0 | P16: =IF(L16>0,L16,IF(E16>0,ROUNDUP(O16/E16,0),0)) -> 0 | Q16: =P16*K16 -> 0 | R16: 0 | S16: 0 | T16: 0 | U16: 0 | V16: 0 | W16: 0 | X16: 0 | Y16: 0 | Z16: 0 | AA16: 0 | AB16: 0 | AC16: 0 | AD16: =P16-SUM(R16:AC16) -> 0
A17: 10000013740 | B17: =IFERROR(_xlfn.XLOOKUP(A17,Catalog[MaterialCode],Catalog[Description],""),"") -> Wonderbites® Beef Dipper with Teriyaki | C17: =IFERROR(_xlfn.XLOOKUP(A17,Catalog[MaterialCode],Catalog[Commodity],""),"") -> 100154 / 100155 | D17: =IFERROR(_xlfn.XLOOKUP(A17,Catalog[MaterialCode],Catalog[NetCaseWeight_lbs],0),0) -> 25 | E17: =IFERROR(_xlfn.XLOOKUP(A17,Catalog[MaterialCode],Catalog[ServingsPerCase],0),0) -> 143 | F17: =IFERROR(_xlfn.XLOOKUP(A17,Catalog[MaterialCode],Catalog[ServingSize_oz],0),0) -> 2.8 | G17: =IFERROR(_xlfn.XLOOKUP(A17,Catalog[MaterialCode],Catalog[CSCPoints],0),0) -> 0 | H17: =IFERROR(_xlfn.XLOOKUP(A17,Catalog[MaterialCode],Catalog[CNPortion],0),0) -> 4 pieces | I17: =IFERROR(_xlfn.XLOOKUP(A17,Catalog[MaterialCode],Catalog[MMA_oz],0),0) -> 2 | J17: =IFERROR(_xlfn.XLOOKUP(A17,Catalog[MaterialCode],Catalog[EqGrain_oz],0),0) -> 0 | K17: =IFERROR(_xlfn.XLOOKUP(A17,Catalog[MaterialCode],Catalog[BeefLbsDFperCase],0),0) -> 23.73 | L17: 0 | M17: 0 | N17: 0 | O17: =IF(L17>0,L17*E17,IF(AND(M17>0,N17>0),M17*N17,0)) -> 0 | P17: =IF(L17>0,L17,IF(E17>0,ROUNDUP(O17/E17,0),0)) -> 0 | Q17: =P17*K17 -> 0 | R17: 0 | S17: 0 | T17: 0 | U17: 0 | V17: 0 | W17: 0 | X17: 0 | Y17: 0 | Z17: 0 | AA17: 0 | AB17: 0 | AC17: 0 | AD17: =P17-SUM(R17:AC17) -> 0
A18: 10000013782 | B18: =IFERROR(_xlfn.XLOOKUP(A18,Catalog[MaterialCode],Catalog[Description],""),"") -> Flame Grilled Beef Pattie with Onion | C18: =IFERROR(_xlfn.XLOOKUP(A18,Catalog[MaterialCode],Catalog[Commodity],""),"") -> 100154 / 100155 | D18: =IFERROR(_xlfn.XLOOKUP(A18,Catalog[MaterialCode],Catalog[NetCaseWeight_lbs],0),0) -> 16.25 | E18: =IFERROR(_xlfn.XLOOKUP(A18,Catalog[MaterialCode],Catalog[ServingsPerCase],0),0) -> 100 | F18: =IFERROR(_xlfn.XLOOKUP(A18,Catalog[MaterialCode],Catalog[ServingSize_oz],0),0) -> 2.6 | G18: =IFERROR(_xlfn.XLOOKUP(A18,Catalog[MaterialCode],Catalog[CSCPoints],0),0) -> 0 | H18: =IFERROR(_xlfn.XLOOKUP(A18,Catalog[MaterialCode],Catalog[CNPortion],0),0) -> 1 piece | I18: =IFERROR(_xlfn.XLOOKUP(A18,Catalog[MaterialCode],Catalog[MMA_oz],0),0) -> 2 | J18: =IFERROR(_xlfn.XLOOKUP(A18,Catalog[MaterialCode],Catalog[EqGrain_oz],0),0) -> 0 | K18: =IFERROR(_xlfn.XLOOKUP(A18,Catalog[MaterialCode],Catalog[BeefLbsDFperCase],0),0) -> 15.21 | L18: 0 | M18: 0 | N18: 0 | O18: =IF(L18>0,L18*E18,IF(AND(M18>0,N18>0),M18*N18,0)) -> 0 | P18: =IF(L18>0,L18,IF(E18>0,ROUNDUP(O18/E18,0),0)) -> 0 | Q18: =P18*K18 -> 0 | R18: 0 | S18: 0 | T18: 0 | U18: 0 | V18: 0 | W18: 0 | X18: 0 | Y18: 0 | Z18: 0 | AA18: 0 | AB18: 0 | AC18: 0 | AD18: =P18-SUM(R18:AC18) -> 0
A19: 10000015230 | B19: =IFERROR(_xlfn.XLOOKUP(A19,Catalog[MaterialCode],Catalog[Description],""),"") -> Flame Grilled Beef Burger | C19: =IFERROR(_xlfn.XLOOKUP(A19,Catalog[MaterialCode],Catalog[Commodity],""),"") -> 100154 / 100155 | D19: =IFERROR(_xlfn.XLOOKUP(A19,Catalog[MaterialCode],Catalog[NetCaseWeight_lbs],0),0) -> 30 | E19: =IFERROR(_xlfn.XLOOKUP(A19,Catalog[MaterialCode],Catalog[ServingsPerCase],0),0) -> 160 | F19: =IFERROR(_xlfn.XLOOKUP(A19,Catalog[MaterialCode],Catalog[ServingSize_oz],0),0) -> 3 | G19: =IFERROR(_xlfn.XLOOKUP(A19,Catalog[MaterialCode],Catalog[CSCPoints],0),0) -> 0 | H19: =IFERROR(_xlfn.XLOOKUP(A19,Catalog[MaterialCode],Catalog[CNPortion],0),0) -> 1 piece | I19: =IFERROR(_xlfn.XLOOKUP(A19,Catalog[MaterialCode],Catalog[MMA_oz],0),0) -> 3 | J19: =IFERROR(_xlfn.XLOOKUP(A19,Catalog[MaterialCode],Catalog[EqGrain_oz],0),0) -> 0 | K19: =IFERROR(_xlfn.XLOOKUP(A19,Catalog[MaterialCode],Catalog[BeefLbsDFperCase],0),0) -> 43.99 | L19: 0 | M19: 0 | N19: 0 | O19: =IF(L19>0,L19*E19,IF(AND(M19>0,N19>0),M19*N19,0)) -> 0 | P19: =IF(L19>0,L19,IF(E19>0,ROUNDUP(O19/E19,0),0)) -> 0 | Q19: =P19*K19 -> 0 | R19: 0 | S19: 0 | T19: 0 | U19: 0 | V19: 0 | W19: 0 | X19: 0 | Y19: 0 | Z19: 0 | AA19: 0 | AB19: 0 | AC19: 0 | AD19: =P19-SUM(R19:AC19) -> 0
A20: 10000015320 | B20: =IFERROR(_xlfn.XLOOKUP(A20,Catalog[MaterialCode],Catalog[Description],""),"") -> Flame Grilled Beef Burger | C20: =IFERROR(_xlfn.XLOOKUP(A20,Catalog[MaterialCode],Catalog[Commodity],""),"") -> 100154 / 100155 | D20: =IFERROR(_xlfn.XLOOKUP(A20,Catalog[MaterialCode],Catalog[NetCaseWeight_lbs],0),0) -> 31.41 | E20: =IFERROR(_xlfn.XLOOKUP(A20,Catalog[MaterialCode],Catalog[ServingsPerCase],0),0) -> 250 | F20: =IFERROR(_xlfn.XLOOKUP(A20,Catalog[MaterialCode],Catalog[ServingSize_oz],0),0) -> 2.01 | G20: =IFERROR(_xlfn.XLOOKUP(A20,Catalog[MaterialCode],Catalog[CSCPoints],0),0) -> 30 | H20: =IFERROR(_xlfn.XLOOKUP(A20,Catalog[MaterialCode],Catalog[CNPortion],0),0) -> 1 piece | I20: =IFERROR(_xlfn.XLOOKUP(A20,Catalog[MaterialCode],Catalog[MMA_oz],0),0) -> 2 | J20: =IFERROR(_xlfn.XLOOKUP(A20,Catalog[MaterialCode],Catalog[EqGrain_oz],0),0) -> 0 | K20: =IFERROR(_xlfn.XLOOKUP(A20,Catalog[MaterialCode],Catalog[BeefLbsDFperCase],0),0) -> 45.52 | L20: 0 | M20: 0 | N20: 0 | O20: =IF(L20>0,L20*E20,IF(AND(M20>0,N20>0),M20*N20,0)) -> 0 | P20: =IF(L20>0,L20,IF(E20>0,ROUNDUP(O20/E20,0),0)) -> 0 | Q20: =P20*K20 -> 0 | R20: 0 | S20: 0 | T20: 0 | U20: 0 | V20: 0 | W20: 0 | X20: 0 | Y20: 0 | Z20: 0 | AA20: 0 | AB20: 0 | AC20: 0 | AD20: =P20-SUM(R20:AC20) -> 0
A21: 10000015327 | B21: =IFERROR(_xlfn.XLOOKUP(A21,Catalog[MaterialCode],Catalog[Description],""),"") -> Flame Grilled Beef Burger | C21: =IFERROR(_xlfn.XLOOKUP(A21,Catalog[MaterialCode],Catalog[Commodity],""),"") -> 100154 / 100155 | D21: =IFERROR(_xlfn.XLOOKUP(A21,Catalog[MaterialCode],Catalog[NetCaseWeight_lbs],0),0) -> 29.53 | E21: =IFERROR(_xlfn.XLOOKUP(A21,Catalog[MaterialCode],Catalog[ServingsPerCase],0),0) -> 175 | F21: =IFERROR(_xlfn.XLOOKUP(A21,Catalog[MaterialCode],Catalog[ServingSize_oz],0),0) -> 2.7 | G21: =IFERROR(_xlfn.XLOOKUP(A21,Catalog[MaterialCode],Catalog[CSCPoints],0),0) -> 0 | H21: =IFERROR(_xlfn.XLOOKUP(A21,Catalog[MaterialCode],Catalog[CNPortion],0),0) -> 1 piece | I21: =IFERROR(_xlfn.XLOOKUP(A21,Catalog[MaterialCode],Catalog[MMA_oz],0),0) -> 2.5 | J21: =IFERROR(_xlfn.XLOOKUP(A21,Catalog[MaterialCode],Catalog[EqGrain_oz],0),0) -> 0 | K21: =IFERROR(_xlfn.XLOOKUP(A21,Catalog[MaterialCode],Catalog[BeefLbsDFperCase],0),0) -> 42.79 | L21: 0 | M21: 0 | N21: 0 | O21: =IF(L21>0,L21*E21,IF(AND(M21>0,N21>0),M21*N21,0)) -> 0 | P21: =IF(L21>0,L21,IF(E21>0,ROUNDUP(O21/E21,0),0)) -> 0 | Q21: =P21*K21 -> 0 | R21: 0 | S21: 0 | T21: 0 | U21: 0 | V21: 0 | W21: 0 | X21: 0 | Y21: 0 | Z21: 0 | AA21: 0 | AB21: 0 | AC21: 0 | AD21: =P21-SUM(R21:AC21) -> 0
A22: 10000015924 | B22: =IFERROR(_xlfn.XLOOKUP(A22,Catalog[MaterialCode],Catalog[Description],""),"") -> Flame Grilled Beef Burger | C22: =IFERROR(_xlfn.XLOOKUP(A22,Catalog[MaterialCode],Catalog[Commodity],""),"") -> 100154 / 100155 | D22: =IFERROR(_xlfn.XLOOKUP(A22,Catalog[MaterialCode],Catalog[NetCaseWeight_lbs],0),0) -> 30 | E22: =IFERROR(_xlfn.XLOOKUP(A22,Catalog[MaterialCode],Catalog[ServingsPerCase],0),0) -> 200 | F22: =IFERROR(_xlfn.XLOOKUP(A22,Catalog[MaterialCode],Catalog[ServingSize_oz],0),0) -> 2.4 | G22: =IFERROR(_xlfn.XLOOKUP(A22,Catalog[MaterialCode],Catalog[CSCPoints],0),0) -> 0 | H22: =IFERROR(_xlfn.XLOOKUP(A22,Catalog[MaterialCode],Catalog[CNPortion],0),0) -> 1 piece | I22: =IFERROR(_xlfn.XLOOKUP(A22,Catalog[MaterialCode],Catalog[MMA_oz],0),0) -> 2.25 | J22: =IFERROR(_xlfn.XLOOKUP(A22,Catalog[MaterialCode],Catalog[EqGrain_oz],0),0) -> 0 | K22: =IFERROR(_xlfn.XLOOKUP(A22,Catalog[MaterialCode],Catalog[BeefLbsDFperCase],0),0) -> 43.47 | L22: 0 | M22: 0 | N22: 0 | O22: =IF(L22>0,L22*E22,IF(AND(M22>0,N22>0),M22*N22,0)) -> 0 | P22: =IF(L22>0,L22,IF(E22>0,ROUNDUP(O22/E22,0),0)) -> 0 | Q22: =P22*K22 -> 0 | R22: 0 | S22: 0 | T22: 0 | U22: 0 | V22: 0 | W22: 0 | X22: 0 | Y22: 0 | Z22: 0 | AA22: 0 | AB22: 0 | AC22: 0 | AD22: =P22-SUM(R22:AC22) -> 0
A23: 10000015932 | B23: =IFERROR(_xlfn.XLOOKUP(A23,Catalog[MaterialCode],Catalog[Description],""),"") -> Flame Grilled Beef Burger | C23: =IFERROR(_xlfn.XLOOKUP(A23,Catalog[MaterialCode],Catalog[Commodity],""),"") -> 100154 / 100155 | D23: =IFERROR(_xlfn.XLOOKUP(A23,Catalog[MaterialCode],Catalog[NetCaseWeight_lbs],0),0) -> 30 | E23: =IFERROR(_xlfn.XLOOKUP(A23,Catalog[MaterialCode],Catalog[ServingsPerCase],0),0) -> 160 | F23: =IFERROR(_xlfn.XLOOKUP(A23,Catalog[MaterialCode],Catalog[ServingSize_oz],0),0) -> 3 | G23: =IFERROR(_xlfn.XLOOKUP(A23,Catalog[MaterialCode],Catalog[CSCPoints],0),0) -> 0 | H23: =IFERROR(_xlfn.XLOOKUP(A23,Catalog[MaterialCode],Catalog[CNPortion],0),0) -> 1 piece | I23: =IFERROR(_xlfn.XLOOKUP(A23,Catalog[MaterialCode],Catalog[MMA_oz],0),0) -> 2.75 | J23: =IFERROR(_xlfn.XLOOKUP(A23,Catalog[MaterialCode],Catalog[EqGrain_oz],0),0) -> 0 | K23: =IFERROR(_xlfn.XLOOKUP(A23,Catalog[MaterialCode],Catalog[BeefLbsDFperCase],0),0) -> 43.04 | L23: 0 | M23: 0 | N23: 0 | O23: =IF(L23>0,L23*E23,IF(AND(M23>0,N23>0),M23*N23,0)) -> 0 | P23: =IF(L23>0,L23,IF(E23>0,ROUNDUP(O23/E23,0),0)) -> 0 | Q23: =P23*K23 -> 0 | R23: 0 | S23: 0 | T23: 0 | U23: 0 | V23: 0 | W23: 0 | X23: 0 | Y23: 0 | Z23: 0 | AA23: 0 | AB23: 0 | AC23: 0 | AD23: =P23-SUM(R23:AC23) -> 0
A24: 10000037344 | B24: =IFERROR(_xlfn.XLOOKUP(A24,Catalog[MaterialCode],Catalog[Description],""),"") -> Loaded Cheeseburger Mini Patties | C24: =IFERROR(_xlfn.XLOOKUP(A24,Catalog[MaterialCode],Catalog[Commodity],""),"") -> 100154 / 100155 | D24: =IFERROR(_xlfn.XLOOKUP(A24,Catalog[MaterialCode],Catalog[NetCaseWeight_lbs],0),0) -> 28.51 | E24: =IFERROR(_xlfn.XLOOKUP(A24,Catalog[MaterialCode],Catalog[ServingsPerCase],0),0) -> 343 | F24: =IFERROR(_xlfn.XLOOKUP(A24,Catalog[MaterialCode],Catalog[ServingSize_oz],0),0) -> 1.33 | G24: =IFERROR(_xlfn.XLOOKUP(A24,Catalog[MaterialCode],Catalog[CSCPoints],0),0) -> 0 | H24: =IFERROR(_xlfn.XLOOKUP(A24,Catalog[MaterialCode],Catalog[CNPortion],0),0) -> 1 piece | I24: =IFERROR(_xlfn.XLOOKUP(A24,Catalog[MaterialCode],Catalog[MMA_oz],0),0) -> 1 | J24: =IFERROR(_xlfn.XLOOKUP(A24,Catalog[MaterialCode],Catalog[EqGrain_oz],0),0) -> 0 | K24: =IFERROR(_xlfn.XLOOKUP(A24,Catalog[MaterialCode],Catalog[BeefLbsDFperCase],0),0) -> 21.77 | L24: 0 | M24: 0 | N24: 0 | O24: =IF(L24>0,L24*E24,IF(AND(M24>0,N24>0),M24*N24,0)) -> 0 | P24: =IF(L24>0,L24,IF(E24>0,ROUNDUP(O24/E24,0),0)) -> 0 | Q24: =P24*K24 -> 0 | R24: 0 | S24: 0 | T24: 0 | U24: 0 | V24: 0 | W24: 0 | X24: 0 | Y24: 0 | Z24: 0 | AA24: 0 | AB24: 0 | AC24: 0 | AD24: =P24-SUM(R24:AC24) -> 0
A25: 10000037600 | B25: =IFERROR(_xlfn.XLOOKUP(A25,Catalog[MaterialCode],Catalog[Description],""),"") -> Flame Grilled Gluten Free Chopped Beef Burger | C25: =IFERROR(_xlfn.XLOOKUP(A25,Catalog[MaterialCode],Catalog[Commodity],""),"") -> 100154 / 100155 | D25: =IFERROR(_xlfn.XLOOKUP(A25,Catalog[MaterialCode],Catalog[NetCaseWeight_lbs],0),0) -> 20.13 | E25: =IFERROR(_xlfn.XLOOKUP(A25,Catalog[MaterialCode],Catalog[ServingsPerCase],0),0) -> 140 | F25: =IFERROR(_xlfn.XLOOKUP(A25,Catalog[MaterialCode],Catalog[ServingSize_oz],0),0) -> 2.3 | G25: =IFERROR(_xlfn.XLOOKUP(A25,Catalog[MaterialCode],Catalog[CSCPoints],0),0) -> 0 | H25: =IFERROR(_xlfn.XLOOKUP(A25,Catalog[MaterialCode],Catalog[CNPortion],0),0) -> 1 piece | I25: =IFERROR(_xlfn.XLOOKUP(A25,Catalog[MaterialCode],Catalog[MMA_oz],0),0) -> 2 | J25: =IFERROR(_xlfn.XLOOKUP(A25,Catalog[MaterialCode],Catalog[EqGrain_oz],0),0) -> 0 | K25: =IFERROR(_xlfn.XLOOKUP(A25,Catalog[MaterialCode],Catalog[BeefLbsDFperCase],0),0) -> 25.36 | L25: 0 | M25: 0 | N25: 0 | O25: =IF(L25>0,L25*E25,IF(AND(M25>0,N25>0),M25*N25,0)) -> 0 | P25: =IF(L25>0,L25,IF(E25>0,ROUNDUP(O25/E25,0),0)) -> 0 | Q25: =P25*K25 -> 0 | R25: 0 | S25: 0 | T25: 0 | U25: 0 | V25: 0 | W25: 0 | X25: 0 | Y25: 0 | Z25: 0 | AA25: 0 | AB25: 0 | AC25: 0 | AD25: =P25-SUM(R25:AC25) -> 0
... A41: 10000096694 | B41: =IFERROR(_xlfn.XLOOKUP(A41,Catalog[MaterialCode],Catalog[Description],""),"") -> Breaded Beef Fingers | C41: =IFERROR(_xlfn.XLOOKUP(A41,Catalog[MaterialCode],Catalog[Commodity],""),"") -> 100154 / 100155 | D41: =IFERROR(_xlfn.XLOOKUP(A41,Catalog[MaterialCode],Catalog[NetCaseWeight_lbs],0),0) -> 29.93 | E41: =IFERROR(_xlfn.XLOOKUP(A41,Catalog[MaterialCode],Catalog[ServingsPerCase],0),0) -> 133 | F41: =IFERROR(_xlfn.XLOOKUP(A41,Catalog[MaterialCode],Catalog[ServingSize_oz],0),0) -> 3.6 | G41: =IFERROR(_xlfn.XLOOKUP(A41,Catalog[MaterialCode],Catalog[CSCPoints],0),0) -> 0 | H41: =IFERROR(_xlfn.XLOOKUP(A41,Catalog[MaterialCode],Catalog[CNPortion],0),0) -> 4 pieces | I41: =IFERROR(_xlfn.XLOOKUP(A41,Catalog[MaterialCode],Catalog[MMA_oz],0),0) -> 2 | J41: =IFERROR(_xlfn.XLOOKUP(A41,Catalog[MaterialCode],Catalog[EqGrain_oz],0),0) -> 1 | K41: =IFERROR(_xlfn.XLOOKUP(A41,Catalog[MaterialCode],Catalog[BeefLbsDFperCase],0),0) -> 24.23 | L41: 0 | M41: 0 | N41: 0 | O41: =IF(L41>0,L41*E41,IF(AND(M41>0,N41>0),M41*N41,0)) -> 0 | P41: =IF(L41>0,L41,IF(E41>0,ROUNDUP(O41/E41,0),0)) -> 0 | Q41: =P41*K41 -> 0 | R41: 0 | S41: 0 | T41: 0 | U41: 0 | V41: 0 | W41: 0 | X41: 0 | Y41: 0 | Z41: 0 | AA41: 0 | AB41: 0 | AC41: 0 | AD41: =P41-SUM(R41:AC41) -> 0
A42: 10000097370 | B42: =IFERROR(_xlfn.XLOOKUP(A42,Catalog[MaterialCode],Catalog[Description],""),"") -> Fine Beef Crumbles | C42: =IFERROR(_xlfn.XLOOKUP(A42,Catalog[MaterialCode],Catalog[Commodity],""),"") -> 100154 / 100155 | D42: =IFERROR(_xlfn.XLOOKUP(A42,Catalog[MaterialCode],Catalog[NetCaseWeight_lbs],0),0) -> 40 | E42: =IFERROR(_xlfn.XLOOKUP(A42,Catalog[MaterialCode],Catalog[ServingsPerCase],0),0) -> 256 | F42: =IFERROR(_xlfn.XLOOKUP(A42,Catalog[MaterialCode],Catalog[ServingSize_oz],0),0) -> 2.5 | G42: =IFERROR(_xlfn.XLOOKUP(A42,Catalog[MaterialCode],Catalog[CSCPoints],0),0) -> 0 | H42: =IFERROR(_xlfn.XLOOKUP(A42,Catalog[MaterialCode],Catalog[CNPortion],0),0) -> 2.5 oz. | I42: =IFERROR(_xlfn.XLOOKUP(A42,Catalog[MaterialCode],Catalog[MMA_oz],0),0) -> 2 | J42: =IFERROR(_xlfn.XLOOKUP(A42,Catalog[MaterialCode],Catalog[EqGrain_oz],0),0) -> 0 | K42: 32.28 | L42: 0 | M42: 0 | N42: 0 | O42: =IF(L42>0,L42*E42,IF(AND(M42>0,N42>0),M42*N42,0)) -> 0 | P42: =IF(L42>0,L42,IF(E42>0,ROUNDUP(O42/E42,0),0)) -> 0 | Q42: =P42*K42 -> 0 | R42: 0 | S42: 0 | T42: 0 | U42: 0 | V42: 0 | W42: 0 | X42: 0 | Y42: 0 | Z42: 0 | AA42: 0 | AB42: 0 | AC42: 0 | AD42: =P42-SUM(R42:AC42) -> 0
A43: 10000097689 | B43: =IFERROR(_xlfn.XLOOKUP(A43,Catalog[MaterialCode],Catalog[Description],""),"") -> All Natural** Beef Meatball | C43: =IFERROR(_xlfn.XLOOKUP(A43,Catalog[MaterialCode],Catalog[Commodity],""),"") -> 100154 / 100155 | D43: =IFERROR(_xlfn.XLOOKUP(A43,Catalog[MaterialCode],Catalog[NetCaseWeight_lbs],0),0) -> 30 | E43: =IFERROR(_xlfn.XLOOKUP(A43,Catalog[MaterialCode],Catalog[ServingsPerCase],0),0) -> 152 | F43: =IFERROR(_xlfn.XLOOKUP(A43,Catalog[MaterialCode],Catalog[ServingSize_oz],0),0) -> 3.15 | G43: =IFERROR(_xlfn.XLOOKUP(A43,Catalog[MaterialCode],Catalog[CSCPoints],0),0) -> 30 | H43: =IFERROR(_xlfn.XLOOKUP(A43,Catalog[MaterialCode],Catalog[CNPortion],0),0) -> 3 pieces | I43: =IFERROR(_xlfn.XLOOKUP(A43,Catalog[MaterialCode],Catalog[MMA_oz],0),0) -> 2 | J43: =IFERROR(_xlfn.XLOOKUP(A43,Catalog[MaterialCode],Catalog[EqGrain_oz],0),0) -> 0 | K43: =IFERROR(_xlfn.XLOOKUP(A43,Catalog[MaterialCode],Catalog[BeefLbsDFperCase],0),0) -> 25.87 | L43: 0 | M43: 0 | N43: 0 | O43: =IF(L43>0,L43*E43,IF(AND(M43>0,N43>0),M43*N43,0)) -> 0 | P43: =IF(L43>0,L43,IF(E43>0,ROUNDUP(O43/E43,0),0)) -> 0 | Q43: =P43*K43 -> 0 | R43: 0 | S43: 0 | T43: 0 | U43: 0 | V43: 0 | W43: 0 | X43: 0 | Y43: 0 | Z43: 0 | AA43: 0 | AB43: 0 | AC43: 0 | AD43: =P43-SUM(R43:AC43) -> 0
A44: 10000097886 | B44: =IFERROR(_xlfn.XLOOKUP(A44,Catalog[MaterialCode],Catalog[Description],""),"") -> Breaded Beef Fingers | C44: =IFERROR(_xlfn.XLOOKUP(A44,Catalog[MaterialCode],Catalog[Commodity],""),"") -> 100154 / 100155 | D44: =IFERROR(_xlfn.XLOOKUP(A44,Catalog[MaterialCode],Catalog[NetCaseWeight_lbs],0),0) -> 30.31 | E44: =IFERROR(_xlfn.XLOOKUP(A44,Catalog[MaterialCode],Catalog[ServingsPerCase],0),0) -> 125 | F44: =IFERROR(_xlfn.XLOOKUP(A44,Catalog[MaterialCode],Catalog[ServingSize_oz],0),0) -> 3.88 | G44: =IFERROR(_xlfn.XLOOKUP(A44,Catalog[MaterialCode],Catalog[CSCPoints],0),0) -> 30 | H44: =IFERROR(_xlfn.XLOOKUP(A44,Catalog[MaterialCode],Catalog[CNPortion],0),0) -> 4 pieces | I44: =IFERROR(_xlfn.XLOOKUP(A44,Catalog[MaterialCode],Catalog[MMA_oz],0),0) -> 2 | J44: =IFERROR(_xlfn.XLOOKUP(A44,Catalog[MaterialCode],Catalog[EqGrain_oz],0),0) -> 1 | K44: =IFERROR(_xlfn.XLOOKUP(A44,Catalog[MaterialCode],Catalog[BeefLbsDFperCase],0),0) -> 15.44 | L44: 0 | M44: 0 | N44: 0 | O44: =IF(L44>0,L44*E44,IF(AND(M44>0,N44>0),M44*N44,0)) -> 0 | P44: =IF(L44>0,L44,IF(E44>0,ROUNDUP(O44/E44,0),0)) -> 0 | Q44: =P44*K44 -> 0 | R44: 0 | S44: 0 | T44: 0 | U44: 0 | V44: 0 | W44: 0 | X44: 0 | Y44: 0 | Z44: 0 | AA44: 0 | AB44: 0 | AC44: 0 | AD44: =P44-SUM(R44:AC44) -> 0
B45: =IFERROR(_xlfn.XLOOKUP(A45,Catalog[MaterialCode],Catalog[Description],""),"") | C45: =IFERROR(_xlfn.XLOOKUP(A45,Catalog[MaterialCode],Catalog[Commodity],""),"") | D45: =IFERROR(_xlfn.XLOOKUP(A45,Catalog[MaterialCode],Catalog[NetCaseWeight_lbs],0),0) -> 0 | E45: =IFERROR(_xlfn.XLOOKUP(A45,Catalog[MaterialCode],Catalog[ServingsPerCase],0),0) -> 0 | F45: =IFERROR(_xlfn.XLOOKUP(A45,Catalog[MaterialCode],Catalog[ServingSize_oz],0),0) -> 0 | G45: =IFERROR(_xlfn.XLOOKUP(A45,Catalog[MaterialCode],Catalog[CSCPoints],0),0) -> 0 | H45: =IFERROR(_xlfn.XLOOKUP(A45,Catalog[MaterialCode],Catalog[CNPortion],0),0) -> 0 | I45: =IFERROR(_xlfn.XLOOKUP(A45,Catalog[MaterialCode],Catalog[MMA_oz],0),0) -> 0 | J45: =IFERROR(_xlfn.XLOOKUP(A45,Catalog[MaterialCode],Catalog[EqGrain_oz],0),0) -> 0 | K45: =IFERROR(_xlfn.XLOOKUP(A45,Catalog[MaterialCode],Catalog[BeefLbsDFperCase],0),0) -> 0 | L45: 0 | M45: 0 | N45: 0 | O45: =IF(L45>0,L45*E45,IF(AND(M45>0,N45>0),M45*N45,0)) -> 0 | P45: =IF(L45>0,L45,IF(E45>0,ROUNDUP(O45/E45,0),0)) -> 0 | Q45: =P45*K45 -> 0 | R45: 0 | S45: 0 | T45: 0 | U45: 0 | V45: 0 | W45: 0 | X45: 0 | Y45: 0 | Z45: 0 | AA45: 0 | AB45: 0 | AC45: 0 | AD45: =P45-SUM(R45:AC45) -> 0
B46: =IFERROR(_xlfn.XLOOKUP(A46,Catalog[MaterialCode],Catalog[Description],""),"") | C46: =IFERROR(_xlfn.XLOOKUP(A46,Catalog[MaterialCode],Catalog[Commodity],""),"") | D46: =IFERROR(_xlfn.XLOOKUP(A46,Catalog[MaterialCode],Catalog[NetCaseWeight_lbs],0),0) -> 0 | E46: =IFERROR(_xlfn.XLOOKUP(A46,Catalog[MaterialCode],Catalog[ServingsPerCase],0),0) -> 0 | F46: =IFERROR(_xlfn.XLOOKUP(A46,Catalog[MaterialCode],Catalog[ServingSize_oz],0),0) -> 0 | G46: =IFERROR(_xlfn.XLOOKUP(A46,Catalog[MaterialCode],Catalog[CSCPoints],0),0) -> 0 | H46: =IFERROR(_xlfn.XLOOKUP(A46,Catalog[MaterialCode],Catalog[CNPortion],0),0) -> 0 | I46: =IFERROR(_xlfn.XLOOKUP(A46,Catalog[MaterialCode],Catalog[MMA_oz],0),0) -> 0 | J46: =IFERROR(_xlfn.XLOOKUP(A46,Catalog[MaterialCode],Catalog[EqGrain_oz],0),0) -> 0 | K46: =IFERROR(_xlfn.XLOOKUP(A46,Catalog[MaterialCode],Catalog[BeefLbsDFperCase],0),0) -> 0 | L46: 0 | M46: 0 | N46: 0 | O46: =IF(L46>0,L46*E46,IF(AND(M46>0,N46>0),M46*N46,0)) -> 0 | P46: =IF(L46>0,L46,IF(E46>0,ROUNDUP(O46/E46,0),0)) -> 0 | Q46: =P46*K46 -> 0 | R46: 0 | S46: 0 | T46: 0 | U46: 0 | V46: 0 | W46: 0 | X46: 0 | Y46: 0 | Z46: 0 | AA46: 0 | AB46: 0 | AC46: 0 | AD46: =P46-SUM(R46:AC46) -> 0
B47: =IFERROR(_xlfn.XLOOKUP(A47,Catalog[MaterialCode],Catalog[Description],""),"") | C47: =IFERROR(_xlfn.XLOOKUP(A47,Catalog[MaterialCode],Catalog[Commodity],""),"") | D47: =IFERROR(_xlfn.XLOOKUP(A47,Catalog[MaterialCode],Catalog[NetCaseWeight_lbs],0),0) -> 0 | E47: =IFERROR(_xlfn.XLOOKUP(A47,Catalog[MaterialCode],Catalog[ServingsPerCase],0),0) -> 0 | F47: =IFERROR(_xlfn.XLOOKUP(A47,Catalog[MaterialCode],Catalog[ServingSize_oz],0),0) -> 0 | G47: =IFERROR(_xlfn.XLOOKUP(A47,Catalog[MaterialCode],Catalog[CSCPoints],0),0) -> 0 | H47: =IFERROR(_xlfn.XLOOKUP(A47,Catalog[MaterialCode],Catalog[CNPortion],0),0) -> 0 | I47: =IFERROR(_xlfn.XLOOKUP(A47,Catalog[MaterialCode],Catalog[MMA_oz],0),0) -> 0 | J47: =IFERROR(_xlfn.XLOOKUP(A47,Catalog[MaterialCode],Catalog[EqGrain_oz],0),0) -> 0 | K47: =IFERROR(_xlfn.XLOOKUP(A47,Catalog[MaterialCode],Catalog[BeefLbsDFperCase],0),0) -> 0 | L47: 0 | M47: 0 | N47: 0 | O47: =IF(L47>0,L47*E47,IF(AND(M47>0,N47>0),M47*N47,0)) -> 0 | P47: =IF(L47>0,L47,IF(E47>0,ROUNDUP(O47/E47,0),0)) -> 0 | Q47: =P47*K47 -> 0 | R47: 0 | S47: 0 | T47: 0 | U47: 0 | V47: 0 | W47: 0 | X47: 0 | Y47: 0 | Z47: 0 | AA47: 0 | AB47: 0 | AC47: 0 | AD47: =P47-SUM(R47:AC47) -> 0
B48: =IFERROR(_xlfn.XLOOKUP(A48,Catalog[MaterialCode],Catalog[Description],""),"") | C48: =IFERROR(_xlfn.XLOOKUP(A48,Catalog[MaterialCode],Catalog[Commodity],""),"") | D48: =IFERROR(_xlfn.XLOOKUP(A48,Catalog[MaterialCode],Catalog[NetCaseWeight_lbs],0),0) -> 0 | E48: =IFERROR(_xlfn.XLOOKUP(A48,Catalog[MaterialCode],Catalog[ServingsPerCase],0),0) -> 0 | F48: =IFERROR(_xlfn.XLOOKUP(A48,Catalog[MaterialCode],Catalog[ServingSize_oz],0),0) -> 0 | G48: =IFERROR(_xlfn.XLOOKUP(A48,Catalog[MaterialCode],Catalog[CSCPoints],0),0) -> 0 | H48: =IFERROR(_xlfn.XLOOKUP(A48,Catalog[MaterialCode],Catalog[CNPortion],0),0) -> 0 | I48: =IFERROR(_xlfn.XLOOKUP(A48,Catalog[MaterialCode],Catalog[MMA_oz],0),0) -> 0 | J48: =IFERROR(_xlfn.XLOOKUP(A48,Catalog[MaterialCode],Catalog[EqGrain_oz],0),0) -> 0 | K48: =IFERROR(_xlfn.XLOOKUP(A48,Catalog[MaterialCode],Catalog[BeefLbsDFperCase],0),0) -> 0 | L48: 0 | M48: 0 | N48: 0 | O48: =IF(L48>0,L48*E48,IF(AND(M48>0,N48>0),M48*N48,0)) -> 0 | P48: =IF(L48>0,L48,IF(E48>0,ROUNDUP(O48/E48,0),0)) -> 0 | Q48: =P48*K48 -> 0 | R48: 0 | S48: 0 | T48: 0 | U48: 0 | V48: 0 | W48: 0 | X48: 0 | Y48: 0 | Z48: 0 | AA48: 0 | AB48: 0 | AC48: 0 | AD48: =P48-SUM(R48:AC48) -> 0
B49: =IFERROR(_xlfn.XLOOKUP(A49,Catalog[MaterialCode],Catalog[Description],""),"") | C49: =IFERROR(_xlfn.XLOOKUP(A49,Catalog[MaterialCode],Catalog[Commodity],""),"") | D49: =IFERROR(_xlfn.XLOOKUP(A49,Catalog[MaterialCode],Catalog[NetCaseWeight_lbs],0),0) -> 0 | E49: =IFERROR(_xlfn.XLOOKUP(A49,Catalog[MaterialCode],Catalog[ServingsPerCase],0),0) -> 0 | F49: =IFERROR(_xlfn.XLOOKUP(A49,Catalog[MaterialCode],Catalog[ServingSize_oz],0),0) -> 0 | G49: =IFERROR(_xlfn.XLOOKUP(A49,Catalog[MaterialCode],Catalog[CSCPoints],0),0) -> 0 | H49: =IFERROR(_xlfn.XLOOKUP(A49,Catalog[MaterialCode],Catalog[CNPortion],0),0) -> 0 | I49: =IFERROR(_xlfn.XLOOKUP(A49,Catalog[MaterialCode],Catalog[MMA_oz],0),0) -> 0 | J49: =IFERROR(_xlfn.XLOOKUP(A49,Catalog[MaterialCode],Catalog[EqGrain_oz],0),0) -> 0 | K49: =IFERROR(_xlfn.XLOOKUP(A49,Catalog[MaterialCode],Catalog[BeefLbsDFperCase],0),0) -> 0 | L49: 0 | M49: 0 | N49: 0 | O49: =IF(L49>0,L49*E49,IF(AND(M49>0,N49>0),M49*N49,0)) -> 0 | P49: =IF(L49>0,L49,IF(E49>0,ROUNDUP(O49/E49,0),0)) -> 0 | Q49: =P49*K49 -> 0 | R49: 0 | S49: 0 | T49: 0 | U49: 0 | V49: 0 | W49: 0 | X49: 0 | Y49: 0 | Z49: 0 | AA49: 0 | AB49: 0 | AC49: 0 | AD49: =P49-SUM(R49:AC49) -> 0
B50: =IFERROR(_xlfn.XLOOKUP(A50,Catalog[MaterialCode],Catalog[Description],""),"") | C50: =IFERROR(_xlfn.XLOOKUP(A50,Catalog[MaterialCode],Catalog[Commodity],""),"") | D50: =IFERROR(_xlfn.XLOOKUP(A50,Catalog[MaterialCode],Catalog[NetCaseWeight_lbs],0),0) -> 0 | E50: =IFERROR(_xlfn.XLOOKUP(A50,Catalog[MaterialCode],Catalog[ServingsPerCase],0),0) -> 0 | F50: =IFERROR(_xlfn.XLOOKUP(A50,Catalog[MaterialCode],Catalog[ServingSize_oz],0),0) -> 0 | G50: =IFERROR(_xlfn.XLOOKUP(A50,Catalog[MaterialCode],Catalog[CSCPoints],0),0) -> 0 | H50: =IFERROR(_xlfn.XLOOKUP(A50,Catalog[MaterialCode],Catalog[CNPortion],0),0) -> 0 | I50: =IFERROR(_xlfn.XLOOKUP(A50,Catalog[MaterialCode],Catalog[MMA_oz],0),0) -> 0 | J50: =IFERROR(_xlfn.XLOOKUP(A50,Catalog[MaterialCode],Catalog[EqGrain_oz],0),0) -> 0 | K50: =IFERROR(_xlfn.XLOOKUP(A50,Catalog[MaterialCode],Catalog[BeefLbsDFperCase],0),0) -> 0 | L50: 0 | M50: 0 | N50: 0 | O50: =IF(L50>0,L50*E50,IF(AND(M50>0,N50>0),M50*N50,0)) -> 0 | P50: =IF(L50>0,L50,IF(E50>0,ROUNDUP(O50/E50,0),0)) -> 0 | Q50: =P50*K50 -> 0 | R50: 0 | S50: 0 | T50: 0 | U50: 0 | V50: 0 | W50: 0 | X50: 0 | Y50: 0 | Z50: 0 | AA50: 0 | AB50: 0 | AC50: 0 | AD50: =P50-SUM(R50:AC50) -> 0
B51: =IFERROR(_xlfn.XLOOKUP(A51,Catalog[MaterialCode],Catalog[Description],""),"") | C51: =IFERROR(_xlfn.XLOOKUP(A51,Catalog[MaterialCode],Catalog[Commodity],""),"") | D51: =IFERROR(_xlfn.XLOOKUP(A51,Catalog[MaterialCode],Catalog[NetCaseWeight_lbs],0),0) -> 0 | E51: =IFERROR(_xlfn.XLOOKUP(A51,Catalog[MaterialCode],Catalog[ServingsPerCase],0),0) -> 0 | F51: =IFERROR(_xlfn.XLOOKUP(A51,Catalog[MaterialCode],Catalog[ServingSize_oz],0),0) -> 0 | G51: =IFERROR(_xlfn.XLOOKUP(A51,Catalog[MaterialCode],Catalog[CSCPoints],0),0) -> 0 | H51: =IFERROR(_xlfn.XLOOKUP(A51,Catalog[MaterialCode],Catalog[CNPortion],0),0) -> 0 | I51: =IFERROR(_xlfn.XLOOKUP(A51,Catalog[MaterialCode],Catalog[MMA_oz],0),0) -> 0 | J51: =IFERROR(_xlfn.XLOOKUP(A51,Catalog[MaterialCode],Catalog[EqGrain_oz],0),0) -> 0 | K51: =IFERROR(_xlfn.XLOOKUP(A51,Catalog[MaterialCode],Catalog[BeefLbsDFperCase],0),0) -> 0 | L51: 0 | M51: 0 | N51: 0 | O51: =IF(L51>0,L51*E51,IF(AND(M51>0,N51>0),M51*N51,0)) -> 0 | P51: =IF(L51>0,L51,IF(E51>0,ROUNDUP(O51/E51,0),0)) -> 0 | Q51: =P51*K51 -> 0 | R51: 0 | S51: 0 | T51: 0 | U51: 0 | V51: 0 | W51: 0 | X51: 0 | Y51: 0 | Z51: 0 | AA51: 0 | AB51: 0 | AC51: 0 | AD51: =P51-SUM(R51:AC51) -> 0
B52: =IFERROR(_xlfn.XLOOKUP(A52,Catalog[MaterialCode],Catalog[Description],""),"") | C52: =IFERROR(_xlfn.XLOOKUP(A52,Catalog[MaterialCode],Catalog[Commodity],""),"") | D52: =IFERROR(_xlfn.XLOOKUP(A52,Catalog[MaterialCode],Catalog[NetCaseWeight_lbs],0),0) -> 0 | E52: =IFERROR(_xlfn.XLOOKUP(A52,Catalog[MaterialCode],Catalog[ServingsPerCase],0),0) -> 0 | F52: =IFERROR(_xlfn.XLOOKUP(A52,Catalog[MaterialCode],Catalog[ServingSize_oz],0),0) -> 0 | G52: =IFERROR(_xlfn.XLOOKUP(A52,Catalog[MaterialCode],Catalog[CSCPoints],0),0) -> 0 | H52: =IFERROR(_xlfn.XLOOKUP(A52,Catalog[MaterialCode],Catalog[CNPortion],0),0) -> 0 | I52: =IFERROR(_xlfn.XLOOKUP(A52,Catalog[MaterialCode],Catalog[MMA_oz],0),0) -> 0 | J52: =IFERROR(_xlfn.XLOOKUP(A52,Catalog[MaterialCode],Catalog[EqGrain_oz],0),0) -> 0 | K52: =IFERROR(_xlfn.XLOOKUP(A52,Catalog[MaterialCode],Catalog[BeefLbsDFperCase],0),0) -> 0 | L52: 0 | M52: 0 | N52: 0 | O52: =IF(L52>0,L52*E52,IF(AND(M52>0,N52>0),M52*N52,0)) -> 0 | P52: =IF(L52>0,L52,IF(E52>0,ROUNDUP(O52/E52,0),0)) -> 0 | Q52: =P52*K52 -> 0 | R52: 0 | S52: 0 | T52: 0 | U52: 0 | V52: 0 | W52: 0 | X52: 0 | Y52: 0 | Z52: 0 | AA52: 0 | AB52: 0 | AC52: 0 | AD52: =P52-SUM(R52:AC52) -> 0
B53: =IFERROR(_xlfn.XLOOKUP(A53,Catalog[MaterialCode],Catalog[Description],""),"") | C53: =IFERROR(_xlfn.XLOOKUP(A53,Catalog[MaterialCode],Catalog[Commodity],""),"") | D53: =IFERROR(_xlfn.XLOOKUP(A53,Catalog[MaterialCode],Catalog[NetCaseWeight_lbs],0),0) -> 0 | E53: =IFERROR(_xlfn.XLOOKUP(A53,Catalog[MaterialCode],Catalog[ServingsPerCase],0),0) -> 0 | F53: =IFERROR(_xlfn.XLOOKUP(A53,Catalog[MaterialCode],Catalog[ServingSize_oz],0),0) -> 0 | G53: =IFERROR(_xlfn.XLOOKUP(A53,Catalog[MaterialCode],Catalog[CSCPoints],0),0) -> 0 | H53: =IFERROR(_xlfn.XLOOKUP(A53,Catalog[MaterialCode],Catalog[CNPortion],0),0) -> 0 | I53: =IFERROR(_xlfn.XLOOKUP(A53,Catalog[MaterialCode],Catalog[MMA_oz],0),0) -> 0 | J53: =IFERROR(_xlfn.XLOOKUP(A53,Catalog[MaterialCode],Catalog[EqGrain_oz],0),0) -> 0 | K53: =IFERROR(_xlfn.XLOOKUP(A53,Catalog[MaterialCode],Catalog[BeefLbsDFperCase],0),0) -> 0 | L53: 0 | M53: 0 | N53: 0 | O53: =IF(L53>0,L53*E53,IF(AND(M53>0,N53>0),M53*N53,0)) -> 0 | P53: =IF(L53>0,L53,IF(E53>0,ROUNDUP(O53/E53,0),0)) -> 0 | Q53: =P53*K53 -> 0 | R53: 0 | S53: 0 | T53: 0 | U53: 0 | V53: 0 | W53: 0 | X53: 0 | Y53: 0 | Z53: 0 | AA53: 0 | AB53: 0 | AC53: 0 | AD53: =P53-SUM(R53:AC53) -> 0
B54: =IFERROR(_xlfn.XLOOKUP(A54,Catalog[MaterialCode],Catalog[Description],""),"") | C54: =IFERROR(_xlfn.XLOOKUP(A54,Catalog[MaterialCode],Catalog[Commodity],""),"") | D54: =IFERROR(_xlfn.XLOOKUP(A54,Catalog[MaterialCode],Catalog[NetCaseWeight_lbs],0),0) -> 0 | E54: =IFERROR(_xlfn.XLOOKUP(A54,Catalog[MaterialCode],Catalog[ServingsPerCase],0),0) -> 0 | F54: =IFERROR(_xlfn.XLOOKUP(A54,Catalog[MaterialCode],Catalog[ServingSize_oz],0),0) -> 0 | G54: =IFERROR(_xlfn.XLOOKUP(A54,Catalog[MaterialCode],Catalog[CSCPoints],0),0) -> 0 | H54: =IFERROR(_xlfn.XLOOKUP(A54,Catalog[MaterialCode],Catalog[CNPortion],0),0) -> 0 | I54: =IFERROR(_xlfn.XLOOKUP(A54,Catalog[MaterialCode],Catalog[MMA_oz],0),0) -> 0 | J54: =IFERROR(_xlfn.XLOOKUP(A54,Catalog[MaterialCode],Catalog[EqGrain_oz],0),0) -> 0 | K54: =IFERROR(_xlfn.XLOOKUP(A54,Catalog[MaterialCode],Catalog[BeefLbsDFperCase],0),0) -> 0 | L54: 0 | M54: 0 | N54: 0 | O54: =IF(L54>0,L54*E54,IF(AND(M54>0,N54>0),M54*N54,0)) -> 0 | P54: =IF(L54>0,L54,IF(E54>0,ROUNDUP(O54/E54,0),0)) -> 0 | Q54: =P54*K54 -> 0 | R54: 0 | S54: 0 | T54: 0 | U54: 0 | V54: 0 | W54: 0 | X54: 0 | Y54: 0 | Z54: 0 | AA54: 0 | AB54: 0 | AC54: 0 | AD54: =P54-SUM(R54:AC54) -> 0
B55: =IFERROR(_xlfn.XLOOKUP(A55,Catalog[MaterialCode],Catalog[Description],""),"") | C55: =IFERROR(_xlfn.XLOOKUP(A55,Catalog[MaterialCode],Catalog[Commodity],""),"") | D55: =IFERROR(_xlfn.XLOOKUP(A55,Catalog[MaterialCode],Catalog[NetCaseWeight_lbs],0),0) -> 0 | E55: =IFERROR(_xlfn.XLOOKUP(A55,Catalog[MaterialCode],Catalog[ServingsPerCase],0),0) -> 0 | F55: =IFERROR(_xlfn.XLOOKUP(A55,Catalog[MaterialCode],Catalog[ServingSize_oz],0),0) -> 0 | G55: =IFERROR(_xlfn.XLOOKUP(A55,Catalog[MaterialCode],Catalog[CSCPoints],0),0) -> 0 | H55: =IFERROR(_xlfn.XLOOKUP(A55,Catalog[MaterialCode],Catalog[CNPortion],0),0) -> 0 | I55: =IFERROR(_xlfn.XLOOKUP(A55,Catalog[MaterialCode],Catalog[MMA_oz],0),0) -> 0 | J55: =IFERROR(_xlfn.XLOOKUP(A55,Catalog[MaterialCode],Catalog[EqGrain_oz],0),0) -> 0 | K55: =IFERROR(_xlfn.XLOOKUP(A55,Catalog[MaterialCode],Catalog[BeefLbsDFperCase],0),0) -> 0 | L55: 0 | M55: 0 | N55: 0 | O55: =IF(L55>0,L55*E55,IF(AND(M55>0,N55>0),M55*N55,0)) -> 0 | P55: =IF(L55>0,L55,IF(E55>0,ROUNDUP(O55/E55,0),0)) -> 0 | Q55: =P55*K55 -> 0 | R55: 0 | S55: 0 | T55: 0 | U55: 0 | V55: 0 | W55: 0 | X55: 0 | Y55: 0 | Z55: 0 | AA55: 0 | AB55: 0 | AC55: 0 | AD55: =P55-SUM(R55:AC55) -> 0
B56: =IFERROR(_xlfn.XLOOKUP(A56,Catalog[MaterialCode],Catalog[Description],""),"") | C56: =IFERROR(_xlfn.XLOOKUP(A56,Catalog[MaterialCode],Catalog[Commodity],""),"") | D56: =IFERROR(_xlfn.XLOOKUP(A56,Catalog[MaterialCode],Catalog[NetCaseWeight_lbs],0),0) -> 0 | E56: =IFERROR(_xlfn.XLOOKUP(A56,Catalog[MaterialCode],Catalog[ServingsPerCase],0),0) -> 0 | F56: =IFERROR(_xlfn.XLOOKUP(A56,Catalog[MaterialCode],Catalog[ServingSize_oz],0),0) -> 0 | G56: =IFERROR(_xlfn.XLOOKUP(A56,Catalog[MaterialCode],Catalog[CSCPoints],0),0) -> 0 | H56: =IFERROR(_xlfn.XLOOKUP(A56,Catalog[MaterialCode],Catalog[CNPortion],0),0) -> 0 | I56: =IFERROR(_xlfn.XLOOKUP(A56,Catalog[MaterialCode],Catalog[MMA_oz],0),0) -> 0 | J56: =IFERROR(_xlfn.XLOOKUP(A56,Catalog[MaterialCode],Catalog[EqGrain_oz],0),0) -> 0 | K56: =IFERROR(_xlfn.XLOOKUP(A56,Catalog[MaterialCode],Catalog[BeefLbsDFperCase],0),0) -> 0 | L56: 0 | M56: 0 | N56: 0 | O56: =IF(L56>0,L56*E56,IF(AND(M56>0,N56>0),M56*N56,0)) -> 0 | P56: =IF(L56>0,L56,IF(E56>0,ROUNDUP(O56/E56,0),0)) -> 0 | Q56: =P56*K56 -> 0 | R56: 0 | S56: 0 | T56: 0 | U56: 0 | V56: 0 | W56: 0 | X56: 0 | Y56: 0 | Z56: 0 | AA56: 0 | AB56: 0 | AC56: 0 | AD56: =P56-SUM(R56:AC56) -> 0
... B109: =IFERROR(_xlfn.XLOOKUP(A109,Catalog[MaterialCode],Catalog[Description],""),"") | C109: =IFERROR(_xlfn.XLOOKUP(A109,Catalog[MaterialCode],Catalog[Commodity],""),"") | D109: =IFERROR(_xlfn.XLOOKUP(A109,Catalog[MaterialCode],Catalog[NetCaseWeight_lbs],0),0) -> 0 | E109: =IFERROR(_xlfn.XLOOKUP(A109,Catalog[MaterialCode],Catalog[ServingsPerCase],0),0) -> 0 | F109: =IFERROR(_xlfn.XLOOKUP(A109,Catalog[MaterialCode],Catalog[ServingSize_oz],0),0) -> 0 | G109: =IFERROR(_xlfn.XLOOKUP(A109,Catalog[MaterialCode],Catalog[CSCPoints],0),0) -> 0 | H109: =IFERROR(_xlfn.XLOOKUP(A109,Catalog[MaterialCode],Catalog[CNPortion],0),0) -> 0 | I109: =IFERROR(_xlfn.XLOOKUP(A109,Catalog[MaterialCode],Catalog[MMA_oz],0),0) -> 0 | J109: =IFERROR(_xlfn.XLOOKUP(A109,Catalog[MaterialCode],Catalog[EqGrain_oz],0),0) -> 0 | K109: =IFERROR(_xlfn.XLOOKUP(A109,Catalog[MaterialCode],Catalog[BeefLbsDFperCase],0),0) -> 0 | L109: 0 | M109: 0 | N109: 0 | O109: =IF(L109>0,L109*E109,IF(AND(M109>0,N109>0),M109*N109,0)) -> 0 | P109: =IF(L109>0,L109,IF(E109>0,ROUNDUP(O109/E109,0),0)) -> 0 | Q109: =P109*K109 -> 0 | R109: 0 | S109: 0 | T109: 0 | U109: 0 | V109: 0 | W109: 0 | X109: 0 | Y109: 0 | Z109: 0 | AA109: 0 | AB109: 0 | AC109: 0 | AD109: =P109-SUM(R109:AC109) -> 0
A111: Totals: | P111: =SUM(P11:P109) -> 0 | Q111: =SUM(Q11:Q109) -> 0 | AC111: =SUM(AD11:AD109) -> 0

Sheet Pork
A1: SY 26/27 Pork Commodity Calculator
A3: New Pork Diverted lbs | B3: 0 | D3: Utilization | E3: =IF(B5>0,(Q112)/B5, 0) -> 0
A4: Carryover lbs | B4: 0
A5: Total lbs Available | B5: =B3+B4 -> 0 | C5: Planned lbs | D5: =Q112 -> 0 | E5: Net lbs | F5: =B5-D5 -> 0
L9: Populate either Cases or ADP & Menu Frequency
A10: Material Code | B10: Description | C10: Commodity | D10: Net Case Weight (lbs) | E10: Servings Per Case | F10: Serving Size (oz) | G10: Cool School Points | H10: CN Portion | I10: M/MA (oz) | J10: Eq Grain (oz) | K10: Pork Lbs DF per Case | L10: Cases | M10: ADP | N10: Menu Frequency | O10: Total Servings | P10: Total Cases | Q10: Total Pork Lbs | R10: July | S10: August | T10: September | U10: October | V10: November | W10: December | X10: January | Y10: February | Z10: March | AA10: April | AB10: May | AC10: June | AD10: Cases Left To Forecast
A11: 10000013717 | B11: =IFERROR(_xlfn.XLOOKUP(A11,Catalog[MaterialCode],Catalog[Description],""),"") -> Smokie Grill® Pork Rib Pattie with Honey BBQ Sauce | C11: =IFERROR(_xlfn.XLOOKUP(A11,Catalog[MaterialCode],Catalog[Commodity],""),"") -> 100193 | D11: =IFERROR(_xlfn.XLOOKUP(A11,Catalog[MaterialCode],Catalog[NetCaseWeight_lbs],0),0) -> 20.25 | E11: =IFERROR(_xlfn.XLOOKUP(A11,Catalog[MaterialCode],Catalog[ServingsPerCase],0),0) -> 100 | F11: =IFERROR(_xlfn.XLOOKUP(A11,Catalog[MaterialCode],Catalog[ServingSize_oz],0),0) -> 3.25 | G11: =IFERROR(_xlfn.XLOOKUP(A11,Catalog[MaterialCode],Catalog[CSCPoints],0),0) -> 0 | H11: =IFERROR(_xlfn.XLOOKUP(A11,Catalog[MaterialCode],Catalog[CNPortion],0),0) -> 1 piece | I11: =IFERROR(_xlfn.XLOOKUP(A11,Catalog[MaterialCode],Catalog[MMA_oz],0),0) -> 2 | J11: =IFERROR(_xlfn.XLOOKUP(A11,Catalog[MaterialCode],Catalog[EqGrain_oz],0),0) -> 0 | K11: =IFERROR(_xlfn.XLOOKUP(A11,Catalog[MaterialCode],Catalog[PorkLbsDFperCase],0),0) -> 11.45 | L11: 0 | M11: 0 | N11: 0 | O11: =IF(L11>0,L11*E11,IF(AND(M11>0,N11>0),M11*N11,0)) -> 0 | P11: =IF(L11>0,L11,IF(E11>0,ROUNDUP(O11/E11,0),0)) -> 0 | Q11: =P11*K11 -> 0 | R11: 0 | S11: 0 | T11: 0 | U11: 0 | V11: 0 | W11: 0 | X11: 0 | Y11: 0 | Z11: 0 | AA11: 0 | AB11: 0 | AC11: 0 | AD11: =P11-SUM(R11:AC11) -> 0
A12: 10000016904 | B12: =IFERROR(_xlfn.XLOOKUP(A12,Catalog[MaterialCode],Catalog[Description],""),"") -> Breaded Pork Steak | C12: =IFERROR(_xlfn.XLOOKUP(A12,Catalog[MaterialCode],Catalog[Commodity],""),"") -> 100193 | D12: =IFERROR(_xlfn.XLOOKUP(A12,Catalog[MaterialCode],Catalog[NetCaseWeight_lbs],0),0) -> 20.45 | E12: =IFERROR(_xlfn.XLOOKUP(A12,Catalog[MaterialCode],Catalog[ServingsPerCase],0),0) -> 85 | F12: =IFERROR(_xlfn.XLOOKUP(A12,Catalog[MaterialCode],Catalog[ServingSize_oz],0),0) -> 3.85 | G12: =IFERROR(_xlfn.XLOOKUP(A12,Catalog[MaterialCode],Catalog[CSCPoints],0),0) -> 0 | H12: =IFERROR(_xlfn.XLOOKUP(A12,Catalog[MaterialCode],Catalog[CNPortion],0),0) -> 1 piece | I12: =IFERROR(_xlfn.XLOOKUP(A12,Catalog[MaterialCode],Catalog[MMA_oz],0),0) -> 2 | J12: =IFERROR(_xlfn.XLOOKUP(A12,Catalog[MaterialCode],Catalog[EqGrain_oz],0),0) -> 1 | K12: =IFERROR(_xlfn.XLOOKUP(A12,Catalog[MaterialCode],Catalog[PorkLbsDFperCase],0),0) -> 17.37 | L12: 0 | M12: 0 | N12: 0 | O12: =IF(L12>0,L12*E12,IF(AND(M12>0,N12>0),M12*N12,0)) -> 0 | P12: =IF(L12>0,L12,IF(E12>0,ROUNDUP(O12/E12,0),0)) -> 0 | Q12: =P12*K12 -> 0 | R12: 0 | S12: 0 | T12: 0 | U12: 0 | V12: 0 | W12: 0 | X12: 0 | Y12: 0 | Z12: 0 | AA12: 0 | AB12: 0 | AC12: 0 | AD12: =P12-SUM(R12:AC12) -> 0
A13: 10000029467 | B13: =IFERROR(_xlfn.XLOOKUP(A13,Catalog[MaterialCode],Catalog[Description],""),"") -> Pork Sausage Pattie | C13: =IFERROR(_xlfn.XLOOKUP(A13,Catalog[MaterialCode],Catalog[Commodity],""),"") -> 100193 | D13: =IFERROR(_xlfn.XLOOKUP(A13,Catalog[MaterialCode],Catalog[NetCaseWeight_lbs],0),0) -> 18.75 | E13: =IFERROR(_xlfn.XLOOKUP(A13,Catalog[MaterialCode],Catalog[ServingsPerCase],0),0) -> 250 | F13: =IFERROR(_xlfn.XLOOKUP(A13,Catalog[MaterialCode],Catalog[ServingSize_oz],0),0) -> 1.2 | G13: =IFERROR(_xlfn.XLOOKUP(A13,Catalog[MaterialCode],Catalog[CSCPoints],0),0) -> 25 | H13: =IFERROR(_xlfn.XLOOKUP(A13,Catalog[MaterialCode],Catalog[CNPortion],0),0) -> 1 piece | I13: =IFERROR(_xlfn.XLOOKUP(A13,Catalog[MaterialCode],Catalog[MMA_oz],0),0) -> 1 | J13: =IFERROR(_xlfn.XLOOKUP(A13,Catalog[MaterialCode],Catalog[EqGrain_oz],0),0) -> 0 | K13: =IFERROR(_xlfn.XLOOKUP(A13,Catalog[MaterialCode],Catalog[PorkLbsDFperCase],0),0) -> 22.83 | L13: 0 | M13: 0 | N13: 0 | O13: =IF(L13>0,L13*E13,IF(AND(M13>0,N13>0),M13*N13,0)) -> 0 | P13: =IF(L13>0,L13,IF(E13>0,ROUNDUP(O13/E13,0),0)) -> 0 | Q13: =P13*K13 -> 0 | R13: 0 | S13: 0 | T13: 0 | U13: 0 | V13: 0 | W13: 0 | X13: 0 | Y13: 0 | Z13: 0 | AA13: 0 | AB13: 0 | AC13: 0 | AD13: =P13-SUM(R13:AC13) -> 0
B14: =IFERROR(_xlfn.XLOOKUP(A14,Catalog[MaterialCode],Catalog[Description],""),"") | C14: =IFERROR(_xlfn.XLOOKUP(A14,Catalog[MaterialCode],Catalog[Commodity],""),"") | D14: =IFERROR(_xlfn.XLOOKUP(A14,Catalog[MaterialCode],Catalog[NetCaseWeight_lbs],0),0) -> 0 | E14: =IFERROR(_xlfn.XLOOKUP(A14,Catalog[MaterialCode],Catalog[ServingsPerCase],0),0) -> 0 | F14: =IFERROR(_xlfn.XLOOKUP(A14,Catalog[MaterialCode],Catalog[ServingSize_oz],0),0) -> 0 | G14: =IFERROR(_xlfn.XLOOKUP(A14,Catalog[MaterialCode],Catalog[CSCPoints],0),0) -> 0 | H14: =IFERROR(_xlfn.XLOOKUP(A14,Catalog[MaterialCode],Catalog[CNPortion],0),0) -> 0 | I14: =IFERROR(_xlfn.XLOOKUP(A14,Catalog[MaterialCode],Catalog[MMA_oz],0),0) -> 0 | J14: =IFERROR(_xlfn.XLOOKUP(A14,Catalog[MaterialCode],Catalog[EqGrain_oz],0),0) -> 0 | K14: =IFERROR(_xlfn.XLOOKUP(A14,Catalog[MaterialCode],Catalog[PorkLbsDFperCase],0),0) -> 0 | L14: 0 | M14: 0 | N14: 0 | O14: =IF(L14>0,L14*E14,IF(AND(M14>0,N14>0),M14*N14,0)) -> 0 | P14: =IF(L14>0,L14,IF(E14>0,ROUNDUP(O14/E14,0),0)) -> 0 | Q14: =P14*K14 -> 0 | R14: 0 | S14: 0 | T14: 0 | U14: 0 | V14: 0 | W14: 0 | X14: 0 | Y14: 0 | Z14: 0 | AA14: 0 | AB14: 0 | AC14: 0 | AD14: =P14-SUM(R14:AC14) -> 0
B15: =IFERROR(_xlfn.XLOOKUP(A15,Catalog[MaterialCode],Catalog[Description],""),"") | C15: =IFERROR(_xlfn.XLOOKUP(A15,Catalog[MaterialCode],Catalog[Commodity],""),"") | D15: =IFERROR(_xlfn.XLOOKUP(A15,Catalog[MaterialCode],Catalog[NetCaseWeight_lbs],0),0) -> 0 | E15: =IFERROR(_xlfn.XLOOKUP(A15,Catalog[MaterialCode],Catalog[ServingsPerCase],0),0) -> 0 | F15: =IFERROR(_xlfn.XLOOKUP(A15,Catalog[MaterialCode],Catalog[ServingSize_oz],0),0) -> 0 | G15: =IFERROR(_xlfn.XLOOKUP(A15,Catalog[MaterialCode],Catalog[CSCPoints],0),0) -> 0 | H15: =IFERROR(_xlfn.XLOOKUP(A15,Catalog[MaterialCode],Catalog[CNPortion],0),0) -> 0 | I15: =IFERROR(_xlfn.XLOOKUP(A15,Catalog[MaterialCode],Catalog[MMA_oz],0),0) -> 0 | J15: =IFERROR(_xlfn.XLOOKUP(A15,Catalog[MaterialCode],Catalog[EqGrain_oz],0),0) -> 0 | K15: =IFERROR(_xlfn.XLOOKUP(A15,Catalog[MaterialCode],Catalog[PorkLbsDFperCase],0),0) -> 0 | L15: 0 | M15: 0 | N15: 0 | O15: =IF(L15>0,L15*E15,IF(AND(M15>0,N15>0),M15*N15,0)) -> 0 | P15: =IF(L15>0,L15,IF(E15>0,ROUNDUP(O15/E15,0),0)) -> 0 | Q15: =P15*K15 -> 0 | R15: 0 | S15: 0 | T15: 0 | U15: 0 | V15: 0 | W15: 0 | X15: 0 | Y15: 0 | Z15: 0 | AA15: 0 | AB15: 0 | AC15: 0 | AD15: =P15-SUM(R15:AC15) -> 0
B16: =IFERROR(_xlfn.XLOOKUP(A16,Catalog[MaterialCode],Catalog[Description],""),"") | C16: =IFERROR(_xlfn.XLOOKUP(A16,Catalog[MaterialCode],Catalog[Commodity],""),"") | D16: =IFERROR(_xlfn.XLOOKUP(A16,Catalog[MaterialCode],Catalog[NetCaseWeight_lbs],0),0) -> 0 | E16: =IFERROR(_xlfn.XLOOKUP(A16,Catalog[MaterialCode],Catalog[ServingsPerCase],0),0) -> 0 | F16: =IFERROR(_xlfn.XLOOKUP(A16,Catalog[MaterialCode],Catalog[ServingSize_oz],0),0) -> 0 | G16: =IFERROR(_xlfn.XLOOKUP(A16,Catalog[MaterialCode],Catalog[CSCPoints],0),0) -> 0 | H16: =IFERROR(_xlfn.XLOOKUP(A16,Catalog[MaterialCode],Catalog[CNPortion],0),0) -> 0 | I16: =IFERROR(_xlfn.XLOOKUP(A16,Catalog[MaterialCode],Catalog[MMA_oz],0),0) -> 0 | J16: =IFERROR(_xlfn.XLOOKUP(A16,Catalog[MaterialCode],Catalog[EqGrain_oz],0),0) -> 0 | K16: =IFERROR(_xlfn.XLOOKUP(A16,Catalog[MaterialCode],Catalog[PorkLbsDFperCase],0),0) -> 0 | L16: 0 | M16: 0 | N16: 0 | O16: =IF(L16>0,L16*E16,IF(AND(M16>0,N16>0),M16*N16,0)) -> 0 | P16: =IF(L16>0,L16,IF(E16>0,ROUNDUP(O16/E16,0),0)) -> 0 | Q16: =P16*K16 -> 0 | R16: 0 | S16: 0 | T16: 0 | U16: 0 | V16: 0 | W16: 0 | X16: 0 | Y16: 0 | Z16: 0 | AA16: 0 | AB16: 0 | AC16: 0 | AD16: =P16-SUM(R16:AC16) -> 0
B17: =IFERROR(_xlfn.XLOOKUP(A17,Catalog[MaterialCode],Catalog[Description],""),"") | C17: =IFERROR(_xlfn.XLOOKUP(A17,Catalog[MaterialCode],Catalog[Commodity],""),"") | D17: =IFERROR(_xlfn.XLOOKUP(A17,Catalog[MaterialCode],Catalog[NetCaseWeight_lbs],0),0) -> 0 | E17: =IFERROR(_xlfn.XLOOKUP(A17,Catalog[MaterialCode],Catalog[ServingsPerCase],0),0) -> 0 | F17: =IFERROR(_xlfn.XLOOKUP(A17,Catalog[MaterialCode],Catalog[ServingSize_oz],0),0) -> 0 | G17: =IFERROR(_xlfn.XLOOKUP(A17,Catalog[MaterialCode],Catalog[CSCPoints],0),0) -> 0 | H17: =IFERROR(_xlfn.XLOOKUP(A17,Catalog[MaterialCode],Catalog[CNPortion],0),0) -> 0 | I17: =IFERROR(_xlfn.XLOOKUP(A17,Catalog[MaterialCode],Catalog[MMA_oz],0),0) -> 0 | J17: =IFERROR(_xlfn.XLOOKUP(A17,Catalog[MaterialCode],Catalog[EqGrain_oz],0),0) -> 0 | K17: =IFERROR(_xlfn.XLOOKUP(A17,Catalog[MaterialCode],Catalog[PorkLbsDFperCase],0),0) -> 0 | L17: 0 | M17: 0 | N17: 0 | O17: =IF(L17>0,L17*E17,IF(AND(M17>0,N17>0),M17*N17,0)) -> 0 | P17: =IF(L17>0,L17,IF(E17>0,ROUNDUP(O17/E17,0),0)) -> 0 | Q17: =P17*K17 -> 0 | R17: 0 | S17: 0 | T17: 0 | U17: 0 | V17: 0 | W17: 0 | X17: 0 | Y17: 0 | Z17: 0 | AA17: 0 | AB17: 0 | AC17: 0 | AD17: =P17-SUM(R17:AC17) -> 0
B18: =IFERROR(_xlfn.XLOOKUP(A18,Catalog[MaterialCode],Catalog[Description],""),"") | C18: =IFERROR(_xlfn.XLOOKUP(A18,Catalog[MaterialCode],Catalog[Commodity],""),"") | D18: =IFERROR(_xlfn.XLOOKUP(A18,Catalog[MaterialCode],Catalog[NetCaseWeight_lbs],0),0) -> 0 | E18: =IFERROR(_xlfn.XLOOKUP(A18,Catalog[MaterialCode],Catalog[ServingsPerCase],0),0) -> 0 | F18: =IFERROR(_xlfn.XLOOKUP(A18,Catalog[MaterialCode],Catalog[ServingSize_oz],0),0) -> 0 | G18: =IFERROR(_xlfn.XLOOKUP(A18,Catalog[MaterialCode],Catalog[CSCPoints],0),0) -> 0 | H18: =IFERROR(_xlfn.XLOOKUP(A18,Catalog[MaterialCode],Catalog[CNPortion],0),0) -> 0 | I18: =IFERROR(_xlfn.XLOOKUP(A18,Catalog[MaterialCode],Catalog[MMA_oz],0),0) -> 0 | J18: =IFERROR(_xlfn.XLOOKUP(A18,Catalog[MaterialCode],Catalog[EqGrain_oz],0),0) -> 0 | K18: =IFERROR(_xlfn.XLOOKUP(A18,Catalog[MaterialCode],Catalog[PorkLbsDFperCase],0),0) -> 0 | L18: 0 | M18: 0 | N18: 0 | O18: =IF(L18>0,L18*E18,IF(AND(M18>0,N18>0),M18*N18,0)) -> 0 | P18: =IF(L18>0,L18,IF(E18>0,ROUNDUP(O18/E18,0),0)) -> 0 | Q18: =P18*K18 -> 0 | R18: 0 | S18: 0 | T18: 0 | U18: 0 | V18: 0 | W18: 0 | X18: 0 | Y18: 0 | Z18: 0 | AA18: 0 | AB18: 0 | AC18: 0 | AD18: =P18-SUM(R18:AC18) -> 0
B19: =IFERROR(_xlfn.XLOOKUP(A19,Catalog[MaterialCode],Catalog[Description],""),"") | C19: =IFERROR(_xlfn.XLOOKUP(A19,Catalog[MaterialCode],Catalog[Commodity],""),"") | D19: =IFERROR(_xlfn.XLOOKUP(A19,Catalog[MaterialCode],Catalog[NetCaseWeight_lbs],0),0) -> 0 | E19: =IFERROR(_xlfn.XLOOKUP(A19,Catalog[MaterialCode],Catalog[ServingsPerCase],0),0) -> 0 | F19: =IFERROR(_xlfn.XLOOKUP(A19,Catalog[MaterialCode],Catalog[ServingSize_oz],0),0) -> 0 | G19: =IFERROR(_xlfn.XLOOKUP(A19,Catalog[MaterialCode],Catalog[CSCPoints],0),0) -> 0 | H19: =IFERROR(_xlfn.XLOOKUP(A19,Catalog[MaterialCode],Catalog[CNPortion],0),0) -> 0 | I19: =IFERROR(_xlfn.XLOOKUP(A19,Catalog[MaterialCode],Catalog[MMA_oz],0),0) -> 0 | J19: =IFERROR(_xlfn.XLOOKUP(A19,Catalog[MaterialCode],Catalog[EqGrain_oz],0),0) -> 0 | K19: =IFERROR(_xlfn.XLOOKUP(A19,Catalog[MaterialCode],Catalog[PorkLbsDFperCase],0),0) -> 0 | L19: 0 | M19: 0 | N19: 0 | O19: =IF(L19>0,L19*E19,IF(AND(M19>0,N19>0),M19*N19,0)) -> 0 | P19: =IF(L19>0,L19,IF(E19>0,ROUNDUP(O19/E19,0),0)) -> 0 | Q19: =P19*K19 -> 0 | R19: 0 | S19: 0 | T19: 0 | U19: 0 | V19: 0 | W19: 0 | X19: 0 | Y19: 0 | Z19: 0 | AA19: 0 | AB19: 0 | AC19: 0 | AD19: =P19-SUM(R19:AC19) -> 0
B20: =IFERROR(_xlfn.XLOOKUP(A20,Catalog[MaterialCode],Catalog[Description],""),"") | C20: =IFERROR(_xlfn.XLOOKUP(A20,Catalog[MaterialCode],Catalog[Commodity],""),"") | D20: =IFERROR(_xlfn.XLOOKUP(A20,Catalog[MaterialCode],Catalog[NetCaseWeight_lbs],0),0) -> 0 | E20: =IFERROR(_xlfn.XLOOKUP(A20,Catalog[MaterialCode],Catalog[ServingsPerCase],0),0) -> 0 | F20: =IFERROR(_xlfn.XLOOKUP(A20,Catalog[MaterialCode],Catalog[ServingSize_oz],0),0) -> 0 | G20: =IFERROR(_xlfn.XLOOKUP(A20,Catalog[MaterialCode],Catalog[CSCPoints],0),0) -> 0 | H20: =IFERROR(_xlfn.XLOOKUP(A20,Catalog[MaterialCode],Catalog[CNPortion],0),0) -> 0 | I20: =IFERROR(_xlfn.XLOOKUP(A20,Catalog[MaterialCode],Catalog[MMA_oz],0),0) -> 0 | J20: =IFERROR(_xlfn.XLOOKUP(A20,Catalog[MaterialCode],Catalog[EqGrain_oz],0),0) -> 0 | K20: =IFERROR(_xlfn.XLOOKUP(A20,Catalog[MaterialCode],Catalog[PorkLbsDFperCase],0),0) -> 0 | L20: 0 | M20: 0 | N20: 0 | O20: =IF(L20>0,L20*E20,IF(AND(M20>0,N20>0),M20*N20,0)) -> 0 | P20: =IF(L20>0,L20,IF(E20>0,ROUNDUP(O20/E20,0),0)) -> 0 | Q20: =P20*K20 -> 0 | R20: 0 | S20: 0 | T20: 0 | U20: 0 | V20: 0 | W20: 0 | X20: 0 | Y20: 0 | Z20: 0 | AA20: 0 | AB20: 0 | AC20: 0 | AD20: =P20-SUM(R20:AC20) -> 0
B21: =IFERROR(_xlfn.XLOOKUP(A21,Catalog[MaterialCode],Catalog[Description],""),"") | C21: =IFERROR(_xlfn.XLOOKUP(A21,Catalog[MaterialCode],Catalog[Commodity],""),"") | D21: =IFERROR(_xlfn.XLOOKUP(A21,Catalog[MaterialCode],Catalog[NetCaseWeight_lbs],0),0) -> 0 | E21: =IFERROR(_xlfn.XLOOKUP(A21,Catalog[MaterialCode],Catalog[ServingsPerCase],0),0) -> 0 | F21: =IFERROR(_xlfn.XLOOKUP(A21,Catalog[MaterialCode],Catalog[ServingSize_oz],0),0) -> 0 | G21: =IFERROR(_xlfn.XLOOKUP(A21,Catalog[MaterialCode],Catalog[CSCPoints],0),0) -> 0 | H21: =IFERROR(_xlfn.XLOOKUP(A21,Catalog[MaterialCode],Catalog[CNPortion],0),0) -> 0 | I21: =IFERROR(_xlfn.XLOOKUP(A21,Catalog[MaterialCode],Catalog[MMA_oz],0),0) -> 0 | J21: =IFERROR(_xlfn.XLOOKUP(A21,Catalog[MaterialCode],Catalog[EqGrain_oz],0),0) -> 0 | K21: =IFERROR(_xlfn.XLOOKUP(A21,Catalog[MaterialCode],Catalog[PorkLbsDFperCase],0),0) -> 0 | L21: 0 | M21: 0 | N21: 0 | O21: =IF(L21>0,L21*E21,IF(AND(M21>0,N21>0),M21*N21,0)) -> 0 | P21: =IF(L21>0,L21,IF(E21>0,ROUNDUP(O21/E21,0),0)) -> 0 | Q21: =P21*K21 -> 0 | R21: 0 | S21: 0 | T21: 0 | U21: 0 | V21: 0 | W21: 0 | X21: 0 | Y21: 0 | Z21: 0 | AA21: 0 | AB21: 0 | AC21: 0 | AD21: =P21-SUM(R21:AC21) -> 0
B22: =IFERROR(_xlfn.XLOOKUP(A22,Catalog[MaterialCode],Catalog[Description],""),"") | C22: =IFERROR(_xlfn.XLOOKUP(A22,Catalog[MaterialCode],Catalog[Commodity],""),"") | D22: =IFERROR(_xlfn.XLOOKUP(A22,Catalog[MaterialCode],Catalog[NetCaseWeight_lbs],0),0) -> 0 | E22: =IFERROR(_xlfn.XLOOKUP(A22,Catalog[MaterialCode],Catalog[ServingsPerCase],0),0) -> 0 | F22: =IFERROR(_xlfn.XLOOKUP(A22,Catalog[MaterialCode],Catalog[ServingSize_oz],0),0) -> 0 | G22: =IFERROR(_xlfn.XLOOKUP(A22,Catalog[MaterialCode],Catalog[CSCPoints],0),0) -> 0 | H22: =IFERROR(_xlfn.XLOOKUP(A22,Catalog[MaterialCode],Catalog[CNPortion],0),0) -> 0 | I22: =IFERROR(_xlfn.XLOOKUP(A22,Catalog[MaterialCode],Catalog[MMA_oz],0),0) -> 0 | J22: =IFERROR(_xlfn.XLOOKUP(A22,Catalog[MaterialCode],Catalog[EqGrain_oz],0),0) -> 0 | K22: =IFERROR(_xlfn.XLOOKUP(A22,Catalog[MaterialCode],Catalog[PorkLbsDFperCase],0),0) -> 0 | L22: 0 | M22: 0 | N22: 0 | O22: =IF(L22>0,L22*E22,IF(AND(M22>0,N22>0),M22*N22,0)) -> 0 | P22: =IF(L22>0,L22,IF(E22>0,ROUNDUP(O22/E22,0),0)) -> 0 | Q22: =P22*K22 -> 0 | R22: 0 | S22: 0 | T22: 0 | U22: 0 | V22: 0 | W22: 0 | X22: 0 | Y22: 0 | Z22: 0 | AA22: 0 | AB22: 0 | AC22: 0 | AD22: =P22-SUM(R22:AC22) -> 0
B23: =IFERROR(_xlfn.XLOOKUP(A23,Catalog[MaterialCode],Catalog[Description],""),"") | C23: =IFERROR(_xlfn.XLOOKUP(A23,Catalog[MaterialCode],Catalog[Commodity],""),"") | D23: =IFERROR(_xlfn.XLOOKUP(A23,Catalog[MaterialCode],Catalog[NetCaseWeight_lbs],0),0) -> 0 | E23: =IFERROR(_xlfn.XLOOKUP(A23,Catalog[MaterialCode],Catalog[ServingsPerCase],0),0) -> 0 | F23: =IFERROR(_xlfn.XLOOKUP(A23,Catalog[MaterialCode],Catalog[ServingSize_oz],0),0) -> 0 | G23: =IFERROR(_xlfn.XLOOKUP(A23,Catalog[MaterialCode],Catalog[CSCPoints],0),0) -> 0 | H23: =IFERROR(_xlfn.XLOOKUP(A23,Catalog[MaterialCode],Catalog[CNPortion],0),0) -> 0 | I23: =IFERROR(_xlfn.XLOOKUP(A23,Catalog[MaterialCode],Catalog[MMA_oz],0),0) -> 0 | J23: =IFERROR(_xlfn.XLOOKUP(A23,Catalog[MaterialCode],Catalog[EqGrain_oz],0),0) -> 0 | K23: =IFERROR(_xlfn.XLOOKUP(A23,Catalog[MaterialCode],Catalog[PorkLbsDFperCase],0),0) -> 0 | L23: 0 | M23: 0 | N23: 0 | O23: =IF(L23>0,L23*E23,IF(AND(M23>0,N23>0),M23*N23,0)) -> 0 | P23: =IF(L23>0,L23,IF(E23>0,ROUNDUP(O23/E23,0),0)) -> 0 | Q23: =P23*K23 -> 0 | R23: 0 | S23: 0 | T23: 0 | U23: 0 | V23: 0 | W23: 0 | X23: 0 | Y23: 0 | Z23: 0 | AA23: 0 | AB23: 0 | AC23: 0 | AD23: =P23-SUM(R23:AC23) -> 0
B24: =IFERROR(_xlfn.XLOOKUP(A24,Catalog[MaterialCode],Catalog[Description],""),"") | C24: =IFERROR(_xlfn.XLOOKUP(A24,Catalog[MaterialCode],Catalog[Commodity],""),"") | D24: =IFERROR(_xlfn.XLOOKUP(A24,Catalog[MaterialCode],Catalog[NetCaseWeight_lbs],0),0) -> 0 | E24: =IFERROR(_xlfn.XLOOKUP(A24,Catalog[MaterialCode],Catalog[ServingsPerCase],0),0) -> 0 | F24: =IFERROR(_xlfn.XLOOKUP(A24,Catalog[MaterialCode],Catalog[ServingSize_oz],0),0) -> 0 | G24: =IFERROR(_xlfn.XLOOKUP(A24,Catalog[MaterialCode],Catalog[CSCPoints],0),0) -> 0 | H24: =IFERROR(_xlfn.XLOOKUP(A24,Catalog[MaterialCode],Catalog[CNPortion],0),0) -> 0 | I24: =IFERROR(_xlfn.XLOOKUP(A24,Catalog[MaterialCode],Catalog[MMA_oz],0),0) -> 0 | J24: =IFERROR(_xlfn.XLOOKUP(A24,Catalog[MaterialCode],Catalog[EqGrain_oz],0),0) -> 0 | K24: =IFERROR(_xlfn.XLOOKUP(A24,Catalog[MaterialCode],Catalog[PorkLbsDFperCase],0),0) -> 0 | L24: 0 | M24: 0 | N24: 0 | O24: =IF(L24>0,L24*E24,IF(AND(M24>0,N24>0),M24*N24,0)) -> 0 | P24: =IF(L24>0,L24,IF(E24>0,ROUNDUP(O24/E24,0),0)) -> 0 | Q24: =P24*K24 -> 0 | R24: 0 | S24: 0 | T24: 0 | U24: 0 | V24: 0 | W24: 0 | X24: 0 | Y24: 0 | Z24: 0 | AA24: 0 | AB24: 0 | AC24: 0 | AD24: =P24-SUM(R24:AC24) -> 0
B25: =IFERROR(_xlfn.XLOOKUP(A25,Catalog[MaterialCode],Catalog[Description],""),"") | C25: =IFERROR(_xlfn.XLOOKUP(A25,Catalog[MaterialCode],Catalog[Commodity],""),"") | D25: =IFERROR(_xlfn.XLOOKUP(A25,Catalog[MaterialCode],Catalog[NetCaseWeight_lbs],0),0) -> 0 | E25: =IFERROR(_xlfn.XLOOKUP(A25,Catalog[MaterialCode],Catalog[ServingsPerCase],0),0) -> 0 | F25: =IFERROR(_xlfn.XLOOKUP(A25,Catalog[MaterialCode],Catalog[ServingSize_oz],0),0) -> 0 | G25: =IFERROR(_xlfn.XLOOKUP(A25,Catalog[MaterialCode],Catalog[CSCPoints],0),0) -> 0 | H25: =IFERROR(_xlfn.XLOOKUP(A25,Catalog[MaterialCode],Catalog[CNPortion],0),0) -> 0 | I25: =IFERROR(_xlfn.XLOOKUP(A25,Catalog[MaterialCode],Catalog[MMA_oz],0),0) -> 0 | J25: =IFERROR(_xlfn.XLOOKUP(A25,Catalog[MaterialCode],Catalog[EqGrain_oz],0),0) -> 0 | K25: =IFERROR(_xlfn.XLOOKUP(A25,Catalog[MaterialCode],Catalog[PorkLbsDFperCase],0),0) -> 0 | L25: 0 | M25: 0 | N25: 0 | O25: =IF(L25>0,L25*E25,IF(AND(M25>0,N25>0),M25*N25,0)) -> 0 | P25: =IF(L25>0,L25,IF(E25>0,ROUNDUP(O25/E25,0),0)) -> 0 | Q25: =P25*K25 -> 0 | R25: 0 | S25: 0 | T25: 0 | U25: 0 | V25: 0 | W25: 0 | X25: 0 | Y25: 0 | Z25: 0 | AA25: 0 | AB25: 0 | AC25: 0 | AD25: =P25-SUM(R25:AC25) -> 0
