Workbook
Name Type_of_Beef: [1]!T_Beef[#Data]
Name YN: [1]!T_YN[#Data]

Sheet Instructions
B2: Tyson Foods SY 26-27 Commodity Calculator
B6: Instructions
B8: 1.) | C8: Fill out the individual calculator tabs for the corresponding commodities you are diverting for SY26-27.
C10: 1a. | D10: The fields to fill out are all in this color
C11: 1b. | D11: Ensure that you enter in your Carry Forward balance if you have one on each specific commodity tab.
C13: 1c. | D13: This calculator allows you to plan out your total diversions for each commodity. This is calculated by taking both of your inputs (Carry Forward lbs. if applicable and your new total diversions) and comparing with your planned items.
C16: 1d. | D16: Look at your specific product needs either by entering your needed cases or your ADP for that product along with the frequency of that product on your menu. This will calculate out the lb. utilization.
C19: 1e. | D19: There are Forecast sections on the right side of the pages to help plan out when you need your cases by month.
B22: 2.) | C22: The Commodity and Forecast Summary Tabs should auto populate based on selections in the individual calculator tabs.
B24: 3.) | C24: Print out or reference the summary forms as a consolidated snapshot.
B29: If you have any questions please reach out to your Tyson K-12 contact

Sheet Catalog
A1: MaterialCode | B1: ProductBrand | C1: Description | D1: Commodity | E1: NetCaseWeight_lbs | F1: ServingsPerCase | G1: ServingSize_oz | H1: CNPortion | I1: CSCPoints | J1: MMA_oz | K1: EqGrain_oz | L1: WhiteLbsDFperCase | M1: DarkLbsDFperCase | N1: CheeseLbsDFperCase | O1: BeefLbsDFperCase | P1: PorkLbsDFperCase
A2: 10000006919 | C2: Cheeseburger Meatloaf | D2: 100154 / 100155 | E2: 18.13 | F2: 100 | G2: 2.9 | H2: 1 piece | I2: 30 | J2: 2 | L2: 0 | M2: 0 | N2: 0 | O2: 14.75 | P2: 0
A3: 10000008443 | C3: Down Home Beef Salisbury Steak | D3: 100154 / 100155 | E3: 31.88 | F3: 170 | G3: 3 | H3: 1 piece | I3: 30 | J3: 2 | L3: 0 | M3: 0 | N3: 0 | O3: 24.25 | P3: 0
A4: 10000008737 | C4: Fine Beef Crumbles | D4: 100154 / 100155 | E4: 40 | F4: 266 | G4: 2.4 | H4: 2.4 oz. | I4: 0 | J4: 2 | L4: 0 | M4: 0 | N4: 0 | O4: 32.28 | P4: 0
A5: 10000009860 | C5: Breaded Beef Patties | D5: 100154 / 100155 | E5: 29.94 | F5: 143 | G5: 3.35 | H5: 1 piece | I5: 0 | J5: 2 | K5: 1 | L5: 0 | M5: 0 | N5: 0 | O5: 27.76 | P5: 0
A6: 10000011750 | C6: Beef Meatballs | D6: 100154 / 100155 | E6: 30 | F6: 192 | G6: 2.5 | H6: 5 pieces | I6: 30 | J6: 2 | L6: 0 | M6: 0 | N6: 0 | O6: 24.39 | P6: 0
A7: 10000013716 | C7: Smokie Grill® Beef Rib Pattie with Honey BBQ Sauce | D7: 100154 / 100155 | E7: 20.25 | F7: 100 | G7: 3.25 | H7: 1 piece | I7: 0 | J7: 2 | L7: 0 | M7: 0 | N7: 0 | O7: 9.46 | P7: 0
A8: 10000013717 | C8: Smokie Grill® Pork Rib Pattie with Honey BBQ Sauce | D8: 100193 | E8: 20.25 | F8: 100 | G8: 3.25 | H8: 1 piece | I8: 0 | J8: 2 | L8: 0 | M8: 0 | N8: 0 | O8: 0 | P8: 11.45
A9: 10000013740 | C9: Wonderbites® Beef Dipper with Teriyaki | D9: 100154 / 100155 | E9: 25 | F9: 143 | G9: 2.8 | H9: 4 pieces | I9: 0 | J9: 2 | L9: 0 | M9: 0 | N9: 0 | O9: 23.73 | P9: 0
A10: 10000013782 | C10: Flame Grilled Beef Pattie with Onion | D10: 100154 / 100155 | E10: 16.25 | F10: 100 | G10: 2.6 | H10: 1 piece | I10: 0 | J10: 2 | L10: 0 | M10: 0 | N10: 0 | O10: 15.21 | P10: 0
A11: 10000015230 | C11: Flame Grilled Beef Burger | D11: 100154 / 100155 | E11: 30 | F11: 160 | G11: 3 | H11: 1 piece | I11: 0 | J11: 3 | L11: 0 | M11: 0 | N11: 0 | O11: 43.99 | P11: 0
A12: 10000015320 | C12: Flame Grilled Beef Burger | D12: 100154 / 100155 | E12: 31.41 | F12: 250 | G12: 2.01 | H12: 1 piece | I12: 30 | J12: 2 | L12: 0 | M12: 0 | N12: 0 | O12: 45.52 | P12: 0
A13: 10000015327 | C13: Flame Grilled Beef Burger | D13: 100154 / 100155 | E13: 29.53 | F13: 175 | G13: 2.7 | H13: 1 piece | I13: 0 | J13: 2.5 | L13: 0 | M13: 0 | N13: 0 | O13: 42.79 | P13: 0
A14: 10000015924 | C14: Flame Grilled Beef Burger | D14: 100154 / 100155 | E14: 30 | F14: 200 | G14: 2.4 | H14: 1 piece | I14: 0 | J14: 2.25 | L14: 0 | M14: 0 | N14: 0 | O14: 43.47 | P14: 0
A15: 10000015932 | C15: Flame Grilled Beef Burger | D15: 100154 / 100155 | E15: 30 | F15: 160 | G15: 3 | H15: 1 piece | I15: 0 | J15: 2.75 | L15: 0 | M15: 0 | N15: 0 | O15: 43.04 | P15: 0
A16: 10000016904 | C16: Breaded Pork Steak | D16: 100193 | E16: 20.45 | F16: 85 | G16: 3.85 | H16: 1 piece | I16: 0 | J16: 2 | K16: 1 | L16: 0 | M16: 0 | N16: 0 | O16: 0 | P16: 17.37
A17: 10000029467 | C17: Pork Sausage Pattie | D17: 100193 | E17: 18.75 | F17: 250 | G17: 1.2 | H17: 1 piece | I17: 25 | J17: 1 | L17: 0 | M17: 0 | N17: 0 | O17: 0 | P17: 22.83
A18: 10000037344 | C18: Loaded Cheeseburger Mini Patties | D18: 100154 / 100155 | E18: 28.51 | F18: 343 | G18: 1.33 | H18: 1 piece | I18: 0 | J18: 1 | L18: 0 | M18: 0 | N18: 0 | O18: 21.77 | P18: 0
A19: 10000037600 | C19: Flame Grilled Gluten Free Chopped Beef Burger | D19: 100154 / 100155 | E19: 20.13 | F19: 140 | G19: 2.3 | H19: 1 piece | I19: 0 | J19: 2 | L19: 0 | M19: 0 | N19: 0 | O19: 25.36 | P19: 0
A20: 10000038479 | C20: Whole Grain Breaded Nashville Hot MWWM Chicken Tenders | D20: 100103 W | E20: 30.6 | F20: 105 | G20: 4.65 | H20: 3 pieces | I20: 25 | J20: 2 | K20: 1 | L20: 26.65 | M20: 0 | N20: 0 | O20: 0 | P20: 0
A21: 10000038942 | C21: Wings of Fire Bone-In Chicken Wings | D21: 100103 W | E21: 30 | F21: 79 | H21: 4 pieces | I21: 0 | J21: 2 | L21: 24.13 | M21: 0 | N21: 0 | O21: 0 | P21: 0
A22: 10000043537 | C22: Taco Seasoned Chopped Chicken | D22: 100103 D | E22: 30 | F22: 240 | G22: 2 | H22: 2.00 oz. | I22: 25 | J22: 2 | L22: 0 | M22: 39.58 | N22: 0 | O22: 0 | P22: 0
A23: 10000044195 | C23: Breaded Traditional Chicken Thigh | D23: 100103 D | E23: 29.64 | F23: 78 | H23: 1 piece | I23: 0 | J23: 3.25 | K23: 1.25 | L23: 0 | M23: 23.27 | N23: 0 | O23: 0 | P23: 0
A24: 10000044196 | C24: Mesquite Glazed Chicken Thigh | D24: 100103 D | E24: 23.08 | F24: 78 | H24: 1 piece | I24: 0 | J24: 3.25 | L24: 0 | M24: 19.19 | N24: 0 | O24: 0 | P24: 0
A25: 10000051698 | C25: Whole Grain Breaded Homestyle Whole Muscle Boneless Chicken Wings | D25: 100103 W | E25: 30.24 | F25: 128 | G25: 3.78 | H25: 6 pieces | I25: 40 | J25: 2 | K25: 1 | L25: 32.43 | M25: 0 | N25: 0 | O25: 0 | P25: 0
A26: 10000052436 | C26: Fully Cooked Chicken Drumsticks With BBQ Sauce | D26: 100103 D | E26: 31.25 | F26: 89 | H26: 1 piece | I26: 40 | J26: 2.5 | L26: 0 | M26: 21.58 | N26: 0 | O26: 0 | P26: 0
A27: 10000055325 | C27: IW Loaded Cheeseburger Mini Twin Sandwiches | D27: 100154 / 100155 | E27: 24.3 | F27: 80 | G27: 4.86 | H27: 2 pieces | I27: 40 | J27: 2 | K27: 2 | L27: 0 | M27: 0 | N27: 0 | O27: 10.54 | P27: 0
A28: 10000055327 | C28: IW Cheeseburger Mini Twin Sandwiches | D28: 100154 / 100155 | E28: 29.16 | F28: 96 | G28: 4.86 | H28: 2 pieces | I28: 40 | J28: 2 | K28: 2 | L28: 0 | M28: 0 | N28: 0 | O28: 11.75 | P28: 0
A29: 10000055425 | C29: Flame Grilled Beef Pattie | D29: 100154 / 100155 | E29: 31.25 | F29: 200 | G29: 2.5 | H29: 1 piece | I29: 0 | J29: 2 | L29: 0 | M29: 0 | N29: 0 | O29: 26.24 | P29: 0
A30: 10000059993 | C30: AdvancePierre™ Philly Beef Steak | D30: 100154 / 100155 | E30: 20 | F30: 118 | G30: 2.7 | H30: 2.7 oz | I30: 0 | J30: 2 | L30: 0 | M30: 0 | N30: 0 | O30: 20.08 | P30: 0
A31: 10000060843 | C31: Mega Minis® Whole Grain Breaded Homestyle Chicken Chunks | D31: 100103 D | E31: 30.26 | F31: 112 | G31: 4.3 | H31: 10 pieces | I31: 0 | J31: 2 | K31: 1 | L31: 0 | M31: 35.57 | N31: 0 | O31: 0 | P31: 0
A32: 10000064752 | C32: Mega Minis® Whole Grain Breaded Waffle Flavored Chicken Chunks | D32: 100103 W | E32: 30.26 | F32: 149 | G32: 3.24 | H32: 6 pieces | I32: 0 | J32: 1 | K32: 1 | L32: 25.02 | M32: 0 | N32: 0 | O32: 0 | P32: 0
A33: 10000065887 | C33: Golden Crispy Breaded Beef Bites | D33: 100154 / 100155 | E33: 29.9 | F33: 137 | G33: 3.48 | H33: 6 pieces | I33: 30 | J33: 2 | K33: 1 | L33: 0 | M33: 0 | N33: 0 | O33: 24.14 | P33: 0
A34: 10000065888 | C34: Hot 'N Spicy Breaded Beef Bites | D34: 100154 / 100155 | E34: 29.9 | F34: 137 | G34: 3.48 | H34: 6 pieces | I34: 30 | J34: 2 | K34: 1 | L34: 0 | M34: 0 | N34: 0 | O34: 24.14 | P34: 0
A35: 10000068472 | C35: Beef Taco Meat | D35: 100154 / 100155 | E35: 12 | F35: 71 | G35: 2.7 | H35: 2.70 oz. | I35: 0 | J35: 2 | L35: 0 | M35: 0 | N35: 0 | O35: 12.05 | P35: 0
A36: 10000068745 | C36: Whole Grain Breaded Hot 'N Spicy MWWM Chicken Filets | D36: 100103 W | E36: 30 | F36: 211 | G36: 2.27 | H36: 1 piece | I36: 25 | J36: 1 | K36: 0.5 | L36: 32.38 | M36: 0 | N36: 0 | O36: 0 | P36: 0
A37: 10000069005 | C37: Harvest Breaded Beef Pattie | D37: 100154 / 100155 | E37: 30 | F37: 150 | G37: 3.2 | H37: 1 piece | I37: 30 | J37: 2 | K37: 1 | L37: 0 | M37: 0 | N37: 0 | O37: 15.47 | P37: 0
A38: 10000069033 | C38: Mini Breaded Beef Pattie | D38: 100154 / 100155 | E38: 30.78 | F38: 250 | G38: 1.97 | H38: 1 piece | I38: 0 | J38: 1 | K38: 0.5 | L38: 0 | M38: 0 | N38: 0 | O38: 23.04 | P38: 0
A39: 10000069050 | C39: Gluten Free Beef Burger | D39: 100154 / 100155 | E39: 21.25 | F39: 170 | G39: 2 | H39: 1 piece | I39: 0 | J39: 2 | L39: 0 | M39: 0 | N39: 0 | O39: 33.58 | P39: 0
A40: 10000069097 | C40: Flame Grilled Beef Pattie | D40: 100154 / 100155 | E40: 15.09 | F40: 115 | G40: 2.1 | H40: 1 piece | I40: 20 | J40: 2 | L40: 0 | M40: 0 | N40: 0 | O40: 11.8 | P40: 0
...

Sheet Chicken
A1: SY 26/27 Chicken Commodity Calculator
A3: TOTAL New Chicken Diverted lbs | B3: 0
A4: New Diverted White lbs (70%) | B4: =0.7*B3 -> 0 | D4: Utilization | E4: =IF(B8>0, R117/B8, 0) -> 0
A5: New Diverted Dark lbs (30%) | B5: =0.3*B3 -> 0 | E5: =IF(B9>0, S117/B9, 0) -> 0
A6: White Carryover lbs | B6: 0
A7: Dark Carryover lbs | B7: 0
A8: Total White lbs Available | B8: =B4+B6 -> 0 | C8: Planned White lbs | D8: =R117 -> 0 | E8: Net White lbs | F8: =B8-R117 -> 0
A9: Total Dark lbs Available | B9: =B5+B7 -> 0 | C9: Planned Dark lbs | D9: =S117 -> 0 | E9: Net Dark lbs | F9: =B9-S117 -> 0 | M9: Populate either Cases or ADP & Menu Frequency
A11: Material Code | B11: Description | C11: Commodity | D11: Net Case Weight (lbs) | E11: Servings Per Case | F11: Serving Size (oz) | G11: Cool School Points | H11: CN Portion | I11: M/MA (oz) | J11: Eq Grain (oz) | K11: White Lbs DF per Case | L11: Dark Lbs DF per Case | M11: Cases | N11: ADP | O11: Menu Frequency | P11: Total Servings | Q11: Total Cases | R11: Total White Lbs | S11: Total Dark Lbs | T11: July | U11: August | V11: September | W11: October | X11: November | Y11: December | Z11: January | AA11: February | AB11: March | AC11: April | AD11: May | AE11: June | AF11: Cases Left To Forecast
B12: CHICKEN - WHITE
A13: 10000038479 | B13: =IFERROR(_xlfn.XLOOKUP(A13,Catalog[MaterialCode],Catalog[Description],""),"") -> Whole Grain Breaded Nashville Hot MWWM Chicken Tenders | C13: =IFERROR(_xlfn.XLOOKUP(A13,Catalog[MaterialCode],Catalog[Commodity],""),"") -> 100103 W | D13: =IFERROR(_xlfn.XLOOKUP(A13,Catalog[MaterialCode],Catalog[NetCaseWeight_lbs],0),0) -> 30.6 | E13: =IFERROR(_xlfn.XLOOKUP(A13,Catalog[MaterialCode],Catalog[ServingsPerCase],0),0) -> 105 | F13: =IFERROR(_xlfn.XLOOKUP(A13,Catalog[MaterialCode],Catalog[ServingSize_oz],0),0) -> 4.65 | G13: =IFERROR(_xlfn.XLOOKUP(A13,Catalog[MaterialCode],Catalog[CSCPoints],0),0) -> 25 | H13: =IFERROR(_xlfn.XLOOKUP(A13,Catalog[MaterialCode],Catalog[CNPortion],0),0) -> 3 pieces | I13: =IFERROR(_xlfn.XLOOKUP(A13,Catalog[MaterialCode],Catalog[MMA_oz],0),0) -> 2 | J13: =IFERROR(_xlfn.XLOOKUP(A13,Catalog[MaterialCode],Catalog[EqGrain_oz],0),0) -> 1 | K13: =IFERROR(_xlfn.XLOOKUP(A13,Catalog[MaterialCode],Catalog[WhiteLbsDFperCase],0),0) -> 26.65 | L13: =IFERROR(_xlfn.XLOOKUP(A13,Catalog[MaterialCode],Catalog[DarkLbsDFperCase],0),0) -> 0 | M13: 0 | N13: 0 | O13: 0 | P13: =IF(M13>0,M13*E13,IF(AND(N13>0,O13>0),N13*O13,0)) -> 0 | Q13: =IF(M13>0,M13,IF(E13>0,ROUNDUP(P13/E13,0),0)) -> 0 | R13: =Q13*K13 -> 0 | S13: =Q13*L13 -> 0 | T13: 0 | U13: 0 | V13: 0 | W13: 0 | X13: 0 | Y13: 0 | Z13: 0 | AA13: 0 | AB13: 0 | AC13: 0 | AD13: 0 | AE13: 0 | AF13: =Q13-SUM(T13:AE13) -> 0
A14: 10000038942 | B14: =IFERROR(_xlfn.XLOOKUP(A14,Catalog[MaterialCode],Catalog[Description],""),"") -> Wings of Fire Bone-In Chicken Wings | C14: =IFERROR(_xlfn.XLOOKUP(A14,Catalog[MaterialCode],Catalog[Commodity],""),"") -> 100103 W | D14: =IFERROR(_xlfn.XLOOKUP(A14,Catalog[MaterialCode],Catalog[NetCaseWeight_lbs],0),0) -> 30 | E14: =IFERROR(_xlfn.XLOOKUP(A14,Catalog[MaterialCode],Catalog[ServingsPerCase],0),0) -> 79 | F14: =IFERROR(_xlfn.XLOOKUP(A14,Catalog[MaterialCode],Catalog[ServingSize_oz],0),0) -> 0 | G14: =IFERROR(_xlfn.XLOOKUP(A14,Catalog[MaterialCode],Catalog[CSCPoints],0),0) -> 0 | H14: =IFERROR(_xlfn.XLOOKUP(A14,Catalog[MaterialCode],Catalog[CNPortion],0),0) -> 4 pieces | I14: =IFERROR(_xlfn.XLOOKUP(A14,Catalog[MaterialCode],Catalog[MMA_oz],0),0) -> 2 | J14: =IFERROR(_xlfn.XLOOKUP(A14,Catalog[MaterialCode],Catalog[EqGrain_oz],0),0) -> 0 | K14: =IFERROR(_xlfn.XLOOKUP(A14,Catalog[MaterialCode],Catalog[WhiteLbsDFperCase],0),0) -> 24.13 | L14: =IFERROR(_xlfn.XLOOKUP(A14,Catalog[MaterialCode],Catalog[DarkLbsDFperCase],0),0) -> 0 | M14: 0 | N14: 0 | O14: 0 | P14: =IF(M14>0,M14*E14,IF(AND(N14>0,O14>0),N14*O14,0)) -> 0 | Q14: =IF(M14>0,M14,IF(E14>0,ROUNDUP(P14/E14,0),0)) -> 0 | R14: =Q14*K14 -> 0 | S14: =Q14*L14 -> 0 | T14: 0 | U14: 0 | V14: 0 | W14: 0 | X14: 0 | Y14: 0 | Z14: 0 | AA14: 0 | AB14: 0 | AC14: 0 | AD14: 0 | AE14: 0 | AF14: =Q14-SUM(T14:AE14) -> 0
A15: 10000051698 | B15: =IFERROR(_xlfn.XLOOKUP(A15,Catalog[MaterialCode],Catalog[Description],""),"") -> Whole Grain Breaded Homestyle Whole Muscle Boneless Chicken Wings | C15: =IFERROR(_xlfn.XLOOKUP(A15,Catalog[MaterialCode],Catalog[Commodity],""),"") -> 100103 W | D15: =IFERROR(_xlfn.XLOOKUP(A15,Catalog[MaterialCode],Catalog[NetCaseWeight_lbs],0),0) -> 30.24 | E15: =IFERROR(_xlfn.XLOOKUP(A15,Catalog[MaterialCode],Catalog[ServingsPerCase],0),0) -> 128 | F15: =IFERROR(_xlfn.XLOOKUP(A15,Catalog[MaterialCode],Catalog[ServingSize_oz],0),0) -> 3.78 | G15: =IFERROR(_xlfn.XLOOKUP(A15,Catalog[MaterialCode],Catalog[CSCPoints],0),0) -> 40 | H15: =IFERROR(_xlfn.XLOOKUP(A15,Catalog[MaterialCode],Catalog[CNPortion],0),0) -> 6 pieces | I15: =IFERROR(_xlfn.XLOOKUP(A15,Catalog[MaterialCode],Catalog[MMA_oz],0),0) -> 2 | J15: =IFERROR(_xlfn.XLOOKUP(A15,Catalog[MaterialCode],Catalog[EqGrain_oz],0),0) -> 1 | K15: =IFERROR(_xlfn.XLOOKUP(A15,Catalog[MaterialCode],Catalog[WhiteLbsDFperCase],0),0) -> 32.43 | L15: =IFERROR(_xlfn.XLOOKUP(A15,Catalog[MaterialCode],Catalog[DarkLbsDFperCase],0),0) -> 0 | M15: 0 | N15: 0 | O15: 0 | P15: =IF(M15>0,M15*E15,IF(AND(N15>0,O15>0),N15*O15,0)) -> 0 | Q15: =IF(M15>0,M15,IF(E15>0,ROUNDUP(P15/E15,0),0)) -> 0 | R15: =Q15*K15 -> 0 | S15: =Q15*L15 -> 0 | T15: 0 | U15: 0 | V15: 0 | W15: 0 | X15: 0 | Y15: 0 | Z15: 0 | AA15: 0 | AB15: 0 | AC15: 0 | AD15: 0 | AE15: 0 | AF15: =Q15-SUM(T15:AE15) -> 0
A16: 10000064752 | B16: =IFERROR(_xlfn.XLOOKUP(A16,Catalog[MaterialCode],Catalog[Description],""),"") -> Mega Minis® Whole Grain Breaded Waffle Flavored Chicken Chunks | C16: =IFERROR(_xlfn.XLOOKUP(A16,Catalog[MaterialCode],Catalog[Commodity],""),"") -> 100103 W | D16: =IFERROR(_xlfn.XLOOKUP(A16,Catalog[MaterialCode],Catalog[NetCaseWeight_lbs],0),0) -> 30.26 | E16: =IFERROR(_xlfn.XLOOKUP(A16,Catalog[MaterialCode],Catalog[ServingsPerCase],0),0) -> 149 | F16: =IFERROR(_xlfn.XLOOKUP(A16,Catalog[MaterialCode],Catalog[ServingSize_oz],0),0) -> 3.24 | G16: =IFERROR(_xlfn.XLOOKUP(A16,Catalog[MaterialCode],Catalog[CSCPoints],0),0) -> 0 | H16: =IFERROR(_xlfn.XLOOKUP(A16,Catalog[MaterialCode],Catalog[CNPortion],0),0) -> 6 pieces | I16: =IFERROR(_xlfn.XLOOKUP(A16,Catalog[MaterialCode],Catalog[MMA_oz],0),0) -> 1 | J16: =IFERROR(_xlfn.XLOOKUP(A16,Catalog[MaterialCode],Catalog[EqGrain_oz],0),0) -> 1 | K16: =IFERROR(_xlfn.XLOOKUP(A16,Catalog[MaterialCode],Catalog[WhiteLbsDFperCase],0),0) -> 25.02 | L16: =IFERROR(_xlfn.XLOOKUP(A16,Catalog[MaterialCode],Catalog[DarkLbsDFperCase],0),0) -> 0 | M16: 0 | N16: 0 | O16: 0 | P16: =IF(M16>0,M16*E16,IF(AND(N16>0,O16>0),N16*O16,0)) -> 0 | Q16: =IF(M16>0,M16,IF(E16>0,ROUNDUP(P16/E16,0),0)) -> 0 | R16: =Q16*K16 -> 0 | S16: =Q16*L16 -> 0 | T16: 0 | U16: 0 | V16: 0 | W16: 0 | X16: 0 | Y16: 0 | Z16: 0 | AA16: 0 | AB16: 0 | AC16: 0 | AD16: 0 | AE16: 0 | AF16: =Q16-SUM(T16:AE16) -> 0
A17: 10000068745 | B17: =IFERROR(_xlfn.XLOOKUP(A17,Catalog[MaterialCode],Catalog[Description],""),"") -> Whole Grain Breaded Hot 'N Spicy MWWM Chicken Filets | C17: =IFERROR(_xlfn.XLOOKUP(A17,Catalog[MaterialCode],Catalog[Commodity],""),"") -> 100103 W | D17: =IFERROR(_xlfn.XLOOKUP(A17,Catalog[MaterialCode],Catalog[NetCaseWeight_lbs],0),0) -> 30 | E17: =IFERROR(_xlfn.XLOOKUP(A17,Catalog[MaterialCode],Catalog[ServingsPerCase],0),0) -> 211 | F17: =IFERROR(_xlfn.XLOOKUP(A17,Catalog[MaterialCode],Catalog[ServingSize_oz],0),0) -> 2.27 | G17: =IFERROR(_xlfn.XLOOKUP(A17,Catalog[MaterialCode],Catalog[CSCPoints],0),0) -> 25 | H17: =IFERROR(_xlfn.XLOOKUP(A17,Catalog[MaterialCode],Catalog[CNPortion],0),0) -> 1 piece | I17: =IFERROR(_xlfn.XLOOKUP(A17,Catalog[MaterialCode],Catalog[MMA_oz],0),0) -> 1 | J17: =IFERROR(_xlfn.XLOOKUP(A17,Catalog[MaterialCode],Catalog[EqGrain_oz],0),0) -> 0.5 | K17: =IFERROR(_xlfn.XLOOKUP(A17,Catalog[MaterialCode],Catalog[WhiteLbsDFperCase],0),0) -> 32.38 | L17: =IFERROR(_xlfn.XLOOKUP(A17,Catalog[MaterialCode],Catalog[DarkLbsDFperCase],0),0) -> 0 | M17: 0 | N17: 0 | O17: 0 | P17: =IF(M17>0,M17*E17,IF(AND(N17>0,O17>0),N17*O17,0)) -> 0 | Q17: =IF(M17>0,M17,IF(E17>0,ROUNDUP(P17/E17,0),0)) -> 0 | R17: =Q17*K17 -> 0 | S17: =Q17*L17 -> 0 | T17: 0 | U17: 0 | V17: 0 | W17: 0 | X17: 0 | Y17: 0 | Z17: 0 | AA17: 0 | AB17: 0 | AC17: 0 | AD17: 0 | AE17: 0 | AF17: =Q17-SUM(T17:AE17) -> 0
A18: 10000070875 | B18: =IFERROR(_xlfn.XLOOKUP(A18,Catalog[MaterialCode],Catalog[Description],""),"") -> Whole Grain Breaded White Meat Chicken Patties | C18: =IFERROR(_xlfn.XLOOKUP(A18,Catalog[MaterialCode],Catalog[Commodity],""),"") -> 100103 W | D18: =IFERROR(_xlfn.XLOOKUP(A18,Catalog[MaterialCode],Catalog[NetCaseWeight_lbs],0),0) -> 30.02 | E18: =IFERROR(_xlfn.XLOOKUP(A18,Catalog[MaterialCode],Catalog[ServingsPerCase],0),0) -> 118 | F18: =IFERROR(_xlfn.XLOOKUP(A18,Catalog[MaterialCode],Catalog[ServingSize_oz],0),0) -> 4.07 | G18: =IFERROR(_xlfn.XLOOKUP(A18,Catalog[MaterialCode],Catalog[CSCPoints],0),0) -> 0 | H18: =IFERROR(_xlfn.XLOOKUP(A18,Catalog[MaterialCode],Catalog[CNPortion],0),0) -> 1 piece | I18: =IFERROR(_xlfn.XLOOKUP(A18,Catalog[MaterialCode],Catalog[MMA_oz],0),0) -> 2 | J18: =IFERROR(_xlfn.XLOOKUP(A18,Catalog[MaterialCode],Catalog[EqGrain_oz],0),0) -> 1 | K18: 29.2 | L18: =IFERROR(_xlfn.XLOOKUP(A18,Catalog[MaterialCode],Catalog[DarkLbsDFperCase],0),0) -> 0 | M18: 0 | N18: 0 | O18: 0 | P18: =IF(M18>0,M18*E18,IF(AND(N18>0,O18>0),N18*O18,0)) -> 0 | Q18: =IF(M18>0,M18,IF(E18>0,ROUNDUP(P18/E18,0),0)) -> 0 | R18: =Q18*K18 -> 0 | S18: =Q18*L18 -> 0 | T18: 0 | U18: 0 | V18: 0 | W18: 0 | X18: 0 | Y18: 0 | Z18: 0 | AA18: 0 | AB18: 0 | AC18: 0 | AD18: 0 | AE18: 0 | AF18: =Q18-SUM(T18:AE18) -> 0
A19: 10000070876 | B19: =IFERROR(_xlfn.XLOOKUP(A19,Catalog[MaterialCode],Catalog[Description],""),"") -> Whole Grain Breaded White Meat Chicken Nuggets | C19: =IFERROR(_xlfn.XLOOKUP(A19,Catalog[MaterialCode],Catalog[Commodity],""),"") -> 100103 W | D19: =IFERROR(_xlfn.XLOOKUP(A19,Catalog[MaterialCode],Catalog[NetCaseWeight_lbs],0),0) -> 30.12 | E19: =IFERROR(_xlfn.XLOOKUP(A19,Catalog[MaterialCode],Catalog[ServingsPerCase],0),0) -> 122 | F19: =IFERROR(_xlfn.XLOOKUP(A19,Catalog[MaterialCode],Catalog[ServingSize_oz],0),0) -> 3.95 | G19: =IFERROR(_xlfn.XLOOKUP(A19,Catalog[MaterialCode],Catalog[CSCPoints],0),0) -> 0 | H19: =IFERROR(_xlfn.XLOOKUP(A19,Catalog[MaterialCode],Catalog[CNPortion],0),0) -> 5 pieces | I19: =IFERROR(_xlfn.XLOOKUP(A19,Catalog[MaterialCode],Catalog[MMA_oz],0),0) -> 2 | J19: =IFERROR(_xlfn.XLOOKUP(A19,Catalog[MaterialCode],Catalog[EqGrain_oz],0),0) -> 1 | K19: 29.32 | L19: =IFERROR(_xlfn.XLOOKUP(A19,Catalog[MaterialCode],Catalog[DarkLbsDFperCase],0),0) -> 0 | M19: 0 | N19: 0 | O19: 0 | P19: =IF(M19>0,M19*E19,IF(AND(N19>0,O19>0),N19*O19,0)) -> 0 | Q19: =IF(M19>0,M19,IF(E19>0,ROUNDUP(P19/E19,0),0)) -> 0 | R19: =Q19*K19 -> 0 | S19: =Q19*L19 -> 0 | T19: 0 | U19: 0 | V19: 0 | W19: 0 | X19: 0 | Y19: 0 | Z19: 0 | AA19: 0 | AB19: 0 | AC19: 0 | AD19: 0 | AE19: 0 | AF19: =Q19-SUM(T19:AE19) -> 0
A20: 10000070877 | B20: =IFERROR(_xlfn.XLOOKUP(A20,Catalog[MaterialCode],Catalog[Description],""),"") -> Whole Grain Breaded White Meat Popcorn Chicken | C20: =IFERROR(_xlfn.XLOOKUP(A20,Catalog[MaterialCode],Catalog[Commodity],""),"") -> 100103 W | D20: =IFERROR(_xlfn.XLOOKUP(A20,Catalog[MaterialCode],Catalog[NetCaseWeight_lbs],0),0) -> 30.19 | E20: =IFERROR(_xlfn.XLOOKUP(A20,Catalog[MaterialCode],Catalog[ServingsPerCase],0),0) -> 122 | F20: =IFERROR(_xlfn.XLOOKUP(A20,Catalog[MaterialCode],Catalog[ServingSize_oz],0),0) -> 3.96 | G20: =IFERROR(_xlfn.XLOOKUP(A20,Catalog[MaterialCode],Catalog[CSCPoints],0),0) -> 0 | H20: =IFERROR(_xlfn.XLOOKUP(A20,Catalog[MaterialCode],Catalog[CNPortion],0),0) -> 12 pieces | I20: =IFERROR(_xlfn.XLOOKUP(A20,Catalog[MaterialCode],Catalog[MMA_oz],0),0) -> 2 | J20: =IFERROR(_xlfn.XLOOKUP(A20,Catalog[MaterialCode],Catalog[EqGrain_oz],0),0) -> 1 | K20: 29.4 | L20: =IFERROR(_xlfn.XLOOKUP(A20,Catalog[MaterialCode],Catalog[DarkLbsDFperCase],0),0) -> 0 | M20: 0 | N20: 0 | O20: 0 | P20: =IF(M20>0,M20*E20,IF(AND(N20>0,O20>0),N20*O20,0)) -> 0 | Q20: =IF(M20>0,M20,IF(E20>0,ROUNDUP(P20/E20,0),0)) -> 0 | R20: =Q20*K20 -> 0 | S20: =Q20*L20 -> 0 | T20: 0 | U20: 0 | V20: 0 | W20: 0 | X20: 0 | Y20: 0 | Z20: 0 | AA20: 0 | AB20: 0 | AC20: 0 | AD20: 0 | AE20: 0 | AF20: =Q20-SUM(T20:AE20) -> 0
A21: 10000072176 | B21: =IFERROR(_xlfn.XLOOKUP(A21,Catalog[MaterialCode],Catalog[Description],""),"") -> Whole Grain Breaded Homestyle Chicken Breast Tenders | C21: =IFERROR(_xlfn.XLOOKUP(A21,Catalog[MaterialCode],Catalog[Commodity],""),"") -> 100103 W | D21: =IFERROR(_xlfn.XLOOKUP(A21,Catalog[MaterialCode],Catalog[NetCaseWeight_lbs],0),0) -> 30 | E21: =IFERROR(_xlfn.XLOOKUP(A21,Catalog[MaterialCode],Catalog[ServingsPerCase],0),0) -> 126 | F21: =IFERROR(_xlfn.XLOOKUP(A21,Catalog[MaterialCode],Catalog[ServingSize_oz],0),0) -> 3.78 | G21: =IFERROR(_xlfn.XLOOKUP(A21,Catalog[MaterialCode],Catalog[CSCPoints],0),0) -> 0 | H21: =IFERROR(_xlfn.XLOOKUP(A21,Catalog[MaterialCode],Catalog[CNPortion],0),0) -> 3 pieces | I21: =IFERROR(_xlfn.XLOOKUP(A21,Catalog[MaterialCode],Catalog[MMA_oz],0),0) -> 2 | J21: =IFERROR(_xlfn.XLOOKUP(A21,Catalog[MaterialCode],Catalog[EqGrain_oz],0),0) -> 1 | K21: =IFERROR(_xlfn.XLOOKUP(A21,Catalog[MaterialCode],Catalog[WhiteLbsDFperCase],0),0) -> 32.74 | L21: =IFERROR(_xlfn.XLOOKUP(A21,Catalog[MaterialCode],Catalog[DarkLbsDFperCase],0),0) -> 0 | M21: 0 | N21: 0 | O21: 0 | P21: =IF(M21>0,M21*E21,IF(AND(N21>0,O21>0),N21*O21,0)) -> 0 | Q21: =IF(M21>0,M21,IF(E21>0,ROUNDUP(P21/E21,0),0)) -> 0 | R21: =Q21*K21 -> 0 | S21: =Q21*L21 -> 0 | T21: 0 | U21: 0 | V21: 0 | W21: 0 | X21: 0 | Y21: 0 | Z21: 0 | AA21: 0 | AB21: 0 | AC21: 0 | AD21: 0 | AE21: 0 | AF21: =Q21-SUM(T21:AE21) -> 0
A22: 10000072367 | B22: =IFERROR(_xlfn.XLOOKUP(A22,Catalog[MaterialCode],Catalog[Description],""),"") -> All Natural** Low Sodium 1/2" Diced White Chicken | C22: =IFERROR(_xlfn.XLOOKUP(A22,Catalog[MaterialCode],Catalog[Commodity],""),"") -> 100103 W | D22: =IFERROR(_xlfn.XLOOKUP(A22,Catalog[MaterialCode],Catalog[NetCaseWeight_lbs],0),0) -> 30 | E22: =IFERROR(_xlfn.XLOOKUP(A22,Catalog[MaterialCode],Catalog[ServingsPerCase],0),0) -> 177 | F22: =IFERROR(_xlfn.XLOOKUP(A22,Catalog[MaterialCode],Catalog[ServingSize_oz],0),0) -> 2.7 | G22: =IFERROR(_xlfn.XLOOKUP(A22,Catalog[MaterialCode],Catalog[CSCPoints],0),0) -> 0 | H22: =IFERROR(_xlfn.XLOOKUP(A22,Catalog[MaterialCode],Catalog[CNPortion],0),0) -> 2.70 oz. | I22: =IFERROR(_xlfn.XLOOKUP(A22,Catalog[MaterialCode],Catalog[MMA_oz],0),0) -> 2 | J22: =IFERROR(_xlfn.XLOOKUP(A22,Catalog[MaterialCode],Catalog[EqGrain_oz],0),0) -> 0 | K22: =IFERROR(_xlfn.XLOOKUP(A22,Catalog[MaterialCode],Catalog[WhiteLbsDFperCase],0),0) -> 41.26 | L22: =IFERROR(_xlfn.XLOOKUP(A22,Catalog[MaterialCode],Catalog[DarkLbsDFperCase],0),0) -> 0 | M22: 0 | N22: 0 | O22: 0 | P22: =IF(M22>0,M22*E22,IF(AND(N22>0,O22>0),N22*O22,0)) -> 0 | Q22: =IF(M22>0,M22,IF(E22>0,ROUNDUP(P22/E22,0),0)) -> 0 | R22: =Q22*K22 -> 0 | S22: =Q22*L22 -> 0 | T22: 0 | U22: 0 | V22: 0 | W22: 0 | X22: 0 | Y22: 0 | Z22: 0 | AA22: 0 | AB22: 0 | AC22: 0 | AD22: 0 | AE22: 0 | AF22: =Q22-SUM(T22:AE22) -> 0
A23: 10061470928 | B23: =IFERROR(_xlfn.XLOOKUP(A23,Catalog[MaterialCode],Catalog[Description],""),"") -> Whole Grain Breaded MWWM Honey Sriracha Glazed Boneless Chicken Wings | C23: =IFERROR(_xlfn.XLOOKUP(A23,Catalog[MaterialCode],Catalog[Commodity],""),"") -> 100103 W | D23: =IFERROR(_xlfn.XLOOKUP(A23,Catalog[MaterialCode],Catalog[NetCaseWeight_lbs],0),0) -> 28.5 | E23: =IFERROR(_xlfn.XLOOKUP(A23,Catalog[MaterialCode],Catalog[ServingsPerCase],0),0) -> 88 | F23: =IFERROR(_xlfn.XLOOKUP(A23,Catalog[MaterialCode],Catalog[ServingSize_oz],0),0) -> 5.16 | G23: =IFERROR(_xlfn.XLOOKUP(A23,Catalog[MaterialCode],Catalog[CSCPoints],0),0) -> 25 | H23: =IFERROR(_xlfn.XLOOKUP(A23,Catalog[MaterialCode],Catalog[CNPortion],0),0) -> 6 pieces | I23: =IFERROR(_xlfn.XLOOKUP(A23,Catalog[MaterialCode],Catalog[MMA_oz],0),0) -> 2 | J23: =IFERROR(_xlfn.XLOOKUP(A23,Catalog[MaterialCode],Catalog[EqGrain_oz],0),0) -> 1 | K23: =IFERROR(_xlfn.XLOOKUP(A23,Catalog[MaterialCode],Catalog[WhiteLbsDFperCase],0),0) -> 22.66 | L23: =IFERROR(_xlfn.XLOOKUP(A23,Catalog[MaterialCode],Catalog[DarkLbsDFperCase],0),0) -> 0 | M23: 0 | N23: 0 | O23: 0 | P23: =IF(M23>0,M23*E23,IF(AND(N23>0,O23>0),N23*O23,0)) -> 0 | Q23: =IF(M23>0,M23,IF(E23>0,ROUNDUP(P23/E23,0),0)) -> 0 | R23: =Q23*K23 -> 0 | S23: =Q23*L23 -> 0 | T23: 0 | U23: 0 | V23: 0 | W23: 0 | X23: 0 | Y23: 0 | Z23: 0 | AA23: 0 | AB23: 0 | AC23: 0 | AD23: 0 | AE23: 0 | AF23: =Q23-SUM(T23:AE23) -> 0
A24: 10214220928 | B24: =IFERROR(_xlfn.XLOOKUP(A24,Catalog[MaterialCode],Catalog[Description],""),"") -> Whole Grain Breaded MWWM Homestyle Boneless Chicken Wings | C24: =IFERROR(_xlfn.XLOOKUP(A24,Catalog[MaterialCode],Catalog[Commodity],""),"") -> 100103 W | D24: =IFERROR(_xlfn.XLOOKUP(A24,Catalog[MaterialCode],Catalog[NetCaseWeight_lbs],0),0) -> 10 | E24: =IFERROR(_xlfn.XLOOKUP(A24,Catalog[MaterialCode],Catalog[ServingsPerCase],0),0) -> 34 | F24: =IFERROR(_xlfn.XLOOKUP(A24,Catalog[MaterialCode],Catalog[ServingSize_oz],0),0) -> 4.68 | G24: =IFERROR(_xlfn.XLOOKUP(A24,Catalog[MaterialCode],Catalog[CSCPoints],0),0) -> 0 | H24: =IFERROR(_xlfn.XLOOKUP(A24,Catalog[MaterialCode],Catalog[CNPortion],0),0) -> 6 pieces | I24: =IFERROR(_xlfn.XLOOKUP(A24,Catalog[MaterialCode],Catalog[MMA_oz],0),0) -> 2 | J24: =IFERROR(_xlfn.XLOOKUP(A24,Catalog[MaterialCode],Catalog[EqGrain_oz],0),0) -> 1 | K24: =IFERROR(_xlfn.XLOOKUP(A24,Catalog[MaterialCode],Catalog[WhiteLbsDFperCase],0),0) -> 10.46 | L24: =IFERROR(_xlfn.XLOOKUP(A24,Catalog[MaterialCode],Catalog[DarkLbsDFperCase],0),0) -> 0 | M24: 0 | N24: 0 | O24: 0 | P24: =IF(M24>0,M24*E24,IF(AND(N24>0,O24>0),N24*O24,0)) -> 0 | Q24: =IF(M24>0,M24,IF(E24>0,ROUNDUP(P24/E24,0),0)) -> 0 | R24: =Q24*K24 -> 0 | S24: =Q24*L24 -> 0 | T24: 0 | U24: 0 | V24: 0 | W24: 0 | X24: 0 | Y24: 0 | Z24: 0 | AA24: 0 | AB24: 0 | AC24: 0 | AD24: 0 | AE24: 0 | AF24: =Q24-SUM(T24:AE24) -> 0
A25: 10221780928 | B25: =IFERROR(_xlfn.XLOOKUP(A25,Catalog[MaterialCode],Catalog[Description],""),"") -> Whole Grain Battered Tempura Style Chicken Nuggets | C25: =IFERROR(_xlfn.XLOOKUP(A25,Catalog[MaterialCode],Catalog[Commodity],""),"") -> 100103 W | D25: =IFERROR(_xlfn.XLOOKUP(A25,Catalog[MaterialCode],Catalog[NetCaseWeight_lbs],0),0) -> 23.12 | E25: =IFERROR(_xlfn.XLOOKUP(A25,Catalog[MaterialCode],Catalog[ServingsPerCase],0),0) -> 98 | F25: =IFERROR(_xlfn.XLOOKUP(A25,Catalog[MaterialCode],Catalog[ServingSize_oz],0),0) -> 3.75 | G25: =IFERROR(_xlfn.XLOOKUP(A25,Catalog[MaterialCode],Catalog[CSCPoints],0),0) -> 10 | H25: =IFERROR(_xlfn.XLOOKUP(A25,Catalog[MaterialCode],Catalog[CNPortion],0),0) -> 5 pieces | I25: =IFERROR(_xlfn.XLOOKUP(A25,Catalog[MaterialCode],Catalog[MMA_oz],0),0) -> 2 | J25: =IFERROR(_xlfn.XLOOKUP(A25,Catalog[MaterialCode],Catalog[EqGrain_oz],0),0) -> 1 | K25: =IFERROR(_xlfn.XLOOKUP(A25,Catalog[MaterialCode],Catalog[WhiteLbsDFperCase],0),0) -> 17.91 | L25: =IFERROR(_xlfn.XLOOKUP(A25,Catalog[MaterialCode],Catalog[DarkLbsDFperCase],0),0) -> 0 | M25: 0 | N25: 0 | O25: 0 | P25: =IF(M25>0,M25*E25,IF(AND(N25>0,O25>0),N25*O25,0)) -> 0 | Q25: =IF(M25>0,M25,IF(E25>0,ROUNDUP(P25/E25,0),0)) -> 0 | R25: =Q25*K25 -> 0 | S25: =Q25*L25 -> 0 | T25: 0 | U25: 0 | V25: 0 | W25: 0 | X25: 0 | Y25: 0 | Z25: 0 | AA25: 0 | AB25: 0 | AC25: 0 | AD25: 0 | AE25: 0 | AF25: =Q25-SUM(T25:AE25) -> 0
A26: 10269760928 | B26: =IFERROR(_xlfn.XLOOKUP(A26,Catalog[MaterialCode],Catalog[Description],""),"") -> Mega Minis® Whole Grain Breaded Homestyle MWWM Chicken Chunks | C26: =IFERROR(_xlfn.XLOOKUP(A26,Catalog[MaterialCode],Catalog[Commodity],""),"") -> 100103 W | D26: =IFERROR(_xlfn.XLOOKUP(A26,Catalog[MaterialCode],Catalog[NetCaseWeight_lbs],0),0) -> 30.26 | E26: =IFERROR(_xlfn.XLOOKUP(A26,Catalog[MaterialCode],Catalog[ServingsPerCase],0),0) -> 112 | F26: =IFERROR(_xlfn.XLOOKUP(A26,Catalog[MaterialCode],Catalog[ServingSize_oz],0),0) -> 4.3 | G26: =IFERROR(_xlfn.XLOOKUP(A26,Catalog[MaterialCode],Catalog[CSCPoints],0),0) -> 0 | H26: =IFERROR(_xlfn.XLOOKUP(A26,Catalog[MaterialCode],Catalog[CNPortion],0),0) -> 10 pieces | I26: =IFERROR(_xlfn.XLOOKUP(A26,Catalog[MaterialCode],Catalog[MMA_oz],0),0) -> 2 | J26: =IFERROR(_xlfn.XLOOKUP(A26,Catalog[MaterialCode],Catalog[EqGrain_oz],0),0) -> 1 | K26: =IFERROR(_xlfn.XLOOKUP(A26,Catalog[MaterialCode],Catalog[WhiteLbsDFperCase],0),0) -> 32.84 | L26: =IFERROR(_xlfn.XLOOKUP(A26,Catalog[MaterialCode],Catalog[DarkLbsDFperCase],0),0) -> 0 | M26: 0 | N26: 0 | O26: 0 | P26: =IF(M26>0,M26*E26,IF(AND(N26>0,O26>0),N26*O26,0)) -> 0 | Q26: =IF(M26>0,M26,IF(E26>0,ROUNDUP(P26/E26,0),0)) -> 0 | R26: =Q26*K26 -> 0 | S26: =Q26*L26 -> 0 | T26: 0 | U26: 0 | V26: 0 | W26: 0 | X26: 0 | Y26: 0 | Z26: 0 | AA26: 0 | AB26: 0 | AC26: 0 | AD26: 0 | AE26: 0 | AF26: =Q26-SUM(T26:AE26) -> 0
A27: 10286860928 | B27: =IFERROR(_xlfn.XLOOKUP(A27,Catalog[MaterialCode],Catalog[Description],""),"") -> Mega Minis® Whole Grain Breaded Nashville Hot MWWM Chicken Chunks | C27: =IFERROR(_xlfn.XLOOKUP(A27,Catalog[MaterialCode],Catalog[Commodity],""),"") -> 100103 W | D27: =IFERROR(_xlfn.XLOOKUP(A27,Catalog[MaterialCode],Catalog[NetCaseWeight_lbs],0),0) -> 31.5 | E27: =IFERROR(_xlfn.XLOOKUP(A27,Catalog[MaterialCode],Catalog[ServingsPerCase],0),0) -> 112 | F27: =IFERROR(_xlfn.XLOOKUP(A27,Catalog[MaterialCode],Catalog[ServingSize_oz],0),0) -> 4.5 | G27: =IFERROR(_xlfn.XLOOKUP(A27,Catalog[MaterialCode],Catalog[CSCPoints],0),0) -> 25 | H27: =IFERROR(_xlfn.XLOOKUP(A27,Catalog[MaterialCode],Catalog[CNPortion],0),0) -> 10 pieces | I27: =IFERROR(_xlfn.XLOOKUP(A27,Catalog[MaterialCode],Catalog[MMA_oz],0),0) -> 2 | J27: =IFERROR(_xlfn.XLOOKUP(A27,Catalog[MaterialCode],Catalog[EqGrain_oz],0),0) -> 1 | K27: =IFERROR(_xlfn.XLOOKUP(A27,Catalog[MaterialCode],Catalog[WhiteLbsDFperCase],0),0) -> 27.42 | L27: =IFERROR(_xlfn.XLOOKUP(A27,Catalog[MaterialCode],Catalog[DarkLbsDFperCase],0),0) -> 0 | M27: 0 | N27: 0 | O27: 0 | P27: =IF(M27>0,M27*E27,IF(AND(N27>0,O27>0),N27*O27,0)) -> 0 | Q27: =IF(M27>0,M27,IF(E27>0,ROUNDUP(P27/E27,0),0)) -> 0 | R27: =Q27*K27 -> 0 | S27: =Q27*L27 -> 0 | T27: 0 | U27: 0 | V27: 0 | W27: 0 | X27: 0 | Y27: 0 | Z27: 0 | AA27: 0 | AB27: 0 | AC27: 0 | AD27: 0 | AE27: 0 | AF27: =Q27-SUM(T27:AE27) -> 0
A28: 10346960928 | B28: =IFERROR(_xlfn.XLOOKUP(A28,Catalog[MaterialCode],Catalog[Description],""),"") -> Oven Roasted Glazed Chicken Wings | C28: =IFERROR(_xlfn.XLOOKUP(A28,Catalog[MaterialCode],Catalog[Commodity],""),"") -> 100103 W | D28: =IFERROR(_xlfn.XLOOKUP(A28,Catalog[MaterialCode],Catalog[NetCaseWeight_lbs],0),0) -> 30 | E28: =IFERROR(_xlfn.XLOOKUP(A28,Catalog[MaterialCode],Catalog[ServingsPerCase],0),0) -> 79 | F28: =IFERROR(_xlfn.XLOOKUP(A28,Catalog[MaterialCode],Catalog[ServingSize_oz],0),0) -> 0 | G28: =IFERROR(_xlfn.XLOOKUP(A28,Catalog[MaterialCode],Catalog[CSCPoints],0),0) -> 0 | H28: =IFERROR(_xlfn.XLOOKUP(A28,Catalog[MaterialCode],Catalog[CNPortion],0),0) -> 4 pieces | I28: =IFERROR(_xlfn.XLOOKUP(A28,Catalog[MaterialCode],Catalog[MMA_oz],0),0) -> 2 | J28: =IFERROR(_xlfn.XLOOKUP(A28,Catalog[MaterialCode],Catalog[EqGrain_oz],0),0) -> 0 | K28: =IFERROR(_xlfn.XLOOKUP(A28,Catalog[MaterialCode],Catalog[WhiteLbsDFperCase],0),0) -> 26.39 | L28: =IFERROR(_xlfn.XLOOKUP(A28,Catalog[MaterialCode],Catalog[DarkLbsDFperCase],0),0) -> 0 | M28: 0 | N28: 0 | O28: 0 | P28: =IF(M28>0,M28*E28,IF(AND(N28>0,O28>0),N28*O28,0)) -> 0 | Q28: =IF(M28>0,M28,IF(E28>0,ROUNDUP(P28/E28,0),0)) -> 0 | R28: =Q28*K28 -> 0 | S28: =Q28*L28 -> 0 | T28: 0 | U28: 0 | V28: 0 | W28: 0 | X28: 0 | Y28: 0 | Z28: 0 | AA28: 0 | AB28: 0 | AC28: 0 | AD28: 0 | AE28: 0 | AF28: =Q28-SUM(T28:AE28) -> 0
A29: 10368640928 | B29: =IFERROR(_xlfn.XLOOKUP(A29,Catalog[MaterialCode],Catalog[Description],""),"") -> Whole Grain Breaded Homestyle Whole Muscle Chicken Tenderloins | C29: =IFERROR(_xlfn.XLOOKUP(A29,Catalog[MaterialCode],Catalog[Commodity],""),"") -> 100103 W | D29: =IFERROR(_xlfn.XLOOKUP(A29,Catalog[MaterialCode],Catalog[NetCaseWeight_lbs],0),0) -> 30 | E29: =IFERROR(_xlfn.XLOOKUP(A29,Catalog[MaterialCode],Catalog[ServingsPerCase],0),0) -> 107 | F29: =IFERROR(_xlfn.XLOOKUP(A29,Catalog[MaterialCode],Catalog[ServingSize_oz],0),0) -> 4.46 | G29: =IFERROR(_xlfn.XLOOKUP(A29,Catalog[MaterialCode],Catalog[CSCPoints],0),0) -> 25 | H29: =IFERROR(_xlfn.XLOOKUP(A29,Catalog[MaterialCode],Catalog[CNPortion],0),0) -> 2 pieces | I29: =IFERROR(_xlfn.XLOOKUP(A29,Catalog[MaterialCode],Catalog[MMA_oz],0),0) -> 2.5 | J29: =IFERROR(_xlfn.XLOOKUP(A29,Catalog[MaterialCode],Catalog[EqGrain_oz],0),0) -> 1 | K29: =IFERROR(_xlfn.XLOOKUP(A29,Catalog[MaterialCode],Catalog[WhiteLbsDFperCase],0),0) -> 34.07 | L29: =IFERROR(_xlfn.XLOOKUP(A29,Catalog[MaterialCode],Catalog[DarkLbsDFperCase],0),0) -> 0 | M29: 0 | N29: 0 | O29: 0 | P29: =IF(M29>0,M29*E29,IF(AND(N29>0,O29>0),N29*O29,0)) -> 0 | Q29: =IF(M29>0,M29,IF(E29>0,ROUNDUP(P29/E29,0),0)) -> 0 | R29: =Q29*K29 -> 0 | S29: =Q29*L29 -> 0 | T29: 0 | U29: 0 | V29: 0 | W29: 0 | X29: 0 | Y29: 0 | Z29: 0 | AA29: 0 | AB29: 0 | AC29: 0 | AD29: 0 | AE29: 0 | AF29: =Q29-SUM(T29:AE29) -> 0
A30: 10383500928 | B30: =IFERROR(_xlfn.XLOOKUP(A30,Catalog[MaterialCode],Catalog[Description],""),"") -> Red Label® Whole Muscle Grilled Chicken Filets | C30: =IFERROR(_xlfn.XLOOKUP(A30,Catalog[MaterialCode],Catalog[Commodity],""),"") -> 100103 W | D30: =IFERROR(_xlfn.XLOOKUP(A30,Catalog[MaterialCode],Catalog[NetCaseWeight_lbs],0),0) -> 10 | E30: =IFERROR(_xlfn.XLOOKUP(A30,Catalog[MaterialCode],Catalog[ServingsPerCase],0),0) -> 54 | F30: =IFERROR(_xlfn.XLOOKUP(A30,Catalog[MaterialCode],Catalog[ServingSize_oz],0),0) -> 3 | G30: =IFERROR(_xlfn.XLOOKUP(A30,Catalog[MaterialCode],Catalog[CSCPoints],0),0) -> 0 | H30: =IFERROR(_xlfn.XLOOKUP(A30,Catalog[MaterialCode],Catalog[CNPortion],0),0) -> 1 piece | I30: =IFERROR(_xlfn.XLOOKUP(A30,Catalog[MaterialCode],Catalog[MMA_oz],0),0) -> 2.25 | J30: =IFERROR(_xlfn.XLOOKUP(A30,Catalog[MaterialCode],Catalog[EqGrain_oz],0),0) -> 0 | K30: =IFERROR(_xlfn.XLOOKUP(A30,Catalog[MaterialCode],Catalog[WhiteLbsDFperCase],0),0) -> 13.75 | L30: =IFERROR(_xlfn.XLOOKUP(A30,Catalog[MaterialCode],Catalog[DarkLbsDFperCase],0),0) -> 0 | M30: 0 | N30: 0 | O30: 0 | P30: =IF(M30>0,M30*E30,IF(AND(N30>0,O30>0),N30*O30,0)) -> 0 | Q30: =IF(M30>0,M30,IF(E30>0,ROUNDUP(P30/E30,0),0)) -> 0 | R30: =Q30*K30 -> 0 | S30: =Q30*L30 -> 0 | T30: 0 | U30: 0 | V30: 0 | W30: 0 | X30: 0 | Y30: 0 | Z30: 0 | AA30: 0 | AB30: 0 | AC30: 0 | AD30: 0 | AE30: 0 | AF30: =Q30-SUM(T30:AE30) -> 0
A31: 10703000928 | B31: =IFERROR(_xlfn.XLOOKUP(A31,Catalog[MaterialCode],Catalog[Description],""),"") -> Whole Grain Breaded Homestyle Whole Muscle Chicken Breast Filets | C31: =IFERROR(_xlfn.XLOOKUP(A31,Catalog[MaterialCode],Catalog[Commodity],""),"") -> 100103 W | D31: =IFERROR(_xlfn.XLOOKUP(A31,Catalog[MaterialCode],Catalog[NetCaseWeight_lbs],0),0) -> 30 | E31: =IFERROR(_xlfn.XLOOKUP(A31,Catalog[MaterialCode],Catalog[ServingsPerCase],0),0) -> 120 | F31: =IFERROR(_xlfn.XLOOKUP(A31,Catalog[MaterialCode],Catalog[ServingSize_oz],0),0) -> 4 | G31: =IFERROR(_xlfn.XLOOKUP(A31,Catalog[MaterialCode],Catalog[CSCPoints],0),0) -> 0 | H31: =IFERROR(_xlfn.XLOOKUP(A31,Catalog[MaterialCode],Catalog[CNPortion],0),0) -> 1 piece | I31: =IFERROR(_xlfn.XLOOKUP(A31,Catalog[MaterialCode],Catalog[MMA_oz],0),0) -> 2 | J31: =IFERROR(_xlfn.XLOOKUP(A31,Catalog[MaterialCode],Catalog[EqGrain_oz],0),0) -> 1 | K31: =IFERROR(_xlfn.XLOOKUP(A31,Catalog[MaterialCode],Catalog[WhiteLbsDFperCase],0),0) -> 30.95 | L31: =IFERROR(_xlfn.XLOOKUP(A31,Catalog[MaterialCode],Catalog[DarkLbsDFperCase],0),0) -> 0 | M31: 0 | N31: 0 | O31: 0 | P31: =IF(M31>0,M31*E31,IF(AND(N31>0,O31>0),N31*O31,0)) -> 0 | Q31: =IF(M31>0,M31,IF(E31>0,ROUNDUP(P31/E31,0),0)) -> 0 | R31: =Q31*K31 -> 0 | S31: =Q31*L31 -> 0 | T31: 0 | U31: 0 | V31: 0 | W31: 0 | X31: 0 | Y31: 0 | Z31: 0 | AA31: 0 | AB31: 0 | AC31: 0 | AD31: 0 | AE31: 0 | AF31: =Q31-SUM(T31:AE31) -> 0
A32: 10703020928 | B32: =IFERROR(_xlfn.XLOOKUP(A32,Catalog[MaterialCode],Catalog[Description],""),"") -> Whole Grain Breaded Golden Crispy MWWM Chicken Filets | C32: =IFERROR(_xlfn.XLOOKUP(A32,Catalog[MaterialCode],Catalog[Commodity],""),"") -> 100103 W | D32: =IFERROR(_xlfn.XLOOKUP(A32,Catalog[MaterialCode],Catalog[NetCaseWeight_lbs],0),0) -> 30.82 | E32: =IFERROR(_xlfn.XLOOKUP(A32,Catalog[MaterialCode],Catalog[ServingsPerCase],0),0) -> 120 | F32: =IFERROR(_xlfn.XLOOKUP(A32,Catalog[MaterialCode],Catalog[ServingSize_oz],0),0) -> 4.11 | G32: =IFERROR(_xlfn.XLOOKUP(A32,Catalog[MaterialCode],Catalog[CSCPoints],0),0) -> 0 | H32: =IFERROR(_xlfn.XLOOKUP(A32,Catalog[MaterialCode],Catalog[CNPortion],0),0) -> 1 piece | I32: =IFERROR(_xlfn.XLOOKUP(A32,Catalog[MaterialCode],Catalog[MMA_oz],0),0) -> 2 | J32: =IFERROR(_xlfn.XLOOKUP(A32,Catalog[MaterialCode],Catalog[EqGrain_oz],0),0) -> 1 | K32: =IFERROR(_xlfn.XLOOKUP(A32,Catalog[MaterialCode],Catalog[WhiteLbsDFperCase],0),0) -> 33.96 | L32: =IFERROR(_xlfn.XLOOKUP(A32,Catalog[MaterialCode],Catalog[DarkLbsDFperCase],0),0) -> 0 | M32: 0 | N32: 0 | O32: 0 | P32: =IF(M32>0,M32*E32,IF(AND(N32>0,O32>0),N32*O32,0)) -> 0 | Q32: =IF(M32>0,M32,IF(E32>0,ROUNDUP(P32/E32,0),0)) -> 0 | R32: =Q32*K32 -> 0 | S32: =Q32*L32 -> 0 | T32: 0 | U32: 0 | V32: 0 | W32: 0 | X32: 0 | Y32: 0 | Z32: 0 | AA32: 0 | AB32: 0 | AC32: 0 | AD32: 0 | AE32: 0 | AF32: =Q32-SUM(T32:AE32) -> 0
... A40: 17033220928 | B40: =IFERROR(_xlfn.XLOOKUP(A40,Catalog[MaterialCode],Catalog[Description],""),"") -> Whole Grain Breaded Homestyle MWWM Chicken Tenders | C40: =IFERROR(_xlfn.XLOOKUP(A40,Catalog[MaterialCode],Catalog[Commodity],""),"") -> 100103 W | D40: =IFERROR(_xlfn.XLOOKUP(A40,Catalog[MaterialCode],Catalog[NetCaseWeight_lbs],0),0) -> 30.9 | E40: =IFERROR(_xlfn.XLOOKUP(A40,Catalog[MaterialCode],Catalog[ServingsPerCase],0),0) -> 110 | F40: =IFERROR(_xlfn.XLOOKUP(A40,Catalog[MaterialCode],Catalog[ServingSize_oz],0),0) -> 4.5 | G40: =IFERROR(_xlfn.XLOOKUP(A40,Catalog[MaterialCode],Catalog[CSCPoints],0),0) -> 10 | H40: =IFERROR(_xlfn.XLOOKUP(A40,Catalog[MaterialCode],Catalog[CNPortion],0),0) -> 3 pieces | I40: =IFERROR(_xlfn.XLOOKUP(A40,Catalog[MaterialCode],Catalog[MMA_oz],0),0) -> 2 | J40: =IFERROR(_xlfn.XLOOKUP(A40,Catalog[MaterialCode],Catalog[EqGrain_oz],0),0) -> 1 | K40: =IFERROR(_xlfn.XLOOKUP(A40,Catalog[MaterialCode],Catalog[WhiteLbsDFperCase],0),0) -> 32.63 | L40: =IFERROR(_xlfn.XLOOKUP(A40,Catalog[MaterialCode],Catalog[DarkLbsDFperCase],0),0) -> 0 | M40: 0 | N40: 0 | O40: 0 | P40: =IF(M40>0,M40*E40,IF(AND(N40>0,O40>0),N40*O40,0)) -> 0 | Q40: =IF(M40>0,M40,IF(E40>0,ROUNDUP(P40/E40,0),0)) -> 0 | R40: =Q40*K40 -> 0 | S40: =Q40*L40 -> 0 | T40: 0 | U40: 0 | V40: 0 | W40: 0 | X40: 0 | Y40: 0 | Z40: 0 | AA40: 0 | AB40: 0 | AC40: 0 | AD40: 0 | AE40: 0 | AF40: =Q40-SUM(T40:AE40) -> 0
B41: CHICKEN - DARK
A42: 10000043537 | B42: =IFERROR(_xlfn.XLOOKUP(A42,Catalog[MaterialCode],Catalog[Description],""),"") -> Taco Seasoned Chopped Chicken | C42: =IFERROR(_xlfn.XLOOKUP(A42,Catalog[MaterialCode],Catalog[Commodity],""),"") -> 100103 D | D42: =IFERROR(_xlfn.XLOOKUP(A42,Catalog[MaterialCode],Catalog[NetCaseWeight_lbs],0),0) -> 30 | E42: =IFERROR(_xlfn.XLOOKUP(A42,Catalog[MaterialCode],Catalog[ServingsPerCase],0),0) -> 240 | F42: =IFERROR(_xlfn.XLOOKUP(A42,Catalog[MaterialCode],Catalog[ServingSize_oz],0),0) -> 2 | G42: =IFERROR(_xlfn.XLOOKUP(A42,Catalog[MaterialCode],Catalog[CSCPoints],0),0) -> 25 | H42: =IFERROR(_xlfn.XLOOKUP(A42,Catalog[MaterialCode],Catalog[CNPortion],0),0) -> 2.00 oz. | I42: =IFERROR(_xlfn.XLOOKUP(A42,Catalog[MaterialCode],Catalog[MMA_oz],0),0) -> 2 | J42: =IFERROR(_xlfn.XLOOKUP(A42,Catalog[MaterialCode],Catalog[EqGrain_oz],0),0) -> 0 | K42: =IFERROR(_xlfn.XLOOKUP(A42,Catalog[MaterialCode],Catalog[WhiteLbsDFperCase],0),0) -> 0 | L42: =IFERROR(_xlfn.XLOOKUP(A42,Catalog[MaterialCode],Catalog[DarkLbsDFperCase],0),0) -> 39.58 | M42: 0 | N42: 0 | O42: 0 | P42: =IF(M42>0,M42*E42,IF(AND(N42>0,O42>0),N42*O42,0)) -> 0 | Q42: =IF(M42>0,M42,IF(E42>0,ROUNDUP(P42/E42,0),0)) -> 0 | R42: =Q42*K42 -> 0 | S42: =Q42*L42 -> 0 | T42: 0 | U42: 0 | V42: 0 | W42: 0 | X42: 0 | Y42: 0 | Z42: 0 | AA42: 0 | AB42: 0 | AC42: 0 | AD42: 0 | AE42: 0 | AF42: =Q42-SUM(T42:AE42) -> 0
A43: 10000044195 | B43: =IFERROR(_xlfn.XLOOKUP(A43,Catalog[MaterialCode],Catalog[Description],""),"") -> Breaded Traditional Chicken Thigh | C43: =IFERROR(_xlfn.XLOOKUP(A43,Catalog[MaterialCode],Catalog[Commodity],""),"") -> 100103 D | D43: =IFERROR(_xlfn.XLOOKUP(A43,Catalog[MaterialCode],Catalog[NetCaseWeight_lbs],0),0) -> 29.64 | E43: =IFERROR(_xlfn.XLOOKUP(A43,Catalog[MaterialCode],Catalog[ServingsPerCase],0),0) -> 78 | F43: =IFERROR(_xlfn.XLOOKUP(A43,Catalog[MaterialCode],Catalog[ServingSize_oz],0),0) -> 0 | G43: =IFERROR(_xlfn.XLOOKUP(A43,Catalog[MaterialCode],Catalog[CSCPoints],0),0) -> 0 | H43: =IFERROR(_xlfn.XLOOKUP(A43,Catalog[MaterialCode],Catalog[CNPortion],0),0) -> 1 piece | I43: =IFERROR(_xlfn.XLOOKUP(A43,Catalog[MaterialCode],Catalog[MMA_oz],0),0) -> 3.25 | J43: =IFERROR(_xlfn.XLOOKUP(A43,Catalog[MaterialCode],Catalog[EqGrain_oz],0),0) -> 1.25 | K43: =IFERROR(_xlfn.XLOOKUP(A43,Catalog[MaterialCode],Catalog[WhiteLbsDFperCase],0),0) -> 0 | L43: =IFERROR(_xlfn.XLOOKUP(A43,Catalog[MaterialCode],Catalog[DarkLbsDFperCase],0),0) -> 23.27 | M43: 0 | N43: 0 | O43: 0 | P43: =IF(M43>0,M43*E43,IF(AND(N43>0,O43>0),N43*O43,0)) -> 0 | Q43: =IF(M43>0,M43,IF(E43>0,ROUNDUP(P43/E43,0),0)) -> 0 | R43: =Q43*K43 -> 0 | S43: =Q43*L43 -> 0 | T43: 0 | U43: 0 | V43: 0 | W43: 0 | X43: 0 | Y43: 0 | Z43: 0 | AA43: 0 | AB43: 0 | AC43: 0 | AD43: 0 | AE43: 0 | AF43: =Q43-SUM(T43:AE43) -> 0
A44: 10000044196 | B44: =IFERROR(_xlfn.XLOOKUP(A44,Catalog[MaterialCode],Catalog[Description],""),"") -> Mesquite Glazed Chicken Thigh | C44: =IFERROR(_xlfn.XLOOKUP(A44,Catalog[MaterialCode],Catalog[Commodity],""),"") -> 100103 D | D44: =IFERROR(_xlfn.XLOOKUP(A44,Catalog[MaterialCode],Catalog[NetCaseWeight_lbs],0),0) -> 23.08 | E44: =IFERROR(_xlfn.XLOOKUP(A44,Catalog[MaterialCode],Catalog[ServingsPerCase],0),0) -> 78 | F44: =IFERROR(_xlfn.XLOOKUP(A44,Catalog[MaterialCode],Catalog[ServingSize_oz],0),0) -> 0 | G44: =IFERROR(_xlfn.XLOOKUP(A44,Catalog[MaterialCode],Catalog[CSCPoints],0),0) -> 0 | H44: =IFERROR(_xlfn.XLOOKUP(A44,Catalog[MaterialCode],Catalog[CNPortion],0),0) -> 1 piece | I44: =IFERROR(_xlfn.XLOOKUP(A44,Catalog[MaterialCode],Catalog[MMA_oz],0),0) -> 3.25 | J44: =IFERROR(_xlfn.XLOOKUP(A44,Catalog[MaterialCode],Catalog[EqGrain_oz],0),0) -> 0 | K44: =IFERROR(_xlfn.XLOOKUP(A44,Catalog[MaterialCode],Catalog[WhiteLbsDFperCase],0),0) -> 0 | L44: =IFERROR(_xlfn.XLOOKUP(A44,Catalog[MaterialCode],Catalog[DarkLbsDFperCase],0),0) -> 19.19 | M44: 0 | N44: 0 | O44: 0 | P44: =IF(M44>0,M44*E44,IF(AND(N44>0,O44>0),N44*O44,0)) -> 0 | Q44: =IF(M44>0,M44,IF(E44>0,ROUNDUP(P44/E44,0),0)) -> 0 | R44: =Q44*K44 -> 0 | S44: =Q44*L44 -> 0 | T44: 0 | U44: 0 | V44: 0 | W44: 0 | X44: 0 | Y44: 0 | Z44: 0 | AA44: 0 | AB44: 0 | AC44: 0 | AD44: 0 | AE44: 0 | AF44: =Q44-SUM(T44:AE44) -> 0
A45: 10000052436 | B45: =IFERROR(_xlfn.XLOOKUP(A45,Catalog[MaterialCode],Catalog[Description],""),"") -> Fully Cooked Chicken Drumsticks With BBQ Sauce | C45: =IFERROR(_xlfn.XLOOKUP(A45,Catalog[MaterialCode],Catalog[Commodity],""),"") -> 100103 D | D45: =IFERROR(_xlfn.XLOOKUP(A45,Catalog[MaterialCode],Catalog[NetCaseWeight_lbs],0),0) -> 31.25 | E45: =IFERROR(_xlfn.XLOOKUP(A45,Catalog[MaterialCode],Catalog[ServingsPerCase],0),0) -> 89 | F45: =IFERROR(_xlfn.XLOOKUP(A45,Catalog[MaterialCode],Catalog[ServingSize_oz],0),0) -> 0 | G45: =IFERROR(_xlfn.XLOOKUP(A45,Catalog[MaterialCode],Catalog[CSCPoints],0),0) -> 40 | H45: =IFERROR(_xlfn.XLOOKUP(A45,Catalog[MaterialCode],Catalog[CNPortion],0),0) -> 1 piece | I45: =IFERROR(_xlfn.XLOOKUP(A45,Catalog[MaterialCode],Catalog[MMA_oz],0),0) -> 2.5 | J45: =IFERROR(_xlfn.XLOOKUP(A45,Catalog[MaterialCode],Catalog[EqGrain_oz],0),0) -> 0 | K45: =IFERROR(_xlfn.XLOOKUP(A45,Catalog[MaterialCode],Catalog[WhiteLbsDFperCase],0),0) -> 0 | L45: =IFERROR(_xlfn.XLOOKUP(A45,Catalog[MaterialCode],Catalog[DarkLbsDFperCase],0),0) -> 21.58 | M45: 0 | N45: 0 | O45: 0 | P45: =IF(M45>0,M45*E45,IF(AND(N45>0,O45>0),N45*O45,0)) -> 0 | Q45: =IF(M45>0,M45,IF(E45>0,ROUNDUP(P45/E45,0),0)) -> 0 | R45: =Q45*K45 -> 0 | S45: =Q45*L45 -> 0 | T45: 0 | U45: 0 | V45: 0 | W45: 0 | X45: 0 | Y45: 0 | Z45: 0 | AA45: 0 | AB45: 0 | AC45: 0 | AD45: 0 | AE45: 0 | AF45: =Q45-SUM(T45:AE45) -> 0
A46: 10000060843 | B46: =IFERROR(_xlfn.XLOOKUP(A46,Catalog[MaterialCode],Catalog[Description],""),"") -> Mega Minis® Whole Grain Breaded Homestyle Chicken Chunks | C46: =IFERROR(_xlfn.XLOOKUP(A46,Catalog[MaterialCode],Catalog[Commodity],""),"") -> 100103 D | D46: =IFERROR(_xlfn.XLOOKUP(A46,Catalog[MaterialCode],Catalog[NetCaseWeight_lbs],0),0) -> 30.26 | E46: =IFERROR(_xlfn.XLOOKUP(A46,Catalog[MaterialCode],Catalog[ServingsPerCase],0),0) -> 112 | F46: =IFERROR(_xlfn.XLOOKUP(A46,Catalog[MaterialCode],Catalog[ServingSize_oz],0),0) -> 4.3 | G46: =IFERROR(_xlfn.XLOOKUP(A46,Catalog[MaterialCode],Catalog[CSCPoints],0),0) -> 0 | H46: =IFERROR(_xlfn.XLOOKUP(A46,Catalog[MaterialCode],Catalog[CNPortion],0),0) -> 10 pieces | I46: =IFERROR(_xlfn.XLOOKUP(A46,Catalog[MaterialCode],Catalog[MMA_oz],0),0) -> 2 | J46: =IFERROR(_xlfn.XLOOKUP(A46,Catalog[MaterialCode],Catalog[EqGrain_oz],0),0) -> 1 | K46: =IFERROR(_xlfn.XLOOKUP(A46,Catalog[MaterialCode],Catalog[WhiteLbsDFperCase],0),0) -> 0 | L46: =IFERROR(_xlfn.XLOOKUP(A46,Catalog[MaterialCode],Catalog[DarkLbsDFperCase],0),0) -> 35.57 | M46: 0 | N46: 0 | O46: 0 | P46: =IF(M46>0,M46*E46,IF(AND(N46>0,O46>0),N46*O46,0)) -> 0 | Q46: =IF(M46>0,M46,IF(E46>0,ROUNDUP(P46/E46,0),0)) -> 0 | R46: =Q46*K46 -> 0 | S46: =Q46*L46 -> 0 | T46: 0 | U46: 0 | V46: 0 | W46: 0 | X46: 0 | Y46: 0 | Z46: 0 | AA46: 0 | AB46: 0 | AC46: 0 | AD46: 0 | AE46: 0 | AF46: =Q46-SUM(T46:AE46) -> 0
A47: 10046210928 | B47: =IFERROR(_xlfn.XLOOKUP(A47,Catalog[MaterialCode],Catalog[Description],""),"") -> Fajita Chicken Strips | C47: =IFERROR(_xlfn.XLOOKUP(A47,Catalog[MaterialCode],Catalog[Commodity],""),"") -> 100103 D | D47: =IFERROR(_xlfn.XLOOKUP(A47,Catalog[MaterialCode],Catalog[NetCaseWeight_lbs],0),0) -> 30 | E47: =IFERROR(_xlfn.XLOOKUP(A47,Catalog[MaterialCode],Catalog[ServingsPerCase],0),0) -> 160 | F47: =IFERROR(_xlfn.XLOOKUP(A47,Catalog[MaterialCode],Catalog[ServingSize_oz],0),0) -> 3 | G47: =IFERROR(_xlfn.XLOOKUP(A47,Catalog[MaterialCode],Catalog[CSCPoints],0),0) -> 25 | H47: =IFERROR(_xlfn.XLOOKUP(A47,Catalog[MaterialCode],Catalog[CNPortion],0),0) -> 3.00 oz. | I47: =IFERROR(_xlfn.XLOOKUP(A47,Catalog[MaterialCode],Catalog[MMA_oz],0),0) -> 2 | J47: =IFERROR(_xlfn.XLOOKUP(A47,Catalog[MaterialCode],Catalog[EqGrain_oz],0),0) -> 0 | K47: =IFERROR(_xlfn.XLOOKUP(A47,Catalog[MaterialCode],Catalog[WhiteLbsDFperCase],0),0) -> 0 | L47: =IFERROR(_xlfn.XLOOKUP(A47,Catalog[MaterialCode],Catalog[DarkLbsDFperCase],0),0) -> 45.84 | M47: 0 | N47: 0 | O47: 0 | P47: =IF(M47>0,M47*E47,IF(AND(N47>0,O47>0),N47*O47,0)) -> 0 | Q47: =IF(M47>0,M47,IF(E47>0,ROUNDUP(P47/E47,0),0)) -> 0 | R47: =Q47*K47 -> 0 | S47: =Q47*L47 -> 0 | T47: 0 | U47: 0 | V47: 0 | W47: 0 | X47: 0 | Y47: 0 | Z47: 0 | AA47: 0 | AB47: 0 | AC47: 0 | AD47: 0 | AE47: 0 | AF47: =Q47-SUM(T47:AE47) -> 0
A48: 10110260328 | B48: =IFERROR(_xlfn.XLOOKUP(A48,Catalog[MaterialCode],Catalog[Description],""),"") -> Chicken Meatballs | C48: =IFERROR(_xlfn.XLOOKUP(A48,Catalog[MaterialCode],Catalog[Commodity],""),"") -> 100103 D | D48: =IFERROR(_xlfn.XLOOKUP(A48,Catalog[MaterialCode],Catalog[NetCaseWeight_lbs],0),0) -> 10 | E48: =IFERROR(_xlfn.XLOOKUP(A48,Catalog[MaterialCode],Catalog[ServingsPerCase],0),0) -> 55 | F48: =IFERROR(_xlfn.XLOOKUP(A48,Catalog[MaterialCode],Catalog[ServingSize_oz],0),0) -> 2.88 | G48: =IFERROR(_xlfn.XLOOKUP(A48,Catalog[MaterialCode],Catalog[CSCPoints],0),0) -> 15 | H48: =IFERROR(_xlfn.XLOOKUP(A48,Catalog[MaterialCode],Catalog[CNPortion],0),0) -> 5 pieces | I48: =IFERROR(_xlfn.XLOOKUP(A48,Catalog[MaterialCode],Catalog[MMA_oz],0),0) -> 2 | J48: =IFERROR(_xlfn.XLOOKUP(A48,Catalog[MaterialCode],Catalog[EqGrain_oz],0),0) -> 0 | K48: =IFERROR(_xlfn.XLOOKUP(A48,Catalog[MaterialCode],Catalog[WhiteLbsDFperCase],0),0) -> 0 | L48: =IFERROR(_xlfn.XLOOKUP(A48,Catalog[MaterialCode],Catalog[DarkLbsDFperCase],0),0) -> 12.47 | M48: 0 | N48: 0 | O48: 0 | P48: =IF(M48>0,M48*E48,IF(AND(N48>0,O48>0),N48*O48,0)) -> 0 | Q48: =IF(M48>0,M48,IF(E48>0,ROUNDUP(P48/E48,0),0)) -> 0 | R48: =Q48*K48 -> 0 | S48: =Q48*L48 -> 0 | T48: 0 | U48: 0 | V48: 0 | W48: 0 | X48: 0 | Y48: 0 | Z48: 0 | AA48: 0 | AB48: 0 | AC48: 0 | AD48: 0 | AE48: 0 | AF48: =Q48-SUM(T48:AE48) -> 0
A49: 10167020928 | B49: =IFERROR(_xlfn.XLOOKUP(A49,Catalog[MaterialCode],Catalog[Description],""),"") -> Chicken Strips with Grill Marks | C49: =IFERROR(_xlfn.XLOOKUP(A49,Catalog[MaterialCode],Catalog[Commodity],""),"") -> 100103 D | D49: =IFERROR(_xlfn.XLOOKUP(A49,Catalog[MaterialCode],Catalog[NetCaseWeight_lbs],0),0) -> 30 | E49: =IFERROR(_xlfn.XLOOKUP(A49,Catalog[MaterialCode],Catalog[ServingsPerCase],0),0) -> 168 | F49: =IFERROR(_xlfn.XLOOKUP(A49,Catalog[MaterialCode],Catalog[ServingSize_oz],0),0) -> 2.85 | G49: =IFERROR(_xlfn.XLOOKUP(A49,Catalog[MaterialCode],Catalog[CSCPoints],0),0) -> 0 | H49: =IFERROR(_xlfn.XLOOKUP(A49,Catalog[MaterialCode],Catalog[CNPortion],0),0) -> 2.85 oz. | I49: =IFERROR(_xlfn.XLOOKUP(A49,Catalog[MaterialCode],Catalog[MMA_oz],0),0) -> 2 | J49: =IFERROR(_xlfn.XLOOKUP(A49,Catalog[MaterialCode],Catalog[EqGrain_oz],0),0) -> 0 | K49: =IFERROR(_xlfn.XLOOKUP(A49,Catalog[MaterialCode],Catalog[WhiteLbsDFperCase],0),0) -> 0 | L49: =IFERROR(_xlfn.XLOOKUP(A49,Catalog[MaterialCode],Catalog[DarkLbsDFperCase],0),0) -> 45.84 | M49: 0 | N49: 0 | O49: 0 | P49: =IF(M49>0,M49*E49,IF(AND(N49>0,O49>0),N49*O49,0)) -> 0 | Q49: =IF(M49>0,M49,IF(E49>0,ROUNDUP(P49/E49,0),0)) -> 0 | R49: =Q49*K49 -> 0 | S49: =Q49*L49 -> 0 | T49: 0 | U49: 0 | V49: 0 | W49: 0 | X49: 0 | Y49: 0 | Z49: 0 | AA49: 0 | AB49: 0 | AC49: 0 | AD49: 0 | AE49: 0 | AF49: =Q49-SUM(T49:AE49) -> 0
...

Sheet Cheese
A1: SY 26/27 Cheese Commodity Calculator
A3: New Cheese Diverted lbs | B3: 0 | D3: Utilization | E3: =IF(B5>0, (Q110)/B5, 0) -> 0
A4: Carryover lbs | B4: 0
A5: Total lbs Available | B5: =B3+B4 -> 0 | C5: Planned lbs | D5: =Q110 -> 0 | E5: Net lbs | F5: =B5-D5 -> 0
L9: Populate either Cases or ADP & Menu Frequency
A10: Material Code | B10: Description | C10: Commodity | D10: Net Case Weight (lbs) | E10: Servings Per Case | F10: Serving Size (oz) | G10: Cool School Points | H10: CN Portion | I10: M/MA (oz) | J10: Eq Grain (oz) | K10: Cheese Lbs DF per Case | L10: Cases | M10: ADP | N10: Menu Frequency | O10: Total Servings | P10: Total Cases | Q10: Total Cheese Lbs | R10: July | S10: August | T10: September | U10: October | V10: November | W10: December | X10: January | Y10: February | Z10: March | AA10: April | AB10: May | AC10: June | AD10: Cases Left To Forecast
A11: 17020111120 | B11: =IFERROR(_xlfn.XLOOKUP(A11,Catalog[MaterialCode],Catalog[Description],""),"") -> Reduced Fat Cheese Breadsticks | C11: =IFERROR(_xlfn.XLOOKUP(A11,Catalog[MaterialCode],Catalog[Commodity],""),"") -> 110244 | D11: =IFERROR(_xlfn.XLOOKUP(A11,Catalog[MaterialCode],Catalog[NetCaseWeight_lbs],0),0) -> 20.86 | E11: =IFERROR(_xlfn.XLOOKUP(A11,Catalog[MaterialCode],Catalog[ServingsPerCase],0),0) -> 144 | F11: =IFERROR(_xlfn.XLOOKUP(A11,Catalog[MaterialCode],Catalog[ServingSize_oz],0),0) -> 2.32 | G11: =IFERROR(_xlfn.XLOOKUP(A11,Catalog[MaterialCode],Catalog[CSCPoints],0),0) -> 10 | H11: =IFERROR(_xlfn.XLOOKUP(A11,Catalog[MaterialCode],Catalog[CNPortion],0),0) -> 1 stick | I11: =IFERROR(_xlfn.XLOOKUP(A11,Catalog[MaterialCode],Catalog[MMA_oz],0),0) -> 1 | J11: =IFERROR(_xlfn.XLOOKUP(A11,Catalog[MaterialCode],Catalog[EqGrain_oz],0),0) -> 1 | K11: =IFERROR(_xlfn.XLOOKUP(A11,Catalog[MaterialCode],Catalog[CheeseLbsDFperCase],0),0) -> 8.83 | L11: 0 | M11: 0 | N11: 0 | O11: =IF(L11>0,L11*E11,IF(AND(M11>0,N11>0),M11*N11,0)) -> 0 | P11: =IF(L11>0,L11,IF(E11>0,ROUNDUP(O11/E11,0),0)) -> 0 | Q11: =P11*K11 -> 0 | R11: 0 | S11: 0 | T11: 0 | U11: 0 | V11: 0 | W11: 0 | X11: 0 | Y11: 0 | Z11: 0 | AA11: 0 | AB11: 0 | AC11: 0 | AD11: =P11-SUM(R11:AC11) -> 0
A12: 17021081120 | B12: =IFERROR(_xlfn.XLOOKUP(A12,Catalog[MaterialCode],Catalog[Description],""),"") -> Par-baked LMPS Cheese Breadstick | C12: =IFERROR(_xlfn.XLOOKUP(A12,Catalog[MaterialCode],Catalog[Commodity],""),"") -> 110244 | D12: =IFERROR(_xlfn.XLOOKUP(A12,Catalog[MaterialCode],Catalog[NetCaseWeight_lbs],0),0) -> 20.2 | E12: =IFERROR(_xlfn.XLOOKUP(A12,Catalog[MaterialCode],Catalog[ServingsPerCase],0),0) -> 108 | F12: =IFERROR(_xlfn.XLOOKUP(A12,Catalog[MaterialCode],Catalog[ServingSize_oz],0),0) -> 2.99 | G12: =IFERROR(_xlfn.XLOOKUP(A12,Catalog[MaterialCode],Catalog[CSCPoints],0),0) -> 0 | H12: =IFERROR(_xlfn.XLOOKUP(A12,Catalog[MaterialCode],Catalog[CNPortion],0),0) -> 1 stick | I12: =IFERROR(_xlfn.XLOOKUP(A12,Catalog[MaterialCode],Catalog[MMA_oz],0),0) -> 1 | J12: =IFERROR(_xlfn.XLOOKUP(A12,Catalog[MaterialCode],Catalog[EqGrain_oz],0),0) -> 2 | K12: =IFERROR(_xlfn.XLOOKUP(A12,Catalog[MaterialCode],Catalog[CheeseLbsDFperCase],0),0) -> 6.75 | L12: 0 | M12: 0 | N12: 0 | O12: =IF(L12>0,L12*E12,IF(AND(M12>0,N12>0),M12*N12,0)) -> 0 | P12: =IF(L12>0,L12,IF(E12>0,ROUNDUP(O12/E12,0),0)) -> 0 | Q12: =P12*K12 -> 0 | R12: 0 | S12: 0 | T12: 0 | U12: 0 | V12: 0 | W12: 0 | X12: 0 | Y12: 0 | Z12: 0 | AA12: 0 | AB12: 0 | AC12: 0 | AD12: =P12-SUM(R12:AC12) -> 0
A13: 17023721120 | B13: =IFERROR(_xlfn.XLOOKUP(A13,Catalog[MaterialCode],Catalog[Description],""),"") -> Pepperoni Pizza Sticks | C13: =IFERROR(_xlfn.XLOOKUP(A13,Catalog[MaterialCode],Catalog[Commodity],""),"") -> 110244 | D13: =IFERROR(_xlfn.XLOOKUP(A13,Catalog[MaterialCode],Catalog[NetCaseWeight_lbs],0),0) -> 17.19 | E13: =IFERROR(_xlfn.XLOOKUP(A13,Catalog[MaterialCode],Catalog[ServingsPerCase],0),0) -> 72 | F13: =IFERROR(_xlfn.XLOOKUP(A13,Catalog[MaterialCode],Catalog[ServingSize_oz],0),0) -> 3.82 | G13: =IFERROR(_xlfn.XLOOKUP(A13,Catalog[MaterialCode],Catalog[CSCPoints],0),0) -> 20 | H13: =IFERROR(_xlfn.XLOOKUP(A13,Catalog[MaterialCode],Catalog[CNPortion],0),0) -> 1 stick | I13: =IFERROR(_xlfn.XLOOKUP(A13,Catalog[MaterialCode],Catalog[MMA_oz],0),0) -> 1 | J13: =IFERROR(_xlfn.XLOOKUP(A13,Catalog[MaterialCode],Catalog[EqGrain_oz],0),0) -> 2.25 | K13: =IFERROR(_xlfn.XLOOKUP(A13,Catalog[MaterialCode],Catalog[CheeseLbsDFperCase],0),0) -> 3.465 | L13: 0 | M13: 0 | N13: 0 | O13: =IF(L13>0,L13*E13,IF(AND(M13>0,N13>0),M13*N13,0)) -> 0 | P13: =IF(L13>0,L13,IF(E13>0,ROUNDUP(O13/E13,0),0)) -> 0 | Q13: =P13*K13 -> 0 | R13: 0 | S13: 0 | T13: 0 | U13: 0 | V13: 0 | W13: 0 | X13: 0 | Y13: 0 | Z13: 0 | AA13: 0 | AB13: 0 | AC13: 0 | AD13: =P13-SUM(R13:AC13) -> 0
A14: 17026721120 | B14: =IFERROR(_xlfn.XLOOKUP(A14,Catalog[MaterialCode],Catalog[Description],""),"") -> IW Cheese Breadsticks | C14: =IFERROR(_xlfn.XLOOKUP(A14,Catalog[MaterialCode],Catalog[Commodity],""),"") -> 110244 | D14: =IFERROR(_xlfn.XLOOKUP(A14,Catalog[MaterialCode],Catalog[NetCaseWeight_lbs],0),0) -> 11.3 | E14: =IFERROR(_xlfn.XLOOKUP(A14,Catalog[MaterialCode],Catalog[ServingsPerCase],0),0) -> 72 | F14: =IFERROR(_xlfn.XLOOKUP(A14,Catalog[MaterialCode],Catalog[ServingSize_oz],0),0) -> 2.51 | G14: =IFERROR(_xlfn.XLOOKUP(A14,Catalog[MaterialCode],Catalog[CSCPoints],0),0) -> 20 | H14: =IFERROR(_xlfn.XLOOKUP(A14,Catalog[MaterialCode],Catalog[CNPortion],0),0) -> 1 stick | I14: =IFERROR(_xlfn.XLOOKUP(A14,Catalog[MaterialCode],Catalog[MMA_oz],0),0) -> 0.5 | J14: =IFERROR(_xlfn.XLOOKUP(A14,Catalog[MaterialCode],Catalog[EqGrain_oz],0),0) -> 1.75 | K14: =IFERROR(_xlfn.XLOOKUP(A14,Catalog[MaterialCode],Catalog[CheeseLbsDFperCase],0),0) -> 2.925 | L14: 0 | M14: 0 | N14: 0 | O14: =IF(L14>0,L14*E14,IF(AND(M14>0,N14>0),M14*N14,0)) -> 0 | P14: =IF(L14>0,L14,IF(E14>0,ROUNDUP(O14/E14,0),0)) -> 0 | Q14: =P14*K14 -> 0 | R14: 0 | S14: 0 | T14: 0 | U14: 0 | V14: 0 | W14: 0 | X14: 0 | Y14: 0 | Z14: 0 | AA14: 0 | AB14: 0 | AC14: 0 | AD14: =P14-SUM(R14:AC14) -> 0
B15: =IFERROR(_xlfn.XLOOKUP(A15,Catalog[MaterialCode],Catalog[Description],""),"") | C15: =IFERROR(_xlfn.XLOOKUP(A15,Catalog[MaterialCode],Catalog[Commodity],""),"") | D15: =IFERROR(_xlfn.XLOOKUP(A15,Catalog[MaterialCode],Catalog[NetCaseWeight_lbs],0),0) -> 0 | E15: =IFERROR(_xlfn.XLOOKUP(A15,Catalog[MaterialCode],Catalog[ServingsPerCase],0),0) -> 0 | F15: =IFERROR(_xlfn.XLOOKUP(A15,Catalog[MaterialCode],Catalog[ServingSize_oz],0),0) -> 0 | G15: =IFERROR(_xlfn.XLOOKUP(A15,Catalog[MaterialCode],Catalog[CSCPoints],0),0) -> 0 | H15: =IFERROR(_xlfn.XLOOKUP(A15,Catalog[MaterialCode],Catalog[CNPortion],0),0) -> 0 | I15: =IFERROR(_xlfn.XLOOKUP(A15,Catalog[MaterialCode],Catalog[MMA_oz],0),0) -> 0 | J15: =IFERROR(_xlfn.XLOOKUP(A15,Catalog[MaterialCode],Catalog[EqGrain_oz],0),0) -> 0 | K15: =IFERROR(_xlfn.XLOOKUP(A15,Catalog[MaterialCode],Catalog[CheeseLbsDFperCase],0),0) -> 0 | L15: 0 | M15: 0 | N15: 0 | O15: =IF(L15>0,L15*E15,IF(AND(M15>0,N15>0),M15*N15,0)) -> 0 | P15: =IF(L15>0,L15,IF(E15>0,ROUNDUP(O15/E15,0),0)) -> 0 | Q15: =P15*K15 -> 0 | R15: 0 | S15: 0 | T15: 0 | U15: 0 | V15: 0 | W15: 0 | X15: 0 | Y15: 0 | Z15: 0 | AA15: 0 | AB15: 0 | AC15: 0 | AD15: =P15-SUM(R15:AC15) -> 0
B16: =IFERROR(_xlfn.XLOOKUP(A16,Catalog[MaterialCode],Catalog[Description],""),"") | C16: =IFERROR(_xlfn.XLOOKUP(A16,Catalog[MaterialCode],Catalog[Commodity],""),"") | D16: =IFERROR(_xlfn.XLOOKUP(A16,Catalog[MaterialCode],Catalog[NetCaseWeight_lbs],0),0) -> 0 | E16: =IFERROR(_xlfn.XLOOKUP(A16,Catalog[MaterialCode],Catalog[ServingsPerCase],0),0) -> 0 | F16: =IFERROR(_xlfn.XLOOKUP(A16,Catalog[MaterialCode],Catalog[ServingSize_oz],0),0) -> 0 | G16: =IFERROR(_xlfn.XLOOKUP(A16,Catalog[MaterialCode],Catalog[CSCPoints],0),0) -> 0 | H16: =IFERROR(_xlfn.XLOOKUP(A16,Catalog[MaterialCode],Catalog[CNPortion],0),0) -> 0 | I16: =IFERROR(_xlfn.XLOOKUP(A16,Catalog[MaterialCode],Catalog[MMA_oz],0),0) -> 0 | J16: =IFERROR(_xlfn.XLOOKUP(A16,Catalog[MaterialCode],Catalog[EqGrain_oz],0),0) -> 0 | K16: =IFERROR(_xlfn.XLOOKUP(A16,Catalog[MaterialCode],Catalog[CheeseLbsDFperCase],0),0) -> 0 | L16: 0 | M16: 0 | N16: 0 | O16: =IF(L16>0,L16*E16,IF(AND(M16>0,N16>0),M16*N16,0)) -> 0 | P16: =IF(L16>0,L16,IF(E16>0,ROUNDUP(O16/E16,0),0)) -> 0 | Q16: =P16*K16 -> 0 | R16: 0 | S16: 0 | T16: 0 | U16: 0 | V16: 0 | W16: 0 | X16: 0 | Y16: 0 | Z16: 0 | AA16: 0 | AB16: 0 | AC16: 0 | AD16: =P16-SUM(R16:AC16) -> 0
