Workbook

Sheet Додаток 2 2025-2027
H1: Додаток 2
A2: Результативні показники, що характеризують виконання Програми
A4: № з/п | B4: Заходи | C4: Показники | D4: Джерело інформації | E4: Одиниця виміру | F4: 2025 | G4: 2026 | H4: 2027
A5: Загальний обсяг видатків на виконання заходів | E5: тис.грн | F5: =F7+F266+F453+F1127+F1193+F1344 -> 136430.46 | G5: =G7+G266+G453+G1127+G1193+G1344 -> 183960.42 | H5: =H7+H266+H453+H1127+H1193+H1344 -> 445334.03
A6: І. Водопровідно-каналізаційне господарство
A7: Загальний обсяг видатків на виконання заходів | E7: тис. грн | F7: =F10+F19+F28+F37+F46+F55+F64+F73+F82+F91+F100+F109+F118+F127+F136+F145+F154+F163+F172+F181+F190+F199+F208+F217+F226+F235+F244+F257 -> 12091.134 | G7: =G10+G19+G28+G37+G46+G55+G64+G73+G82+G91+G100+G109+G118+G127+G136+G145+G154+G163+G172+G181+G190+G199+G208+G217+G226+G235+G244+G257 -> 16240.143 | H7: =H10+H19+H28+H37+H46+H55+H64+H73+H82+H91+H100+H109+H118+H127+H136+H145+H154+H163+H172+H181+H190+H199+H208+H217+H226+H235+H244+H257 -> 283855.5
A8: 1.1 | B8: Організація належного утримання та санітарного очищення зливової каналізації | C8: ='Додаток 1 2025-2027'!B12 -> Поточне утримання мереж зливової каналізації
C9: Показники затрат:
C10: обсяг видатків, пов'язаний з поточним утриманням мереж зливової каналізації | D10: кошторис | E10: тис грн | F10: ='Додаток 1 2025-2027'!G12 -> 1462.792 | G10: ='Додаток 1 2025-2027'!H12 -> 1541.794 | H10: ='Додаток 1 2025-2027'!I12 -> 2148.451
C11: Показники продукту:
C12: протяжність мереж зливової каналізації, яка підлягає поточному утриманню | D12: рішення ЮМР про передачу | E12: тис.м | F12: 28.7406 | G12: 30.36345 | H12: 30.36345
C13: Показники ефективності:
C14: середня сума витрат на поточне утримання 1 м мережі зливової каналізації | D14: розрахункові дані | E14: грн/м | F14: =F10/F12 -> 50.896363 | G14: =G10/G12 -> 50.777958 | H14: =H10/H12 -> 70.757803
C15: Показники якості:
C16: рівень забезпечення належного утримання та санітарного очищення зливової каналізації | D16: прогнозні дані | E16: % | F16: 100 | G16: 100 | H16: 100
A17: 1.2 | B17: Забезпечення функціонування зливової каналізації | C17: ='Додаток 1 2025-2027'!B13 -> Проведення моніторингу якості зливових вод
C18: Показники затрат:
C19: обсяг видатків, пов'язаний з проведенням моніторингу якості зливових вод | D19: кошторис | E19: тис.грн | F19: ='Додаток 1 2025-2027'!G13 -> 85.709 | G19: ='Додаток 1 2025-2027'!H13 -> 120.364 | H19: ='Додаток 1 2025-2027'!I13 -> 127.831
C20: Показники продукту:
C21: кількість заходів, які плануються провести | D21: розрахункові дані | E21: од. | F21: 4 | G21: 4 | H21: 4
C22: Показники ефективності:
C23: середня сума витрат на проведення 1 заходу з моніторингу якості зливових вод | D23: розрахункові дані | E23: тис.грн/од. | F23: =F19/F21 -> 21.42725 | G23: =G19/G21 -> 30.091 | H23: =H19/H21 -> 31.95775
C24: Показники якості:
C25: рівень забезпечення функціонування зливової каналізації | D25: прогнозні дані | E25: % | F25: 100 | G25: 100 | H25: 100
A26: 1.3 | B26: Забезпечення функціонування зливової каналізації | C26: ='Додаток 1 2025-2027'!B14 -> Сплата екологічного податку
C27: Показники затрат:
C28: обсяг видатків, пов'язаний зі сплатою екологічного податку | D28: кошторис | E28: тис.грн | F28: ='Додаток 1 2025-2027'!G14 -> 378.429 | G28: ='Додаток 1 2025-2027'!H14 -> 443.484 | H28: ='Додаток 1 2025-2027'!I14 -> 202.663
C29: Показники продукту:
C30: кількість податків, які планується сплатити | D30: розрахункові дані | E30: од. | F30: 4 | G30: 4 | H30: 4
C31: Показники ефективності:
C32: середня сума витрат на сплату 1 податку | D32: розрахункові дані | E32: тис.грн/ од. | F32: =F28/F30 -> 94.60725 | G32: =G28/G30 -> 110.871 | H32: =H28/H30 -> 50.66575
C33: Показники якості:
C34: рівень забезпечення функціонування зливової каналізації | D34: прогнозні дані | E34: % | F34: 100 | G34: 100 | H34: 100
A35: 1.4 | B35: Забезпечення функціонування зливової каналізації | C35: ='Додаток 1 2025-2027'!B15 -> Поточний ремонт ділянки мереж внутрішньоквартальної зливової каналізації від колодязя Кл 466 до колодязя Кл 468 на території ДНЗ № 2 "Лелеченя" м. Південного Одеського району Одеської області
C36: Показники затрат:
C37: обсяг видатків, пов'язаний з поточним ремонтом ділянки мереж зливової каналізації | D37: кошторис | E37: тис.грн | H37: ='Додаток 1 2025-2027'!I15 -> 450
C38: Показники продукту:
C39: протяжність діялянки мереж зливової каналізації, яка підлягає поточному ремонту | D39: дефектний акт | E39: тис. м | H39: 0.043
C40: Показники ефективності:
C41: середня сума витрат на поточний ремонт 1 м ділянки мережі зливової каналізації | D41: розрахункові дані | E41: грн/м | H41: =H37/H39 -> 10465.116
...

Sheet Додаток 1 2025-2027
J1: Додаток 1
A2: ЗАВДАННЯ І ЗАХОДИ РЕАЛІЗАЦІЇ ПРОГРАМИ
A3: № з/п | B3: Перелік заходів Програми | C3: Всього вартість робіт, тис. грн | D3: Термін виконання заходу | E3: Виконавці | F3: Джерела фінансування | G3: Орієнтовні обсяги фінансування (вартість), тис.грн, у тому числі | K3: Очікуваний результат
G4: За роками | J4: Всього
G5: 2025 | H5: 2026 | I5: 2027
A6: 1 | B6: 2 | D6: 3 | E6: 4 | F6: 5 | G6: 6 | H6: 7 | I6: 8 | J6: 9 | K6: 10
B7: РАЗОМ ЗА ПРОГРАМОЮ | F7: Всього | G7: =G10+G8+G9 -> 136430.46 | H7: =H10+H8+H9 -> 183960.42 | I7: =I10+I8+I9 -> 445334.03 | J7: =J10+J8+J9 -> 765724.91 | L7: =J41+J71+J154+J186+J199+J164 -> 765724.91
F8: Обласний бюджет | G8: =G72 -> 7997.976 | H8: =H72 -> 2000 | I8: =I72 -> 0 | J8: =J72 -> 9997.976
F9: Інші джерела | G9: =G73 -> 0 | H9: =H73 -> 2603.613 | I9: =I73 -> 0 | J9: =J73 -> 2603.613
F10: Місцевий бюджет | G10: =G42+G74+G155+G165+G187+G200 -> 128432.48 | H10: =H42+H74+H155+H165+H187+H200 -> 179356.81 | I10: =I42+I74+I155+I165+I187+I200 -> 445334.03 | J10: =G10+H10+I10 -> 753123.32
A11: І. Водопровідно-каналізаційне господарство
A12: 1 | B12: Поточне утримання мереж зливової каналізації | C12: =J12 -> 5153.037 | D12: 2025-2027 | E12: УЖКГ ПМР/КП "Южводоканал" | F12: Місцевий бюджет | G12: 1462.792 | H12: 1541.794 | I12: 2148.451 | J12: =G12+H12+I12 -> 5153.037 | L12: готово
A13: 2 | B13: Проведення моніторингу якості зливових вод | C13: =J13 -> 333.904 | D13: 2025-2027 | E13: УЖКГ ПМР/КП "Южводоканал" | F13: Місцевий бюджет | G13: 85.709 | H13: 120.364 | I13: 127.831 | J13: =G13+H13+I13 -> 333.904 | L13: готово
A14: 3 | B14: Сплата екологічного податку | C14: =J14 -> 1024.576 | D14: 2025-2027 | E14: УЖКГ ПМР/КП "Южводоканал" | F14: Місцевий бюджет | G14: 378.429 | H14: 443.484 | I14: 202.663 | J14: =G14+H14+I14 -> 1024.576 | L14: готово
A15: 4 | B15: Поточний ремонт ділянки мереж внутрішньоквартальної зливової каналізації від колодязя Кл 466 до колодязя Кл 468 на території ДНЗ № 2 "Лелеченя" м. Південного Одеського району Одеської області | C15: =J15 -> 450 | D15: 2027 | E15: УЖКГ ПМР/КП "Южводоканал" | F15: Місцевий бюджет | I15: 450 | J15: =G15+H15+I15 -> 450 | L15: готово
A16: 5 | B16: Поточний ремонт зовнішньої мережі зливової каналізації від колодязя Кл 132 до колодязя Кл 133 біля житлового будинку № 18 по вул. Хіміків м. Південного Одеського району Одеської області | C16: =J16 -> 295.9 | D16: 2027 | E16: УЖКГ ПМР/КП "Южводоканал" | F16: Місцевий бюджет | I16: 295.9 | J16: =G16+H16+I16 -> 295.9 | L16: готово
A17: 6 | B17: Поточний ремонт зовнішньої мережі зливової каналізації за адресою: просп. Григорівського десанту, буд. № 26 від колодязя Кл 141 до колодязя Кл 144 м. Південного Одеського району Одеської області | C17: =J17 -> 298.5 | D17: 2027 | E17: УЖКГ ПМР/КП "Южводоканал" | F17: Місцевий бюджет | I17: 298.5 | J17: =G17+H17+I17 -> 298.5 | L17: готово
A18: 7 | B18: Проведення технічної інвентаризації та виготовлення технічного паспорту мереж зливової каналізації м. Південного Одеського району Одеської області | C18: =J18 -> 385.28 | D18: 2025 | E18: УЖКГ ПМР/КП "Южводоканал" | F18: Місцевий бюджет | G18: 385.28 | J18: =G18+H18+I18 -> 385.28
A19: 8 | B19: Проведення технічної інвентаризації, виготовлення технічного паспорту водопровідних мереж селища Нові Білярі Південнівської міської територіальної громади Одеського району Одеської області | C19: =J19 -> 99.234 | D19: 2027 | E19: УЖКГ ПМР/КП "Южводоканал" | F19: Місцевий бюджет | I19: 99.234 | J19: =G19+H19+I19 -> 99.234 | L19: готово
A20: 9 | B20: Проведення технічної інвентаризації, виготовлення технічного паспорту водопровідних мереж с. Булдинка Южненської міської територіальної громади Одеського району Одеської області | C20: =J20 -> 26.75 | D20: 2025 | E20: УЖКГ ПМР/КП "Южводоканал" | F20: Місцевий бюджет | G20: 26.75 | J20: =G20+H20+I20 -> 26.75
A21: 10 | B21: Проведення технічної інвентаризації, виготовлення технічного паспорту водопровідних мереж с. Сичавка Південнівської міської територіальної громади Одеського району Одеської області | C21: =J21 -> 99.68 | D21: 2027 | E21: УЖКГ ПМР/КП "Южводоканал" | F21: Місцевий бюджет | I21: 99.68 | J21: =G21+H21+I21 -> 99.68 | L21: готово
A22: 11 | B22: Проведення технічної інвентаризації, виготовлення технічного паспорту водопровідних мереж с. Кошари Южненської міської територіальної громади Одеського району Одеської області | C22: =J22 -> 27.876 | D22: 2025 | E22: УЖКГ ЮМР/КП "Южводоканал" | F22: Місцевий бюджет | G22: 27.876 | J22: =G22+H22+I22 -> 27.876
A23: 12 | B23: Коригування проєктної документації "Реконструкція мереж вуличного водопроводу від камери В 6 розташованої біля торговельного центру "Плаза" до камери В 0 по просп. Григорівського десанту та від камери В 0 вздовж вул. Приморської до колодязя В 27 по вул. Іванова м. Южного Одеської області" | C23: =J23 -> 229.023 | D23: 2027 | E23: УКБ ПМР | F23: Місцевий бюджет | I23: 229.023 | J23: =G23+H23+I23 -> 229.023 | L23: готово
A24: 13 | B24: Реконструкція водопровідного колектору від ВНС до вул. Хіміків м. Южного Одеської області | C24: 239729.04 | D24: 2019-2027 | E24: УКБ ПМР | F24: Місцевий бюджет | I24: 238659.48 | J24: =G24+H24+I24 -> 238659.48 | L24: готово | M24: немає деф акту
A25: 14 | B25: Реконструкція резервуара води № 1 м. Южного Одеської області | C25: =J25 -> 33461.282 | D25: 2027 | E25: УКБ ПМР | F25: Місцевий бюджет | I25: 33461.282 | J25: =G25+H25+I25 -> 33461.282 | L25: готово
A26: 15 | B26: Проєктні роботи "Капітальний ремонт ділянки мереж трубопроводу холодного водопостачання від колодязя В 20 по вул. Хіміків, 8 до колодязя В 81 по вул. Т.Г. Шевченка, 7 м. Южного Одеського району Одеської області" | C26: =J26 -> 249.982 | D26: 2027 | E26: УКБ ПМР | F26: Місцевий бюджет | I26: 249.982 | J26: =G26+H26+I26 -> 249.982
A27: 16 | B27: Проєктні роботи "Капітальний ремонт ділянки мереж внутрішньоквартального водопроводу від колодязя В 7 по вул. Т.Г. Шевченка, 6 до колодязя В 81 по вул. Т.Г. Шевченка, 7 м. Южного Одеського району Одеської області" | C27: =J27 -> 99.319 | D27: 2027 | E27: УКБ ПМР | F27: Місцевий бюджет | I27: 99.319 | J27: =G27+H27+I27 -> 99.319
A28: 17 | B28: Коригування проєктної документації "Будівництво мереж водопостачання у мікрорайоні 1.7 м. Южного Одеської області" | C28: =J28 -> 239.877 | D28: 2027 | E28: УКБ ПМР | F28: Місцевий бюджет | I28: 239.877 | J28: =G28+H28+I28 -> 239.877
A29: 18 | B29: Коригування проєктної документації "Будівництво мереж зливової каналізації у мікрорайоні 1.7 м. Южного Одеської області" | C29: =J29 -> 238.708 | D29: 2027 | E29: УКБ ПМР | F29: Місцевий бюджет | I29: 238.708 | J29: =G29+H29+I29 -> 238.708
A30: 19 | B30: Коригування проєктної документації "Будівництво мереж господарсько-побутової каналізації у мікрорайоні 1.7 м. Южного Одеської області" | C30: =J30 -> 238.748 | D30: 2027 | E30: УКБ ПМР | F30: Місцевий бюджет | I30: 238.748 | J30: =G30+H30+I30 -> 238.748
A31: 20 | B31: Проєктні роботи "Капітальний ремонт ділянки мереж трубопроводу холодного водопостачання від колодязя В184 по вул. Кедрова до колодязя В186 по вул. Центральна м. Южного Одеського району Одеської області" | C31: =J31 -> 238.707 | D31: 2027 | E31: УКБ ПМР | F31: Місцевий бюджет | I31: 238.707 | J31: =G31+H31+I31 -> 238.707
A32: 21 | B32: Проєктні роботи «Капітальний ремонт ділянки мереж трубопроводу холодного водопостачання від колодязя В 74 по вул. Приморській, 19 до колодязя В 33 по просп. Григорівського десанту, 8 м. Південного Одеського району Одеської області» | C32: =J32 -> 149.705 | D32: 2027 | E32: УКБ ПМР | F32: Місцевий бюджет | I32: 149.705 | J32: =G32+H32+I32 -> 149.705 | L32: готово
A33: 22 | B33: Коригування проєктної документації "Капітальний ремонт ділянки магістрального водопроводу від колодязя В 75 по вул. Приморській до камери В 0 по просп. Григорівського десанту м. Южного Одеського району Одеської області" | C33: =J33 -> 87.42 | D33: 2027 | E33: УКБ ПМР | F33: Місцевий бюджет | I33: 87.42 | J33: =G33+H33+I33 -> 87.42 | L33: готово
A34: 23 | B34: Капітальний ремонт ділянки магістрального водопроводу від колодязя В 13 до колодязя В 26 по вул. Хіміків м. Южного Одеського району Одеської області | C34: =J34 -> 6030.995 | D34: 2027 | E34: УКБ ПМР | F34: Місцевий бюджет | I34: 6030.995 | J34: =G34+H34+I34 -> 6030.995 | L34: готово
A35: 24 | B35: Відшкодування різниці між затвердженим та економічно обґрунтованим тарифом на послуги з централізованого водопостачання для населення селища Нові Білярі та с. Булдинка | C35: =J35 -> 319.376 | D35: 2025-2026 | E35: УЖКГ ПМР/КП "Южводоканал" | F35: Місцевий бюджет | G35: 187.936 | H35: 131.44 | J35: =G35+H35+I35 -> 319.376 | L35: готово
A36: 25 | B36: Відшкодування різниці між затвердженим та економічно обґрунтованим тарифом на послуги з централізованого водовідведення для населення м. Південного Одеського району Одеської області | C36: =J36 -> 18468.261 | D36: 2025-2026 | E36: УЖКГ ПМР/КП "Южводоканал" | F36: Місцевий бюджет | G36: =9096.398+247.019 -> 9343.417 | H36: 9124.844 | J36: =G36+H36+I36 -> 18468.261 | L36: готово
A37: 26 | B37: Коригування проєктної документації: "Капітальний ремонт ділянки магістрального водопроводу від колодязя В 13 до колодязя В 26 по вул. Хіміків м. Южного Одеського району Одеської області" | C37: 60 | D37: 2024-2027 | E37: УКБ ПМР | F37: Місцевий бюджет | I37: 60 | J37: =G37+H37+I37 -> 60 | L37: готово
A38: 27 | B38: Капітальний ремонт ділянки магістрального водопроводу від колодязя В 1 по проспекту Григорівського десанту до колодязя В 5 по вул. Т.Г. Шевченка м. Южного Одеського району Одеської області у т.ч.: | C38: =J38 -> 5071.162 | D38: 2024-2026 | E38: УКБ ПМР | F38: Місцевий бюджет | G38: =G39 -> 192.945 | H38: =5071.162-G39 -> 4878.217 | J38: =G38+H38+I38 -> 5071.162 | M38: не переносить на 2026 рік_ 07_2026 | N38: =J38-C38 -> 0
B39: проєкні роботи | C39: =J39 -> 192.945 | G39: 192.945 | J39: =G39+H39+I39 -> 192.945 | N39: =C39-G39 -> 0
A40: 28 | B40: Проєктні роботи «Нове будівництво мереж господарсько-побутової каналізації по вулицях Вишневій та Польовій м. Південного Одеського району Одеської області». | C40: =J40 -> 150 | D40: 2027 | E40: УКБ ПМР | F40: Місцевий бюджет | I40: 150 | J40: =G40+H40+I40 -> 150 | L40: документи
...
