Workbook

Sheet Додаток 2
G1: Додаток 2
A2: ПОКАЗНИКИ РЕЗУЛЬТАТИВНОСТІ ПРОГРАМИ
A4: № з/п | B4: Заходи | C4: Показники | D4: Джерело інформації | E4: Одиниця виміру | F4: 2025 | G4: 2026 | H4: 2027
A5: І. Теплове господарство
A6: Загальний обсяг видатків на виконання заходів | E6: тис. грн | F6: =F9 -> 0 | G6: =G9 -> 0 | H6: =H9 -> 0
A7: 1.1 | B7: Забезпечення якісним рівнем послуг з теплопостачання
C8: Показники затрат:
C10: Показники продукту:
C12: Показники ефективності:
C14: Показники якості:
A16: І. Водопостачання та водовідведення
A17: Загальний обсяг видатків на виконання заходів | F17: 2025 | G17: 2026 | H17: 2027
F18: =F21+F30+F39+F48+F57 -> 0 | G18: =G21+G30+G39+G48+G57+G66 -> 1020.362 | H18: =H21+H30+H39+H48+H57+H66 -> 412.992 | M18: =F18+F75+F87 -> 724.339 | N18: =G18+G75+G87 -> 2659.827 | O18: =H18+H75+H87 -> 34780.566 | P18: =I18+I75+I87 -> 0
A19: 1.1 | B19: Забезпечення належної та безперебійної роботи водопровідно-каналізаційного господарства | C19: ='Додаток 1'!B20 -> Придбання частотного перетворювача потужністю 132 кВт для установки на КНС № 1
C20: Показники затрат:
C21: обсяг видатків на придбання частотного перетворювача | D21: комерційні пропозиції | E21: тис. грн | G21: ='Додаток 1'!G20 -> 359.997
C22: Показники продукту:
C23: кількість частотних перетворювачів, що потрібно придбати | D23: акт обстеження | E23: од. | G23: 1
C24: Показники ефективності:
C25: середня сума витрат на придбання частотного перетворювача | D25: розрахункові дані | E25: тис. грн/од. | G25: =G21/G23 -> 359.997
C26: Показники якості:
C27: рівень забезпечення підприємств житлово-комунального господарства технічним та спеціальним обладнанням, відповідно до запланованого | D27: прогнозні дані | E27: % | G27: 100
A28: 1.2 | B28: Забезпечення належної та безперебійної роботи каналізаційного господарства | C28: ='Додаток 1'!B21 -> Придбання частотного перетворювача потужністю 220 кВт для установки на КНС № 1
C29: Показники затрат:
C30: обсяг видатків на придбання частотного перетворювача | D30: комерційні пропозиції | E30: тис. грн | G30: ='Додаток 1'!G21 -> 512.745
C31: Показники продукту:
C32: кількість частотних перетворювачів, що потрібно придбати | D32: акт обстеження | E32: од. | G32: 1
C33: Показники ефективності:
C34: середня сума витрат на придбання частотного перетворювача | D34: розрахункові дані | E34: тис. грн/од. | G34: =G30/G32 -> 512.745
C35: Показники якості:
C36: рівень забезпечення підприємств житлово-комунального господарства технічним та спеціальним обладнанням, відповідно до запланованого | D36: прогнозні дані | E36: % | G36: 100
A37: 1.3 | B37: Забезпечення належної та безперебійної роботи каналізаційного господарства | C37: ='Додаток 1'!B22 -> Придбання частотного перетворювача потужністю 30 кВт для установки на ВНС
C38: Показники затрат:
C39: обсяг видатків на придбання частотного перетворювача | D39: комерційні пропозиції | E39: тис. грн | G39: ='Додаток 1'!G22 -> 99.085
C40: Показники продукту:
C41: кількість частотних перетворювачів, що потрібно придбати | D41: акт обстеження | E41: од. | G41: 1
C42: Показники ефективності:
C43: середня сума витрат на придбання 1 частотного перетворювача | D43: розрахункові дані | E43: тис. грн/од | G43: =G39/G41 -> 99.085
C44: Показники якості:
C45: рівень забезпечення підприємств житлово-комунального господарства технічним та спеціальним обладнанням, відповідно до запланованого | D45: прогнозні дані | E45: % | G45: 100
A46: 1.4 | B46: Забезпечення належної та безперебійної роботи водопровідно-каналізаційного господарства | C46: ='Додаток 1'!B23 -> Придбання частотного перетворювача потужністю 45 кВт для установки на ВНС
C47: Показники затрат:
C48: обсяг видатків на придбання частотного перетворювача | D48: комерційні пропозиції | E48: тис. грн | H48: ='Додаток 1'!H23 -> 308.472
C49: Показники продукту:
C50: кількість частотних перетворювачів, що потрібно придбати | D50: акт обстеження | E50: од. | H50: 2
C51: Показники ефективності:
C52: середня сума витрат на придбання 1 частотного перетворювача | D52: розрахункові дані | E52: тис.грн/од. | H52: =H48/H50 -> 154.236
C53: Показники якості:
C54: рівень забезпечення підприємств житлово-комунального господарства технічним та спеціальним обладнанням, відповідно до запланованого | D54: прогнозні дані | E54: % | H54: 100
A55: 1.5 | B55: Забезпечення належної та безперебійної роботи водопровідно-каналізаційного господарства | C55: ='Додаток 1'!B24 -> Придбання пристрою плавного пуску потужністю 30 кВт (62А) для установки на ВНС
C56: Показники затрат:
C57: обсяг видатків на придбання пристрою плавного пуску | D57: комерційні пропозиції | E57: тис. грн | G57: ='Додаток 1'!G24 -> 48.535
C58: Показники продукту:
C59: кількість пристроїв, що потрібно придбати | D59: акт обстеження | E59: од. | G59: 1
C60: Показники ефективності:
C61: середня сума витрат на придбання 1 пристрою | D61: розрахункові дані | E61: тис.грн/од. | G61: =G57/G59 -> 48.535
C62: Показники якості:
C63: рівень забезпечення підприємств житлово-комунального господарства технічним та спеціальним обладнанням, відповідно до запланованого | D63: прогнозні дані | E63: % | G63: 100
A64: 1.6 | B64: Забезпечення належної та безперебійної роботи водопровідно-каналізаційного господарства | C64: ='Додаток 1'!B25 -> Придбання пристрою плавного пуску потужністю 45 кВт (88А) для установки на ВНС
C65: Показники затрат:
C66: обсяг видатків на придбання пристрою плавного пуску | D66: комерційні пропозиції | E66: тис. грн | H66: ='Додаток 1'!H25 -> 104.52
C67: Показники продукту:
C68: кількість пристроїв, що потрібно придбати | D68: акт обстеження | E68: од. | H68: 2
C69: Показники ефективності:
C70: середня сума витрат на придбання 1 пристрою | D70: розрахункові дані | E70: тис.грн/од. | H70: =H66/H68 -> 52.26
C71: Показники якості:
C72: рівень забезпечення підприємств житлово-комунального господарства технічним та спеціальним обладнанням, відповідно до запланованого | D72: прогнозні дані | E72: % | H72: 100
A73: ІІ. Мережі зовнішнього освітлення
A74: Загальний обсяг видатків на виконання заходів | F74: 2025 | G74: 2026 | H74: 2027
F75: =F78 -> 555 | G75: =G78 -> 1389.733 | H75: =H78 -> 1146.717
A76: 2.1 | B76: Економія електричної енергії | C76: ='Додаток 1'!B29 -> Придбання світлодіодних світильників для мереж зовнішнього освітлення
C77: Показники затрат:
C78: обсяг видатків на придбання світлодіодних світильників для мереж зовнішнього освітлення | D78: комерційні пропозиції | E78: тис. грн. | F78: ='Додаток 1'!F29 -> 555 | G78: ='Додаток 1'!G29 -> 1389.733 | H78: ='Додаток 1'!H29 -> 1146.717
C79: Показники продукту:
C80: загальна кількість світлодіодних світильників, що потрібно придбати | D80: розрахунок | E80: од. | F80: 100 | G80: 160 | H80: 130
C81: Показники ефективності:
C82: середня сума витрат на придбання 1 світлодіодного світильника | D82: розрахункові дані | E82: тис.грн/од. | F82: =F78/F80 -> 5.55 | G82: =G78/G80 -> 8.6858312 | H82: =H78/H80 -> 8.8209
C83: Показники якості:
C84: рівень забезпечення встановлення світлодіодних світильників на мережах зовнішнього освітлення відповідно до потреби | D84: прогнозні дані | E84: % | F84: 100 | G84: 100 | H84: 100
A85: ІІІ. Бюджетна сфера
A86: Загальний обсяг видатків на виконання заходів | F86: 2025 | G86: 2026 | H86: 2027
F87: =F90+F103+F112+F121 -> 169.339 | G87: =G90+G103+G112+G121 -> 249.732 | H87: =H90+H103+H112+H121 -> 33220.857
A88: 3.1 | B88: Економія бюджетних коштів закладів охорони здоров'я | C88: Реконструкція електричних мереж з встановленням сонячної станції на покрівлі КНП "Південнівська міська лікарня" Південнівської міської ради за адресою: Одеська область, Одеський район, м. Південне, вул. Хіміків, 1
C89: Показники затрат:
C90: обсяг видатків на реконструкцію електричних мереж у т.ч.: | D90: кошторис | E90: тис. грн | F90: ='Додаток 1'!F33 -> 169.339 | H90: ='Додаток 1'!H33 -> 4420.857
C91: проєктні роботи | D91: кошторис | E91: тис. грн | F91: ='Додаток 1'!F34 -> 169.339
C92: Показники продукту:
C93: кількість фотоелектричних панелей, що підлягають встановленню | D93: кошторис | E93: од. | H93: 180
C94: проєктні роботи, що планується виконати | D94: кошторис | E94: од. | F94: 1
C95: Показники ефективності:
C96: середня сума витрат на встановлення фотоелектричних панелей | D96: розрахункові дані | E96: тис.грн/ од. | H96: =H90/H93 -> 24.560317
C97: середня сума витрат на виконання проєктних робіт | D97: розрахункові дані | E97: тис.грн/ од. | F97: =F91/F94 -> 169.339
C98: Показники якості:
C99: рівень готовності об'єкту реконструкції | D99: прогнозні дані | E99: % | H99: 100
C100: рівень готовності проєктних робіт | D100: прогнозні дані | E100: % | F100: 100
A101: 3.2 | B101: Впровадження енергоефективних заходів шляхом капітального ремонту фасаду закладів спортивної інфраструктури | C101: ='Додаток 1'!B35 -> Проєктні роботи: "Капітальний ремонт фасаду з утеплення стін та відмостки групи нежитлових приміщень № 1, за адресою: Одеська область, Одеський район, м. Південне, вул. Будівельників, 7/3"
C102: Показники затрат:
C103: обсяг видатків на виконання проєктних робіт з капітального ремонту | D103: кошторис | E103: тис. грн. | G103: ='Додаток 1'!G35 -> 249.732
C104: Показники продукту:
C105: проєктні роботи, що планується виконати | D105: кошторис | E105: од. | G105: 1
...

Sheet Додаток 1
F1: Додаток 1
F2: до Програми
F3: енергоефективності
F5: на період з 2015 по 2020 роки
A7: ЗАВДАННЯ І ЗАХОДИ РЕАЛІЗАЦІЇ ПРОГРАМИ
A9: № з/п | B9: Перелік заходів Програми | C9: Термін виконання заходу | D9: Виконавці | E9: Джерело фінансу- вання | F9: Орієнтовні обсяги фінансування (вартість), тис.грн, у тому числі | J9: Очікуваний результат
F10: За роками | I10: Всього
F11: 2025 рік | G11: 2026 рік | H11: 2027 рік
A12: 1 | B12: 2 | C12: 3 | D12: 4 | E12: 5 | F12: 6 | G12: 7 | H12: 8 | I12: 9 | J12: 10
B13: РАЗОМ ЗА ПРОГРАМОЮ | E13: Всього | F13: =F14 -> 724.339 | G13: =G14 -> 2659.827 | H13: =H14 -> 34780.566 | I13: =F13+G13+H13 -> 38164.732
E14: Місцевий бюджет | F14: =F27+F31+F39 -> 724.339 | G14: =G27+G31+G39 -> 2659.827 | H14: =H27+H31+H39 -> 34780.566 | I14: =I27+I31+I39 -> 38164.732
A15: І. Теплове господарство
B17: Всього в т.ч: | F17: =F18 -> 0 | G17: =G18 -> 0 | H17: =H18 -> 0 | I17: =I18 -> 0 | J17: =SUM(J15:J16) -> 0
B18: місцевий бюджет | F18: =F16 -> 0 | G18: =G16 -> 0 | H18: =H16 -> 0 | I18: =I16 -> 0 | J18: =SUM(J16:J16) -> 0
A19: І. Водопостачання та водовідведення
A20: 1 | B20: Придбання частотного перетворювача потужністю 132 кВт для установки на КНС № 1 | C20: 2026 | D20: УЖКГ ПМР/КП "Южводоканал" | E20: місцевий бюджет | G20: 359.997 | I20: =SUM(F20:H20) -> 359.997 | J20: Зменшення споживання електроенергії
A21: 2 | B21: Придбання частотного перетворювача потужністю 220 кВт для установки на КНС № 1 | C21: 2026 | D21: УЖКГ ПМР/КП "Южводоканал" | E21: місцевий бюджет | G21: 512.745 | I21: =SUM(F21:H21) -> 512.745 | J21: Зменшення споживання електроенергії
A22: 3 | B22: Придбання частотного перетворювача потужністю 30 кВт для установки на ВНС | C22: 2026 | D22: УЖКГ ПМР/КП "Южводоканал" | E22: місцевий бюджет | G22: 99.085 | I22: =SUM(F22:H22) -> 99.085 | J22: Зменшення споживання електроенергії | K22: готово
A23: 4 | B23: Придбання частотного перетворювача потужністю 45 кВт для установки на ВНС | C23: 2027 | D23: УЖКГ ПМР/КП "Южводоканал" | E23: місцевий бюджет | H23: 308.472 | I23: =SUM(F23:H23) -> 308.472 | J23: Зменшення споживання електроенергії | K23: готово
A24: 5 | B24: Придбання пристрою плавного пуску потужністю 30 кВт (62А) для установки на ВНС | C24: 2026 | D24: УЖКГ ПМР/КП "Южводоканал" | E24: місцевий бюджет | G24: 48.535 | I24: =SUM(F24:H24) -> 48.535 | J24: Зменшення споживання електроенергії | K24: готово
A25: 6 | B25: Придбання пристрою плавного пуску потужністю 45 кВт (88А) для установки на ВНС | C25: 2027 | D25: УЖКГ ПМР/КП "Южводоканал" | E25: місцевий бюджет | H25: 104.52 | I25: =SUM(F25:H25) -> 104.52 | J25: Зменшення споживання електроенергії | K25: готово
B26: Всього в т.ч: | F26: =F27 -> 0 | G26: =G27 -> 1020.362 | H26: =H27 -> 412.992 | I26: =F26+G26+H26 -> 1433.354
B27: місцевий бюджет | F27: =SUM(F20:F25) -> 0 | G27: =SUM(G20:G25) -> 1020.362 | H27: =SUM(H20:H25) -> 412.992 | I27: =SUM(I20:I25) -> 1433.354
A28: ІІ. Мережі зовнішнього освітлення
A29: 1 | B29: Придбання світлодіодних світильників для мереж зовнішнього освітлення | C29: 2025-2027 | D29: УЖКГ ПМР/КП "Екосервіс" | E29: місцевий бюджет | F29: =721.5-166.5 -> 555 | G29: 1389.733 | H29: 1146.717 | I29: =SUM(F29:H29) -> 3091.45 | J29: Зменшення споживання електроенергії, збереження енергоресурсів | K29: готово
B30: Всього в т.ч: | F30: =F31 -> 555 | G30: =G31 -> 1389.733 | H30: =H31 -> 1146.717 | I30: =I31 -> 3091.45
B31: місцевий бюджет | F31: =F29 -> 555 | G31: =G29 -> 1389.733 | H31: =H29 -> 1146.717 | I31: =I29 -> 3091.45
A32: ІІІ. Бюджетна сфера
A33: 1 | B33: Реконструкція електричних мереж з встановленням сонячної станції на покрівлі КНП "Південнівська міська лікарня" Південнівської міської ради за адресою: Одеська область, Одеський район, м. Південне, вул. Хіміків, 1 у т.ч.: | C33: 2025-2027 | D33: УКБ ПМР | E33: місцевий бюджет | F33: =F34 -> 169.339 | H33: 4420.857 | I33: =SUM(F33:H33) -> 4590.196 | J33: Зменшення споживання електроенергії | K33: готово, заміна листа
B34: Проєктні роботи | F34: 169.339 | I34: =SUM(F34:H34) -> 169.339
A35: 2 | B35: Проєктні роботи: "Капітальний ремонт фасаду з утеплення стін та відмостки групи нежитлових приміщень № 1, за адресою: Одеська область, Одеський район, м. Південне, вул. Будівельників, 7/3" | C35: 2026 | D35: УКБ ПМР | E35: місцевий бюджет | G35: 249.732 | I35: =SUM(F35:H35) -> 249.732 | J35: Зменшення витрат теплової енергії, необхідної для обогріву приміщень; забезпечення комфортних умов для тренування спортсменів
A36: 3 | B36: Капітальний ремонт покрівлі з утепленням в комунальному закладі дошкільної освіти (дитячий садок) № 5 «Сонечко» Південнівської міської ради Одеського району Одеської області, за адресою: вул. Шевченка Т.Г., б. 3, м. Південне, Одеський район, Одеська область | C36: 2027 | D36: УКБ ПМР | E36: місцевий бюджет | H36: 13800 | I36: =SUM(F36:H36) -> 13800 | J36: Зниження тепловтрат, економія бюджетних коштів на опалення та створення комфортних умов для вихованців | K36: готово
A37: 4 | B37: Капітальний ремонт покрівлі з утепленням комунального закладу «Сичавська гімназія» Південнівської міської ради Одеського району Одеської області, за адресою: вул. Сузанського Сергія, 1Д, с. Сичавка, Одеський район, Одеська область | C37: 2027 | D37: УКБ ПМР | E37: місцевий бюджет | H37: 15000 | I37: =SUM(F37:H37) -> 15000 | J37: Зниження тепловтрат, економія бюджетних коштів на опалення та створення комфортних умов для навчання дітей | K37: готово
B38: Всього в т.ч.: | F38: =F39 -> 169.339 | G38: =G39 -> 249.732 | H38: =H39 -> 33220.857 | I38: =SUM(F38:H38) -> 33639.928
B39: місцевий бюджет | F39: =F33+F35+F36+F37 -> 169.339 | G39: =G33+G35+G36+G37 -> 249.732 | H39: =H33+H35+H36+H37 -> 33220.857 | I39: =I33+I35+I36+I37 -> 33639.928
A45: Виконавець: Заступник начальника управління - начальник відділу ЖКГ та Е УЖКГ ПМР | H45: Марина ПАВЛЕНКО
