Workbook

Sheet бюджет 2017
A1: Порівняльний аналіз показників бюджету міста на 2017 рік за видатками
E2: тис.грн.
A3: код за ТПКВКМБ | B3: Галузь | C3: Показники рішення про внесення змін до бюджету міста у травні | D3: Проект рішення про внесення змін у червні | E3: відхилення
A5: Загальний фонд
A6: 0100 | B6: Органи місцевого самоврядування | C6: 242754.47 | D6: =[1]Місто!$F$648/1000 -> 243972.28 | E6: =D6-C6 -> 1217.811 | F6: =D6-220 -> 243752.28
A7: 1000 | B7: Освіта, в тому числі: | C7: 1834287.7 | D7: =[1]Місто!$F$50/1000+D15 -> 1835658.5 | E7: =D7-C7 -> 1370.845
B8: Дошкільні навчальні заклади, позашкільна освіта, поточні ремонти загальноосвітніх закладів тощо | C8: 1124044.2 | D8: =D7-D9-D11-D12 -> 1125497.5 | E8: =D8-C8 -> 1453.321
B9: за рахунок освітньої субвенції | C9: 709772.6 | D9: =([1]Місто!$F$54+[1]Місто!$F$59+[1]Місто!$F$62+[1]Місто!$F$67)/1000 -> 709772.6 | E9: =D9-C9 -> 0
B10: в т.ч. за рахунок субвенції на надання державної підтримки особам з особливими освітніми потребами | C10: 23080.406 | D10: =([1]Місто!$F$55+[1]Місто!$F$63)/1000 -> 23080.406 | E10: =D10-C10 -> 0
B11: в т.ч.за рахунок залишку коштів освітньої субвенції з державного бюджету, що утворився на початок бюджетного періоду | C11: 0 | D11: =([1]Місто!$F$56+[1]Місто!$F$60+[1]Місто!$F$64+[1]Місто!$F$68)/1000 -> 0 | E11: =D11-C11 -> 0
B12: в т.ч.за рахунок субвенції з державного бюджету на моджернізацію та оновлення матеріально-технічної бази професіонально-технічних навчальних закладів державної форми власності | C12: 470.876 | D12: =[1]Місто!$F$70/1000 -> 388.4 | E12: =D12-C12 -> -82.476
A13: 1100 | B13: професійно-технічна освіта | C13: 177190.86 | D13: =[1]Місто!$F$66/1000 -> 177108.38 | E13: =D13-C13 -> -82.476
B14: депутатський фонд | C14: 4988.151 | D14: =644.82+85.921+510.7-23.6+610.107+202.24+28.6+740.86+600.684+10+284.218+235.825+60+140+854.776+3+614.725+828.366+40 -> 6471.242 | E14: =D14-C14 -> 1483.091
A15: 1060 | B15: Дитячі будинки (в т.ч.сімейного типу, прийомні сім'ї) | C15: 312.136 | D15: =[1]Місто!$F$256/1000 -> 312.136 | E15: =D15-C15 -> 0
A16: 2000 | B16: Охорона здоров'я, в тому числі: | C16: 1005210.4 | D16: =[1]Місто!$F$131/1000 -> 1010525.1 | E16: =D16-C16 -> 5314.782
B17: за рахунок медичної субвенції | C17: 642856.1 | D17: =([1]Місто!$F$133+[1]Місто!$F$137+[1]Місто!$F$141+[1]Місто!$F$145+[1]Місто!$F$148+[1]Місто!$F$151+[1]Місто!$F$162)/1000 -> 642856.1 | E17: =D17-C17 -> 0
B18: в т.ч.за рахунок залишку коштів медичної субвенції з державного бюджету, що утворився на початок бюджетного періоду | C18: 0 | D18: =([1]Місто!$F$163+[1]Місто!$F$152+[1]Місто!$F$149+[1]Місто!$F$146+[1]Місто!$F$142+[1]Місто!$F$139)/1000 -> 0 | E18: =D18-C18 -> 0
B19: за рахунок субвенції на відшкодування вартості лікарських засобів для лікування окремих захворювань | C19: 10801.753 | D19: =([1]Місто!$F$135+[1]Місто!$G$143+[1]Місто!$G$153)/1000 -> 10801.753 | E19: =D19-C19 -> 0
B20: депутатський фонд | C20: 873.127 | D20: =25+103.31+114+142.8-9.8+85.685+20+49+160+61.232+64.9+7+50+24.178+116.368 -> 1013.673 | E20: =D20-C20 -> 140.546
A21: 3000 | B21: Соціальний захист | C21: =195847.803+12800 -> 208647.8 | D21: =D39+D35+D37+D27+D36+D41+D22+D33+D34 -> 204790.88 | E21: =D21-C21 -> -3856.92
A22: 3030 | B22: Надання інших передбачених законодавством пільг | C22: 71462.336 | D22: =([1]Місто!$F$204+[1]Місто!$F$205+[1]Місто!$F$206+[1]Місто!$F$207+[1]Місто!$F$208+[1]Місто!$F$209+[1]Місто!$F$210)/1000 -> 71462.336 | E22: =D22-C22 -> 0 | F22: =D22-D26 -> 6517.837
A23: 090203 | B23: - ветеранам війни, особам, на яких поширюється чинність Закону України "Про статус ветеранів війни, гарантії їх соціального захисту", особам, які мають особливі заслуги перед Батьківщиною, вдовам (вдівцям) та батькам померлих (загиблих) осіб, які мають особливі заслуги перед Батьківщиною, ветеранам праці, особам, які мають особливі трудові заслуги перед Батьківщиною, вдовам (вдівцям) та батькам померлих (загиблих) осіб, які мають особливі трудові заслуги перед Батьківщиною, жертвам нацистських переслідувань та реабілітованим громадянам, які стали інвалідами внаслідок репресій або є пенсіонерами | C23: 2511.906 | D23: =[1]Місто!$F$204/1000 -> 2511.906 | E23: =D23-C23 -> 0
A24: 090209 | B24: Інші пільги громадянам, які постраждали внаслідок Чорнобильської катастрофи, дружинам (чоловікам) та опікунам (на час опікунства) дітей померлих громадян, смерть яких пов'язана з Чорнобильською катастрофою | C24: 81.291 | D24: =[1]Місто!$F$205/1000 -> 81.291 | E24: =D24-C24 -> 0
A25: 090214 | B25: Пільги окремим категоріям громадян з послуг зв'язку | C25: 3924.64 | D25: =[1]Місто!$F$206/1000 -> 3924.64 | E25: =D25-C25 -> 0
B26: в тому числі на компенсацію пільгового проїзду різними видами транспорту | C26: 64944.499 | D26: =([1]Місто!$G$207+[1]Місто!$G$208+[1]Місто!$G$209+[1]Місто!$G$210)/1000 -> 64944.499
A27: 3400 | B27: Інші видатки, в тому числі: | C27: =66653.872+12800 -> 79453.872 | D27: =D28+D29+D32+D30 -> 75536.952 | E27: =D27-C27 -> -3916.92
A28: 3402 | B28: Поховання безрідних | C28: 343 | D28: =([1]Місто!$F$344)/1000 -> 343 | E28: =D28-C28 -> 0
A29: 3401 | B29: Міська комплексна програма соціального захисту населення та програма "З теплом до людей" | C29: 46283.584 | D29: =[1]Місто!$F$245/1000-D32 -> 46283.584 | E29: =D29-C29 -> 0
A30: 3401 | B30: Програма підтримки молоді | C30: 2076.077 | D30: =[1]Місто!$F$109/1000 -> 2076.077 | E30: =D30-C30 -> 0
B31: в т.ч. субвенція з обласного бюджета на переселенців | E31: =D31-C31 -> 0
B32: Матеріальна допомога громадянам за рах.коштів депутатського фонду | C32: =17951.211+12800 -> 30751.211 | D32: =9600+22400-104-1959.587-234.332-1438.265-1664.617-545.24-306.832-10-2100.649-1632.751-253.559-5-160-615.101-1023.348-331.775-7.5-393.9-1262.333+12800-1481.17-2357.75-78 -> 26834.291 | E32: =D32-C32 -> -3916.92
A33: 3240 | B33: Організація та проведення громадських робіт | C33: 662.972 | D33: =([1]Місто!$F$341+[1]Місто!$F$83)/1000+[1]Місто!$F$234/1000 -> 662.972 | E33: =D33-C33 -> 0
A34: 3110 | B34: Заклади і заходи з питань дітей та їх соціального захисту | C34: 506.795 | D34: =[1]Місто!$F$259/1000 -> 506.795 | E34: =D34-C34 -> 0
A35: 3130, 3140 | B35: Утримання центрів соціальних служб для сім'ї, дітей та молоді, програмні заходи з цих питань | C35: 6323.067 | D35: =([1]Місто!$F$236+[1]Місто!$F$237+[1]Місто!$F$106)/1000 -> 6323.067 | E35: =D35-C35 -> 0
A36: 3160 | B36: Заходи з відпочинку та оздоровлення дітей | C36: 10746.342 | D36: =[1]Місто!$F$82/1000 -> 10746.342 | E36: =D36-C36 -> 0
A37: 3104 | B37: Територіальні центри соціального обслуговування (надання соціальних послуг) | C37: 33308.272 | D37: =[1]Місто!$F$233/1000 -> 33368.272 | E37: =D37-C37 -> 60
B38: депутатський фонд | C38: 48.5 | D38: =10+0.5+18+20 -> 48.5 | E38: =D38-C38 -> 0
A39: 3181 | B39: Виплат грошової компенсації фізичним особам, які надають соціальні послуги громадянам, не здатним до самообслуговування | C39: 3530.339 | D39: =[1]Місто!$F$241/1000 -> 3530.339 | E39: =D39-C39 -> 0
B40: в т.ч. депутатський фонд | E40: =D40-C40 -> 0
A41: 3202 | B41: Надання фінансової підтримки громадським організаціям інвалідів і ветеранів, діяльність яких має соціальну спрямованість | C41: 2653.808 | D41: =[1]Місто!$F$243/1000 -> 2653.808 | E41: =D41-C41 -> 0
...
