{"text_format":"1","workbook":"xlsx","n_sheets":2,"sheets":["INSTRUMENTO-NORMA-PADRÃO","DASHBOARD - TECH VISION V5.0"],"not_rendered":{"charts":1,"images":5,"macros":1,"external_links":0,"defined_names":2,"comments":0,"pivot_tables":0},"unopened":[],"bounds":{"document_bytes":16777216,"sheet_cells":100000,"rows_first":2000,"rows_last":500,"rows_between":2000,"halvings":0,"cell_chars":16384,"cell_head_chars":4096},"cells_cut":0,"cells_raw":0,"read":"whole","date_system":"1900"}

{"sheet":"INSTRUMENTO-NORMA-PADRÃO","index":0,"n_rows":13,"n_cols":12,"rows_kept":13,"cut":false,"hidden":true,"merged":[[0,0,1,0],[0,1,1,1],[0,2,0,7]]}
["INSTRUMENTO","NORMA","PADRÃO ÓLEO MINERAL",null,null,null,null,null,"LEITURA 1","LEITURA 2","LEITURA 3","MÉDIA"]
[null,null,"ÓLEO MINERAL","CERTIFICADO","ÓRGÃO","VALIDADE","SEGUNDOS","cSt","cSt","cSt","cSt","cSt"]
["Viscosímetro Cup Ford nº 02","ASTM D1200 - 10 (2014)","OP 35","2 211-103","IPT","2020-02-28",68.2,{"$f":"1.44*('DASHBOARD - TECH VISION V5.0'!$J$10-18)","v":-25.919999999999998},{"$f":"1.44*('DASHBOARD - TECH VISION V5.0'!$E$17-18)","v":-25.919999999999998},{"$f":"1.44*('DASHBOARD - TECH VISION V5.0'!$E$18-18)","v":-25.919999999999998},{"$f":"1.44*('DASHBOARD - TECH VISION V5.0'!$E$19-18)","v":-25.919999999999998},{"$f":"1.44*('DASHBOARD - TECH VISION V5.0'!$E$20-18)","v":-25.919999999999998}]
["Viscosímetro Cup Ford nº 03","ASTM D1200 - 10 (2014)","OP 35","2 211-103","IPT","2020-02-28",37.9,{"$f":"2.31*('DASHBOARD - TECH VISION V5.0'!$J$10-6.58)","v":-15.1998},{"$f":"2.31*('DASHBOARD - TECH VISION V5.0'!$E$17-6.58)","v":-15.1998},{"$f":"2.31*('DASHBOARD - TECH VISION V5.0'!$E$18-6.58)","v":-15.1998},{"$f":"2.31*('DASHBOARD - TECH VISION V5.0'!$E$19-6.58)","v":-15.1998},{"$f":"2.31*('DASHBOARD - TECH VISION V5.0'!$E$20-6.58)","v":-15.1998}]
["Viscosímetro Cup Ford nº 04","ASTM D1200 - 10 (2014)","OP 35","2 211-103","IPT","2020-02-28",23.3,{"$f":"3.85*('DASHBOARD - TECH VISION V5.0'!$J$10-4.49)","v":-17.2865},{"$f":"3.85*('DASHBOARD - TECH VISION V5.0'!$E$17-4.49)","v":-17.2865},{"$f":"3.85*('DASHBOARD - TECH VISION V5.0'!$E$18-4.49)","v":-17.2865},{"$f":"3.85*('DASHBOARD - TECH VISION V5.0'!$E$19-4.49)","v":-17.2865},{"$f":"3.85*('DASHBOARD - TECH VISION V5.0'!$E$20-4.49)","v":-17.2865}]
["Viscosímetro Cup Ford nº 05","ASTM D1200 - 10 (2014)","OP 300","2 196-103","IPT","2019-06-30",69.099999999999994,{"$f":"12.1*('DASHBOARD - TECH VISION V5.0'!$J$10-2)","v":-24.2},{"$f":"12.1*('DASHBOARD - TECH VISION V5.0'!$E$17-2)","v":-24.2},{"$f":"12.1*('DASHBOARD - TECH VISION V5.0'!$E$18-2)","v":-24.2},{"$f":"12.1*('DASHBOARD - TECH VISION V5.0'!$E$19-2)","v":-24.2},{"$f":"12.1*('DASHBOARD - TECH VISION V5.0'!$E$20-2)","v":-24.2}]
["Viscosímetro Cup Ford nº 06","RT IPT 36 017 - 98","OP 300","2 196-103","IPT","2019-06-30",55.5,{"$f":"(14.92*'DASHBOARD - TECH VISION V5.0'!$J$10)-15.56","v":-15.56},{"$f":"(14.92*'DASHBOARD - TECH VISION V5.0'!$E$17)-15.56","v":-15.56},{"$f":"(14.92*'DASHBOARD - TECH VISION V5.0'!$E$18)-15.56","v":-15.56},{"$f":"(14.92*'DASHBOARD - TECH VISION V5.0'!$E$19)-15.56","v":-15.56},{"$f":"(14.92*'DASHBOARD - TECH VISION V5.0'!$E$20)-15.56","v":-15.56}]
["Viscosímetro Cup Ford nº 08","RT IPT 36 017 - 98","OP 300","2 196-103","IPT","2019-06-30",27.1,{"$f":"(31.4*'DASHBOARD - TECH VISION V5.0'!$J$10)-40.14","v":-40.14},{"$f":"(31.4*'DASHBOARD - TECH VISION V5.0'!$E$17)-40.14","v":-40.14},{"$f":"(31.4*'DASHBOARD - TECH VISION V5.0'!$E$18)-40.14","v":-40.14},{"$f":"(31.4*'DASHBOARD - TECH VISION V5.0'!$E$19)-40.14","v":-40.14},{"$f":"(31.4*'DASHBOARD - TECH VISION V5.0'!$E$20)-40.14","v":-40.14}]
["Viscosímetro Cup Zahn nº 01","ASTM D4212 - 16",null,null,"IPT",null,null,{"$f":"1.1*('DASHBOARD - TECH VISION V5.0'!$J$10-29)","v":-31.900000000000002},{"$f":"1.1*('DASHBOARD - TECH VISION V5.0'!$E$17-29)","v":-31.900000000000002},{"$f":"1.1*('DASHBOARD - TECH VISION V5.0'!$E$18-29)","v":-31.900000000000002},{"$f":"1.1*('DASHBOARD - TECH VISION V5.0'!$E$19-29)","v":-31.900000000000002},{"$f":"1.1*('DASHBOARD - TECH VISION V5.0'!$E$20-29)","v":-31.900000000000002}]
["Viscosímetro Cup Zahn nº 02","ASTM D4212 - 16","OP 35","2 211-103","IPT","2020-02-28",34.700000000000003,{"$f":"3.5*('DASHBOARD - TECH VISION V5.0'!$J$10-14)","v":-49},{"$f":"3.5*('DASHBOARD - TECH VISION V5.0'!$E$17-14)","v":-49},{"$f":"3.5*('DASHBOARD - TECH VISION V5.0'!$E$18-14)","v":-49},{"$f":"3.5*('DASHBOARD - TECH VISION V5.0'!$E$19-14)","v":-49},{"$f":"3.5*('DASHBOARD - TECH VISION V5.0'!$E$20-14)","v":-49}]
["Viscosímetro Cup Zahn nº 03","ASTM D4212 - 16","OP 300","2 196-103","IPT","2019-06-30",76.900000000000006,{"$f":"11.7*('DASHBOARD - TECH VISION V5.0'!$J$10-7.5)","v":-87.75},{"$f":"11.7*('DASHBOARD - TECH VISION V5.0'!$E$17-7.5)","v":-87.75},{"$f":"11.7*('DASHBOARD - TECH VISION V5.0'!$E$18-7.5)","v":-87.75},{"$f":"11.7*('DASHBOARD - TECH VISION V5.0'!$E$19-7.5)","v":-87.75},{"$f":"11.7*('DASHBOARD - TECH VISION V5.0'!$E$20-7.5)","v":-87.75}]
["Viscosímetro Cup Zahn nº 04","ASTM D4212 - 16","OP 300","2 196-103","IPT","2019-06-30",59.9,{"$f":"14.8*('DASHBOARD - TECH VISION V5.0'!$J$10-5)","v":-74},{"$f":"14.8*('DASHBOARD - TECH VISION V5.0'!$E$17-5)","v":-74},{"$f":"14.8*('DASHBOARD - TECH VISION V5.0'!$E$18-5)","v":-74},{"$f":"14.8*('DASHBOARD - TECH VISION V5.0'!$E$19-5)","v":-74},{"$f":"14.8*('DASHBOARD - TECH VISION V5.0'!$E$20-5)","v":-74}]
["Viscosímetro Cup Zahn nº 05","ASTM D4212 - 16","OP 300","2 196-103","IPT","2019-06-30",35.299999999999997,{"$f":"23*'DASHBOARD - TECH VISION V5.0'!$J$10","v":0},{"$f":"23*'DASHBOARD - TECH VISION V5.0'!$E$17","v":0},{"$f":"23*'DASHBOARD - TECH VISION V5.0'!$E$18","v":0},{"$f":"23*'DASHBOARD - TECH VISION V5.0'!$E$19","v":0},{"$f":"23*'DASHBOARD - TECH VISION V5.0'!$E$20","v":0}]

{"sheet":"DASHBOARD - TECH VISION V5.0","index":1,"n_rows":37,"n_cols":17,"rows_kept":37,"cut":false,"hidden":false,"merged":[[13,3,13,5],[7,3,7,6],[9,3,10,6],[7,7,7,9],[7,10,7,12],[8,3,8,6],[9,12,10,12],[2,14,2,16],[4,14,4,16],[9,13,10,13],[9,14,10,14],[9,7,10,7],[9,8,10,8],[9,9,10,9],[9,10,10,10],[9,11,10,11],[5,14,5,16],[3,14,3,16],[9,16,10,16],[9,15,10,15]]}
[]
[]
[null,null,null,null,null,null,null,null,null,null,null,null,null,null,"(11) 4574-1999 / 3428-0999"]
[]
[null,null,null,null,null,null,null,null,null,null,null,null,null,null,"certificado@techvision.ind.br"]
[]
[]
[null,null,null,"Lista de Aparelhos (Viscosímetros)",null,null,null,"Padrão - Referência",null,null,"Leituras - Ensaio",null,null,"Média","Erro","Incerteza U","Erro"]
[null,null,null,"Cup Ford / Cup Zahn",null,null,null,"Óleo","cSt (mm²/s)","Tempo (s)","Leitura 1 (s)","Leitura 2 (s)","Leitura 3 (s)","(s)","(s)","(s)","(%)"]
[null,null,null,"Viscosímetro Cup Ford nº 02",null,null,null,{"$f":"VLOOKUP(D10,PADRÃO,3)","v":"OP 35"},{"$f":"VLOOKUP(D10,PADRÃO,8)","v":-25.919999999999998},0,0,0,0,{"$f":"AVERAGE(K10,L10,M10)","v":0},{"$f":"N10-J10","v":0},0,{"$f":"IFERROR((O10+P10)/J10,)","v":0}]
[]
[]
[]
[null,null,null,"Resultados"]
[null,null,null,null,"Tempo (s)","cSt (mm²/s)"]
[null,null,null,"Padrão",{"$f":"J10","v":0},{"$f":"I10","v":-25.919999999999998}]
[null,null,null,"Leitura 1",{"$f":"K10","v":0},{"$f":"IF(OR($Q$10<-3%,$Q$10>3%),VLOOKUP($D$10,PADRÃO,9,FALSE)*$Q$10+VLOOKUP($D$10,PADRÃO,9,FALSE),VLOOKUP($D$10,PADRÃO,9,FALSE))","v":-25.919999999999998}]
[null,null,null,"Leitura 2",{"$f":"L10","v":0},{"$f":"IF(OR($Q$10<-3%,$Q$10>3%),VLOOKUP($D$10,PADRÃO,10,FALSE)*$Q$10+VLOOKUP($D$10,PADRÃO,10,FALSE),VLOOKUP($D$10,PADRÃO,10,FALSE))","v":-25.919999999999998}]
[null,null,null,"Leitura 3",{"$f":"M10","v":0},{"$f":"IF(OR($Q$10<-3%,$Q$10>3%),VLOOKUP($D$10,PADRÃO,11,FALSE)*$Q$10+VLOOKUP($D$10,PADRÃO,11,FALSE),VLOOKUP($D$10,PADRÃO,11,FALSE))","v":-25.919999999999998}]
[null,null,null,"Média",{"$f":"AVERAGE(E17:E19)","v":0},{"$f":"IF(OR($Q$10<-3%,$Q$10>3%),VLOOKUP($D$10,PADRÃO,12,FALSE)*$Q$10+VLOOKUP($D$10,PADRÃO,12,FALSE),VLOOKUP($D$10,PADRÃO,12,FALSE))","v":-25.919999999999998}]
[]
[]
[null,null,null,"1. Selecione o Aparelho (Viscosímetro)"]
[null,null,null,"2. Informe o Padrão de Referência - \"Óleo\" e \"Tempo (s)\""]
[null,null,null,"3. Informe o Resultado das Leituras em Segundos"]
[null,null,null,"4. Informe a Incerteza Expadida U em Segundos"]
[null,null,null,"5. O \"Erro (%)\" será calculado com o acréscimo da Incerteza Expandida"]
[null,null,null,"6. Erro de até 3% o Viscosímetro é utilizado sem correção"]
[null,null,null,"7. Erro de 3% a 10% deve ser corrigido pela Curva de Aferição"]
[null,null,null,"8. Erro acima de 10% recomenda-se a troca e reaferição do Aparelho"]
[]
[null,null,null,"Referências:","[1] ABNT NBR 5849:2015"]
[null,null,null,null,"[2] ASTM D1200 - 10 (Reapproved 2014)"]
[null,null,null,null,"[3] ASTM D4212 - 16"]
[]
[]
[null,null,null,"Esta planilha é para todos os efeitos apenas um facilitador, não nos responsabilizamos por interpretações equivocadas, bem como; não recomendamos a substituição da Norma Interna de qualquer Instituição."]